Workbook

Sheet ENTRY
A1: LOCATION | B1: MAPSHEET | C1: POLYGON | D1: Ha. | E1: METERS | F1: DATE | G1: GPS | H1: GPS | I1: LICENCEE | J1: CONTRACT | K1: SURVEY | L1: SURVEYORS | M1: CERT | N1: PIXEL | O1: INF=1 | P1: S/L | Q1: DISTANCE | S1: SW | T1: 1 | U1: 2 | V1: 3 | W1: 4 | X1: 5 | Y1: 6 | Z1: Bl | AA1: Pl | AB1: At | AC1: SW | AD1: 1 | AE1: 2 | AF1: 3 | AG1: 4 | AH1: 5 | AI1: 6 | AJ1: Bl | AK1: Pl | AL1: At | AM1: SW | AN1: 1 | AO1: 2 | AP1: 3 | AQ1: 4 | AR1: 5 | AS1: 6 | AT1: Bl | AU1: Pl | AV1: At | AW1: SW | AX1: 1 | AY1: 2 | AZ1: 3 | BA1: 4 | BB1: 5 | BC1: 6 | BD1: Bl | BE1: Pl | BF1: At | BG1: SW | BH1: 1 | BI1: 2 | BJ1: 3 | BK1: 4 | BL1: 5 | BM1: 6 | BN1: Bl | BO1: Pl | BP1: At | BQ1: SW | BR1: 1 | BS1: 2 | BT1: 3 | BU1: 4 | BV1: 5 | BW1: 6 | BX1: Bl | BY1: Pl | BZ1: At | CA1: SW | CB1: 1 | CC1: 2 | CD1: 3 | CE1: 4 | CF1: 5 | CG1: 6 | CH1: Bl | CI1: Pl | CJ1: At | CK1: SW | CL1: 1 | CM1: 2 | CN1: 3 | CO1: 4 | CP1: 5 | CQ1: 6 | CR1: Bl | CS1: Pl | CT1: At | CU1: SW | CV1: 1 | CW1: 2 | CX1: 3 | CY1: 4 | CZ1: 5 | DA1: 6 | DB1: Bl | DC1: Pl | DD1: At | DF1: # ENT. | DG1: # PARENT | DH1: # | DI1: # | DJ1: # CALLOW | DK1: # ENT. | DL1: # PARENT | DM1: # | DN1: # | DO1: # CALLOW | DQ1: TOTAL | DR1: TOTAL | DS1: TOTAL | DT1: TOTAL | DU1: TOTAL | DV1: TOTAL | DW1: TOTAL | DX1: TOTAL | DY1: TOTAL | DZ1: TOTAL | EA1: TOTAL | EB1: TOTAL | EC1: TOTAL SW & | ED1: TOTAL # OF
B2: CP# | C2: # | E2: SURVEYED | G2: N | H2: W | J2: # | K2: TYPE | M2: # | N2: # | O2: UNINF.=0 | Q2: START | R2: END | S2: 17.5 | T2: 17.5 | U2: 17.5 | V2: 17.5 | W2: 17.5 | X2: 17.5 | Y2: 17.5 | Z2: 17.5 | AA2: 17.5 | AB2: 17.5 | AC2: 25.1 | AD2: 25.1 | AE2: 25.1 | AF2: 25.1 | AG2: 25.1 | AH2: 25.1 | AI2: 25.1 | AJ2: 25.1 | AK2: 25.1 | AL2: 25.1 | AM2: 30.1 | AN2: 30.1 | AO2: 30.1 | AP2: 30.1 | AQ2: 30.1 | AR2: 30.1 | AS2: 30.1 | AT2: 30.1 | AU2: 30.1 | AV2: 30.1 | AW2: 35.1 | AX2: 35.1 | AY2: 35.1 | AZ2: 35.1 | BA2: 35.1 | BB2: 35.1 | BC2: 35.1 | BD2: 35.1 | BE2: 35.1 | BF2: 35.1 | BG2: 40.1 | BH2: 40.1 | BI2: 40.1 | BJ2: 40.1 | BK2: 40.1 | BL2: 40.1 | BM2: 40.1 | BN2: 40.1 | BO2: 40.1 | BP2: 40.1 | BQ2: 45.1 | BR2: 45.1 | BS2: 45.1 | BT2: 45.1 | BU2: 45.1 | BV2: 45.1 | BW2: 45.1 | BX2: 45.1 | BY2: 45.1 | BZ2: 45.1 | CA2: 50.1 | CB2: 50.1 | CC2: 50.1 | CD2: 50.1 | CE2: 50.1 | CF2: 50.1 | CG2: 50.1 | CH2: 50.1 | CI2: 50.1 | CJ2: 50.1 | CK2: 55.1 | CL2: 55.1 | CM2: 55.1 | CN2: 55.1 | CO2: 55.1 | CP2: 55.1 | CQ2: 55.1 | CR2: 55.1 | CS2: 55.1 | CT2: 55.1 | CU2: 60.1 | CV2: 60.1 | CW2: 60.1 | CX2: 60.1 | CY2: 60.1 | CZ2: 60.1 | DA2: 60.1 | DB2: 60.1 | DC2: 60.1 | DD2: 60.1 | DE2: S/L # | DF2: HOLES | DG2: ADULTS | DH2: LARVAE | DI2: PUPAE | DJ2: ADULTS | DK2: HOLES | DL2: ADULTS | DM2: LARVAE | DN2: PUPAE | DO2: ADULTS | DQ2: PIXELS | DR2: Sw | DS2: CODE 1'S | DT2: CODE 2'S | DU2: CODE 3'S | DV2: CODE 4'S | DW2: CODE 5'S | DX2: CODE 6'S | DY2: Cw | DZ2: Bl | EA2: Hw | EB2: SW STEMS | EC2: MERCH STEMS | ED2: BARK PATCHES
A3: 27Km Chunamon | C3: 28 | D3: 62 | E3: 3650 | F3: 11/25/18 | G3: 56°14'55.2" | H3: 124°25'03.9" | I3: MFLNRO&RD | J3: CS18FHQ295 | K3: Hybrid | L3: A.O/T.J. | M3: Yes | N3: 1 | O3: 0 | P3: 1 | Q3: 200 | R3: 300 | S3: 11 | X3: 2 | AC3: 9 | AH3: 2 | AM3: 4 | AR3: 1 | AW3: 1 | BQ3: 1 | CK3: 2 | CU3: 1 | DQ3: =IF(R3>=1,1,0) -> 1 | DR3: =S3+AC3+AM3+AW3+BG3+BQ3+CA3+CK3+CU3 -> 29 | DS3: =T3+AD3+AN3+AX3+BH3+BR3+CB3+CL3+CV3 -> 0 | DT3: =U3+AE3+AO3+AY3+BI3+BS3+CC3+CM3+CW3 -> 0 | DU3: =V3+AF3+AP3+AZ3+BJ3+BT3+CD3+CN3+CX3 -> 0 | DV3: =W3+AG3+AQ3+BA3+BK3+BU3+CE3+CO3+CY3 -> 0 | DW3: =X3+AH3+AR3+BB3+BL3+BV3+CF3+CP3+CZ3 -> 5 | DX3: =Y3+AI3+AS3+BC3+BM3+BW3+CG3+CQ3+DA3 -> 0 | DY3: =Z3+AJ3+AT3+BD3+BN3+BX3+CH3+CR3+DB3 -> 0 | ... EA3: =AB3+AL3+AV3+BF3+BP3+BZ3+CJ3+CT3+DD3 -> 0 | EB3: =DR3+DS3+DT3+DU3+DV3+DW3+DX3 -> 34 | EC3: =DY3+DZ3+EA3+EB3 -> 34 | ED3: =IF(DF3>=1,1,0) -> 0 | EE3: =IF(DK3>=1,1,0) -> 0
N4: 2 | Q4: 4200 | R4: 4300 | AC4: 5 | AM4: 3 | AW4: 1 | DQ4: =IF(R4>=1,1,0) -> 1 | DR4: =S4+AC4+AM4+AW4+BG4+BQ4+CA4+CK4+CU4 -> 9 | DS4: =T4+AD4+AN4+AX4+BH4+BR4+CB4+CL4+CV4 -> 0 | DT4: =U4+AE4+AO4+AY4+BI4+BS4+CC4+CM4+CW4 -> 0 | DU4: =V4+AF4+AP4+AZ4+BJ4+BT4+CD4+CN4+CX4 -> 0 | DV4: =W4+AG4+AQ4+BA4+BK4+BU4+CE4+CO4+CY4 -> 0 | DW4: =X4+AH4+AR4+BB4+BL4+BV4+CF4+CP4+CZ4 -> 0 | DX4: =Y4+AI4+AS4+BC4+BM4+BW4+CG4+CQ4+DA4 -> 0 | DY4: =Z4+AJ4+AT4+BD4+BN4+BX4+CH4+CR4+DB4 -> 0 | ... EA4: =AB4+AL4+AV4+BF4+BP4+BZ4+CJ4+CT4+DD4 -> 0 | EB4: =DR4+DS4+DT4+DU4+DV4+DW4+DX4 -> 9 | EC4: =DY4+DZ4+EA4+EB4 -> 9 | ED4: =IF(DF4>=1,1,0) -> 0 | EE4: =IF(DK4>=1,1,0) -> 0
N5: 3 | DQ5: =IF(R5>=1,1,0) -> 0 | DR5: =S5+AC5+AM5+AW5+BG5+BQ5+CA5+CK5+CU5 -> 0 | DS5: =T5+AD5+AN5+AX5+BH5+BR5+CB5+CL5+CV5 -> 0 | DT5: =U5+AE5+AO5+AY5+BI5+BS5+CC5+CM5+CW5 -> 0 | DU5: =V5+AF5+AP5+AZ5+BJ5+BT5+CD5+CN5+CX5 -> 0 | DV5: =W5+AG5+AQ5+BA5+BK5+BU5+CE5+CO5+CY5 -> 0 | DW5: =X5+AH5+AR5+BB5+BL5+BV5+CF5+CP5+CZ5 -> 0 | DX5: =Y5+AI5+AS5+BC5+BM5+BW5+CG5+CQ5+DA5 -> 0 | DY5: =Z5+AJ5+AT5+BD5+BN5+BX5+CH5+CR5+DB5 -> 0 | ... EA5: =AB5+AL5+AV5+BF5+BP5+BZ5+CJ5+CT5+DD5 -> 0 | EB5: =DR5+DS5+DT5+DU5+DV5+DW5+DX5 -> 0 | EC5: =DY5+DZ5+EA5+EB5 -> 0 | ED5: =IF(DF5>=1,1,0) -> 0 | EE5: =IF(DK5>=1,1,0) -> 0
N6: 4 | DQ6: =IF(R6>=1,1,0) -> 0 | DR6: =S6+AC6+AM6+AW6+BG6+BQ6+CA6+CK6+CU6 -> 0 | DS6: =T6+AD6+AN6+AX6+BH6+BR6+CB6+CL6+CV6 -> 0 | DT6: =U6+AE6+AO6+AY6+BI6+BS6+CC6+CM6+CW6 -> 0 | DU6: =V6+AF6+AP6+AZ6+BJ6+BT6+CD6+CN6+CX6 -> 0 | DV6: =W6+AG6+AQ6+BA6+BK6+BU6+CE6+CO6+CY6 -> 0 | DW6: =X6+AH6+AR6+BB6+BL6+BV6+CF6+CP6+CZ6 -> 0 | DX6: =Y6+AI6+AS6+BC6+BM6+BW6+CG6+CQ6+DA6 -> 0 | DY6: =Z6+AJ6+AT6+BD6+BN6+BX6+CH6+CR6+DB6 -> 0 | ... EA6: =AB6+AL6+AV6+BF6+BP6+BZ6+CJ6+CT6+DD6 -> 0 | EB6: =DR6+DS6+DT6+DU6+DV6+DW6+DX6 -> 0 | EC6: =DY6+DZ6+EA6+EB6 -> 0 | ED6: =IF(DF6>=1,1,0) -> 0 | EE6: =IF(DK6>=1,1,0) -> 0
A7: TOTAL STEMS PER HECTARE | D7: TOTAL STEMS IN BLOCK | G7: TOTAL STEMS IN BLOCK PER CODE | N7: 5 | DQ7: =IF(R7>=1,1,0) -> 0 | DR7: =S7+AC7+AM7+AW7+BG7+BQ7+CA7+CK7+CU7 -> 0 | DS7: =T7+AD7+AN7+AX7+BH7+BR7+CB7+CL7+CV7 -> 0 | DT7: =U7+AE7+AO7+AY7+BI7+BS7+CC7+CM7+CW7 -> 0 | DU7: =V7+AF7+AP7+AZ7+BJ7+BT7+CD7+CN7+CX7 -> 0 | DV7: =W7+AG7+AQ7+BA7+BK7+BU7+CE7+CO7+CY7 -> 0 | DW7: =X7+AH7+AR7+BB7+BL7+BV7+CF7+CP7+CZ7 -> 0 | DX7: =Y7+AI7+AS7+BC7+BM7+BW7+CG7+CQ7+DA7 -> 0 | DY7: =Z7+AJ7+AT7+BD7+BN7+BX7+CH7+CR7+DB7 -> 0 | ... EA7: =AB7+AL7+AV7+BF7+BP7+BZ7+CJ7+CT7+DD7 -> 0 | EB7: =DR7+DS7+DT7+DU7+DV7+DW7+DX7 -> 0 | EC7: =DY7+DZ7+EA7+EB7 -> 0 | ED7: =IF(DF7>=1,1,0) -> 0 | EE7: =IF(DK7>=1,1,0) -> 0
A8: =TOTALS!D20+TOTALS!E20+TOTALS!F20+TOTALS!G20+TOTALS!H20+TOTALS!I20+TOTALS!J20+TOTALS!I31+TOTALS!I32+TOTALS!I33 -> 215 | D8: =A8*D3 -> 13330 | I8: HEALTHY | J8: =TOTALS!D20*D3 -> 11780 | N8: 6 | DQ8: =IF(R8>=1,1,0) -> 0 | DR8: =S8+AC8+AM8+AW8+BG8+BQ8+CA8+CK8+CU8 -> 0 | DS8: =T8+AD8+AN8+AX8+BH8+BR8+CB8+CL8+CV8 -> 0 | DT8: =U8+AE8+AO8+AY8+BI8+BS8+CC8+CM8+CW8 -> 0 | DU8: =V8+AF8+AP8+AZ8+BJ8+BT8+CD8+CN8+CX8 -> 0 | DV8: =W8+AG8+AQ8+BA8+BK8+BU8+CE8+CO8+CY8 -> 0 | DW8: =X8+AH8+AR8+BB8+BL8+BV8+CF8+CP8+CZ8 -> 0 | DX8: =Y8+AI8+AS8+BC8+BM8+BW8+CG8+CQ8+DA8 -> 0 | DY8: =Z8+AJ8+AT8+BD8+BN8+BX8+CH8+CR8+DB8 -> 0 | ... EA8: =AB8+AL8+AV8+BF8+BP8+BZ8+CJ8+CT8+DD8 -> 0 | EB8: =DR8+DS8+DT8+DU8+DV8+DW8+DX8 -> 0 | EC8: =DY8+DZ8+EA8+EB8 -> 0 | ED8: =IF(DF8>=1,1,0) -> 0 | EE8: =IF(DK8>=1,1,0) -> 0
I9: CODE 1 | J9: =TOTALS!E20*D3 -> 0 | N9: 7 | DQ9: =IF(R9>=1,1,0) -> 0 | DR9: =S9+AC9+AM9+AW9+BG9+BQ9+CA9+CK9+CU9 -> 0 | DS9: =T9+AD9+AN9+AX9+BH9+BR9+CB9+CL9+CV9 -> 0 | DT9: =U9+AE9+AO9+AY9+BI9+BS9+CC9+CM9+CW9 -> 0 | DU9: =V9+AF9+AP9+AZ9+BJ9+BT9+CD9+CN9+CX9 -> 0 | DV9: =W9+AG9+AQ9+BA9+BK9+BU9+CE9+CO9+CY9 -> 0 | DW9: =X9+AH9+AR9+BB9+BL9+BV9+CF9+CP9+CZ9 -> 0 | DX9: =Y9+AI9+AS9+BC9+BM9+BW9+CG9+CQ9+DA9 -> 0 | DY9: =Z9+AJ9+AT9+BD9+BN9+BX9+CH9+CR9+DB9 -> 0 | ... EA9: =AB9+AL9+AV9+BF9+BP9+BZ9+CJ9+CT9+DD9 -> 0 | EB9: =DR9+DS9+DT9+DU9+DV9+DW9+DX9 -> 0 | EC9: =DY9+DZ9+EA9+EB9 -> 0 | ED9: =IF(DF9>=1,1,0) -> 0 | EE9: =IF(DK9>=1,1,0) -> 0
I10: CODE 2 | J10: =TOTALS!F20*D3 -> 0 | N10: 8 | DQ10: =IF(R10>=1,1,0) -> 0 | DR10: =S10+AC10+AM10+AW10+BG10+BQ10+CA10+CK10+CU10 -> 0 | DS10: =T10+AD10+AN10+AX10+BH10+BR10+CB10+CL10+CV10 -> 0 | DT10: =U10+AE10+AO10+AY10+BI10+BS10+CC10+CM10+CW10 -> 0 | DU10: =V10+AF10+AP10+AZ10+BJ10+BT10+CD10+CN10+CX10 -> 0 | DV10: =W10+AG10+AQ10+BA10+BK10+BU10+CE10+CO10+CY10 -> 0 | DW10: =X10+AH10+AR10+BB10+BL10+BV10+CF10+CP10+CZ10 -> 0 | DX10: =Y10+AI10+AS10+BC10+BM10+BW10+CG10+CQ10+DA10 -> 0 | DY10: =Z10+AJ10+AT10+BD10+BN10+BX10+CH10+CR10+DB10 -> 0 | ... EA10: =AB10+AL10+AV10+BF10+BP10+BZ10+CJ10+CT10+DD10 -> 0 | EB10: =DR10+DS10+DT10+DU10+DV10+DW10+DX10 -> 0 | EC10: =DY10+DZ10+EA10+EB10 -> 0 | ED10: =IF(DF10>=1,1,0) -> 0 | EE10: =IF(DK10>=1,1,0) -> 0
I11: CODE 3 | J11: =TOTALS!G20*D3 -> 0 | N11: 9 | DQ11: =IF(R11>=1,1,0) -> 0 | DR11: =S11+AC11+AM11+AW11+BG11+BQ11+CA11+CK11+CU11 -> 0 | DS11: =T11+AD11+AN11+AX11+BH11+BR11+CB11+CL11+CV11 -> 0 | DT11: =U11+AE11+AO11+AY11+BI11+BS11+CC11+CM11+CW11 -> 0 | DU11: =V11+AF11+AP11+AZ11+BJ11+BT11+CD11+CN11+CX11 -> 0 | DV11: =W11+AG11+AQ11+BA11+BK11+BU11+CE11+CO11+CY11 -> 0 | DW11: =X11+AH11+AR11+BB11+BL11+BV11+CF11+CP11+CZ11 -> 0 | DX11: =Y11+AI11+AS11+BC11+BM11+BW11+CG11+CQ11+DA11 -> 0 | DY11: =Z11+AJ11+AT11+BD11+BN11+BX11+CH11+CR11+DB11 -> 0 | ... EA11: =AB11+AL11+AV11+BF11+BP11+BZ11+CJ11+CT11+DD11 -> 0 | EB11: =DR11+DS11+DT11+DU11+DV11+DW11+DX11 -> 0 | EC11: =DY11+DZ11+EA11+EB11 -> 0 | ED11: =IF(DF11>=1,1,0) -> 0 | EE11: =IF(DK11>=1,1,0) -> 0
A12: TOTAL INFESTED FOR EACH CODE | E12: TOTAL DBH PER CODE | I12: CODE 4 | J12: =TOTALS!H20*D3 -> 0 | N12: 10 | DQ12: =IF(R12>=1,1,0) -> 0 | DR12: =S12+AC12+AM12+AW12+BG12+BQ12+CA12+CK12+CU12 -> 0 | DS12: =T12+AD12+AN12+AX12+BH12+BR12+CB12+CL12+CV12 -> 0 | DT12: =U12+AE12+AO12+AY12+BI12+BS12+CC12+CM12+CW12 -> 0 | DU12: =V12+AF12+AP12+AZ12+BJ12+BT12+CD12+CN12+CX12 -> 0 | DV12: =W12+AG12+AQ12+BA12+BK12+BU12+CE12+CO12+CY12 -> 0 | DW12: =X12+AH12+AR12+BB12+BL12+BV12+CF12+CP12+CZ12 -> 0 | DX12: =Y12+AI12+AS12+BC12+BM12+BW12+CG12+CQ12+DA12 -> 0 | DY12: =Z12+AJ12+AT12+BD12+BN12+BX12+CH12+CR12+DB12 -> 0 | ... EA12: =AB12+AL12+AV12+BF12+BP12+BZ12+CJ12+CT12+DD12 -> 0 | EB12: =DR12+DS12+DT12+DU12+DV12+DW12+DX12 -> 0 | EC12: =DY12+DZ12+EA12+EB12 -> 0 | ED12: =IF(DF12>=1,1,0) -> 0 | EE12: =IF(DK12>=1,1,0) -> 0
I13: CODE 5 | J13: =TOTALS!I20*D3 -> 1550 | N13: 11 | DQ13: =IF(R13>=1,1,0) -> 0 | DR13: =S13+AC13+AM13+AW13+BG13+BQ13+CA13+CK13+CU13 -> 0 | DS13: =T13+AD13+AN13+AX13+BH13+BR13+CB13+CL13+CV13 -> 0 | DT13: =U13+AE13+AO13+AY13+BI13+BS13+CC13+CM13+CW13 -> 0 | DU13: =V13+AF13+AP13+AZ13+BJ13+BT13+CD13+CN13+CX13 -> 0 | DV13: =W13+AG13+AQ13+BA13+BK13+BU13+CE13+CO13+CY13 -> 0 | DW13: =X13+AH13+AR13+BB13+BL13+BV13+CF13+CP13+CZ13 -> 0 | DX13: =Y13+AI13+AS13+BC13+BM13+BW13+CG13+CQ13+DA13 -> 0 | DY13: =Z13+AJ13+AT13+BD13+BN13+BX13+CH13+CR13+DB13 -> 0 | ... EA13: =AB13+AL13+AV13+BF13+BP13+BZ13+CJ13+CT13+DD13 -> 0 | EB13: =DR13+DS13+DT13+DU13+DV13+DW13+DX13 -> 0 | EC13: =DY13+DZ13+EA13+EB13 -> 0 | ED13: =IF(DF13>=1,1,0) -> 0 | EE13: =IF(DK13>=1,1,0) -> 0
A14: 1 | B14: =T203+AD203+AN203+AX203+BH203+BR203+CB203+CL203+CV203 -> 0 | E14: 1 | F14: =(T203*0.2125)+(AD203*0.275)+(AN203*0.325)+(AX203*0.375)+(BH203*0.425)+(BR203*0.475)+(CB203*0.525)+(CL203*0.575)+(CV203*0.601) -> 0 | I14: CODE 6 | J14: =TOTALS!J20*D3 -> 0 | N14: 12 | DQ14: =IF(R14>=1,1,0) -> 0 | DR14: =S14+AC14+AM14+AW14+BG14+BQ14+CA14+CK14+CU14 -> 0 | DS14: =T14+AD14+AN14+AX14+BH14+BR14+CB14+CL14+CV14 -> 0 | DT14: =U14+AE14+AO14+AY14+BI14+BS14+CC14+CM14+CW14 -> 0 | DU14: =V14+AF14+AP14+AZ14+BJ14+BT14+CD14+CN14+CX14 -> 0 | DV14: =W14+AG14+AQ14+BA14+BK14+BU14+CE14+CO14+CY14 -> 0 | DW14: =X14+AH14+AR14+BB14+BL14+BV14+CF14+CP14+CZ14 -> 0 | DX14: =Y14+AI14+AS14+BC14+BM14+BW14+CG14+CQ14+DA14 -> 0 | DY14: =Z14+AJ14+AT14+BD14+BN14+BX14+CH14+CR14+DB14 -> 0 | ... EA14: =AB14+AL14+AV14+BF14+BP14+BZ14+CJ14+CT14+DD14 -> 0 | EB14: =DR14+DS14+DT14+DU14+DV14+DW14+DX14 -> 0 | EC14: =DY14+DZ14+EA14+EB14 -> 0 | ED14: =IF(DF14>=1,1,0) -> 0 | EE14: =IF(DK14>=1,1,0) -> 0
A15: 2 | B15: =U203+AE203+AO203+AY203+BI203+BS203+CL203+CM203+CW203 -> 0 | E15: 2 | F15: =(U203*0.2125)+(AE203*0.275)+(AO203*0.325)+(AY203*0.375)+(BI203*0.425)+(BS203*0.475)+(CC203*0.525)+(CM203*0.575)+(CW203*0.601) -> 0 | N15: 13 | DQ15: =IF(R15>=1,1,0) -> 0 | DR15: =S15+AC15+AM15+AW15+BG15+BQ15+CA15+CK15+CU15 -> 0 | DS15: =T15+AD15+AN15+AX15+BH15+BR15+CB15+CL15+CV15 -> 0 | DT15: =U15+AE15+AO15+AY15+BI15+BS15+CC15+CM15+CW15 -> 0 | DU15: =V15+AF15+AP15+AZ15+BJ15+BT15+CD15+CN15+CX15 -> 0 | DV15: =W15+AG15+AQ15+BA15+BK15+BU15+CE15+CO15+CY15 -> 0 | DW15: =X15+AH15+AR15+BB15+BL15+BV15+CF15+CP15+CZ15 -> 0 | DX15: =Y15+AI15+AS15+BC15+BM15+BW15+CG15+CQ15+DA15 -> 0 | DY15: =Z15+AJ15+AT15+BD15+BN15+BX15+CH15+CR15+DB15 -> 0 | ... EA15: =AB15+AL15+AV15+BF15+BP15+BZ15+CJ15+CT15+DD15 -> 0 | EB15: =DR15+DS15+DT15+DU15+DV15+DW15+DX15 -> 0 | EC15: =DY15+DZ15+EA15+EB15 -> 0 | ED15: =IF(DF15>=1,1,0) -> 0 | EE15: =IF(DK15>=1,1,0) -> 0
A16: 3 | B16: =V203+AF203+AP203+AZ203+BJ203+BT203+CD203+CN203+CX203 -> 0 | E16: 3 | F16: =(V203*0.2125)+(AF203*0.275)+(AP203*0.325)+(AZ203*0.375)+(BJ203*0.425)+(BT203*0.475)+(CD203*0.525)+(CN203*0.575)+(CX203*0.601) -> 0 | I16: TOTAL # OF BARK PATCHES | L16: 0 | N16: 14 | DQ16: =IF(R16>=1,1,0) -> 0 | DR16: =S16+AC16+AM16+AW16+BG16+BQ16+CA16+CK16+CU16 -> 0 | DS16: =T16+AD16+AN16+AX16+BH16+BR16+CB16+CL16+CV16 -> 0 | DT16: =U16+AE16+AO16+AY16+BI16+BS16+CC16+CM16+CW16 -> 0 | DU16: =V16+AF16+AP16+AZ16+BJ16+BT16+CD16+CN16+CX16 -> 0 | DV16: =W16+AG16+AQ16+BA16+BK16+BU16+CE16+CO16+CY16 -> 0 | DW16: =X16+AH16+AR16+BB16+BL16+BV16+CF16+CP16+CZ16 -> 0 | DX16: =Y16+AI16+AS16+BC16+BM16+BW16+CG16+CQ16+DA16 -> 0 | DY16: =Z16+AJ16+AT16+BD16+BN16+BX16+CH16+CR16+DB16 -> 0 | ... EA16: =AB16+AL16+AV16+BF16+BP16+BZ16+CJ16+CT16+DD16 -> 0 | EB16: =DR16+DS16+DT16+DU16+DV16+DW16+DX16 -> 0 | EC16: =DY16+DZ16+EA16+EB16 -> 0 | ED16: =IF(DF16>=1,1,0) -> 0 | EE16: =IF(DK16>=1,1,0) -> 0
A17: 4 | B17: =W203+AG203+AQ203+BA203+BK203+BU203+CE203+CO203+CY203 -> 0 | E17: 4 | F17: =(W203*0.2125)+(AG203*0.275)+(AQ203*0.325)+(BA203*0.375)+(BK203*0.425)+(BU203*0.475)+(CE203*0.525)+(CO203*0.575)+(CY203*0.601) -> 0 | N17: 15 | DQ17: =IF(R17>=1,1,0) -> 0 | DR17: =S17+AC17+AM17+AW17+BG17+BQ17+CA17+CK17+CU17 -> 0 | DS17: =T17+AD17+AN17+AX17+BH17+BR17+CB17+CL17+CV17 -> 0 | DT17: =U17+AE17+AO17+AY17+BI17+BS17+CC17+CM17+CW17 -> 0 | DU17: =V17+AF17+AP17+AZ17+BJ17+BT17+CD17+CN17+CX17 -> 0 | DV17: =W17+AG17+AQ17+BA17+BK17+BU17+CE17+CO17+CY17 -> 0 | DW17: =X17+AH17+AR17+BB17+BL17+BV17+CF17+CP17+CZ17 -> 0 | DX17: =Y17+AI17+AS17+BC17+BM17+BW17+CG17+CQ17+DA17 -> 0 | DY17: =Z17+AJ17+AT17+BD17+BN17+BX17+CH17+CR17+DB17 -> 0 | ... EA17: =AB17+AL17+AV17+BF17+BP17+BZ17+CJ17+CT17+DD17 -> 0 | EB17: =DR17+DS17+DT17+DU17+DV17+DW17+DX17 -> 0 | EC17: =DY17+DZ17+EA17+EB17 -> 0 | ED17: =IF(DF17>=1,1,0) -> 0 | EE17: =IF(DK17>=1,1,0) -> 0
A18: 5 | B18: =X203+AH203+AR203+BB203+BL203+BV203+CF203+CP203+CZ203 -> 5 | E18: 5 | F18: =(X203*0.2125)+(AH203*0.275)+(AR203*0.325)+(BB203*0.375)+(BL203*0.425)+(BV203*0.475)+(CF203*0.525)+(CP203*0.575)+(CZ203*0.601) -> 1.3 | N18: 16 | DQ18: =IF(R18>=1,1,0) -> 0 | DR18: =S18+AC18+AM18+AW18+BG18+BQ18+CA18+CK18+CU18 -> 0 | DS18: =T18+AD18+AN18+AX18+BH18+BR18+CB18+CL18+CV18 -> 0 | DT18: =U18+AE18+AO18+AY18+BI18+BS18+CC18+CM18+CW18 -> 0 | DU18: =V18+AF18+AP18+AZ18+BJ18+BT18+CD18+CN18+CX18 -> 0 | DV18: =W18+AG18+AQ18+BA18+BK18+BU18+CE18+CO18+CY18 -> 0 | DW18: =X18+AH18+AR18+BB18+BL18+BV18+CF18+CP18+CZ18 -> 0 | DX18: =Y18+AI18+AS18+BC18+BM18+BW18+CG18+CQ18+DA18 -> 0 | DY18: =Z18+AJ18+AT18+BD18+BN18+BX18+CH18+CR18+DB18 -> 0 | ... EA18: =AB18+AL18+AV18+BF18+BP18+BZ18+CJ18+CT18+DD18 -> 0 | EB18: =DR18+DS18+DT18+DU18+DV18+DW18+DX18 -> 0 | EC18: =DY18+DZ18+EA18+EB18 -> 0 | ED18: =IF(DF18>=1,1,0) -> 0 | EE18: =IF(DK18>=1,1,0) -> 0
A19: 6 | B19: =Y203+AI203+AS203+BC203+BM203+BW203+CG203+CQ203+DA203 -> 0 | E19: 6 | F19: =(Y203*0.2125)+(AI203*0.275)+(AS203*0.325)+(BC203*0.375)+(BM203*0.425)+(BW203*0.475)+(CG203*0.525)+(CQ203*0.575)+(DA203*0.601) -> 0 | N19: 17 | DQ19: =IF(R19>=1,1,0) -> 0 | DR19: =S19+AC19+AM19+AW19+BG19+BQ19+CA19+CK19+CU19 -> 0 | DS19: =T19+AD19+AN19+AX19+BH19+BR19+CB19+CL19+CV19 -> 0 | DT19: =U19+AE19+AO19+AY19+BI19+BS19+CC19+CM19+CW19 -> 0 | DU19: =V19+AF19+AP19+AZ19+BJ19+BT19+CD19+CN19+CX19 -> 0 | DV19: =W19+AG19+AQ19+BA19+BK19+BU19+CE19+CO19+CY19 -> 0 | DW19: =X19+AH19+AR19+BB19+BL19+BV19+CF19+CP19+CZ19 -> 0 | DX19: =Y19+AI19+AS19+BC19+BM19+BW19+CG19+CQ19+DA19 -> 0 | DY19: =Z19+AJ19+AT19+BD19+BN19+BX19+CH19+CR19+DB19 -> 0 | ... EA19: =AB19+AL19+AV19+BF19+BP19+BZ19+CJ19+CT19+DD19 -> 0 | EB19: =DR19+DS19+DT19+DU19+DV19+DW19+DX19 -> 0 | EC19: =DY19+DZ19+EA19+EB19 -> 0 | ED19: =IF(DF19>=1,1,0) -> 0 | EE19: =IF(DK19>=1,1,0) -> 0
N20: 18 | DQ20: =IF(R20>=1,1,0) -> 0 | DR20: =S20+AC20+AM20+AW20+BG20+BQ20+CA20+CK20+CU20 -> 0 | DS20: =T20+AD20+AN20+AX20+BH20+BR20+CB20+CL20+CV20 -> 0 | DT20: =U20+AE20+AO20+AY20+BI20+BS20+CC20+CM20+CW20 -> 0 | DU20: =V20+AF20+AP20+AZ20+BJ20+BT20+CD20+CN20+CX20 -> 0 | DV20: =W20+AG20+AQ20+BA20+BK20+BU20+CE20+CO20+CY20 -> 0 | DW20: =X20+AH20+AR20+BB20+BL20+BV20+CF20+CP20+CZ20 -> 0 | DX20: =Y20+AI20+AS20+BC20+BM20+BW20+CG20+CQ20+DA20 -> 0 | DY20: =Z20+AJ20+AT20+BD20+BN20+BX20+CH20+CR20+DB20 -> 0 | ... EA20: =AB20+AL20+AV20+BF20+BP20+BZ20+CJ20+CT20+DD20 -> 0 | EB20: =DR20+DS20+DT20+DU20+DV20+DW20+DX20 -> 0 | EC20: =DY20+DZ20+EA20+EB20 -> 0 | ED20: =IF(DF20>=1,1,0) -> 0 | EE20: =IF(DK20>=1,1,0) -> 0
B21: AVERAGE DBH PER CODE | E21: AVERAGE HEIGHT PER DBH CLASS | N21: 19 | DQ21: =IF(R21>=1,1,0) -> 0 | DR21: =S21+AC21+AM21+AW21+BG21+BQ21+CA21+CK21+CU21 -> 0 | DS21: =T21+AD21+AN21+AX21+BH21+BR21+CB21+CL21+CV21 -> 0 | DT21: =U21+AE21+AO21+AY21+BI21+BS21+CC21+CM21+CW21 -> 0 | DU21: =V21+AF21+AP21+AZ21+BJ21+BT21+CD21+CN21+CX21 -> 0 | DV21: =W21+AG21+AQ21+BA21+BK21+BU21+CE21+CO21+CY21 -> 0 | DW21: =X21+AH21+AR21+BB21+BL21+BV21+CF21+CP21+CZ21 -> 0 | DX21: =Y21+AI21+AS21+BC21+BM21+BW21+CG21+CQ21+DA21 -> 0 | DY21: =Z21+AJ21+AT21+BD21+BN21+BX21+CH21+CR21+DB21 -> 0 | ... EA21: =AB21+AL21+AV21+BF21+BP21+BZ21+CJ21+CT21+DD21 -> 0 | EB21: =DR21+DS21+DT21+DU21+DV21+DW21+DX21 -> 0 | EC21: =DY21+DZ21+EA21+EB21 -> 0 | ED21: =IF(DF21>=1,1,0) -> 0 | EE21: =IF(DK21>=1,1,0) -> 0
B22: 1 | C22: =F14/B14 -> #DIV/0! | E22: (ENTER 1 IN FIRST COLUMN IF ENTERING HEIGHT) | N22: 20 | DQ22: =IF(R22>=1,1,0) -> 0 | DR22: =S22+AC22+AM22+AW22+BG22+BQ22+CA22+CK22+CU22 -> 0 | DS22: =T22+AD22+AN22+AX22+BH22+BR22+CB22+CL22+CV22 -> 0 | DT22: =U22+AE22+AO22+AY22+BI22+BS22+CC22+CM22+CW22 -> 0 | DU22: =V22+AF22+AP22+AZ22+BJ22+BT22+CD22+CN22+CX22 -> 0 | DV22: =W22+AG22+AQ22+BA22+BK22+BU22+CE22+CO22+CY22 -> 0 | DW22: =X22+AH22+AR22+BB22+BL22+BV22+CF22+CP22+CZ22 -> 0 | DX22: =Y22+AI22+AS22+BC22+BM22+BW22+CG22+CQ22+DA22 -> 0 | DY22: =Z22+AJ22+AT22+BD22+BN22+BX22+CH22+CR22+DB22 -> 0 | ... EA22: =AB22+AL22+AV22+BF22+BP22+BZ22+CJ22+CT22+DD22 -> 0 | EB22: =DR22+DS22+DT22+DU22+DV22+DW22+DX22 -> 0 | EC22: =DY22+DZ22+EA22+EB22 -> 0 | ED22: =IF(DF22>=1,1,0) -> 0 | EE22: =IF(DK22>=1,1,0) -> 0
B23: 2 | C23: =F15/B15 -> #DIV/0! | E23: (ENTER 0 IN FIRST COLUMN IF NOT ENTERING HEIGHT) | N23: 21 | DQ23: =IF(R23>=1,1,0) -> 0 | DR23: =S23+AC23+AM23+AW23+BG23+BQ23+CA23+CK23+CU23 -> 0 | DS23: =T23+AD23+AN23+AX23+BH23+BR23+CB23+CL23+CV23 -> 0 | DT23: =U23+AE23+AO23+AY23+BI23+BS23+CC23+CM23+CW23 -> 0 | DU23: =V23+AF23+AP23+AZ23+BJ23+BT23+CD23+CN23+CX23 -> 0 | DV23: =W23+AG23+AQ23+BA23+BK23+BU23+CE23+CO23+CY23 -> 0 | DW23: =X23+AH23+AR23+BB23+BL23+BV23+CF23+CP23+CZ23 -> 0 | DX23: =Y23+AI23+AS23+BC23+BM23+BW23+CG23+CQ23+DA23 -> 0 | DY23: =Z23+AJ23+AT23+BD23+BN23+BX23+CH23+CR23+DB23 -> 0 | ... EA23: =AB23+AL23+AV23+BF23+BP23+BZ23+CJ23+CT23+DD23 -> 0 | EB23: =DR23+DS23+DT23+DU23+DV23+DW23+DX23 -> 0 | EC23: =DY23+DZ23+EA23+EB23 -> 0 | ED23: =IF(DF23>=1,1,0) -> 0 | EE23: =IF(DK23>=1,1,0) -> 0
B24: 3 | C24: =F16/B16 -> #DIV/0! | E24: (ENTER HEIGHT IN SECOND COLUMN) | N24: 22 | DQ24: =IF(R24>=1,1,0) -> 0 | DR24: =S24+AC24+AM24+AW24+BG24+BQ24+CA24+CK24+CU24 -> 0 | DS24: =T24+AD24+AN24+AX24+BH24+BR24+CB24+CL24+CV24 -> 0 | DT24: =U24+AE24+AO24+AY24+BI24+BS24+CC24+CM24+CW24 -> 0 | DU24: =V24+AF24+AP24+AZ24+BJ24+BT24+CD24+CN24+CX24 -> 0 | DV24: =W24+AG24+AQ24+BA24+BK24+BU24+CE24+CO24+CY24 -> 0 | DW24: =X24+AH24+AR24+BB24+BL24+BV24+CF24+CP24+CZ24 -> 0 | DX24: =Y24+AI24+AS24+BC24+BM24+BW24+CG24+CQ24+DA24 -> 0 | DY24: =Z24+AJ24+AT24+BD24+BN24+BX24+CH24+CR24+DB24 -> 0 | ... EA24: =AB24+AL24+AV24+BF24+BP24+BZ24+CJ24+CT24+DD24 -> 0 | EB24: =DR24+DS24+DT24+DU24+DV24+DW24+DX24 -> 0 | EC24: =DY24+DZ24+EA24+EB24 -> 0 | ED24: =IF(DF24>=1,1,0) -> 0 | EE24: =IF(DK24>=1,1,0) -> 0
B25: 4 | C25: =F17/B17 -> #DIV/0! | E25: 17.1 | N25: 23 | DQ25: =IF(R25>=1,1,0) -> 0 | DR25: =S25+AC25+AM25+AW25+BG25+BQ25+CA25+CK25+CU25 -> 0 | DS25: =T25+AD25+AN25+AX25+BH25+BR25+CB25+CL25+CV25 -> 0 | DT25: =U25+AE25+AO25+AY25+BI25+BS25+CC25+CM25+CW25 -> 0 | DU25: =V25+AF25+AP25+AZ25+BJ25+BT25+CD25+CN25+CX25 -> 0 | DV25: =W25+AG25+AQ25+BA25+BK25+BU25+CE25+CO25+CY25 -> 0 | DW25: =X25+AH25+AR25+BB25+BL25+BV25+CF25+CP25+CZ25 -> 0 | DX25: =Y25+AI25+AS25+BC25+BM25+BW25+CG25+CQ25+DA25 -> 0 | DY25: =Z25+AJ25+AT25+BD25+BN25+BX25+CH25+CR25+DB25 -> 0 | ... EA25: =AB25+AL25+AV25+BF25+BP25+BZ25+CJ25+CT25+DD25 -> 0 | EB25: =DR25+DS25+DT25+DU25+DV25+DW25+DX25 -> 0 | EC25: =DY25+DZ25+EA25+EB25 -> 0 | ED25: =IF(DF25>=1,1,0) -> 0 | EE25: =IF(DK25>=1,1,0) -> 0
B26: 5 | C26: =F18/B18 -> 0.26 | E26: 25.1 | N26: 24 | DQ26: =IF(R26>=1,1,0) -> 0 | DR26: =S26+AC26+AM26+AW26+BG26+BQ26+CA26+CK26+CU26 -> 0 | DS26: =T26+AD26+AN26+AX26+BH26+BR26+CB26+CL26+CV26 -> 0 | DT26: =U26+AE26+AO26+AY26+BI26+BS26+CC26+CM26+CW26 -> 0 | DU26: =V26+AF26+AP26+AZ26+BJ26+BT26+CD26+CN26+CX26 -> 0 | DV26: =W26+AG26+AQ26+BA26+BK26+BU26+CE26+CO26+CY26 -> 0 | DW26: =X26+AH26+AR26+BB26+BL26+BV26+CF26+CP26+CZ26 -> 0 | DX26: =Y26+AI26+AS26+BC26+BM26+BW26+CG26+CQ26+DA26 -> 0 | DY26: =Z26+AJ26+AT26+BD26+BN26+BX26+CH26+CR26+DB26 -> 0 | ... EA26: =AB26+AL26+AV26+BF26+BP26+BZ26+CJ26+CT26+DD26 -> 0 | EB26: =DR26+DS26+DT26+DU26+DV26+DW26+DX26 -> 0 | EC26: =DY26+DZ26+EA26+EB26 -> 0 | ED26: =IF(DF26>=1,1,0) -> 0 | EE26: =IF(DK26>=1,1,0) -> 0
B27: 6 | C27: =F19/B19 -> #DIV/0! | E27: 30.1 | N27: 25 | DQ27: =IF(R27>=1,1,0) -> 0 | DR27: =S27+AC27+AM27+AW27+BG27+BQ27+CA27+CK27+CU27 -> 0 | DS27: =T27+AD27+AN27+AX27+BH27+BR27+CB27+CL27+CV27 -> 0 | DT27: =U27+AE27+AO27+AY27+BI27+BS27+CC27+CM27+CW27 -> 0 | DU27: =V27+AF27+AP27+AZ27+BJ27+BT27+CD27+CN27+CX27 -> 0 | DV27: =W27+AG27+AQ27+BA27+BK27+BU27+CE27+CO27+CY27 -> 0 | DW27: =X27+AH27+AR27+BB27+BL27+BV27+CF27+CP27+CZ27 -> 0 | DX27: =Y27+AI27+AS27+BC27+BM27+BW27+CG27+CQ27+DA27 -> 0 | DY27: =Z27+AJ27+AT27+BD27+BN27+BX27+CH27+CR27+DB27 -> 0 | ... EA27: =AB27+AL27+AV27+BF27+BP27+BZ27+CJ27+CT27+DD27 -> 0 | EB27: =DR27+DS27+DT27+DU27+DV27+DW27+DX27 -> 0 | EC27: =DY27+DZ27+EA27+EB27 -> 0 | ED27: =IF(DF27>=1,1,0) -> 0 | EE27: =IF(DK27>=1,1,0) -> 0
E28: 35.1 | N28: 26 | DQ28: =IF(R28>=1,1,0) -> 0 | DR28: =S28+AC28+AM28+AW28+BG28+BQ28+CA28+CK28+CU28 -> 0 | DS28: =T28+AD28+AN28+AX28+BH28+BR28+CB28+CL28+CV28 -> 0 | DT28: =U28+AE28+AO28+AY28+BI28+BS28+CC28+CM28+CW28 -> 0 | DU28: =V28+AF28+AP28+AZ28+BJ28+BT28+CD28+CN28+CX28 -> 0 | DV28: =W28+AG28+AQ28+BA28+BK28+BU28+CE28+CO28+CY28 -> 0 | DW28: =X28+AH28+AR28+BB28+BL28+BV28+CF28+CP28+CZ28 -> 0 | DX28: =Y28+AI28+AS28+BC28+BM28+BW28+CG28+CQ28+DA28 -> 0 | DY28: =Z28+AJ28+AT28+BD28+BN28+BX28+CH28+CR28+DB28 -> 0 | ... EA28: =AB28+AL28+AV28+BF28+BP28+BZ28+CJ28+CT28+DD28 -> 0 | EB28: =DR28+DS28+DT28+DU28+DV28+DW28+DX28 -> 0 | EC28: =DY28+DZ28+EA28+EB28 -> 0 | ED28: =IF(DF28>=1,1,0) -> 0 | EE28: =IF(DK28>=1,1,0) -> 0
E29: 40.1 | N29: 27 | DQ29: =IF(R29>=1,1,0) -> 0 | DR29: =S29+AC29+AM29+AW29+BG29+BQ29+CA29+CK29+CU29 -> 0 | DS29: =T29+AD29+AN29+AX29+BH29+BR29+CB29+CL29+CV29 -> 0 | DT29: =U29+AE29+AO29+AY29+BI29+BS29+CC29+CM29+CW29 -> 0 | DU29: =V29+AF29+AP29+AZ29+BJ29+BT29+CD29+CN29+CX29 -> 0 | DV29: =W29+AG29+AQ29+BA29+BK29+BU29+CE29+CO29+CY29 -> 0 | DW29: =X29+AH29+AR29+BB29+BL29+BV29+CF29+CP29+CZ29 -> 0 | DX29: =Y29+AI29+AS29+BC29+BM29+BW29+CG29+CQ29+DA29 -> 0 | DY29: =Z29+AJ29+AT29+BD29+BN29+BX29+CH29+CR29+DB29 -> 0 | ... EA29: =AB29+AL29+AV29+BF29+BP29+BZ29+CJ29+CT29+DD29 -> 0 | EB29: =DR29+DS29+DT29+DU29+DV29+DW29+DX29 -> 0 | EC29: =DY29+DZ29+EA29+EB29 -> 0 | ED29: =IF(DF29>=1,1,0) -> 0 | EE29: =IF(DK29>=1,1,0) -> 0
A30: Sanitation Rating Calculations | E30: 45.1 | N30: 28 | DQ30: =IF(R30>=1,1,0) -> 0 | DR30: =S30+AC30+AM30+AW30+BG30+BQ30+CA30+CK30+CU30 -> 0 | DS30: =T30+AD30+AN30+AX30+BH30+BR30+CB30+CL30+CV30 -> 0 | DT30: =U30+AE30+AO30+AY30+BI30+BS30+CC30+CM30+CW30 -> 0 | DU30: =V30+AF30+AP30+AZ30+BJ30+BT30+CD30+CN30+CX30 -> 0 | DV30: =W30+AG30+AQ30+BA30+BK30+BU30+CE30+CO30+CY30 -> 0 | DW30: =X30+AH30+AR30+BB30+BL30+BV30+CF30+CP30+CZ30 -> 0 | DX30: =Y30+AI30+AS30+BC30+BM30+BW30+CG30+CQ30+DA30 -> 0 | DY30: =Z30+AJ30+AT30+BD30+BN30+BX30+CH30+CR30+DB30 -> 0 | ... EA30: =AB30+AL30+AV30+BF30+BP30+BZ30+CJ30+CT30+DD30 -> 0 | EB30: =DR30+DS30+DT30+DU30+DV30+DW30+DX30 -> 0 | EC30: =DY30+DZ30+EA30+EB30 -> 0 | ED30: =IF(DF30>=1,1,0) -> 0 | EE30: =IF(DK30>=1,1,0) -> 0
E31: 50.1 | N31: 29 | DQ31: =IF(R31>=1,1,0) -> 0 | DR31: =S31+AC31+AM31+AW31+BG31+BQ31+CA31+CK31+CU31 -> 0 | DS31: =T31+AD31+AN31+AX31+BH31+BR31+CB31+CL31+CV31 -> 0 | DT31: =U31+AE31+AO31+AY31+BI31+BS31+CC31+CM31+CW31 -> 0 | DU31: =V31+AF31+AP31+AZ31+BJ31+BT31+CD31+CN31+CX31 -> 0 | DV31: =W31+AG31+AQ31+BA31+BK31+BU31+CE31+CO31+CY31 -> 0 | DW31: =X31+AH31+AR31+BB31+BL31+BV31+CF31+CP31+CZ31 -> 0 | DX31: =Y31+AI31+AS31+BC31+BM31+BW31+CG31+CQ31+DA31 -> 0 | DY31: =Z31+AJ31+AT31+BD31+BN31+BX31+CH31+CR31+DB31 -> 0 | ... EA31: =AB31+AL31+AV31+BF31+BP31+BZ31+CJ31+CT31+DD31 -> 0 | EB31: =DR31+DS31+DT31+DU31+DV31+DW31+DX31 -> 0 | EC31: =DY31+DZ31+EA31+EB31 -> 0 | ED31: =IF(DF31>=1,1,0) -> 0 | EE31: =IF(DK31>=1,1,0) -> 0
A32: =TOTALS!E22+TOTALS!F22 -> 0 | E32: 55.1 | N32: 30 | DQ32: =IF(R32>=1,1,0) -> 0 | DR32: =S32+AC32+AM32+AW32+BG32+BQ32+CA32+CK32+CU32 -> 0 | DS32: =T32+AD32+AN32+AX32+BH32+BR32+CB32+CL32+CV32 -> 0 | DT32: =U32+AE32+AO32+AY32+BI32+BS32+CC32+CM32+CW32 -> 0 | DU32: =V32+AF32+AP32+AZ32+BJ32+BT32+CD32+CN32+CX32 -> 0 | DV32: =W32+AG32+AQ32+BA32+BK32+BU32+CE32+CO32+CY32 -> 0 | DW32: =X32+AH32+AR32+BB32+BL32+BV32+CF32+CP32+CZ32 -> 0 | DX32: =Y32+AI32+AS32+BC32+BM32+BW32+CG32+CQ32+DA32 -> 0 | DY32: =Z32+AJ32+AT32+BD32+BN32+BX32+CH32+CR32+DB32 -> 0 | ... EA32: =AB32+AL32+AV32+BF32+BP32+BZ32+CJ32+CT32+DD32 -> 0 | EB32: =DR32+DS32+DT32+DU32+DV32+DW32+DX32 -> 0 | EC32: =DY32+DZ32+EA32+EB32 -> 0 | ED32: =IF(DF32>=1,1,0) -> 0 | EE32: =IF(DK32>=1,1,0) -> 0
A33: =TOTALS!G22+TOTALS!H22 -> 0 | E33: 60.1 | N33: 31 | DQ33: =IF(R33>=1,1,0) -> 0 | DR33: =S33+AC33+AM33+AW33+BG33+BQ33+CA33+CK33+CU33 -> 0 | DS33: =T33+AD33+AN33+AX33+BH33+BR33+CB33+CL33+CV33 -> 0 | DT33: =U33+AE33+AO33+AY33+BI33+BS33+CC33+CM33+CW33 -> 0 | DU33: =V33+AF33+AP33+AZ33+BJ33+BT33+CD33+CN33+CX33 -> 0 | DV33: =W33+AG33+AQ33+BA33+BK33+BU33+CE33+CO33+CY33 -> 0 | DW33: =X33+AH33+AR33+BB33+BL33+BV33+CF33+CP33+CZ33 -> 0 | DX33: =Y33+AI33+AS33+BC33+BM33+BW33+CG33+CQ33+DA33 -> 0 | DY33: =Z33+AJ33+AT33+BD33+BN33+BX33+CH33+CR33+DB33 -> 0 | ... EA33: =AB33+AL33+AV33+BF33+BP33+BZ33+CJ33+CT33+DD33 -> 0 | EB33: =DR33+DS33+DT33+DU33+DV33+DW33+DX33 -> 0 | EC33: =DY33+DZ33+EA33+EB33 -> 0 | ED33: =IF(DF33>=1,1,0) -> 0 | EE33: =IF(DK33>=1,1,0) -> 0
A34: =TOTALS!I22+TOTALS!J22 -> 11.627907 | E34: TOTAL | F34: =SUM(F25:F33) -> 0 | G34: =SUM(G25:G33) -> 0 | N34: 32 | DQ34: =IF(R34>=1,1,0) -> 0 | DR34: =S34+AC34+AM34+AW34+BG34+BQ34+CA34+CK34+CU34 -> 0 | DS34: =T34+AD34+AN34+AX34+BH34+BR34+CB34+CL34+CV34 -> 0 | DT34: =U34+AE34+AO34+AY34+BI34+BS34+CC34+CM34+CW34 -> 0 | DU34: =V34+AF34+AP34+AZ34+BJ34+BT34+CD34+CN34+CX34 -> 0 | DV34: =W34+AG34+AQ34+BA34+BK34+BU34+CE34+CO34+CY34 -> 0 | DW34: =X34+AH34+AR34+BB34+BL34+BV34+CF34+CP34+CZ34 -> 0 | DX34: =Y34+AI34+AS34+BC34+BM34+BW34+CG34+CQ34+DA34 -> 0 | DY34: =Z34+AJ34+AT34+BD34+BN34+BX34+CH34+CR34+DB34 -> 0 | ... EA34: =AB34+AL34+AV34+BF34+BP34+BZ34+CJ34+CT34+DD34 -> 0 | EB34: =DR34+DS34+DT34+DU34+DV34+DW34+DX34 -> 0 | EC34: =DY34+DZ34+EA34+EB34 -> 0 | ED34: =IF(DF34>=1,1,0) -> 0 | EE34: =IF(DK34>=1,1,0) -> 0
A35: =TOTALS!G44 -> 100 | N35: 33 | DQ35: =IF(R35>=1,1,0) -> 0 | DR35: =S35+AC35+AM35+AW35+BG35+BQ35+CA35+CK35+CU35 -> 0 | DS35: =T35+AD35+AN35+AX35+BH35+BR35+CB35+CL35+CV35 -> 0 | DT35: =U35+AE35+AO35+AY35+BI35+BS35+CC35+CM35+CW35 -> 0 | DU35: =V35+AF35+AP35+AZ35+BJ35+BT35+CD35+CN35+CX35 -> 0 | DV35: =W35+AG35+AQ35+BA35+BK35+BU35+CE35+CO35+CY35 -> 0 | DW35: =X35+AH35+AR35+BB35+BL35+BV35+CF35+CP35+CZ35 -> 0 | DX35: =Y35+AI35+AS35+BC35+BM35+BW35+CG35+CQ35+DA35 -> 0 | DY35: =Z35+AJ35+AT35+BD35+BN35+BX35+CH35+CR35+DB35 -> 0 | ... EA35: =AB35+AL35+AV35+BF35+BP35+BZ35+CJ35+CT35+DD35 -> 0 | EB35: =DR35+DS35+DT35+DU35+DV35+DW35+DX35 -> 0 | EC35: =DY35+DZ35+EA35+EB35 -> 0 | ED35: =IF(DF35>=1,1,0) -> 0 | EE35: =IF(DK35>=1,1,0) -> 0
E36: AVERAGE HEIGHT OVER ENTIRE STEM COUNT | N36: 34 | DQ36: =IF(R36>=1,1,0) -> 0 | DR36: =S36+AC36+AM36+AW36+BG36+BQ36+CA36+CK36+CU36 -> 0 | DS36: =T36+AD36+AN36+AX36+BH36+BR36+CB36+CL36+CV36 -> 0 | DT36: =U36+AE36+AO36+AY36+BI36+BS36+CC36+CM36+CW36 -> 0 | DU36: =V36+AF36+AP36+AZ36+BJ36+BT36+CD36+CN36+CX36 -> 0 | DV36: =W36+AG36+AQ36+BA36+BK36+BU36+CE36+CO36+CY36 -> 0 | DW36: =X36+AH36+AR36+BB36+BL36+BV36+CF36+CP36+CZ36 -> 0 | DX36: =Y36+AI36+AS36+BC36+BM36+BW36+CG36+CQ36+DA36 -> 0 | DY36: =Z36+AJ36+AT36+BD36+BN36+BX36+CH36+CR36+DB36 -> 0 | ... EA36: =AB36+AL36+AV36+BF36+BP36+BZ36+CJ36+CT36+DD36 -> 0 | EB36: =DR36+DS36+DT36+DU36+DV36+DW36+DX36 -> 0 | EC36: =DY36+DZ36+EA36+EB36 -> 0 | ED36: =IF(DF36>=1,1,0) -> 0 | EE36: =IF(DK36>=1,1,0) -> 0
N37: 35 | DQ37: =IF(R37>=1,1,0) -> 0 | DR37: =S37+AC37+AM37+AW37+BG37+BQ37+CA37+CK37+CU37 -> 0 | DS37: =T37+AD37+AN37+AX37+BH37+BR37+CB37+CL37+CV37 -> 0 | DT37: =U37+AE37+AO37+AY37+BI37+BS37+CC37+CM37+CW37 -> 0 | DU37: =V37+AF37+AP37+AZ37+BJ37+BT37+CD37+CN37+CX37 -> 0 | DV37: =W37+AG37+AQ37+BA37+BK37+BU37+CE37+CO37+CY37 -> 0 | DW37: =X37+AH37+AR37+BB37+BL37+BV37+CF37+CP37+CZ37 -> 0 | DX37: =Y37+AI37+AS37+BC37+BM37+BW37+CG37+CQ37+DA37 -> 0 | DY37: =Z37+AJ37+AT37+BD37+BN37+BX37+CH37+CR37+DB37 -> 0 | ... EA37: =AB37+AL37+AV37+BF37+BP37+BZ37+CJ37+CT37+DD37 -> 0 | EB37: =DR37+DS37+DT37+DU37+DV37+DW37+DX37 -> 0 | EC37: =DY37+DZ37+EA37+EB37 -> 0 | ED37: =IF(DF37>=1,1,0) -> 0 | EE37: =IF(DK37>=1,1,0) -> 0
E38: =G34/F34 -> #DIV/0! | N38: 36 | DQ38: =IF(R38>=1,1,0) -> 0 | DR38: =S38+AC38+AM38+AW38+BG38+BQ38+CA38+CK38+CU38 -> 0 | DS38: =T38+AD38+AN38+AX38+BH38+BR38+CB38+CL38+CV38 -> 0 | DT38: =U38+AE38+AO38+AY38+BI38+BS38+CC38+CM38+CW38 -> 0 | DU38: =V38+AF38+AP38+AZ38+BJ38+BT38+CD38+CN38+CX38 -> 0 | DV38: =W38+AG38+AQ38+BA38+BK38+BU38+CE38+CO38+CY38 -> 0 | DW38: =X38+AH38+AR38+BB38+BL38+BV38+CF38+CP38+CZ38 -> 0 | DX38: =Y38+AI38+AS38+BC38+BM38+BW38+CG38+CQ38+DA38 -> 0 | DY38: =Z38+AJ38+AT38+BD38+BN38+BX38+CH38+CR38+DB38 -> 0 | ... EA38: =AB38+AL38+AV38+BF38+BP38+BZ38+CJ38+CT38+DD38 -> 0 | EB38: =DR38+DS38+DT38+DU38+DV38+DW38+DX38 -> 0 | EC38: =DY38+DZ38+EA38+EB38 -> 0 | ED38: =IF(DF38>=1,1,0) -> 0 | EE38: =IF(DK38>=1,1,0) -> 0
N39: 37 | DQ39: =IF(R39>=1,1,0) -> 0 | DR39: =S39+AC39+AM39+AW39+BG39+BQ39+CA39+CK39+CU39 -> 0 | DS39: =T39+AD39+AN39+AX39+BH39+BR39+CB39+CL39+CV39 -> 0 | DT39: =U39+AE39+AO39+AY39+BI39+BS39+CC39+CM39+CW39 -> 0 | DU39: =V39+AF39+AP39+AZ39+BJ39+BT39+CD39+CN39+CX39 -> 0 | DV39: =W39+AG39+AQ39+BA39+BK39+BU39+CE39+CO39+CY39 -> 0 | DW39: =X39+AH39+AR39+BB39+BL39+BV39+CF39+CP39+CZ39 -> 0 | DX39: =Y39+AI39+AS39+BC39+BM39+BW39+CG39+CQ39+DA39 -> 0 | DY39: =Z39+AJ39+AT39+BD39+BN39+BX39+CH39+CR39+DB39 -> 0 | ... EA39: =AB39+AL39+AV39+BF39+BP39+BZ39+CJ39+CT39+DD39 -> 0 | EB39: =DR39+DS39+DT39+DU39+DV39+DW39+DX39 -> 0 | EC39: =DY39+DZ39+EA39+EB39 -> 0 | ED39: =IF(DF39>=1,1,0) -> 0 | EE39: =IF(DK39>=1,1,0) -> 0
N40: 38 | DQ40: =IF(R40>=1,1,0) -> 0 | DR40: =S40+AC40+AM40+AW40+BG40+BQ40+CA40+CK40+CU40 -> 0 | DS40: =T40+AD40+AN40+AX40+BH40+BR40+CB40+CL40+CV40 -> 0 | DT40: =U40+AE40+AO40+AY40+BI40+BS40+CC40+CM40+CW40 -> 0 | DU40: =V40+AF40+AP40+AZ40+BJ40+BT40+CD40+CN40+CX40 -> 0 | DV40: =W40+AG40+AQ40+BA40+BK40+BU40+CE40+CO40+CY40 -> 0 | DW40: =X40+AH40+AR40+BB40+BL40+BV40+CF40+CP40+CZ40 -> 0 | DX40: =Y40+AI40+AS40+BC40+BM40+BW40+CG40+CQ40+DA40 -> 0 | DY40: =Z40+AJ40+AT40+BD40+BN40+BX40+CH40+CR40+DB40 -> 0 | ... EA40: =AB40+AL40+AV40+BF40+BP40+BZ40+CJ40+CT40+DD40 -> 0 | EB40: =DR40+DS40+DT40+DU40+DV40+DW40+DX40 -> 0 | EC40: =DY40+DZ40+EA40+EB40 -> 0 | ED40: =IF(DF40>=1,1,0) -> 0 | EE40: =IF(DK40>=1,1,0) -> 0
...

Sheet TOTALS
B2: NAZCA CONSULTING LTD
B3: UNIT SUMMARY REPORT
C6: LOCATION: | E6: =ENTRY!A3 -> 27Km Chunamon | H6: CLIENT: | J6: =ENTRY!I3 -> MFLNRO&RD
C7: MAPSHEET #: | E7: =ENTRY!B3 -> 0 | H7: CONTRACT #: | J7: =ENTRY!J3 -> CS18FHQ295
C8: POLYGON #: | E8: =ENTRY!C3 -> 28 | H8: SURVEYOR: | J8: =ENTRY!L3 -> A.O/T.J.
C9: SURVEY TYPE: | E9: =ENTRY!K3 -> Hybrid | H9: CERT. #: | J9: =ENTRY!M3 -> Yes
C10: DATE: | E10: 11/25-26/18 | H10: GPS. | I10: N: | J10: =ENTRY!G3 -> 56°14'55.2" | K10: W: | L10: =ENTRY!H3 -> 124°25'03.9"
C11: HECTARES: | E11: =ENTRY!D3 -> 62 | H11: METERS SURVEYED: | K11: =ENTRY!E3 -> 3650
B14: TABLE 1. | C14: INFESTATION SUMMARY BY; TOTAL, HECTARE, AND PERCENTAGE
D15: HEALTHY | E15: 2018 | G15: 2017 | I15: 2016*
D16: SPRUCE | E16: CODE 1 | F16: CODE 2 | G16: CODE 3 | H16: CODE 4 | I16: CODE 5 | J16: CODE 6
B18: TOTALS | D18: =ENTRY!DR203 -> 38 | E18: =ENTRY!DS203 -> 0 | F18: =ENTRY!DT203 -> 0 | G18: =ENTRY!DU203 -> 0 | H18: =ENTRY!DV203 -> 0 | I18: =ENTRY!DW203 -> 5 | J18: =ENTRY!DX203 -> 0
B20: PER HECTARE | D20: =ENTRY!DR203/ENTRY!DQ203*10 -> 190 | E20: =ENTRY!DS203/ENTRY!DQ203*10 -> 0 | F20: =ENTRY!DT203/ENTRY!DQ203*10 -> 0 | G20: =ENTRY!DU203/ENTRY!DQ203*10 -> 0 | H20: =ENTRY!DV203/ENTRY!DQ203*10 -> 0 | I20: =ENTRY!DW203/ENTRY!DQ203*10 -> 25 | J20: =ENTRY!DX203/ENTRY!DQ203*10 -> 0
B22: PERCENTAGES | D22: =ENTRY!J8/ENTRY!D8*100 -> 88.372093 | E22: =ENTRY!J9/ENTRY!D8*100 -> 0 | F22: =ENTRY!J10/ENTRY!D8*100 -> 0 | G22: =ENTRY!J11/ENTRY!D8*100 -> 0 | H22: =ENTRY!J12/ENTRY!D8*100 -> 0 | I22: =ENTRY!J13/ENTRY!D8*100 -> 11.627907 | J22: =ENTRY!J14/ENTRY!D8*100 -> 0
B28: TABLE 2. | C28: OTHER MERCHANTABLE TIMBER
F29: TIMBER | G29: TOTAL STEMS | I29: TOTAL STEMS
F30: TYPE | G30: IN SAMPLE | I30: PER HECTARE
F31: BALSAM | G31: =ENTRY!DY203 -> 0 | I31: =ENTRY!DY203/ENTRY!DQ203*10 -> 0
F32: PINE | G32: =ENTRY!DZ203 -> 0 | I32: =ENTRY!DZ203/ENTRY!DQ203*10 -> 0
F33: ASPEN | G33: =ENTRY!EA203 -> 0 | I33: =ENTRY!EA203/ENTRY!DQ203*10 -> 0
B35: TABLE 3. | C35: STEM COUNT
B37: TOTAL PIXELS | G37: =ENTRY!DQ203 -> 2
B39: TOTAL INFESTED PIXELS | G39: =ENTRY!O203 -> 0
B41: OTHER MERCHANTABLE STEMS IN SAMPLE | G41: =G31+G32+G33 -> 0
B43: TOTAL SPRUCE STEMS IN SAMPLE | G43: =ENTRY!EB203 -> 43
B44: TOTAL % SPRUCE IN SAMPLE | G44: =G43/ENTRY!EC203*100 -> 100
B48: TABLE 4. | C48: INFESTATION BY D.B.H. CLASS
C49: DBH | D49: S.A.F. | E49: HEALTHY | F49: 2018 | H49: 2017 | J49: 2016* | L49: OTHER
C50: CLASS | E50: SPRUCE | F50: CODE 1 | G50: CODE 2 | H50: CODE 3 | I50: CODE 4 | J50: CODE 5 | K50: CODE 6 | L50: MERCH.
C51: 17.5-25.0 | D51: 3.3 | E51: =SUM(ENTRY!S3:'ENTRY'!S202) -> 11 | F51: =SUM(ENTRY!T3:'ENTRY'!T202) -> 0 | G51: =SUM(ENTRY!U3:'ENTRY'!U202) -> 0 | H51: =SUM(ENTRY!V3:'ENTRY'!V202) -> 0 | I51: =SUM(ENTRY!W3:'ENTRY'!W202) -> 0 | J51: =SUM(ENTRY!X3:'ENTRY'!X202) -> 2 | K51: =SUM(ENTRY!Y3:'ENTRY'!Y202) -> 0 | L51: =ENTRY!Z203+ENTRY!AA203+ENTRY!AB203 -> 0
C52: 25.1-30.0 | D52: 5.3 | E52: =SUM(ENTRY!AC3:'ENTRY'!AC202) -> 14 | F52: =SUM(ENTRY!AD3:'ENTRY'!AD202) -> 0 | G52: =SUM(ENTRY!AE3:'ENTRY'!AE202) -> 0 | H52: =SUM(ENTRY!AF3:'ENTRY'!AF202) -> 0 | I52: =SUM(ENTRY!AG3:'ENTRY'!AG202) -> 0 | J52: =SUM(ENTRY!AH3:'ENTRY'!AH202) -> 2 | K52: =SUM(ENTRY!AI3:'ENTRY'!AI202) -> 0 | L52: =ENTRY!AJ203+ENTRY!AK203+ENTRY!AL203 -> 0
C53: 30.1-35.0 | D53: 7.1 | E53: =SUM(ENTRY!AM3:'ENTRY'!AM202) -> 7 | F53: =SUM(ENTRY!AN3:'ENTRY'!AN202) -> 0 | G53: =SUM(ENTRY!AO3:'ENTRY'!AO202) -> 0 | H53: =SUM(ENTRY!AP3:'ENTRY'!AP202) -> 0 | I53: =SUM(ENTRY!AQ3:'ENTRY'!AQ202) -> 0 | J53: =SUM(ENTRY!AR3:'ENTRY'!AR202) -> 1 | K53: =SUM(ENTRY!AS3:'ENTRY'!AS202) -> 0 | L53: =ENTRY!AT203+ENTRY!AU203+ENTRY!AV203 -> 0
C54: 35.1-40.0 | D54: 9.4 | E54: =SUM(ENTRY!AW3:'ENTRY'!AW202) -> 2 | F54: =SUM(ENTRY!AX3:'ENTRY'!AX202) -> 0 | G54: =SUM(ENTRY!AY3:'ENTRY'!AY202) -> 0 | H54: =SUM(ENTRY!AZ3:'ENTRY'!AZ202) -> 0 | I54: =SUM(ENTRY!BA3:'ENTRY'!BA202) -> 0 | J54: =SUM(ENTRY!BB3:'ENTRY'!BB202) -> 0 | K54: =SUM(ENTRY!BC3:'ENTRY'!BC202) -> 0 | L54: =ENTRY!BD203+ENTRY!BE203+ENTRY!BF203 -> 0
C55: 40.1-45.0 | D55: 11.6 | E55: =SUM(ENTRY!BG3:'ENTRY'!BG202) -> 0 | F55: =SUM(ENTRY!BH3:'ENTRY'!BH202) -> 0 | G55: =SUM(ENTRY!BI3:'ENTRY'!BI202) -> 0 | H55: =SUM(ENTRY!BJ3:'ENTRY'!BJ202) -> 0 | I55: =SUM(ENTRY!BK3:'ENTRY'!BK202) -> 0 | J55: =SUM(ENTRY!BL3:'ENTRY'!BL202) -> 0 | K55: =SUM(ENTRY!BM3:'ENTRY'!BM202) -> 0 | L55: =ENTRY!BN203+ENTRY!BO203+ENTRY!BP203 -> 0
C56: 45.1-50.0 | D56: 13.8 | E56: =SUM(ENTRY!BQ3:'ENTRY'!BQ202) -> 1 | F56: =SUM(ENTRY!BR3:'ENTRY'!BR202) -> 0 | G56: =SUM(ENTRY!BS3:'ENTRY'!BS202) -> 0 | H56: =SUM(ENTRY!BT3:'ENTRY'!BT202) -> 0 | I56: =SUM(ENTRY!BU3:'ENTRY'!BU202) -> 0 | J56: =SUM(ENTRY!BV3:'ENTRY'!BV202) -> 0 | K56: =SUM(ENTRY!BW3:'ENTRY'!BW202) -> 0 | L56: =ENTRY!BX203+ENTRY!BY203+ENTRY!BZ203 -> 0
C57: 50.1-55.0 | D57: 16.2 | E57: =SUM(ENTRY!CA3:'ENTRY'!CA202) -> 0 | F57: =SUM(ENTRY!CB3:'ENTRY'!CB202) -> 0 | G57: =SUM(ENTRY!CC3:'ENTRY'!CC202) -> 0 | H57: =SUM(ENTRY!CD3:'ENTRY'!CD202) -> 0 | I57: =SUM(ENTRY!CE3:'ENTRY'!CE202) -> 0 | J57: =SUM(ENTRY!CF3:'ENTRY'!CF202) -> 0 | K57: =SUM(ENTRY!CG3:'ENTRY'!CG202) -> 0 | L57: =ENTRY!CH203+ENTRY!CI203+ENTRY!CJ203 -> 0
C58: 55.1-60.0 | D58: 18.7 | E58: =SUM(ENTRY!CK3:'ENTRY'!CK202) -> 2 | F58: =SUM(ENTRY!CL3:'ENTRY'!CL202) -> 0 | G58: =SUM(ENTRY!CM3:'ENTRY'!CM202) -> 0 | H58: =SUM(ENTRY!CN3:'ENTRY'!CN202) -> 0 | I58: =SUM(ENTRY!CO3:'ENTRY'!CO202) -> 0 | J58: =SUM(ENTRY!CP3:'ENTRY'!CP202) -> 0 | K58: =SUM(ENTRY!CQ3:'ENTRY'!CQ202) -> 0 | L58: =ENTRY!CR203+ENTRY!CS203+ENTRY!CT203 -> 0
C59: 60.1+ | D59: 25.3 | E59: =SUM(ENTRY!CU3:'ENTRY'!CU202) -> 1 | F59: =SUM(ENTRY!CV3:'ENTRY'!CV202) -> 0 | G59: =SUM(ENTRY!CW3:'ENTRY'!CW202) -> 0 | H59: =SUM(ENTRY!CX3:'ENTRY'!CX202) -> 0 | I59: =SUM(ENTRY!CY3:'ENTRY'!CY202) -> 0 | J59: =SUM(ENTRY!CZ3:'ENTRY'!CZ202) -> 0 | K59: =SUM(ENTRY!DA3:'ENTRY'!DA202) -> 0 | L59: =ENTRY!DA203+ENTRY!DB203+ENTRY!DC203 -> 0
D60: TOTALS | E60: =SUM(E51:E59) -> 38 | F60: =SUM(F51:F59) -> 0 | G60: =SUM(G51:G59) -> 0 | H60: =SUM(H51:H59) -> 0 | I60: =SUM(I51:I59) -> 0 | J60: =SUM(J51:J59) -> 5 | K60: =SUM(K51:K59) -> 0 | L60: =SUM(L51:L59) -> 0
H62: * Includes all trees infested in 2016 and earlier.

Sheet COMMENTS
B3: NAZCA CONSULTING LTD
F4: 2018 SPRUCE BEETLE SURVEYS
B6: LOCATION: | E6: =ENTRY!A3 -> 27Km Chunamon | I6: CLIENT: | L6: =ENTRY!I3 -> MFLNRO&RD
B7: MAPSHEET/CP. #: | E7: =ENTRY!B3 -> 0 | I7: CONTRACT #: | L7: =ENTRY!J3 -> CS18FHQ295
B8: POLYGON #: | E8: =ENTRY!C3 -> 28 | I8: SURVEYORS: | L8: =ENTRY!L3 -> A.O/T.J.
B9: HECTARES: | E9: =ENTRY!D3 -> 62 | I9: CERT. #: | L9: =ENTRY!M3 -> Yes
B10: DATE SURVEYED: | E10: 11/25-26/18 | I10: SURVEY TYPE: | L10: =ENTRY!K3 -> Hybrid
B11: GPS: | D11: N: | E11: =ENTRY!G3 -> 56°14'55.2" | F11: W: | G11: =ENTRY!H3 -> 124°25'03.9" | I11: METERS SURVEYED: | L11: =ENTRY!E3 -> 3650
B14: SITE DETAILS:
B16: EXACT LOCATION: | E16: 26-27km Chunamon M/L | H16: TIMBER TYPES: | J16: S, SEp, SPl, | L16: SLOPE: | M16: 0-12%
B18: TOPOGRAPHY: | E18: Flat | H18: RIPARIAN ZONES: | J18: Swamp/Stream | L18: ASPECT: | M18: N/A-Flat
B20: PREVIOUS KNOWN SURVEYS: | G20: Unknown | H20: WILDLIFE HABITAT: | J20: Ungulates | L20: ELEVATION: | N20: 700
B22: ACCESS INFORMATION:
B24: WINTER ACCESS: | E24: 4WD + 90-100m Walk-in | H24: SUMMER ACCESS: | J24: (Same as winter)
B26: BEST ACCESS FOR TREE REMOVAL: | G26: Existing road net work, establish new trails though ground is very swampy
B28: POPULATION CHARACTERISTICS:
B30: ORIGINS OF POPULATION: | F30: No population | I30: WOODPECKER ACTIVITY: | L30: low/nonexistent
B32: BEETLE INCIDENCE: | E32: None | I32: SPREAD POTENTIAL: | L32: None
B34: PRIORITY LEVEL: | E34: None | I34: NEXT MAJOR FLIGHT: | L34: None
B36: RECOMMENDATIONS:
B38: PRIMARY SOLUTION: | E38: No action | I38: SECONDARY SOLUTION: | L38: No action
B40: This poly contains significant areas of swampy ground with sparse to no timber. Outside of the swampy areas there is
B41: open timber of Spruce and Balsam with no evidence of past or current beetle infestations. This stand has low to no
B42: risk of spruce beetle attack due to the lack of susceptible timber. No further action is required for this survey area.
B44: No bark patch was taken as no infest was found.
