Workbook

Sheet All Waypoints
A1: Summary - All 2016 Detailed Aerial Overview Survey (DAOS) Waypoints, Themed by Treatment Tactic
C3: # DAOS Waypoints
A4: Operating Area | B4: Mjr Licensee | C4: L (Mjr Lic) | D4: HTL (Mjr Lic) | E4: L/HTL (Woodlot) | F4: L/HTL * (DSS) | G4: NTR | H4: SDF | I4: PP_KX | J4: Total | L4: X-check
A6: Babine | B6: West Fraser Mills Ltd. | C6: 2 | D6: 20 | F6: 15 | G6: 3 | J6: =SUM(C6:I6) -> 40 | L6: =IBM_Waypoints!J6 -> 40
A7: Babine R. N | B7: BCTS - Babine Business Area | D7: 14 | J7: =SUM(C7:I7) -> 14 | L7: =IBM_Waypoints!J7 -> 14
A8: Blunt | B8: West Fraser Mills Ltd. | E8: 10 | F8: 5 | G8: 9 | J8: =SUM(C8:I8) -> 24 | L8: =IBM_Waypoints!J8 -> 24
A9: Boucher N. | B9: West Fraser Mills Ltd. | D9: 9 | F9: 6 | G9: 4 | J9: =SUM(C9:I9) -> 19 | L9: ='IBS Waypoints'!J6+IBM_Waypoints!J9 -> 19
A10: Boucher S | B10: West Fraser Mills Ltd. | D10: 1 | F10: 4 | G10: 8 | J10: =SUM(C10:I10) -> 13 | L10: =IBM_Waypoints!J10 -> 13
A11: Charleston N | B11: West Fraser Mills Ltd. | D11: 6 | J11: =SUM(C11:I11) -> 6 | L11: =IBM_Waypoints!J11 -> 6
A12: Charleston S | B12: West Fraser Mills Ltd. | C12: 1 | H12: 14 | J12: =SUM(C12:I12) -> 15 | L12: =IBM_Waypoints!J12 -> 15
A13: Clota | B13: Lake Babine Nation | C13: 1 | F13: 8 | G13: 1 | J13: =SUM(C13:I13) -> 10 | L13: ='IBS Waypoints'!J7+IBM_Waypoints!J13 -> 10
A14: Copper | B14: BCTS - Babine Business Area | C14: 2 | D14: 7 | J14: =SUM(C14:I14) -> 9 | L14: =IBM_Waypoints!J14 -> 9
A15: Copper | B15: Wetzink'wa Community Forest Corporation | C15: 3 | D15: 22 | F15: 28 | G15: 44 | J15: =SUM(C15:I15) -> 97 | L15: =IBM_Waypoints!J15 -> 97
A16: Cranberry | B16: Gitanyow Huwilp Society/ BCTS-Skeena Business Area | I16: 8 | J16: =SUM(C16:I16) -> 8 | L16: ='IBS Waypoints'!J8 -> 8
A17: Deep Cr. | B17: BCTS - Babine Business Area | D17: 86 | F17: 2 | G17: 7 | J17: =SUM(C17:I17) -> 95 | L17: =IBM_Waypoints!J16 -> 95
A18: Hanawald | B18: Kispiox River Timber Ltd. | C18: 3 | I18: 19 | J18: =SUM(C18:I18) -> 22 | L18: =IBM_Waypoints!J17 -> 22
A19: Harold Price | B19: PIR or CanFor | D19: 8 | J19: =SUM(C19:I19) -> 8 | L19: =IBM_Waypoints!J18 -> 8
A20: Harold Price | B20: West Fraser Mills Ltd. | C20: 1 | D20: 60 | F20: 60 | G20: 55 | J20: =SUM(C20:I20) -> 176 | L20: ='IBS Waypoints'!J9+IBM_Waypoints!J19 -> 176
A21: John Brown/Corya | B21: Lowell A. Johnston Consultants Ltd. | F21: 1 | G21: 1 | J21: =SUM(C21:I21) -> 2 | L21: =IBM_Waypoints!J20 -> 2
A22: Kitsequecla | B22: West Fraser Mills Ltd. | C22: 3 | E22: 23 | F22: 14 | G22: 26 | J22: =SUM(C22:I22) -> 66 | L22: ='IBS Waypoints'!J10+IBM_Waypoints!J21 -> 66
A23: Kitsuns | B23: Pacific Bioenergy Timber (Kispiox) Corp. | I23: 1 | J23: =SUM(C23:I23) -> 1 | L23: ='IBS Waypoints'!J11 -> 1
A24: Nash | B24: Pacific Bioenergy Timber (Kispiox) Corp. | I24: 1 | J24: =SUM(C24:I24) -> 1 | L24: =IBM_Waypoints!J22 -> 1
A25: Nickyeskwa N | B25: West Fraser Mills Ltd. | C25: 3 | D25: 6 | F25: 7 | G25: 2 | J25: =SUM(C25:I25) -> 18 | L25: =IBM_Waypoints!J23 -> 18
A26: Parks And Rmz | B26: n/a | G26: 25 | J26: =SUM(C26:I26) -> 25 | L26: ='IBS Waypoints'!J12+IBM_Waypoints!J24 -> 25
A27: Reiseter | B27: Lowell A. Johnston Consultants Ltd. | C27: 4 | F27: 20 | G27: 37 | J27: =SUM(C27:I27) -> 61 | L27: ='IBS Waypoints'!J13+IBM_Waypoints!J25 -> 61
A28: Telkwa | B28: West Fraser Mills Ltd. | F28: 10 | J28: =SUM(C28:I28) -> 10 | L28: ='IBS Waypoints'!J14 -> 10
A29: Torkelson 1 | B29: BCTS - Babine Business Area | C29: 2 | D29: 8 | F29: 8 | G29: 12 | H29: 1 | J29: =SUM(C29:I29) -> 31 | L29: ='IBS Waypoints'!J15+IBM_Waypoints!J26 -> 31
A30: Triangle N | B30: West Fraser Mills Ltd. | C30: 3 | F30: 9 | G30: 20 | H30: 1 | J30: =SUM(C30:I30) -> 33 | L30: =IBM_Waypoints!J27 -> 33
A31: Triangle S | B31: BCTS - Babine Business Area | C31: 6 | F31: 6 | G31: 8 | J31: =SUM(C31:I31) -> 20 | L31: =IBM_Waypoints!J28 -> 20
A32: Unnamed | B32: n/a | F32: 4 | I32: 6 | J32: =SUM(C32:I32) -> 10 | L32: ='IBS Waypoints'!J16+IBM_Waypoints!J29 -> 10
A33: Upper Suskwa | B33: Gitxsan Forest Inc. | I33: 9 | J33: =SUM(C33:I33) -> 9 | L33: ='IBS Waypoints'!J17 -> 9
A34: Weber Creek | B34: Kispiox River Timber Ltd. | I34: 13 | J34: =SUM(C34:I34) -> 13 | L34: ='IBS Waypoints'!J18+IBM_Waypoints!J30 -> 13
A35: L = Log, HTL = Hold To Log, NTR = No Treatment, SDF = Search & Destroy, PP_KX = Kispiox Tactic Pending | J35: =SUM(J6:J34) -> 856 | L35: =SUM(L6:L34) -> 856
A37: * Waypoints/ areas identified by DSS as opportunities for smaller forestry operators, e.g. small-scale salvage community

Sheet IBS Waypoints
A1: Summary - 2016 Detailed Aerial Overview Survey (DAOS) Spruce Beetle (IBS) and Spruce Blowdown Waypoints, Themed by Treatment Tactic
C3: # DAOS IBS Waypoints
A4: Operating Area | B4: Mjr Licensee | C4: L (Mjr Lic) | D4: HTL (Mjr Lic) | E4: L/HTL (Woodlot) | F4: L/HTL * (DSS) | G4: NTR | H4: SDF | I4: PP_KX | J4: Total
A6: Boucher N. | B6: West Fraser Mills Ltd. | D6: 1 | J6: =SUM(C6:I6) -> 1
A7: Clota | B7: Lake Babine Nation | F7: 1 | J7: =SUM(C7:I7) -> 1
A8: Cranberry | B8: Gitanyow Huwilp Society/ BCTS-Skeena Business Area | I8: 8 | J8: =SUM(C8:I8) -> 8
A9: Harold Price | B9: West Fraser Mills Ltd. | D9: 27 | F9: 34 | G9: 7 | J9: =SUM(C9:I9) -> 68
A10: Kitsequecla | B10: West Fraser Mills Ltd. | E10: 13 | F10: 1 | J10: =SUM(C10:I10) -> 14
A11: Kitsuns | B11: Pacific Bioenergy Timber (Kispiox) Corp. | I11: 1 | J11: 1
A12: Parks And Rmz | B12: n/a | G12: 2 | J12: =SUM(C12:I12) -> 2
A13: Reiseter | B13: Lowell A. Johnston Consultants Ltd. | F13: 1 | J13: =SUM(C13:I13) -> 1
A14: Telkwa | B14: West Fraser Mills Ltd. | F14: 10 | J14: =SUM(C14:I14) -> 10
A15: Torkelson 1 | B15: BCTS - Babine Business Area | D15: 2 | J15: =SUM(C15:I15) -> 2
A16: Unnamed | B16: n/a | I16: 4 | J16: =SUM(C16:I16) -> 4
A17: Upper Suskwa | B17: Gitxsan Forest Inc. | I17: 9 | J17: =SUM(C17:I17) -> 9
A18: Weber Creek | B18: Kispiox River Timber Ltd. | I18: 12 | J18: =SUM(C18:I18) -> 12
A19: L = Log, HTL = Hold To Log, NTR = No Treatment, SDF = Search & Destroy, PP_KX = Kispiox Tactic Pending | J19: =SUM(J6:J18) -> 133
A21: * Waypoints/ areas identified by DSS as opportunities for smaller forestry operators, e.g. small-scale salvage community

Sheet IBM_Waypoints
A1: Summary - 2016 Detailed Aerial Overview Survey (DAOS) Mtn Pine Beetle (IBM) Waypoints, Themed by Treatment Tactic
C3: # DAOS IBM Waypoints
A4: Operating Area | B4: Mjr Licensee | C4: L (Mjr Lic) | D4: HTL (Mjr Lic) | E4: L/HTL (Woodlot) | F4: L/HTL * (DSS) | G4: NTR | H4: SDF | I4: PP_KX | J4: Total
A6: Babine | B6: West Fraser Mills Ltd. | C6: 2 | D6: 20 | F6: 15 | G6: 3 | J6: =SUM(C6:I6) -> 40
A7: Babine R. N | B7: BCTS - Babine Business Area | D7: 14 | J7: =SUM(C7:I7) -> 14
A8: Blunt | B8: West Fraser Mills Ltd. | E8: 10 | F8: 5 | G8: 9 | J8: =SUM(C8:I8) -> 24
A9: Boucher N. | B9: West Fraser Mills Ltd. | D9: 8 | F9: 6 | G9: 4 | J9: =SUM(C9:I9) -> 18
A10: Boucher S | B10: West Fraser Mills Ltd. | D10: 1 | F10: 4 | G10: 8 | J10: =SUM(C10:I10) -> 13
A11: Charleston N | B11: West Fraser Mills Ltd. | D11: 6 | J11: =SUM(C11:I11) -> 6
A12: Charleston S | B12: West Fraser Mills Ltd. | C12: 1 | H12: 14 | J12: =SUM(C12:I12) -> 15
A13: Clota | B13: Lake Babine Nation | C13: 1 | F13: 7 | G13: 1 | J13: =SUM(C13:I13) -> 9
A14: Copper | B14: BCTS - Babine Business Area | C14: 2 | D14: 7 | J14: =SUM(C14:I14) -> 9
A15: Copper | B15: Wetzink'wa Community Forest Corporation | C15: 3 | D15: 22 | F15: 28 | G15: 44 | J15: =SUM(C15:I15) -> 97
A16: Deep Cr. | B16: BCTS - Babine Business Area | D16: 86 | F16: 2 | G16: 7 | J16: =SUM(C16:I16) -> 95
A17: Hanawald | B17: Kispiox River Timber Ltd. | C17: 3 | I17: 19 | J17: =SUM(C17:I17) -> 22
A18: Harold Price | B18: PIR or CanFor | D18: 8 | J18: =SUM(C18:I18) -> 8
A19: Harold Price | B19: West Fraser Mills Ltd. | C19: 1 | D19: 33 | F19: 26 | G19: 48 | J19: =SUM(C19:I19) -> 108
A20: John Brown/Corya | B20: Lowell A. Johnston Consultants Ltd. | F20: 1 | G20: 1 | J20: =SUM(C20:I20) -> 2
A21: Kitsequecla | B21: West Fraser Mills Ltd. | C21: 3 | E21: 10 | F21: 13 | G21: 26 | J21: =SUM(C21:I21) -> 52
A22: Nash | B22: Pacific Bioenergy Timber (Kispiox) Corp. | I22: 1 | J22: =SUM(C22:I22) -> 1
A23: Nickyeskwa N | B23: West Fraser Mills Ltd. | C23: 3 | D23: 6 | F23: 7 | G23: 2 | J23: =SUM(C23:I23) -> 18
A24: Parks And Rmz | B24: n/a | G24: 23 | J24: =SUM(C24:I24) -> 23
A25: Reiseter | B25: Lowell A. Johnston Consultants Ltd. | C25: 4 | F25: 19 | G25: 37 | J25: =SUM(C25:I25) -> 60
A26: Torkelson 1 | B26: BCTS - Babine Business Area | C26: 1 | D26: 8 | F26: 8 | G26: 12 | J26: =SUM(C26:I26) -> 29
A27: Triangle N | B27: West Fraser Mills Ltd. | C27: 3 | F27: 9 | G27: 20 | H27: 1 | J27: =SUM(C27:I27) -> 33
A28: Triangle S | B28: BCTS - Babine Business Area | C28: 6 | F28: 6 | G28: 8 | J28: =SUM(C28:I28) -> 20
A29: Unnamed | B29: n/a | F29: 4 | I29: 2 | J29: =SUM(C29:I29) -> 6
A30: Weber Creek | B30: Kispiox River Timber Ltd. | I30: 1 | J30: =SUM(C30:I30) -> 1
A31: L = Log, HTL = Hold To Log, NTR = No Treatment, SDF = Search & Destroy, PP_KX = Kispiox Tactic Pending | J31: =SUM(J6:J30) -> 723

Sheet DAOS_Areas
A1: Summary, Actions and Comments - 2016 Detailed Aerial Overview Survey (DAOS) Large IBM and IBS Polygons
E3: Key Overlaps
A4: Node Number | B4: FHF | C4: Severity | D4: Poly Area (ha) | E4: IBM_HE_1K | F4: IBS_ME_1K | G4: Private/ Indian Reserve | H4: Park, Protected Area | I4: SMZ1 | J4: Core Eco | K4: Riparian Reserve Zone | L4: In DSS PROBE contract | M4: Land Rip Corr | N4: WHMA | O4: WTRA | P4: Recent or Planned Harvest | Q4: COMMENT
A5: 854 | B5: IBM | C5: 5 | D5: 581 | E5: YES | F5: NO | G5: NO | H5: NO | I5: Minor | J5: Minor | K5: YES | L5: NO | M5: Minor | N5: NO
A6: 855 | B6: IBM | C6: 4 | D6: 53 | E6: YES | F6: NO | G6: NO | H6: NO | I6: YES | J6: NO | K6: YES | L6: NO | M6: NO | N6: NO
A7: 856 | B7: IBS | C7: 6 | D7: 411 | E7: NO | F7: YES | G7: NO | H7: Minor | I7: NO | J7: NO | K7: YES | L7: NO | M7: YES | N7: NO
A8: 857 | B8: IBS | C8: 4 | D8: 95 | E8: NO | F8: YES | G8: NO | H8: NO | I8: NO | J8: NO | K8: YES | L8: NO | M8: NO | N8: NO
A9: 858 | B9: IBS | C9: 7 | D9: 33 | E9: NO | F9: YES | G9: NO | H9: NO | I9: NO | J9: NO | K9: YES | L9: NO | M9: NO | N9: NO
A10: 859 | B10: IBS | C10: 7 | D10: 253 | E10: NO | F10: YES | G10: NO | H10: NO | I10: NO | K10: YES | L10: NO | N10: NO
A11: 860 | B11: IBS | C11: 7 | D11: 525 | E11: NO | F11: NO | G11: NO | H11: NO | I11: NO | J11: Minor | K11: YES | L11: Part | M11: Minor | N11: NO
A12: 861 | B12: IBS | C12: 5 | D12: 96 | E12: NO | F12: YES | G12: NO | H12: NO | I12: NO | K12: YES | L12: NO | N12: NO
A13: 862 | B13: IBS | C13: 4 | D13: 20 | E13: NO | F13: YES | G13: NO | H13: NO | I13: NO | K13: YES | L13: NO | N13: NO
