Workbook
Name Aspectvalues: 'List Values'!$E$4:$E$5
Name Riskvalues: 'List Values'!$B$5:$B$12

Sheet Table 004-2 (Procedure)
A3: Table 004-2 Environmental Aspect Risk Assessment Procedure
A5: Procedure
A7: What is a Risk Assessment?
A9: A risk assessment involves a thorough look at the way a workplace operates, and considers situations, processes and operational guidance to determine the hazards associated with day to day operations. The objective of risk assessment is to identify the causes and conditions that result in hazards, and identify those activities that are most likely to result in hazards. That information is then used to implement operational controls to minimize or eliminate hazards from the workplace. Before beginning, it is also important to define the scope of the assessment: For the purposes of this risk assessment, we will be examining potential adverse impacts to natural resources and the environment as a result of forest activities within BCTS Business Areas.
A11: What is Risk?
A13: For the purposes of this risk assessment, risk is determined by examining two components: Consequence (Magnitude) and Probability (Likelihood of an incident). Simply put, risk can be calculated in the following way: Consequence X Probability = Risk
A15: The Components of Risk
A17: A. Consequence:
A18: Consequence is the qualitative measure of the scale, severity and duration of impact that an event would have if it were to occur. For example, a small fuel spill at a fuelling station in a dryland sort may have a negligible or unobservable impact to the environment, while a moderate size (>100 litre) spill in a community watershed, sensitive ecosystem or critical habitat will have severe or catastrophic consequences.
A20: How do we determine consequence?
A21: In order to understand the consequences associated with an unfavourable event occurring we examine three aspects of the event (Scale, Severity and Duration) by asking some diagnostic questions:
A23: 1. Scale (How big will it be?)
... A38: Consequence Matrix
A40: Consequence | B40: Magnitude of impact | C40: Description (Scale, severity and/or duration of impact) | D40: Example | E40: Criteria to proceed to next magnitude level
A41: Very Low | B41: Negligible | C41: Not noticeable on a daily basis. Brief or no disruption to environmental processes. No toxic effect on biota or ecosystems | D41: In many cases there are negligible impacts to the environment from active forest operations. However, cumulative effects should be taken into consideration. For example: Soil loss adjacent to a mainline may not be observable on a daily basis, giving the indication that impacts are negligible, but may be contributing to drainage issues along a section of road resulting in a culvert failure into fish habitat. | E41: Noticeable disruption to environmental processes Toxic effects Some duration of impact
A42: Low | B42: Observable | C42: Noticeable after a single event. May cause short term disruptions of environmental processes. Easily remedied. No long term impact to organisms. No impact to human health and safety. No legal implications | D42: Observable impacts may include events such as windthrow. A windthrow event along the windward edge of a recently harvested cutblock may be readily apparent, but may not yield a significant impact to environmental processes. However, the circumstances could be exacerbated if the windthrow generally occurs in sensitive soils, on steep grades or adjacent to riparian areas or wildlife habitat areas etc. | E42: Material adverse effect on ecosystem or biota Human health and safety issues Legal benchmarks exceeded
A43: Moderate | B43: Serious | C43: Reportable events. Potential legal implications. Material adverse effects to resources or biota. Localized human health and safety risks | D43: Serious events have some measurable adverse effect on an ecosystem. For example, an improperly installed culvert on a fish stream can detrimentally affect fish passage and habitat. Although impacts are confined to a single biological unit, the consequences on that ecosystem can be profound if the situation is not remedied. Legal implications may be a factor. | E43: Long term impacts Likely or certain administrative penalties Impacts to SAR, critical habitat etc Ongoing or mobile human health and safety risks
A44: High | B44: Severe | C44: Long term impacts to ecosystems or biota. Legal implications. Loss of environmental process and remediation costs. Impacts to Species at Risk (SAR). Ongoing human health and safety risks. | D44: Severe consequences generally involve a substantial or long term alteration to an ecosystem. For example: Failure to adequately clean debris from an S6 stream post harvest may result in a slope failure into a larger fish bearing water body downslope. Although sedimentation downstream may be limited by low gradient flows within the fish bearing water body, the nature of the habitat may be altered over the long term or even permanently as a result of the event. | E44: Irreversible impacts Impacts not limited in scale, severity or duration by external factors Material adverse effects on SAR, critical habitat Remediation extensive, insufficient or impossible Mobile, injurious or large scale human health and safety risks
A45: Very High | B45: Catastrophic | C45: Large scale impact to ecosystems. Large areas, multiple ecosystems or large numbers of organisms affected. Long term and/or irreversible adverse effects to ecosystems, SAR, protected areas etc. Remediation required or not possible. Uncontrolled or large scale human health and safety issues | D45: Catastrophic events typically occur on a large scale (multi hectare or multi ecosystem) but may also include small scale events that profoundly impact human health and safety, sensitive ecosystems or species at risk. For example: A barge containing waste oil and fuel overturning adjacent to a nesting and rearing area for red listed seabirds.
A47: B. Probability:
A48: For the purposes of this risk matrix, probability refers to a subjective estimate of the frequency with which an event with some level of consequence will occur. Probability in this case is not a measure of how often and activity is being undertaken, but rather consideration of how often an event of some consequence is occurring while undertaking that activity. For example: We drive our car everyday, but we may have only had one car accident in the last ten years. In this case the probability of us driving our car today is high, but the probability of being in an accident, based on our past performance, is very low. Or, more technically speaking: Our exposure hours are high, but our incident occurrence probability is very low. For the purposes of this risk assessment, it is the incident occurrence probability that we are measuring, not the exposure.
A50: How do we Determine Probability?
A51: Ordinarily, probability would be determined by performance statistics. For instance, for our area, we may know that we have had 1 reportable size spill each year for the past 3 years, giving us a frequency of approximately 1 reportable spill per year. That can be compared with the values in the table to determine a probability rating. Where we are unsure of the frequency of an event, we can estimate probability by asking some diagnostic questions:
A53: ► How often is the activity undertaken (what is our exposure)?
A54: ► How often do events of consequence occur while undertaking the activity (What is the frequency of incident)?
A55: ► Does lack of experience play a role in the probability of incidents occurring for tasks that outside of normal daily operations (Low exposure, but high probability of incident)?
A56: ► Is the probability of an event occurring influenced by other external factors (weather, timber type, slope percentage etc)? For example: If we know that the majority of our development over the next two years will be on slopes greater than 60%, then we can reasonably assume that our risk of slope failures related to harvesting will increase, as opposed to if we are currently harvesting low elevation second growth in relatively flat areas.
A57: ► Is it possible that an event is occurring in the licence area without being observed or reported? (i.e. Landslides occurring on a tenure may not be identified immediately following the event when they are occurring where there are no active operations)
A59: For the purposes of the matrix below, probability refers to a subjective estimate of the likelihood that an event with some level of consequence will occur. It is important to note that just because an activity occurs on a daily basis, that does not mean that the frequency of occurrence is continuous. For example, an operation may have logging trucks operating continuously, but have only had one reportable spill of fuel from a logging truck in the past year. In this case the likelihood of occurrence (of reportable spills from logging trucks) would rate in the infrequent or rare categories, even though trucks operate continuously.
A61: Probability Matrix
A63: Probability | B63: Likelihood of occurrence | C63: Description | D63: Example
A64: Very Low | B64: Very Rare | C64: >5 years between events | D64: Spill directly into fish habitat
A65: Low | B65: Rare | C65: 1-5 years between events | D65: Spill in riparian area
A66: Moderate | B66: Infrequent | C66: Several times a year | D66: Reportable size spills from equipment or fuel storage areas
A67: High | B67: Routine | C67: Every few months or monthly | D67: Minor hydraulic fluid leaks from heavy equipment
A68: Very High | B68: Continuous | C68: Every few weeks or weekly | D68: Fuel spills adjacent to service vehicles (not reportable size)
A70: How do we determine risk from probability and consequence?
A72: In order to easily calculate risk objectively for each activity, we plot the Probability and Consequence values that we have determined on the vertical and horizontal axes of the risk matrix table. These values then correspond to an Inherent Risk value for that environmental aspect.
A81: What do we perform our risk assessment on?
A83: For ISO certification we are required to assess risk for a variety of aspects of our work that have potential to impact the environment. Using the list of Environmental Aspects, we divide everyday operations into categories and identify all the potential impacts to resource features. Of the impacts listed for a particular aspect, we select a potential event that appears to have the greatest impact (typically in consequence) and perform a risk analysis on that event (probability of it occurring and it's potential consequence). This information is used to determine whether or not an aspect of our work has potential to significantly impact the environment.
...

Sheet Table 004-3 (Evaluation Form)
A1: TABLE 004-3 ENVIRONMENTAL ASPECT EVALUATION FORM
A2: (Aspects List and Evaluation Matrix)
C3: Business Area:
C4: Date Approved:
C5: TSM Approval Signature:
A7: Definitions: Environmental Aspect: Element of the organization's activities that interacts with the environment Potential Environmental Impacts: Refer to all potential resources that could be impacted as a result of an aspect. In order for an impact to be applicable to a particular aspect, one or more of the following must be demonstrated: direct cause and effect relationship, material adverse effect, environmental concern of interested parties, or excess of legal thresholds Generally Applicable Example: An example of a significant impact that gives context to the discussion for the risk ranking process. This example represents the greatest risk (Typically in consequence) of the impacts listed for a particular aspect Impacts rationalization: Description of the scale severity and/or duration of impact that may occur to a resource category as a result of an aspect Probability: The likelihood that an event of a particular magnitude will occur during normal operations (Note: Choose probability values from drop-down box at bottom of cell) Consequence: The qualitative magnitude of impact that an event would have on the environment if it were to occur. (Note: Choose consequence values from drop-down box at bottom of cell) Inherent Risk: The risk value determined by measuring the probability and magnitude values of a event against the Risk Matrix table (Note: Value calculated automatically) Significant Aspect: An aspect with an Inherent Risk rating of Moderate or higher. These aspects have or can have a significant environmental impact (Note: Yes/no calculated automatically) Provincial Operational Controls: Operational controls maintained provincially and implemented as applicable in Business Areas. Where an aspect is determined to be significant, operational controls should be included in this column to ensure that preventive measures are in place (Note: Provincial controls only. Do not modify) Local Operational Controls: operational controls maintained at the Business Area level. Where a significant aspect has controls in place that are specific to a business area, they should be listed to ensure preventive measures are adequate to local conditions (Note: Entered by Business Area)
A9: Significant Aspect (Y/N) | B9: Functional Area | C9: Environmental Aspect | D9: Potential Environmental Impacts | E9: Impacts Rationalization (assessment of each impact as it relates to the environmental aspect) | F9: Generally Applicable Example | G9: Probability | H9: Consequence | I9: Inherent Risk | J9: Significant Aspect (Y/N) | K9: Provincial Operational Controls | L9: Local Operational Controls
A10: =IF($J$10="Yes", "Yes",IF($J$10="No","No","")) | B10: ALL | C10: Fuel Handling (refueling, servicing, storage, transport) | D10: Adverse effect to: Adjacent tenures Air quality Biodiversity Cultural heritage resources Fish & fish habitat (not including SAR) Marine sensitive zones Natural surface drainage patterns and non-fish streams Resource features Riparian areas Social values (visual, recreation, noise etc) Soils Species at Risk (SAR) Terrestrial vegetation / ecosystems Timber Supply (Includes wildfire hazard) Water quality in a CW & domestic water intakes Wildlife (including wildlife habitat features, not SAR) | E10: Adjacent tenures: Fuel handling generally occurs within the harvest area or permitted area, therefore there is not considered to be a direct impact to adjacent tenures/private land Air quality: N/A Biodiversity: Impacts may result from large scale events or when directly exposed to wildlife, sensitive or critical habitat Cultural heritage resources: N/A Fish & fish habitat (not including SAR): Hydrocarbon spills into water can adversely impact fish stream habitat, riparian areas and fish populations Marine sensitive zones: Hydrocarbon spills adjacent to marine areas can adversely impact fish and terrestrial wildlife values, marine biota and other habitat features Natural surface drainage patterns and non-fish streams: N/A Resource features: May adversely impact resource features such as lakeshore management zones Riparian areas: Adverse impacts to riparian vegetation and ecosystem productivity Social values: (visual, recreation, noise etc): Spills may result in indirect adverse effects on social values as a result of other impacts Soils: Loss of soil productivity, removal of contaminated soils Species at Risk (SAR): Localized impact on water sources and/or SAR habitat Terrestrial vegetation / ecosystems: Loss of terrestrial vegetation, ecosystem functionality and productivity Timber Supply (Includes wildfire hazard): No significant impacts to timber supply anticipated as a direct result of spills Water quality in a CW & domestic water intakes: Adverse affects to water quality, human health and safety concerns Wildlife (including wildlife habitat features, not SAR): Damage to ecosystems, habitat features, toxic effects on wildlife | F10: Reportable spill into domestic water source, freshwater or marine, critical habitat or SAR | I10: =IF(AND(G10="Very Low",H10="Very Low"),Formula!$D$6,IF(AND(G10="Very Low",H10="Low"),Formula!$E$6,IF(AND(G10="Very Low",H10="Moderate"),Formula!$F$6,IF(AND(G10="Very Low",H10="High"),Formula!$G$6,IF(AND(G10="Very Low",H10="Very High"),Formula!$H$6,IF(AND(G10="Low",H10="Very Low"),Formula!$D$7,IF(AND(G10="Low",H10="Low"),Formula!$E$7,IF(AND(G10="Low",H10="Moderate"),Formula!$F$7,IF(AND(G10="Low",H10="High"),Formula!$G$7,IF(AND(G10="Low",H10="Very High"),Formula!$H$7,IF(AND(G10="Moderate",H10="Very Low"),Formula!$D$8,IF(AND(G10="Moderate",H10="Low"),Formula!$E$8,IF(AND(G10="Moderate",H10="Moderate"),Formula!$F$8,IF(AND(G10="Moderate",H10="High"),Formula!$G$8,IF(AND(G10="Moderate",H10="Very High"),Formula!$H$8,IF(AND(G10="High",H10="Very Low"),Formula!$D$9,IF(AND(G10="High",H10="Low"),Formula!$E$9,IF(AND(G10="High",H10="Moderate"),Formula!$F$9,IF(AND(G10="High",H10="High"),Formula!$G$9,IF(AND(G10="High",H10="Very High"),Formula!$H$9,IF(AND(G10="Very High",H10="Very Low"),Formula!$D$10,IF(AND(G10="Very High",H10="Low"),Formula!$E$10,IF(AND(G10="Very High",H10="Moderate"),Formula!$F$10,IF(AND(G10="Very High",H10="High"),Formula!$G$10,IF(AND(G10="Very High",H10="Very High"),Formula!$H$10,""))))))))))))))))))))))))) | J10: =IF(OR(I10="M",I10="H",I10="VH"),"Yes",IF(OR(I10="L",I10="VL"),"No","")) | K10: Environmental Operating Procedures (EOPs), Environmental Field Procedures (EFPs), Environmental Emergency Response Plans (eRPs) and BCTS Checklist Reports & Forms (e.g. Risk Rating, Incident Report, Test/Drill Report Forms)
A11: =IF($J$11="Yes", "Yes",IF($J$11="No","No","")) | B11: ALL | C11: Fire hazard management (Equipment operation, vehicles, fuelling, etc.) | D11: Adverse effect to: Adjacent tenures Air quality Biodiversity Cultural heritage resources Fish & fish habitat (not including SAR) Marine sensitive zones Natural surface drainage patterns and non-fish streams Resource features Riparian areas Social values (visual, recreation, noise etc) Soils Species at Risk (SAR) Terrestrial vegetation / ecosystems Timber Supply (Includes wildfire hazard) Water quality in a CW & domestic water intakes Wildlife (including wildlife habitat features, not SAR) | E11: Adjacent tenures: Significant potential impacts to adjacent tenures, including: Timber value, protected areas, SAR, fisheries, wildlife etc. Air quality: Large scale adverse impacts to air quality over the short term Biodiversity: Adverse impacts to biodiversity at a landscape level Cultural heritage resources: May be permanently altered or destroyed Fish & fish habitat (not including SAR): Large scale potential impacts to riparian vegetation, water quality, etc Marine sensitive zones: Impacts to intertidal and upland ecosystems Natural surface drainage patterns and non-fish streams: Drainage patterns permanently altered Resource features: May have a material adverse effect on visual quality / scenic areas Riparian areas: Loss of riparian timber and vegetation Social values (visual, recreation, noise etc): Impacts to recreation features, viewpoints, etc. Soils: Loss of soil productivity, Erosion due to increased runoff, absence of vegetation Species at Risk (SAR): Short and long term destruction to SAR habitat Terrestrial vegetation / ecosystems: Long term alteration of vegetation and ecosystems from fire or fire suppression activities Timber Supply (Includes wildfire hazard): Significant adverse impacts to timber supply Water quality in a CW & domestic water intakes: Adverse affects to water quality, damage to infrastructure Wildlife (including wildlife habitat features, not SAR): Destruction of wildlife, habitat features from fire or fire suppression activities | F11: Uncontrolled wildfire / Interface fire | I11: =IF(AND(G11="Very Low",H11="Very Low"),Formula!$D$6,IF(AND(G11="Very Low",H11="Low"),Formula!$E$6,IF(AND(G11="Very Low",H11="Moderate"),Formula!$F$6,IF(AND(G11="Very Low",H11="High"),Formula!$G$6,IF(AND(G11="Very Low",H11="Very High"),Formula!$H$6,IF(AND(G11="Low",H11="Very Low"),Formula!$D$7,IF(AND(G11="Low",H11="Low"),Formula!$E$7,IF(AND(G11="Low",H11="Moderate"),Formula!$F$7,IF(AND(G11="Low",H11="High"),Formula!$G$7,IF(AND(G11="Low",H11="Very High"),Formula!$H$7,IF(AND(G11="Moderate",H11="Very Low"),Formula!$D$8,IF(AND(G11="Moderate",H11="Low"),Formula!$E$8,IF(AND(G11="Moderate",H11="Moderate"),Formula!$F$8,IF(AND(G11="Moderate",H11="High"),Formula!$G$8,IF(AND(G11="Moderate",H11="Very High"),Formula!$H$8,IF(AND(G11="High",H11="Very Low"),Formula!$D$9,IF(AND(G11="High",H11="Low"),Formula!$E$9,IF(AND(G11="High",H11="Moderate"),Formula!$F$9,IF(AND(G11="High",H11="High"),Formula!$G$9,IF(AND(G11="High",H11="Very High"),Formula!$H$9,IF(AND(G11="Very High",H11="Very Low"),Formula!$D$10,IF(AND(G11="Very High",H11="Low"),Formula!$E$10,IF(AND(G11="Very High",H11="Moderate"),Formula!$F$10,IF(AND(G11="Very High",H11="High"),Formula!$G$10,IF(AND(G11="Very High",H11="Very High"),Formula!$H$10,""))))))))))))))))))))))))) | J11: =IF(OR(I11="M",I11="H",I11="VH"),"Yes",IF(OR(I11="L",I11="VL"),"No","")) | K11: Environmental Operating Procedures (EOPs), Environmental Field Procedures (EFPs), Environmental Emergency Response Plans (eRPs) and BCTS Checklist Reports & Forms (e.g. Risk Rating, Incident Report, Test/Drill Report Forms)
A12: =IF($J$12="Yes", "Yes",IF($J$12="No","No","")) | B12: HARVESTING ROADS & SILVICULTURE | C12: Construction/rehabilitation of trails within harvest areas (Backspar and hoe forwarding, etc.) | D12: Adverse effect to: Adjacent tenures Air quality Biodiversity Cultural heritage resources Fish & fish habitat (not including SAR) Marine sensitive zones Natural surface drainage patterns and non-fish streams Resource features Riparian areas Social values (visual, recreation, noise etc) Soils Species at Risk (SAR) Terrestrial vegetation / ecosystems Timber Supply (Includes wildfire hazard) Water quality in a CW & domestic water intakes Wildlife (including wildlife habitat features, not SAR) | E12: Adjacent tenures: Trail construction is limited to within the harvest area or permitted area, therefore there is not considered to be a direct impact to adjacent tenures/private land Air quality: N/A Biodiversity: May have a localized impact on stand level features Cultural heritage resources: Localized damage to cultural heritage features may occur where not identified pre-harvest Fish & fish habitat (not including SAR): Potential sedimentation into fish habitat. Impacts to fish habitat from trails are generally mitigated during planning processes Marine sensitive zones: Impacts to marine ecosystems from trails are generally mitigated during planning processes Natural surface drainage patterns and non-fish streams: May result in localized drainage pattern disruptions where operational plans are insufficient / not adhered to Resource features: Localized potential impacts to Karst or other resource features Riparian areas: Potential small scale impact to understory vegetation and timber where operational plans not adhered to Social values (visual, recreation, noise etc): No direct adverse impact to social values Soils: May result in localized erosion, soil loss, compaction and loss of productivity. These effects can be mitigated by effective planning and remediation programs Species at Risk (SAR): Impacts to ground nesting bird habitat and potential sedimentation into downstream fish habitat Terrestrial vegetation / ecosystems: Localized, temporary adverse effects to terrestrial vegetation, ecosystem functionality and productivity Timber Supply (Includes wildfire hazard): No significant impacts to timber supply anticipated as a direct result of trail construction Water quality in a CW & domestic water intakes: Localized sediment delivery, potential spills. Impacts to domestic water generally mitigated during planning processes Wildlife (including wildlife habitat features, not SAR): Small scale potential damage to ecosystems, habitat features and other wildlife. | F12: Inadequate operational planning / practices leading to localized impacts to resource values (Soils, riparian areas, fish, wildlife, ecosystems) | I12: =IF(AND(G12="Very Low",H12="Very Low"),Formula!$D$6,IF(AND(G12="Very Low",H12="Low"),Formula!$E$6,IF(AND(G12="Very Low",H12="Moderate"),Formula!$F$6,IF(AND(G12="Very Low",H12="High"),Formula!$G$6,IF(AND(G12="Very Low",H12="Very High"),Formula!$H$6,IF(AND(G12="Low",H12="Very Low"),Formula!$D$7,IF(AND(G12="Low",H12="Low"),Formula!$E$7,IF(AND(G12="Low",H12="Moderate"),Formula!$F$7,IF(AND(G12="Low",H12="High"),Formula!$G$7,IF(AND(G12="Low",H12="Very High"),Formula!$H$7,IF(AND(G12="Moderate",H12="Very Low"),Formula!$D$8,IF(AND(G12="Moderate",H12="Low"),Formula!$E$8,IF(AND(G12="Moderate",H12="Moderate"),Formula!$F$8,IF(AND(G12="Moderate",H12="High"),Formula!$G$8,IF(AND(G12="Moderate",H12="Very High"),Formula!$H$8,IF(AND(G12="High",H12="Very Low"),Formula!$D$9,IF(AND(G12="High",H12="Low"),Formula!$E$9,IF(AND(G12="High",H12="Moderate"),Formula!$F$9,IF(AND(G12="High",H12="High"),Formula!$G$9,IF(AND(G12="High",H12="Very High"),Formula!$H$9,IF(AND(G12="Very High",H12="Very Low"),Formula!$D$10,IF(AND(G12="Very High",H12="Low"),Formula!$E$10,IF(AND(G12="Very High",H12="Moderate"),Formula!$F$10,IF(AND(G12="Very High",H12="High"),Formula!$G$10,IF(AND(G12="Very High",H12="Very High"),Formula!$H$10,""))))))))))))))))))))))))) | J12: =IF(OR(I12="M",I12="H",I12="VH"),"Yes",IF(OR(I12="L",I12="VL"),"No","")) | K12: Environmental Operating Procedures (EOPs), Environmental Field Procedures (EFPs), Environmental Emergency Response Plans (eRPs) and BCTS Checklist Reports & Forms (e.g. Risk Rating, Incident Report, Test/Drill Report Forms)
A13: =IF($J$13="Yes", "Yes",IF($J$13="No","No","")) | B13: HARVESTING & ROADS | C13: Hand Falling & Bucking (Note: mechanical falling is considered a ground based operation) | D13: Adverse effect to: Adjacent tenures Air quality Biodiversity Cultural heritage resources Fish & fish habitat (not including SAR) Marine sensitive zones Natural surface drainage patterns and non-fish streams Resource features Riparian areas Social values (visual, recreation, noise etc) Soils Species at Risk (SAR) Terrestrial vegetation / ecosystems Timber Supply (Includes wildfire hazard) Water quality in a CW & domestic water intakes Wildlife (including wildlife habitat features, not SAR) | E13: Adjacent tenures: Trespasses could result in a direct material adverse effect on adjacent tenures Biodiversity: May have a localized impact on stand level features Cultural heritage resources: Cultural heritage features could be altered or destroyed by harvesting activities if features are not clearly indicated in operational plans / assessments, or if felled timber causes damage to adjacent features Fish & fish habitat (not including SAR): Potential introduction of sediment and woody debris to fish habitat. Marine sensitive zones: Potential damage to upland ecosystems as a result of timber removal. Increased windthrow hazard potential in high wind areas. Natural surface drainage patterns and non-fish streams: May result in localized drainage pattern disruptions where operational plans are insufficient / not adhered to (i.e. woody debris introduction to streams) Resource features: Small scale and or temporary impacts to resource features (i.e. introduction of debris to Karst features) Riparian areas: Trespasses in riparian areas can have localized, short to medium term adverse effects on riparian ecosystems, and affect retention requirements Social values (visual, recreation, noise etc): Falling trespasses can adversely affect recreation areas, viewscapes Soils: Any erosion or landslide event that could occur may be attributed to the planning function if an assessment during site planning was not conducted or not conducted adequately, rather than the falling function; compaction is not considered possible because no heavy machinery is used Species at Risk (SAR): Potential damage to tree nesting species and introduction of wood debris into fish habitat Terrestrial vegetation / ecosystems: Localized, temporary adverse effects to terrestrial vegetation, ecosystem functionality and productivity. Trespasses could impact protected ecosystems Timber Supply (Includes wildfire hazard): Potential localized impact on timber supply should timber become isolated or wasted as a result of inadequate operational planning Water quality in a CW & domestic water intakes: Possible slope failures if operational plans inadequate or not adhered to, localized sediment delivery, potential small spills. Impacts to domestic water generally mitigated during planning processes Wildlife (including wildlife habitat features, not SAR): Small scale potential damage to ecosystems, habitat features, and other wildlife (nesting areas and other habitat features potentially destroyed) | F13: Trespass that impacts a sensitive resource or protected area (i.e.. CMT, goshawk nest) | I13: =IF(AND(G13="Very Low",H13="Very Low"),Formula!$D$6,IF(AND(G13="Very Low",H13="Low"),Formula!$E$6,IF(AND(G13="Very Low",H13="Moderate"),Formula!$F$6,IF(AND(G13="Very Low",H13="High"),Formula!$G$6,IF(AND(G13="Very Low",H13="Very High"),Formula!$H$6,IF(AND(G13="Low",H13="Very Low"),Formula!$D$7,IF(AND(G13="Low",H13="Low"),Formula!$E$7,IF(AND(G13="Low",H13="Moderate"),Formula!$F$7,IF(AND(G13="Low",H13="High"),Formula!$G$7,IF(AND(G13="Low",H13="Very High"),Formula!$H$7,IF(AND(G13="Moderate",H13="Very Low"),Formula!$D$8,IF(AND(G13="Moderate",H13="Low"),Formula!$E$8,IF(AND(G13="Moderate",H13="Moderate"),Formula!$F$8,IF(AND(G13="Moderate",H13="High"),Formula!$G$8,IF(AND(G13="Moderate",H13="Very High"),Formula!$H$8,IF(AND(G13="High",H13="Very Low"),Formula!$D$9,IF(AND(G13="High",H13="Low"),Formula!$E$9,IF(AND(G13="High",H13="Moderate"),Formula!$F$9,IF(AND(G13="High",H13="High"),Formula!$G$9,IF(AND(G13="High",H13="Very High"),Formula!$H$9,IF(AND(G13="Very High",H13="Very Low"),Formula!$D$10,IF(AND(G13="Very High",H13="Low"),Formula!$E$10,IF(AND(G13="Very High",H13="Moderate"),Formula!$F$10,IF(AND(G13="Very High",H13="High"),Formula!$G$10,IF(AND(G13="Very High",H13="Very High"),Formula!$H$10,""))))))))))))))))))))))))) | J13: =IF(OR(I13="M",I13="H",I13="VH"),"Yes",IF(OR(I13="L",I13="VL"),"No","")) | K13: Environmental Operating Procedures (EOPs), Environmental Field Procedures (EFPs), Environmental Emergency Response Plans (eRPs) and BCTS Checklist Reports & Forms (e.g. Risk Rating, Incident Report, Test/Drill Report Forms)
A14: =IF($J$14="Yes", "Yes",IF($J$14="No","No","")) | B14: HARVESTING & ROADS | C14: Loading & Hauling | D14: Adverse effect to: Adjacent tenures Air quality Biodiversity Cultural heritage resources Fish & fish habitat (including SAR) Marine sensitive zones Natural surface drainage patterns and non-fish streams Resource features Riparian areas Social values (visual, recreation, noise etc) Soils Species at Risk (SAR) Terrestrial vegetation / ecosystems Timber Supply (Includes wildfire hazard) Water quality in a CW & domestic water intakes Wildlife (including SAR & wildlife habitat features) | E14: Adjacent tenures: Loading and hauling activities are limited to within the harvest area or permitted area and forest roads, therefore there is not considered to be a direct impact to adjacent tenures/private land Air quality: Dust on active haul roads, small to moderate scale of impact depending on amount of traffic Biodiversity: May have a localized impact on stand level features Cultural heritage resources: No impacts to cultural heritage features are anticipated as a result of loading and hauling activities. These features are more likely to be impacted by earlier aspects of harvesting Fish & fish habitat (not including SAR): Potential sedimentation into fish habitat from disturbed soils, roadside ditches etc. Localized impacts. Compaction and other forms of habitat degradation adjacent to areas of significant vehicle activity Marine sensitive zones: Marine facilities are covered under the Marine Log Handling Facilities aspect, and are not considered as part of this aspect. Hauling can result in sedimentation to foreshore areas where drainage structures are not functioning properly Natural surface drainage patterns and non-fish streams: May result in localized drainage pattern disruptions where operational plans are insufficient / not adhered to Resource Features: No impacts to resource features are anticipated as a direct result of loading and hauling Riparian areas: Loading and hauling may contribute sedimentation to riparian areas from frequent vehicle activity Social values (visual, recreation, noise etc): Loading and hauling may cause issues relating to frequent vehicle traffic, noise, and lights (if operating at night) Soils: May result in localized erosion, soil loss, compaction and loss of productivity adjacent to roads. Species at Risk (SAR): Disturbance to breeding SAR wildlife, their habitiat and potential sedimentation into fish habitat Terrestrial vegetation / ecosystems: localized, temporary adverse effects to terrestrial vegetation, ecosystem functionality and productivity Timber Supply (Includes wildfire hazard): No significant impacts to timber supply anticipated as a direct result of loading or hauling Water quality in a CW & domestic water intakes: Localized sediment delivery, potential spills. Wildlife (including wildlife habitat features, not SAR): Small scale potential damage to ecosystems, habitat features, and other wildlife, noise disturbance | F14: Vehicle incident in or adjacent to sensitive habitat features or waterways (spills, introduction of foreign materials, debris) | I14: =IF(AND(G14="Very Low",H14="Very Low"),Formula!$D$6,IF(AND(G14="Very Low",H14="Low"),Formula!$E$6,IF(AND(G14="Very Low",H14="Moderate"),Formula!$F$6,IF(AND(G14="Very Low",H14="High"),Formula!$G$6,IF(AND(G14="Very Low",H14="Very High"),Formula!$H$6,IF(AND(G14="Low",H14="Very Low"),Formula!$D$7,IF(AND(G14="Low",H14="Low"),Formula!$E$7,IF(AND(G14="Low",H14="Moderate"),Formula!$F$7,IF(AND(G14="Low",H14="High"),Formula!$G$7,IF(AND(G14="Low",H14="Very High"),Formula!$H$7,IF(AND(G14="Moderate",H14="Very Low"),Formula!$D$8,IF(AND(G14="Moderate",H14="Low"),Formula!$E$8,IF(AND(G14="Moderate",H14="Moderate"),Formula!$F$8,IF(AND(G14="Moderate",H14="High"),Formula!$G$8,IF(AND(G14="Moderate",H14="Very High"),Formula!$H$8,IF(AND(G14="High",H14="Very Low"),Formula!$D$9,IF(AND(G14="High",H14="Low"),Formula!$E$9,IF(AND(G14="High",H14="Moderate"),Formula!$F$9,IF(AND(G14="High",H14="High"),Formula!$G$9,IF(AND(G14="High",H14="Very High"),Formula!$H$9,IF(AND(G14="Very High",H14="Very Low"),Formula!$D$10,IF(AND(G14="Very High",H14="Low"),Formula!$E$10,IF(AND(G14="Very High",H14="Moderate"),Formula!$F$10,IF(AND(G14="Very High",H14="High"),Formula!$G$10,IF(AND(G14="Very High",H14="Very High"),Formula!$H$10,""))))))))))))))))))))))))) | J14: =IF(OR(I14="M",I14="H",I14="VH"),"Yes",IF(OR(I14="L",I14="VL"),"No","")) | K14: Environmental Operating Procedures (EOPs), Environmental Field Procedures (EFPs), Environmental Emergency Response Plan (eRP) and BCTS Checklist Reports & Forms (e.g. Risk Rating, Incident Report, Test/Drill Report Forms).
A15: =IF($J$15="Yes", "Yes",IF($J$15="No","No","")) | B15: HARVESTING & ROADS | C15: Marine Log Handling Facilities (skidways, booming, heli-drop areas & float camps) | D15: Adverse effect to: Adjacent tenures Air quality Biodiversity Cultural heritage resources Fish & fish habitat (not including SAR) Marine sensitive zones Natural surface drainage patterns and non-fish streams Resource features Riparian areas Social values (visual, recreation, noise etc) Soils Species at Risk (SAR) Terrestrial vegetation / ecosystems Timber Supply (Includes wildfire hazard) Water quality in a CW & domestic water intakes Wildlife (including wildlife habitat features, not SAR) | E15: Adjacent tenures: Foreshore activities are typically the jurisdiction of Fisheries and Oceans Canada or Ministry of Environment, therefore there is not considered to be a direct impact to adjacent tenures/private land Air quality: N/A Biodiversity: Ongoing material adverse impacts to biodiversity within and adjacent to the footprint of foreshore activities. Environmental protection measures may be required Cultural heritage resources: Cultural heritage features are unlikely to be impacted during operation of existing facilities Fish & fish habitat (not including SAR): Ongoing impacts to fish and other marine habitat within and adjacent to the footprint of foreshore activities. Environmental protection measures may be required Marine sensitive zones: Ongoing material adverse impacts to marine sensitive areas where activities improperly located Natural surface drainage patterns and non-fish streams: Surface hardening will result in ongoing drainage management concerns Resource features: Potential ongoing impacts to adjacent features Riparian areas: Ongoing material adverse impacts to riparian vegetation, soils, and marine biota within and directly adjacent to operations Social values (visual, recreation, noise etc): Adverse impacts to viewscape, noise, recreation activity areas (kayaking etc) during operations Soils: May result in ongoing localized erosion, soil loss, compaction and loss of productivity within the within the footprint of activities Species at Risk (SAR): Damage to foreshore habitat (eel grass) and disruption to marine SAR (glass sponge) usually due to poor debris management Terrestrial vegetation / ecosystems: localized, ongoing adverse effects to terrestrial vegetation, ecosystem functionality and productivity Timber Supply (Includes wildfire hazard): No significant impacts to timber supply anticipated as a result of foreshore activities Water quality in a CW & domestic water intakes: Localized sediment delivery, Impacts to domestic water sources unlikely for marine operations, given proximity to salt water Wildlife (including wildlife habitat features, not SAR): Ongoing localized damage / disturbance to ecosystems, wildlife, habitat and other features that are not identified | F15: Ongoing marine habitat disturbance / habitat degradation | I15: =IF(AND(G15="Very Low",H15="Very Low"),Formula!$D$6,IF(AND(G15="Very Low",H15="Low"),Formula!$E$6,IF(AND(G15="Very Low",H15="Moderate"),Formula!$F$6,IF(AND(G15="Very Low",H15="High"),Formula!$G$6,IF(AND(G15="Very Low",H15="Very High"),Formula!$H$6,IF(AND(G15="Low",H15="Very Low"),Formula!$D$7,IF(AND(G15="Low",H15="Low"),Formula!$E$7,IF(AND(G15="Low",H15="Moderate"),Formula!$F$7,IF(AND(G15="Low",H15="High"),Formula!$G$7,IF(AND(G15="Low",H15="Very High"),Formula!$H$7,IF(AND(G15="Moderate",H15="Very Low"),Formula!$D$8,IF(AND(G15="Moderate",H15="Low"),Formula!$E$8,IF(AND(G15="Moderate",H15="Moderate"),Formula!$F$8,IF(AND(G15="Moderate",H15="High"),Formula!$G$8,IF(AND(G15="Moderate",H15="Very High"),Formula!$H$8,IF(AND(G15="High",H15="Very Low"),Formula!$D$9,IF(AND(G15="High",H15="Low"),Formula!$E$9,IF(AND(G15="High",H15="Moderate"),Formula!$F$9,IF(AND(G15="High",H15="High"),Formula!$G$9,IF(AND(G15="High",H15="Very High"),Formula!$H$9,IF(AND(G15="Very High",H15="Very Low"),Formula!$D$10,IF(AND(G15="Very High",H15="Low"),Formula!$E$10,IF(AND(G15="Very High",H15="Moderate"),Formula!$F$10,IF(AND(G15="Very High",H15="High"),Formula!$G$10,IF(AND(G15="Very High",H15="Very High"),Formula!$H$10,""))))))))))))))))))))))))) | J15: =IF(OR(I15="M",I15="H",I15="VH"),"Yes",IF(OR(I15="L",I15="VL"),"No","")) | K15: Environmental Operating Procedures (EOPs), Environmental Field Procedures (EFPs), Environmental Emergency Response Plans (eRPs) and BCTS Checklist Reports & Forms (e.g. Risk Rating, Incident Report, Test/Drill Report Forms)
A16: =IF($J$16="Yes", "Yes",IF($J$16="No","No","")) | B16: HARVESTING, ROADS & SILVICULTURE | C16: Ground Based Operations (mechanical falling, skidding, hoechucking, piling, stumping, waste recovery & dispersal and mechanical site preparation) | D16: Adverse effect to: Adjacent tenures Air quality Biodiversity Cultural heritage resources Fish & fish habitat (not including SAR) Marine sensitive zones Natural surface drainage patterns and non-fish streams Resource features Riparian areas Social values (visual, recreation, noise etc) Soils Species at Risk (SAR) Terrestrial vegetation / ecosystems Timber Supply (Includes wildfire hazard) Water quality in a CW & domestic water intakes Wildlife (including wildlife habitat features, not SAR) | E16: Adjacent tenures: Harvesting is limited to within the harvest area or permitted area, but may adversely affect adjacent tenures where boundaries are improperly located, or not clearly delineated Air quality: N/A Biodiversity: Short to medium term disruptions to biodiversity as a result of harvesting activities Cultural heritage resources: Cultural heritage features could be altered or destroyed by harvesting activities if features are not clearly indicated in operational plans / assessments, or if felled timber causes damage to adjacent features Fish & fish habitat (not including SAR): Potential adverse effects including: sedimentation, debris introduction, increased bed load movement Marine sensitive zones: Potential adverse effects including: sedimentation, debris introduction, increased deposition Natural surface drainage patterns and non-fish streams: May result in localized drainage pattern disruptions where operational plans are insufficient / not adhered to Resource features: Localized impacts to resource features such as Karst / trails etc Riparian areas: Localized, adverse impacts to riparian vegetation can occur where operational plans are insufficient or not adhered to Social values (visual, recreation, noise etc): Harvesting may result in impacts to viewscape , as well as noise pollution where occurring adjacent to populated areas Soils: Temporary, localized erosion, soil loss, compaction and loss of productivity Species at Risk (SAR): Potential damage to site specific SAR habitat (nests, dens), sedimentation & introduction of debris into fish habitat Terrestrial vegetation / ecosystems: Localized, temporary adverse effects to terrestrial vegetation, ecosystem functionality and productivity Timber Supply (Includes wildfire hazard): Harvesting impacts timber supply, but sustainability of harvest is managed as part of the planning process Water quality in a CW & domestic water intakes: Localized sediment delivery, potential spills and debris introduction Wildlife (including wildlife habitat features, not SAR): Stand level (within the harvest area) damage to ecosystems, habitat features and other wildlife may occur where features are not identified | F16: Site level disturbance to sensitive ecosystems, CMTs or SAR | I16: =IF(AND(G16="Very Low",H16="Very Low"),Formula!$D$6,IF(AND(G16="Very Low",H16="Low"),Formula!$E$6,IF(AND(G16="Very Low",H16="Moderate"),Formula!$F$6,IF(AND(G16="Very Low",H16="High"),Formula!$G$6,IF(AND(G16="Very Low",H16="Very High"),Formula!$H$6,IF(AND(G16="Low",H16="Very Low"),Formula!$D$7,IF(AND(G16="Low",H16="Low"),Formula!$E$7,IF(AND(G16="Low",H16="Moderate"),Formula!$F$7,IF(AND(G16="Low",H16="High"),Formula!$G$7,IF(AND(G16="Low",H16="Very High"),Formula!$H$7,IF(AND(G16="Moderate",H16="Very Low"),Formula!$D$8,IF(AND(G16="Moderate",H16="Low"),Formula!$E$8,IF(AND(G16="Moderate",H16="Moderate"),Formula!$F$8,IF(AND(G16="Moderate",H16="High"),Formula!$G$8,IF(AND(G16="Moderate",H16="Very High"),Formula!$H$8,IF(AND(G16="High",H16="Very Low"),Formula!$D$9,IF(AND(G16="High",H16="Low"),Formula!$E$9,IF(AND(G16="High",H16="Moderate"),Formula!$F$9,IF(AND(G16="High",H16="High"),Formula!$G$9,IF(AND(G16="High",H16="Very High"),Formula!$H$9,IF(AND(G16="Very High",H16="Very Low"),Formula!$D$10,IF(AND(G16="Very High",H16="Low"),Formula!$E$10,IF(AND(G16="Very High",H16="Moderate"),Formula!$F$10,IF(AND(G16="Very High",H16="High"),Formula!$G$10,IF(AND(G16="Very High",H16="Very High"),Formula!$H$10,""))))))))))))))))))))))))) | J16: =IF(OR(I16="M",I16="H",I16="VH"),"Yes",IF(OR(I16="L",I16="VL"),"No","")) | K16: Environmental Operating Procedures (EOPs), Environmental Field Procedures (EFPs), Environmental Emergency Response Plans (eRPs) and BCTS Checklist Reports & Forms (e.g. Risk Rating, Incident Report, Test/Drill Report Forms)
A17: =IF($J$17="Yes", "Yes",IF($J$17="No","No","")) | B17: HARVESTING | C17: Cable Yarding | D17: Adverse effect to: Adjacent tenures Air quality Biodiversity Cultural heritage resources Fish & fish habitat (not including SAR) Marine sensitive zones Natural surface drainage patterns and non-fish streams Resource features Riparian areas Social values (visual, recreation, noise etc) Soils Species at Risk (SAR) Terrestrial vegetation / ecosystems Timber Supply (Includes wildfire hazard) Water quality in a CW & domestic water intakes Wildlife (including wildlife habitat features, not SAR) | E17: Adjacent tenures: Harvesting is limited to within the harvest area or permitted area, but may adversely affect adjacent tenures where boundaries are improperly located, or not clearly delineated Air quality: N/A Biodiversity: Short to medium term disruptions to biodiversity as a result of yarding activities Cultural heritage resources: Cultural heritage features could be altered or destroyed by harvesting activities if features are not clearly indicated in operational plans / assessments, or if yarded timber causes damage to adjacent features Fish & fish habitat (not including SAR): Potential adverse effects including: sedimentation, debris introduction, increased bed load movement Marine sensitive zones: Potential adverse effects including: sedimentation, debris introduction, increased deposition into marine areas Natural surface drainage patterns and non-fish streams: May result in localized drainage pattern disruptions where operational plans are insufficient / not adhered to Resource features: Localized impacts to Karst / trails etc Riparian areas: Localized, adverse impacts to riparian vegetation can occur where operational plans are insufficient or not adhered to Social values (visual, recreation, noise etc): Harvesting may result in impacts to viewscape , as well as noise pollution where occurring adjacent to populated areas/ recreation features Soils: Temporary, localized erosion, soil loss, compaction and loss of productivity Species at Risk (SAR): Stand level damage to SAR wildlife, their habitat plus sedimentation and debris introduction into fish habitat Terrestrial vegetation / ecosystems: Localized, temporary adverse effects to terrestrial vegetation, ecosystem functionality and productivity Timber Supply (Includes wildfire hazard): Harvesting impacts timber supply, but sustainability of harvest is managed as part of the planning process Water quality in a CW & domestic water intakes: Localized sediment delivery, and debris introduction Wildlife (including wildlife habitat features, not SAR): Stand level (within the harvest area) damage to ecosystems, habitat features, and other wildlife may occur where features are not identified | F17: Site level disturbance contributing to larger scale event (soil destabilization resulting in landslide) | I17: =IF(AND(G17="Very Low",H17="Very Low"),Formula!$D$6,IF(AND(G17="Very Low",H17="Low"),Formula!$E$6,IF(AND(G17="Very Low",H17="Moderate"),Formula!$F$6,IF(AND(G17="Very Low",H17="High"),Formula!$G$6,IF(AND(G17="Very Low",H17="Very High"),Formula!$H$6,IF(AND(G17="Low",H17="Very Low"),Formula!$D$7,IF(AND(G17="Low",H17="Low"),Formula!$E$7,IF(AND(G17="Low",H17="Moderate"),Formula!$F$7,IF(AND(G17="Low",H17="High"),Formula!$G$7,IF(AND(G17="Low",H17="Very High"),Formula!$H$7,IF(AND(G17="Moderate",H17="Very Low"),Formula!$D$8,IF(AND(G17="Moderate",H17="Low"),Formula!$E$8,IF(AND(G17="Moderate",H17="Moderate"),Formula!$F$8,IF(AND(G17="Moderate",H17="High"),Formula!$G$8,IF(AND(G17="Moderate",H17="Very High"),Formula!$H$8,IF(AND(G17="High",H17="Very Low"),Formula!$D$9,IF(AND(G17="High",H17="Low"),Formula!$E$9,IF(AND(G17="High",H17="Moderate"),Formula!$F$9,IF(AND(G17="High",H17="High"),Formula!$G$9,IF(AND(G17="High",H17="Very High"),Formula!$H$9,IF(AND(G17="Very High",H17="Very Low"),Formula!$D$10,IF(AND(G17="Very High",H17="Low"),Formula!$E$10,IF(AND(G17="Very High",H17="Moderate"),Formula!$F$10,IF(AND(G17="Very High",H17="High"),Formula!$G$10,IF(AND(G17="Very High",H17="Very High"),Formula!$H$10,""))))))))))))))))))))))))) | J17: =IF(OR(I17="M",I17="H",I17="VH"),"Yes",IF(OR(I17="L",I17="VL"),"No","")) | K17: Environmental Operating Procedures (EOPs), Environmental Field Procedures (EFPs), Environmental Emergency Response Plans (eRPs) and BCTS Checklist Reports & Forms (e.g. Risk Rating, Incident Report, Test/Drill Report Forms)
A18: =IF($J$18="Yes", "Yes",IF($J$18="No","No","")) | B18: HARVESTING | C18: Processing (chipping, grinding, delimbing) | D18: Adverse effect to: Adjacent tenures Air quality Biodiversity Cultural heritage resources Fish & fish habitat (not including SAR) Marine sensitive zones Natural surface drainage patterns and non-fish streams Resource features Riparian areas Social values (visual, recreation, noise etc) Soils Species at Risk (SAR) Terrestrial vegetation / ecosystems Timber Supply (Includes wildfire hazard) Water quality in a CW & domestic water intakes Wildlife (including wildlife habitat features, not SAR) | E18: Adjacent tenures: Processing activities are limited to within the harvest area, permitted area, forest roads and log sorts, therefore there is not considered to be a direct impact to adjacent tenures/private land Air quality: Localized temporary impacts to air quality from dust and chips Biodiversity: Where woody debris is accumulating or being removed, there may be localized impacts to biodiversity Cultural heritage resources: N/A Fish & fish habitat (not including SAR): Where improperly located, processing may result in debris introduction to fish habitat Marine sensitive zones: Potential localized debris introduction to marine areas Natural surface drainage patterns and non-fish streams: N/A Resource features: Potential debris introduction to Karst / sensitive habitats etc Riparian areas: Potential localized debris accumulation or coarse woody debris removal from riparian areas Social values (visual, recreation, noise etc): Noise pollution where occurring adjacent to populated areas/ recreation features Soils: Temporary loss of productivity in places of debris accumulation Species at Risk (SAR): N/A Terrestrial vegetation / ecosystems: Localized, temporary adverse effects to terrestrial vegetation in places of debris accumulation Timber Supply (Includes wildfire hazard): N/A Water quality in a CW & domestic water intakes: Localized debris accumulations in and adjacent to water courses where operational plans not adhered to Wildlife (including wildlife habitat features, not SAR): N/A | F18: Site level disturbance to soil, habitat or resource features/productivity loss due to debris accumulations | I18: =IF(AND(G18="Very Low",H18="Very Low"),Formula!$D$6,IF(AND(G18="Very Low",H18="Low"),Formula!$E$6,IF(AND(G18="Very Low",H18="Moderate"),Formula!$F$6,IF(AND(G18="Very Low",H18="High"),Formula!$G$6,IF(AND(G18="Very Low",H18="Very High"),Formula!$H$6,IF(AND(G18="Low",H18="Very Low"),Formula!$D$7,IF(AND(G18="Low",H18="Low"),Formula!$E$7,IF(AND(G18="Low",H18="Moderate"),Formula!$F$7,IF(AND(G18="Low",H18="High"),Formula!$G$7,IF(AND(G18="Low",H18="Very High"),Formula!$H$7,IF(AND(G18="Moderate",H18="Very Low"),Formula!$D$8,IF(AND(G18="Moderate",H18="Low"),Formula!$E$8,IF(AND(G18="Moderate",H18="Moderate"),Formula!$F$8,IF(AND(G18="Moderate",H18="High"),Formula!$G$8,IF(AND(G18="Moderate",H18="Very High"),Formula!$H$8,IF(AND(G18="High",H18="Very Low"),Formula!$D$9,IF(AND(G18="High",H18="Low"),Formula!$E$9,IF(AND(G18="High",H18="Moderate"),Formula!$F$9,IF(AND(G18="High",H18="High"),Formula!$G$9,IF(AND(G18="High",H18="Very High"),Formula!$H$9,IF(AND(G18="Very High",H18="Very Low"),Formula!$D$10,IF(AND(G18="Very High",H18="Low"),Formula!$E$10,IF(AND(G18="Very High",H18="Moderate"),Formula!$F$10,IF(AND(G18="Very High",H18="High"),Formula!$G$10,IF(AND(G18="Very High",H18="Very High"),Formula!$H$10,""))))))))))))))))))))))))) | J18: =IF(OR(I18="M",I18="H",I18="VH"),"Yes",IF(OR(I18="L",I18="VL"),"No","")) | K18: Environmental Operating Procedures (EOPs), Environmental Field Procedures (EFPs), Environmental Emergency Response Plans (eRPs) and BCTS Checklist Reports & Forms (e.g. Risk Rating, Incident Report, Test/Drill Report Forms)
A19: =IF($J$19="Yes", "Yes",IF($J$19="No","No","")) | B19: HARVESTING | C19: Dryland Sorts (upland processing areas) | D19: Adverse effect to: Adjacent tenures Air quality Biodiversity Cultural heritage resources Fish & fish habitat (not including SAR) Marine sensitive zones Natural surface drainage patterns and non-fish streams Resource features Riparian areas Social values (visual, recreation, noise etc) Soils Species at Risk (SAR) Terrestrial vegetation / ecosystems Timber Supply (Includes wildfire hazard) Water quality in a CW & domestic water intakes Wildlife (including wildlife habitat features, not SAR) | E19: Adjacent tenures: Log sorting facilities are typically located within the licence area, therefore there is not considered to be a direct impact to adjacent tenures/private land Air quality: Localized, small scale impacts to air quality from dust, exhaust etc Biodiversity: Ongoing material adverse impacts to biodiversity within and adjacent to the footprint Log dump facilities Cultural heritage resources: Ongoing, localized, adverse impacts to features if not identified and managed Fish & fish habitat (not including SAR): Frequent adverse impacts to fish and other fish habitat within and adjacent to the footprint of facilities, where improperly located Marine sensitive zones: N/A Natural surface drainage patterns and non-fish streams: May result in ongoing localized drainage pattern disruptions/alterations within and adjacent to the footprint of facilities Resource features: Ongoing impacts to adjacent features (debris accumulation and introduction) Riparian areas: Ongoing material adverse impacts to riparian vegetation and soils within and directly adjacent to operations Social values (visual, recreation, noise etc): Adverse impacts to viewscape, noise, recreation activity areas (depending on location) Soils: May result in ongoing localized erosion, soil loss, compaction and loss of productivity within the within the footprint of facilities Species at Risk (SAR): Impacts to SAR habitat adjacent to dryland sort footprint including sedimentation into creeks due to excessive runoff Terrestrial vegetation / ecosystems: localized, ongoing adverse effects to terrestrial vegetation, ecosystem functionality and productivity within the footprint of activities Timber Supply (Includes wildfire hazard): No significant impacts to timber supply anticipated as a result of facilities Water quality in a CW & domestic water intakes: Localized sediment delivery, runoff containing contaminants may be introduced to domestic water sources Wildlife (including wildlife habitat features, not SAR): Ongoing localized damage / disturbance to ecosystems, wildlife, habitat features, potential impacts to other wildlfie/features not identified and managed | F19: Ongoing soil disturbance / habitat degradation within and adjacent to site | I19: =IF(AND(G19="Very Low",H19="Very Low"),Formula!$D$6,IF(AND(G19="Very Low",H19="Low"),Formula!$E$6,IF(AND(G19="Very Low",H19="Moderate"),Formula!$F$6,IF(AND(G19="Very Low",H19="High"),Formula!$G$6,IF(AND(G19="Very Low",H19="Very High"),Formula!$H$6,IF(AND(G19="Low",H19="Very Low"),Formula!$D$7,IF(AND(G19="Low",H19="Low"),Formula!$E$7,IF(AND(G19="Low",H19="Moderate"),Formula!$F$7,IF(AND(G19="Low",H19="High"),Formula!$G$7,IF(AND(G19="Low",H19="Very High"),Formula!$H$7,IF(AND(G19="Moderate",H19="Very Low"),Formula!$D$8,IF(AND(G19="Moderate",H19="Low"),Formula!$E$8,IF(AND(G19="Moderate",H19="Moderate"),Formula!$F$8,IF(AND(G19="Moderate",H19="High"),Formula!$G$8,IF(AND(G19="Moderate",H19="Very High"),Formula!$H$8,IF(AND(G19="High",H19="Very Low"),Formula!$D$9,IF(AND(G19="High",H19="Low"),Formula!$E$9,IF(AND(G19="High",H19="Moderate"),Formula!$F$9,IF(AND(G19="High",H19="High"),Formula!$G$9,IF(AND(G19="High",H19="Very High"),Formula!$H$9,IF(AND(G19="Very High",H19="Very Low"),Formula!$D$10,IF(AND(G19="Very High",H19="Low"),Formula!$E$10,IF(AND(G19="Very High",H19="Moderate"),Formula!$F$10,IF(AND(G19="Very High",H19="High"),Formula!$G$10,IF(AND(G19="Very High",H19="Very High"),Formula!$H$10,""))))))))))))))))))))))))) | J19: =IF(OR(I19="M",I19="H",I19="VH"),"Yes",IF(OR(I19="L",I19="VL"),"No","")) | K19: Environmental Operating Procedures (EOPs), Environmental Field Procedures (EFPs), Environmental Emergency Response Plans (eRPs) and BCTS Checklist Reports & Forms (e.g. Risk Rating, Incident Report, Test/Drill Report Forms)
