Workbook
Name Aspectvalues: 'List Values'!$E$4:$E$5
Name Riskvalues: 'List Values'!$B$5:$B$12

Sheet Table 004-2 (Procedure)
A3: Table 004-2 Environmental Aspect Risk Assessment Procedure
A5: Procedure
A7: What is a Risk Assessment?
A9: A risk assessment involves a thorough look at the way a workplace operates, and considers situations, processes and operational guidance to determine the hazards associated with day to day operations. The objective of risk assessment is to identify the causes and conditions that result in hazards, and identify those activities that are most likely to result in hazards. That information is then used to implement operational controls to minimize or eliminate hazards from the workplace. Before beginning, it is also important to define the scope of the assessment: For the purposes of this risk assessment, we will be examining potential adverse impacts to natural resources and the environment as a result of forest activities within BCTS Business Areas.
A11: What is Risk?
A13: For the purposes of this risk assessment, risk is determined by examining two components: Consequence (Magnitude) and Probability (Likelihood of an incident). Simply put, risk can be calculated in the following way: Consequence X Probability = Risk
A15: The Components of Risk
A17: A. Consequence:
A18: Consequence is the qualitative measure of the scale, severity and duration of impact that an event would have if it were to occur. For example, a small fuel spill at a fuelling station in a dryland sort may have a negligible or unobservable impact to the environment, while a moderate size (>100 litre) spill in a community watershed, sensitive ecosystem or critical habitat will have severe or catastrophic consequences.
A20: How do we determine consequence?
A21: In order to understand the consequences associated with an unfavourable event occurring we examine three aspects of the event (Scale, Severity and Duration) by asking some diagnostic questions:
A23: 1. Scale (How big will it be?)
... A38: Consequence Matrix
A40: Consequence | B40: Magnitude of impact | C40: Description (Scale, severity and/or duration of impact) | D40: Example | E40: Criteria to proceed to next magnitude level
A41: Very Low | B41: Negligible | C41: Not noticeable on a daily basis. Brief or no disruption to environmental processes. No toxic effect on biota or ecosystems | D41: In many cases there are negligible impacts to the environment from active forest operations. However, cumulative effects should be taken into consideration. For example: Soil loss adjacent to a mainline may not be observable on a daily basis, giving the indication that impacts are negligible, but may be contributing to drainage issues along a section of road resulting in a culvert failure into fish habitat. | E41: Noticeable disruption to environmental processes Toxic effects Some duration of impact
A42: Low | B42: Observable | C42: Noticeable after a single event. May cause short term disruptions of environmental processes. Easily remedied. No long term impact to organisms. No impact to human health and safety. No legal implications | D42: Observable impacts may include events such as windthrow. A windthrow event along the windward edge of a recently harvested cutblock may be readily apparent, but may not yield a significant impact to environmental processes. However, the circumstances could be exacerbated if the windthrow generally occurs in sensitive soils, on steep grades or adjacent to riparian areas or wildlife habitat areas etc. | E42: Material adverse effect on ecosystem or biota Human health and safety issues Legal benchmarks exceeded
A43: Moderate | B43: Serious | C43: Reportable events. Potential legal implications. Material adverse effects to resources or biota. Localized human health and safety risks | D43: Serious events have some measurable adverse effect on an ecosystem. For example, an improperly installed culvert on a fish stream can detrimentally affect fish passage and habitat. Although impacts are confined to a single biological unit, the consequences on that ecosystem can be profound if the situation is not remedied. Legal implications may be a factor. | E43: Long term impacts Likely or certain administrative penalties Impacts to SAR, critical habitat etc Ongoing or mobile human health and safety risks
A44: High | B44: Severe | C44: Long term impacts to ecosystems or biota. Legal implications. Loss of environmental process and remediation costs. Impacts to Species at Risk (SAR). Ongoing human health and safety risks. | D44: Severe consequences generally involve a substantial or long term alteration to an ecosystem. For example: Failure to adequately clean debris from an S6 stream post harvest may result in a slope failure into a larger fish bearing water body downslope. Although sedimentation downstream may be limited by low gradient flows within the fish bearing water body, the nature of the habitat may be altered over the long term or even permanently as a result of the event. | E44: Irreversible impacts Impacts not limited in scale, severity or duration by external factors Material adverse effects on SAR, critical habitat Remediation extensive, insufficient or impossible Mobile, injurious or large scale human health and safety risks
A45: Very High | B45: Catastrophic | C45: Large scale impact to ecosystems. Large areas, multiple ecosystems or large numbers of organisms affected. Long term and/or irreversible adverse effects to ecosystems, SAR, protected areas etc. Remediation required or not possible. Uncontrolled or large scale human health and safety issues | D45: Catastrophic events typically occur on a large scale (multi hectare or multi ecosystem) but may also include small scale events that profoundly impact human health and safety, sensitive ecosystems or species at risk. For example: A barge containing waste oil and fuel overturning adjacent to a nesting and rearing area for red listed seabirds.
A47: B. Probability:
A48: For the purposes of this risk matrix, probability refers to a subjective estimate of the frequency with which an event with some level of consequence will occur. Probability in this case is not a measure of how often and activity is being undertaken, but rather consideration of how often an event of some consequence is occurring while undertaking that activity. For example: We drive our car everyday, but we may have only had one car accident in the last ten years. In this case the probability of us driving our car today is high, but the probability of being in an accident, based on our past performance, is very low. Or, more technically speaking: Our exposure hours are high, but our incident occurrence probability is very low. For the purposes of this risk assessment, it is the incident occurrence probability that we are measuring, not the exposure.
A50: How do we Determine Probability?
A51: Ordinarily, probability would be determined by performance statistics. For instance, for our area, we may know that we have had 1 reportable size spill each year for the past 3 years, giving us a frequency of approximately 1 reportable spill per year. That can be compared with the values in the table to determine a probability rating. Where we are unsure of the frequency of an event, we can estimate probability by asking some diagnostic questions:
A53: ► How often is the activity undertaken (what is our exposure)?
A54: ► How often do events of consequence occur while undertaking the activity (What is the frequency of incident)?
A55: ► Does lack of experience play a role in the probability of incidents occurring for tasks that outside of normal daily operations (Low exposure, but high probability of incident)?
A56: ► Is the probability of an event occurring influenced by other external factors (weather, timber type, slope percentage etc)? For example: If we know that the majority of our development over the next two years will be on slopes greater than 60%, then we can reasonably assume that our risk of slope failures related to harvesting will increase, as opposed to if we are currently harvesting low elevation second growth in relatively flat areas.
A57: ► Is it possible that an event is occurring in the licence area without being observed or reported? (i.e. Landslides occurring on a tenure may not be identified immediately following the event when they are occurring where there are no active operations)
A59: For the purposes of the matrix below, probability refers to a subjective estimate of the likelihood that an event with some level of consequence will occur. It is important to note that just because an activity occurs on a daily basis, that does not mean that the frequency of occurrence is continuous. For example, an operation may have logging trucks operating continuously, but have only had one reportable spill of fuel from a logging truck in the past year. In this case the likelihood of occurrence (of reportable spills from logging trucks) would rate in the infrequent or rare categories, even though trucks operate continuously.
A61: Probability Matrix
A63: Probability | B63: Likelihood of occurrence | C63: Description | D63: Example
A64: Very Low | B64: Very Rare | C64: >5 years between events | D64: Spill directly into fish habitat
A65: Low | B65: Rare | C65: 1-5 years between events | D65: Spill in riparian area
A66: Moderate | B66: Infrequent | C66: Several times a year | D66: Reportable size spills from equipment or fuel storage areas
A67: High | B67: Routine | C67: Every few months or monthly | D67: Minor hydraulic fluid leaks from heavy equipment
A68: Very High | B68: Continuous | C68: Every few weeks or weekly | D68: Fuel spills adjacent to service vehicles (not reportable size)
A70: How do we determine risk from probability and consequence?
A72: In order to easily calculate risk objectively for each activity, we plot the Probability and Consequence values that we have determined on the vertical and horizontal axes of the risk matrix table. These values then correspond to an Inherent Risk value for that environmental aspect.
A81: What do we perform our risk assessment on?
A83: For ISO certification we are required to assess risk for a variety of aspects of our work that have potential to impact the environment. Using the list of Environmental Aspects, we divide everyday operations into categories and identify all the potential impacts to resource features. Of the impacts listed for a particular aspect, we select a potential event that appears to have the greatest impact (typically in consequence) and perform a risk analysis on that event (probability of it occurring and it's potential consequence). This information is used to determine whether or not an aspect of our work has potential to significantly impact the environment.
A85: Definitions
A86: Environmental Aspect:
A87: Element of the organization's activities that interacts with the environment
A88: Event:
A89: For the purposes of this risk assessment, an 'event' refers to an occurrence that happens as a result of normal activities that yields a result that is outside of standard or expected conditions. Where this result causes harm to resources or environmental processes, an event is considered to have an adverse impact on the environment.
A90: Generally Applicable Example:
A91: In the Risk Assessment Matrix, the column 'Generally Applicable Example' refers to a example of a key significant impact that could arise as a result of a particular aspect. The examples provided may not be relevant to all business areas and can be adjusted to reflect local conditions. They are provided to offer direction to the types of severe impacts one may expect related to a particular aspect when determining probability and consequence.
A93: What is a "Significant Environmental Aspect"?
... A99: Typically human health and safety is managed as part of a company's Occupational Health and Safety Program, and is not directly related to environmental risk assessment. However, where resources or environmental processes have been impacted severely enough, or in such a way that they jeopardize human health and safety, these circumstances can be a good indication of the scale and severity of an environmental impact. In other words: In order for Impacts to human health and safety impacts to be considered as part of an environmental risk assessment, they must be the direct result of an impact to the environment (i.e. a spill in a community watershed).

Sheet Table 004-3 (Evaluation Form)
A1: TABLE 004-3 ENVIRONMENTAL ASPECT EVALUATION FORM
A2: (Aspects List and Evaluation Matrix)
C3: Business Area:
C4: Date Approved:
C5: TSM Approval Signature:
A7: Definitions: Environmental Aspect: Element of the organization's activities that interacts with the environment Potential Environmental Impacts: Refer to all potential resources that could be impacted as a result of an aspect. In order for an impact to be applicable to a particular aspect, one or more of the following must be demonstrated: direct cause and effect relationship, material adverse effect, environmental concern of interested parties, or excess of legal thresholds Generally Applicable Example: An example of a significant impact that gives context to the discussion for the risk ranking process. This example represents the greatest risk (Typically in consequence) of the impacts listed for a particular aspect Impacts rationalization: Description of the scale severity and/or duration of impact that may occur to a resource category as a result of an aspect Probability: The likelihood that an event of a particular magnitude will occur during normal operations (Note: Choose probability values from drop-down box at bottom of cell) Consequence: The qualitative magnitude of impact that an event would have on the environment if it were to occur. (Note: Choose consequence values from drop-down box at bottom of cell) Inherent Risk: The risk value determined by measuring the probability and magnitude values of a event against the Risk Matrix table (Note: Value calculated automatically) Significant Aspect: An aspect with an Inherent Risk rating of Moderate or higher. These aspects have or can have a significant environmental impact (Note: Yes/no calculated automatically) Provincial Operational Controls: Operational controls maintained provincially and implemented as applicable in Business Areas. Where an aspect is determined to be significant, operational controls should be included in this column to ensure that preventive measures are in place (Note: Provincial controls only. Do not modify) Local Operational Controls: operational controls maintained at the Business Area level. Where a significant aspect has controls in place that are specific to a business area, they should be listed to ensure preventive measures are adequate to local conditions (Note: Entered by Business Area)
A9: Significant Aspect (Y/N) | B9: Functional Area | C9: Environmental Aspect | D9: Potential Environmental Impacts | E9: Impacts Rationalization (assessment of each impact as it relates to the environmental aspect) | F9: Generally Applicable Example | G9: Probability | H9: Consequence | I9: Inherent Risk | J9: Significant Aspect (Y/N) | K9: Provincial Operational Controls | L9: Local Operational Controls
A10: =IF($J$10="Yes", "Yes",IF($J$10="No","No","")) | B10: ALL | C10: Fuel Handling (refueling, servicing, storage, transport) | D10: Adverse effect to: Adjacent tenures Air quality Biodiversity Cultural heritage resources Fish & fish habitat (not including SAR) Marine sensitive zones Natural surface drainage patterns and non-fish streams Resource features Riparian areas Social values (visual, recreation, noise etc) Soils Species at Risk (SAR) Terrestrial vegetation / ecosystems Timber Supply (Includes wildfire hazard) Water quality in a CW & domestic water intakes Wildlife (including wildlife habitat features, not SAR) | E10: Adjacent tenures: Fuel handling generally occurs within the harvest area or permitted area, therefore there is not considered to be a direct impact to adjacent tenures/private land Air quality: N/A Biodiversity: Impacts may result from large scale events or when directly exposed to wildlife, sensitive or critical habitat Cultural heritage resources: N/A Fish & fish habitat (not including SAR): Hydrocarbon spills into water can adversely impact fish stream habitat, riparian areas and fish populations Marine sensitive zones: Hydrocarbon spills adjacent to marine areas can adversely impact fish and terrestrial wildlife values, marine biota and other habitat features Natural surface drainage patterns and non-fish streams: N/A Resource features: May adversely impact resource features such as lakeshore management zones Riparian areas: Adverse impacts to riparian vegetation and ecosystem productivity Social values: (visual, recreation, noise etc): Spills may result in indirect adverse effects on social values as a result of other impacts Soils: Loss of soil productivity, removal of contaminated soils Species at Risk (SAR): Localized impact on water sources and/or SAR habitat Terrestrial vegetation / ecosystems: Loss of terrestrial vegetation, ecosystem functionality and productivity Timber Supply (Includes wildfire hazard): No significant impacts to timber supply anticipated as a direct result of spills Water quality in a CW & domestic water intakes: Adverse affects to water quality, human health and safety concerns Wildlife (including wildlife habitat features, not SAR): Damage to ecosystems, habitat features, toxic effects on wildlife | F10: Reportable spill into domestic water source, freshwater or marine, critical habitat or SAR | I10: =IF(AND(G10="Very Low",H10="Very Low"),Formula!$D$6,IF(AND(G10="Very Low",H10="Low"),Formula!$E$6,IF(AND(G10="Very Low",H10="Moderate"),Formula!$F$6,IF(AND(G10="Very Low",H10="High"),Formula!$G$6,IF(AND(G10="Very Low",H10="Very High"),Formula!$H$6,IF(AND(G10="Low",H10="Very Low"),Formula!$D$7,IF(AND(G10="Low",H10="Low"),Formula!$E$7,IF(AND(G10="Low",H10="Moderate"),Formula!$F$7,IF(AND(G10="Low",H10="High"),Formula!$G$7,IF(AND(G10="Low",H10="Very High"),Formula!$H$7,IF(AND(G10="Moderate",H10="Very Low"),Formula!$D$8,IF(AND(G10="Moderate",H10="Low"),Formula!$E$8,IF(AND(G10="Moderate",H10="Moderate"),Formula!$F$8,IF(AND(G10="Moderate",H10="High"),Formula!$G$8,IF(AND(G10="Moderate",H10="Very High"),Formula!$H$8,IF(AND(G10="High",H10="Very Low"),Formula!$D$9,IF(AND(G10="High",H10="Low"),Formula!$E$9,IF(AND(G10="High",H10="Moderate"),Formula!$F$9,IF(AND(G10="High",H10="High"),Formula!$G$9,IF(AND(G10="High",H10="Very High"),Formula!$H$9,IF(AND(G10="Very High",H10="Very Low"),Formula!$D$10,IF(AND(G10="Very High",H10="Low"),Formula!$E$10,IF(AND(G10="Very High",H10="Moderate"),Formula!$F$10,IF(AND(G10="Very High",H10="High"),Formula!$G$10,IF(AND(G10="Very High",H10="Very High"),Formula!$H$10,""))))))))))))))))))))))))) | J10: =IF(OR(I10="M",I10="H",I10="VH"),"Yes",IF(OR(I10="L",I10="VL"),"No","")) | K10: Environmental Operating Procedures (EOPs), Environmental Field Procedures (EFPs), Environmental Emergency Response Plans (eRPs) and BCTS Checklist Reports & Forms (e.g. Risk Rating, Incident Report, Test/Drill Report Forms)
A11: =IF($J$11="Yes", "Yes",IF($J$11="No","No","")) | B11: ALL | C11: Fire hazard management (Equipment operation, vehicles, fuelling, etc.) | D11: Adverse effect to: Adjacent tenures Air quality Biodiversity Cultural heritage resources Fish & fish habitat (not including SAR) Marine sensitive zones Natural surface drainage patterns and non-fish streams Resource features Riparian areas Social values (visual, recreation, noise etc) Soils Species at Risk (SAR) Terrestrial vegetation / ecosystems Timber Supply (Includes wildfire hazard) Water quality in a CW & domestic water intakes Wildlife (including wildlife habitat features, not SAR) | E11: Adjacent tenures: Significant potential impacts to adjacent tenures, including: Timber value, protected areas, SAR, fisheries, wildlife etc. Air quality: Large scale adverse impacts to air quality over the short term Biodiversity: Adverse impacts to biodiversity at a landscape level Cultural heritage resources: May be permanently altered or destroyed Fish & fish habitat (not including SAR): Large scale potential impacts to riparian vegetation, water quality, etc Marine sensitive zones: Impacts to intertidal and upland ecosystems Natural surface drainage patterns and non-fish streams: Drainage patterns permanently altered Resource features: May have a material adverse effect on visual quality / scenic areas Riparian areas: Loss of riparian timber and vegetation Social values (visual, recreation, noise etc): Impacts to recreation features, viewpoints, etc. Soils: Loss of soil productivity, Erosion due to increased runoff, absence of vegetation Species at Risk (SAR): Short and long term destruction to SAR habitat Terrestrial vegetation / ecosystems: Long term alteration of vegetation and ecosystems from fire or fire suppression activities Timber Supply (Includes wildfire hazard): Significant adverse impacts to timber supply Water quality in a CW & domestic water intakes: Adverse affects to water quality, damage to infrastructure Wildlife (including wildlife habitat features, not SAR): Destruction of wildlife, habitat features from fire or fire suppression activities | F11: Uncontrolled wildfire / Interface fire | I11: =IF(AND(G11="Very Low",H11="Very Low"),Formula!$D$6,IF(AND(G11="Very Low",H11="Low"),Formula!$E$6,IF(AND(G11="Very Low",H11="Moderate"),Formula!$F$6,IF(AND(G11="Very Low",H11="High"),Formula!$G$6,IF(AND(G11="Very Low",H11="Very High"),Formula!$H$6,IF(AND(G11="Low",H11="Very Low"),Formula!$D$7,IF(AND(G11="Low",H11="Low"),Formula!$E$7,IF(AND(G11="Low",H11="Moderate"),Formula!$F$7,IF(AND(G11="Low",H11="High"),Formula!$G$7,IF(AND(G11="Low",H11="Very High"),Formula!$H$7,IF(AND(G11="Moderate",H11="Very Low"),Formula!$D$8,IF(AND(G11="Moderate",H11="Low"),Formula!$E$8,IF(AND(G11="Moderate",H11="Moderate"),Formula!$F$8,IF(AND(G11="Moderate",H11="High"),Formula!$G$8,IF(AND(G11="Moderate",H11="Very High"),Formula!$H$8,IF(AND(G11="High",H11="Very Low"),Formula!$D$9,IF(AND(G11="High",H11="Low"),Formula!$E$9,IF(AND(G11="High",H11="Moderate"),Formula!$F$9,IF(AND(G11="High",H11="High"),Formula!$G$9,IF(AND(G11="High",H11="Very High"),Formula!$H$9,IF(AND(G11="Very High",H11="Very Low"),Formula!$D$10,IF(AND(G11="Very High",H11="Low"),Formula!$E$10,IF(AND(G11="Very High",H11="Moderate"),Formula!$F$10,IF(AND(G11="Very High",H11="High"),Formula!$G$10,IF(AND(G11="Very High",H11="Very High"),Formula!$H$10,""))))))))))))))))))))))))) | J11: =IF(OR(I11="M",I11="H",I11="VH"),"Yes",IF(OR(I11="L",I11="VL"),"No","")) | K11: Environmental Operating Procedures (EOPs), Environmental Field Procedures (EFPs), Environmental Emergency Response Plans (eRPs) and BCTS Checklist Reports & Forms (e.g. Risk Rating, Incident Report, Test/Drill Report Forms)
A12: =IF($J$12="Yes", "Yes",IF($J$12="No","No","")) | B12: HARVESTING ROADS & SILVICULTURE | C12: Construction/rehabilitation of trails within harvest areas (Backspar and hoe forwarding, etc.) | D12: Adverse effect to: Adjacent tenures Air quality Biodiversity Cultural heritage resources Fish & fish habitat (not including SAR) Marine sensitive zones Natural surface drainage patterns and non-fish streams Resource features Riparian areas Social values (visual, recreation, noise etc) Soils Species at Risk (SAR) Terrestrial vegetation / ecosystems Timber Supply (Includes wildfire hazard) Water quality in a CW & domestic water intakes Wildlife (including wildlife habitat features, not SAR) | E12: Adjacent tenures: Trail construction is limited to within the harvest area or permitted area, therefore there is not considered to be a direct impact to adjacent tenures/private land Air quality: N/A Biodiversity: May have a localized impact on stand level features Cultural heritage resources: Localized damage to cultural heritage features may occur where not identified pre-harvest Fish & fish habitat (not including SAR): Potential sedimentation into fish habitat. Impacts to fish habitat from trails are generally mitigated during planning processes Marine sensitive zones: Impacts to marine ecosystems from trails are generally mitigated during planning processes Natural surface drainage patterns and non-fish streams: May result in localized drainage pattern disruptions where operational plans are insufficient / not adhered to Resource features: Localized potential impacts to Karst or other resource features Riparian areas: Potential small scale impact to understory vegetation and timber where operational plans not adhered to Social values (visual, recreation, noise etc): No direct adverse impact to social values Soils: May result in localized erosion, soil loss, compaction and loss of productivity. These effects can be mitigated by effective planning and remediation programs Species at Risk (SAR): Impacts to ground nesting bird habitat and potential sedimentation into downstream fish habitat Terrestrial vegetation / ecosystems: Localized, temporary adverse effects to terrestrial vegetation, ecosystem functionality and productivity Timber Supply (Includes wildfire hazard): No significant impacts to timber supply anticipated as a direct result of trail construction Water quality in a CW & domestic water intakes: Localized sediment delivery, potential spills. Impacts to domestic water generally mitigated during planning processes Wildlife (including wildlife habitat features, not SAR): Small scale potential damage to ecosystems, habitat features and other wildlife. | F12: Inadequate operational planning / practices leading to localized impacts to resource values (Soils, riparian areas, fish, wildlife, ecosystems) | I12: =IF(AND(G12="Very Low",H12="Very Low"),Formula!$D$6,IF(AND(G12="Very Low",H12="Low"),Formula!$E$6,IF(AND(G12="Very Low",H12="Moderate"),Formula!$F$6,IF(AND(G12="Very Low",H12="High"),Formula!$G$6,IF(AND(G12="Very Low",H12="Very High"),Formula!$H$6,IF(AND(G12="Low",H12="Very Low"),Formula!$D$7,IF(AND(G12="Low",H12="Low"),Formula!$E$7,IF(AND(G12="Low",H12="Moderate"),Formula!$F$7,IF(AND(G12="Low",H12="High"),Formula!$G$7,IF(AND(G12="Low",H12="Very High"),Formula!$H$7,IF(AND(G12="Moderate",H12="Very Low"),Formula!$D$8,IF(AND(G12="Moderate",H12="Low"),Formula!$E$8,IF(AND(G12="Moderate",H12="Moderate"),Formula!$F$8,IF(AND(G12="Moderate",H12="High"),Formula!$G$8,IF(AND(G12="Moderate",H12="Very High"),Formula!$H$8,IF(AND(G12="High",H12="Very Low"),Formula!$D$9,IF(AND(G12="High",H12="Low"),Formula!$E$9,IF(AND(G12="High",H12="Moderate"),Formula!$F$9,IF(AND(G12="High",H12="High"),Formula!$G$9,IF(AND(G12="High",H12="Very High"),Formula!$H$9,IF(AND(G12="Very High",H12="Very Low"),Formula!$D$10,IF(AND(G12="Very High",H12="Low"),Formula!$E$10,IF(AND(G12="Very High",H12="Moderate"),Formula!$F$10,IF(AND(G12="Very High",H12="High"),Formula!$G$10,IF(AND(G12="Very High",H12="Very High"),Formula!$H$10,""))))))))))))))))))))))))) | J12: =IF(OR(I12="M",I12="H",I12="VH"),"Yes",IF(OR(I12="L",I12="VL"),"No","")) | K12: Environmental Operating Procedures (EOPs), Environmental Field Procedures (EFPs), Environmental Emergency Response Plans (eRPs) and BCTS Checklist Reports & Forms (e.g. Risk Rating, Incident Report, Test/Drill Report Forms)
A13: =IF($J$13="Yes", "Yes",IF($J$13="No","No","")) | B13: HARVESTING & ROADS | C13: Hand Falling & Bucking (Note: mechanical falling is considered a ground based operation) | D13: Adverse effect to: Adjacent tenures Air quality Biodiversity Cultural heritage resources Fish & fish habitat (not including SAR) Marine sensitive zones Natural surface drainage patterns and non-fish streams Resource features Riparian areas Social values (visual, recreation, noise etc) Soils Species at Risk (SAR) Terrestrial vegetation / ecosystems Timber Supply (Includes wildfire hazard) Water quality in a CW & domestic water intakes Wildlife (including wildlife habitat features, not SAR) | E13: Adjacent tenures: Trespasses could result in a direct material adverse effect on adjacent tenures Biodiversity: May have a localized impact on stand level features Cultural heritage resources: Cultural heritage features could be altered or destroyed by harvesting activities if features are not clearly indicated in operational plans / assessments, or if felled timber causes damage to adjacent features Fish & fish habitat (not including SAR): Potential introduction of sediment and woody debris to fish habitat. Marine sensitive zones: Potential damage to upland ecosystems as a result of timber removal. Increased windthrow hazard potential in high wind areas. Natural surface drainage patterns and non-fish streams: May result in localized drainage pattern disruptions where operational plans are insufficient / not adhered to (i.e. woody debris introduction to streams) Resource features: Small scale and or temporary impacts to resource features (i.e. introduction of debris to Karst features) Riparian areas: Trespasses in riparian areas can have localized, short to medium term adverse effects on riparian ecosystems, and affect retention requirements Social values (visual, recreation, noise etc): Falling trespasses can adversely affect recreation areas, viewscapes Soils: Any erosion or landslide event that could occur may be attributed to the planning function if an assessment during site planning was not conducted or not conducted adequately, rather than the falling function; compaction is not considered possible because no heavy machinery is used Species at Risk (SAR): Potential damage to tree nesting species and introduction of wood debris into fish habitat Terrestrial vegetation / ecosystems: Localized, temporary adverse effects to terrestrial vegetation, ecosystem functionality and productivity. Trespasses could impact protected ecosystems Timber Supply (Includes wildfire hazard): Potential localized impact on timber supply should timber become isolated or wasted as a result of inadequate operational planning Water quality in a CW & domestic water intakes: Possible slope failures if operational plans inadequate or not adhered to, localized sediment delivery, potential small spills. Impacts to domestic water generally mitigated during planning processes Wildlife (including wildlife habitat features, not SAR): Small scale potential damage to ecosystems, habitat features, and other wildlife (nesting areas and other habitat features potentially destroyed) | F13: Trespass that impacts a sensitive resource or protected area (i.e.. CMT, goshawk nest) | I13: =IF(AND(G13="Very Low",H13="Very Low"),Formula!$D$6,IF(AND(G13="Very Low",H13="Low"),Formula!$E$6,IF(AND(G13="Very Low",H13="Moderate"),Formula!$F$6,IF(AND(G13="Very Low",H13="High"),Formula!$G$6,IF(AND(G13="Very Low",H13="Very High"),Formula!$H$6,IF(AND(G13="Low",H13="Very Low"),Formula!$D$7,IF(AND(G13="Low",H13="Low"),Formula!$E$7,IF(AND(G13="Low",H13="Moderate"),Formula!$F$7,IF(AND(G13="Low",H13="High"),Formula!$G$7,IF(AND(G13="Low",H13="Very High"),Formula!$H$7,IF(AND(G13="Moderate",H13="Very Low"),Formula!$D$8,IF(AND(G13="Moderate",H13="Low"),Formula!$E$8,IF(AND(G13="Moderate",H13="Moderate"),Formula!$F$8,IF(AND(G13="Moderate",H13="High"),Formula!$G$8,IF(AND(G13="Moderate",H13="Very High"),Formula!$H$8,IF(AND(G13="High",H13="Very Low"),Formula!$D$9,IF(AND(G13="High",H13="Low"),Formula!$E$9,IF(AND(G13="High",H13="Moderate"),Formula!$F$9,IF(AND(G13="High",H13="High"),Formula!$G$9,IF(AND(G13="High",H13="Very High"),Formula!$H$9,IF(AND(G13="Very High",H13="Very Low"),Formula!$D$10,IF(AND(G13="Very High",H13="Low"),Formula!$E$10,IF(AND(G13="Very High",H13="Moderate"),Formula!$F$10,IF(AND(G13="Very High",H13="High"),Formula!$G$10,IF(AND(G13="Very High",H13="Very High"),Formula!$H$10,""))))))))))))))))))))))))) | J13: =IF(OR(I13="M",I13="H",I13="VH"),"Yes",IF(OR(I13="L",I13="VL"),"No","")) | K13: Environmental Operating Procedures (EOPs), Environmental Field Procedures (EFPs), Environmental Emergency Response Plans (eRPs) and BCTS Checklist Reports & Forms (e.g. Risk Rating, Incident Report, Test/Drill Report Forms)
A14: =IF($J$14="Yes", "Yes",IF($J$14="No","No","")) | B14: HARVESTING & ROADS | C14: Loading & Hauling | D14: Adverse effect to: Adjacent tenures Air quality Biodiversity Cultural heritage resources Fish & fish habitat (including SAR) Marine sensitive zones Natural surface drainage patterns and non-fish streams Resource features Riparian areas Social values (visual, recreation, noise etc) Soils Species at Risk (SAR) Terrestrial vegetation / ecosystems Timber Supply (Includes wildfire hazard) Water quality in a CW & domestic water intakes Wildlife (including SAR & wildlife habitat features) | E14: Adjacent tenures: Loading and hauling activities are limited to within the harvest area or permitted area and forest roads, therefore there is not considered to be a direct impact to adjacent tenures/private land Air quality: Dust on active haul roads, small to moderate scale of impact depending on amount of traffic Biodiversity: May have a localized impact on stand level features Cultural heritage resources: No impacts to cultural heritage features are anticipated as a result of loading and hauling activities. These features are more likely to be impacted by earlier aspects of harvesting Fish & fish habitat (not including SAR): Potential sedimentation into fish habitat from disturbed soils, roadside ditches etc. Localized impacts. Compaction and other forms of habitat degradation adjacent to areas of significant vehicle activity Marine sensitive zones: Marine facilities are covered under the Marine Log Handling Facilities aspect, and are not considered as part of this aspect. Hauling can result in sedimentation to foreshore areas where drainage structures are not functioning properly Natural surface drainage patterns and non-fish streams: May result in localized drainage pattern disruptions where operational plans are insufficient / not adhered to Resource Features: No impacts to resource features are anticipated as a direct result of loading and hauling Riparian areas: Loading and hauling may contribute sedimentation to riparian areas from frequent vehicle activity Social values (visual, recreation, noise etc): Loading and hauling may cause issues relating to frequent vehicle traffic, noise, and lights (if operating at night) Soils: May result in localized erosion, soil loss, compaction and loss of productivity adjacent to roads. Species at Risk (SAR): Disturbance to breeding SAR wildlife, their habitiat and potential sedimentation into fish habitat Terrestrial vegetation / ecosystems: localized, temporary adverse effects to terrestrial vegetation, ecosystem functionality and productivity Timber Supply (Includes wildfire hazard): No significant impacts to timber supply anticipated as a direct result of loading or hauling Water quality in a CW & domestic water intakes: Localized sediment delivery, potential spills. Wildlife (including wildlife habitat features, not SAR): Small scale potential damage to ecosystems, habitat features, and other wildlife, noise disturbance | F14: Vehicle incident in or adjacent to sensitive habitat features or waterways (spills, introduction of foreign materials, debris) | I14: =IF(AND(G14="Very Low",H14="Very Low"),Formula!$D$6,IF(AND(G14="Very Low",H14="Low"),Formula!$E$6,IF(AND(G14="Very Low",H14="Moderate"),Formula!$F$6,IF(AND(G14="Very Low",H14="High"),Formula!$G$6,IF(AND(G14="Very Low",H14="Very High"),Formula!$H$6,IF(AND(G14="Low",H14="Very Low"),Formula!$D$7,IF(AND(G14="Low",H14="Low"),Formula!$E$7,IF(AND(G14="Low",H14="Moderate"),Formula!$F$7,IF(AND(G14="Low",H14="High"),Formula!$G$7,IF(AND(G14="Low",H14="Very High"),Formula!$H$7,IF(AND(G14="Moderate",H14="Very Low"),Formula!$D$8,IF(AND(G14="Moderate",H14="Low"),Formula!$E$8,IF(AND(G14="Moderate",H14="Moderate"),Formula!$F$8,IF(AND(G14="Moderate",H14="High"),Formula!$G$8,IF(AND(G14="Moderate",H14="Very High"),Formula!$H$8,IF(AND(G14="High",H14="Very Low"),Formula!$D$9,IF(AND(G14="High",H14="Low"),Formula!$E$9,IF(AND(G14="High",H14="Moderate"),Formula!$F$9,IF(AND(G14="High",H14="High"),Formula!$G$9,IF(AND(G14="High",H14="Very High"),Formula!$H$9,IF(AND(G14="Very High",H14="Very Low"),Formula!$D$10,IF(AND(G14="Very High",H14="Low"),Formula!$E$10,IF(AND(G14="Very High",H14="Moderate"),Formula!$F$10,IF(AND(G14="Very High",H14="High"),Formula!$G$10,IF(AND(G14="Very High",H14="Very High"),Formula!$H$10,""))))))))))))))))))))))))) | J14: =IF(OR(I14="M",I14="H",I14="VH"),"Yes",IF(OR(I14="L",I14="VL"),"No","")) | K14: Environmental Operating Procedures (EOPs), Environmental Field Procedures (EFPs), Environmental Emergency Response Plan (eRP) and BCTS Checklist Reports & Forms (e.g. Risk Rating, Incident Report, Test/Drill Report Forms).
A15: =IF($J$15="Yes", "Yes",IF($J$15="No","No","")) | B15: HARVESTING & ROADS | C15: Marine Log Handling Facilities (skidways, booming, heli-drop areas & float camps) | D15: Adverse effect to: Adjacent tenures Air quality Biodiversity Cultural heritage resources Fish & fish habitat (not including SAR) Marine sensitive zones Natural surface drainage patterns and non-fish streams Resource features Riparian areas Social values (visual, recreation, noise etc) Soils Species at Risk (SAR) Terrestrial vegetation / ecosystems Timber Supply (Includes wildfire hazard) Water quality in a CW & domestic water intakes Wildlife (including wildlife habitat features, not SAR) | E15: Adjacent tenures: Foreshore activities are typically the jurisdiction of Fisheries and Oceans Canada or Ministry of Environment, therefore there is not considered to be a direct impact to adjacent tenures/private land Air quality: N/A Biodiversity: Ongoing material adverse impacts to biodiversity within and adjacent to the footprint of foreshore activities. Environmental protection measures may be required Cultural heritage resources: Cultural heritage features are unlikely to be impacted during operation of existing facilities Fish & fish habitat (not including SAR): Ongoing impacts to fish and other marine habitat within and adjacent to the footprint of foreshore activities. Environmental protection measures may be required Marine sensitive zones: Ongoing material adverse impacts to marine sensitive areas where activities improperly located Natural surface drainage patterns and non-fish streams: Surface hardening will result in ongoing drainage management concerns Resource features: Potential ongoing impacts to adjacent features Riparian areas: Ongoing material adverse impacts to riparian vegetation, soils, and marine biota within and directly adjacent to operations Social values (visual, recreation, noise etc): Adverse impacts to viewscape, noise, recreation activity areas (kayaking etc) during operations Soils: May result in ongoing localized erosion, soil loss, compaction and loss of productivity within the within the footprint of activities Species at Risk (SAR): Damage to foreshore habitat (eel grass) and disruption to marine SAR (glass sponge) usually due to poor debris management Terrestrial vegetation / ecosystems: localized, ongoing adverse effects to terrestrial vegetation, ecosystem functionality and productivity Timber Supply (Includes wildfire hazard): No significant impacts to timber supply anticipated as a result of foreshore activities Water quality in a CW & domestic water intakes: Localized sediment delivery, Impacts to domestic water sources unlikely for marine operations, given proximity to salt water Wildlife (including wildlife habitat features, not SAR): Ongoing localized damage / disturbance to ecosystems, wildlife, habitat and other features that are not identified | F15: Ongoing marine habitat disturbance / habitat degradation | I15: =IF(AND(G15="Very Low",H15="Very Low"),Formula!$D$6,IF(AND(G15="Very Low",H15="Low"),Formula!$E$6,IF(AND(G15="Very Low",H15="Moderate"),Formula!$F$6,IF(AND(G15="Very Low",H15="High"),Formula!$G$6,IF(AND(G15="Very Low",H15="Very High"),Formula!$H$6,IF(AND(G15="Low",H15="Very Low"),Formula!$D$7,IF(AND(G15="Low",H15="Low"),Formula!$E$7,IF(AND(G15="Low",H15="Moderate"),Formula!$F$7,IF(AND(G15="Low",H15="High"),Formula!$G$7,IF(AND(G15="Low",H15="Very High"),Formula!$H$7,IF(AND(G15="Moderate",H15="Very Low"),Formula!$D$8,IF(AND(G15="Moderate",H15="Low"),Formula!$E$8,IF(AND(G15="Moderate",H15="Moderate"),Formula!$F$8,IF(AND(G15="Moderate",H15="High"),Formula!$G$8,IF(AND(G15="Moderate",H15="Very High"),Formula!$H$8,IF(AND(G15="High",H15="Very Low"),Formula!$D$9,IF(AND(G15="High",H15="Low"),Formula!$E$9,IF(AND(G15="High",H15="Moderate"),Formula!$F$9,IF(AND(G15="High",H15="High"),Formula!$G$9,IF(AND(G15="High",H15="Very High"),Formula!$H$9,IF(AND(G15="Very High",H15="Very Low"),Formula!$D$10,IF(AND(G15="Very High",H15="Low"),Formula!$E$10,IF(AND(G15="Very High",H15="Moderate"),Formula!$F$10,IF(AND(G15="Very High",H15="High"),Formula!$G$10,IF(AND(G15="Very High",H15="Very High"),Formula!$H$10,""))))))))))))))))))))))))) | J15: =IF(OR(I15="M",I15="H",I15="VH"),"Yes",IF(OR(I15="L",I15="VL"),"No","")) | K15: Environmental Operating Procedures (EOPs), Environmental Field Procedures (EFPs), Environmental Emergency Response Plans (eRPs) and BCTS Checklist Reports & Forms (e.g. Risk Rating, Incident Report, Test/Drill Report Forms)
A16: =IF($J$16="Yes", "Yes",IF($J$16="No","No","")) | B16: HARVESTING, ROADS & SILVICULTURE | C16: Ground Based Operations (mechanical falling, skidding, hoechucking, piling, stumping, waste recovery & dispersal and mechanical site preparation) | D16: Adverse effect to: Adjacent tenures Air quality Biodiversity Cultural heritage resources Fish & fish habitat (not including SAR) Marine sensitive zones Natural surface drainage patterns and non-fish streams Resource features Riparian areas Social values (visual, recreation, noise etc) Soils Species at Risk (SAR) Terrestrial vegetation / ecosystems Timber Supply (Includes wildfire hazard) Water quality in a CW & domestic water intakes Wildlife (including wildlife habitat features, not SAR) | E16: Adjacent tenures: Harvesting is limited to within the harvest area or permitted area, but may adversely affect adjacent tenures where boundaries are improperly located, or not clearly delineated Air quality: N/A Biodiversity: Short to medium term disruptions to biodiversity as a result of harvesting activities Cultural heritage resources: Cultural heritage features could be altered or destroyed by harvesting activities if features are not clearly indicated in operational plans / assessments, or if felled timber causes damage to adjacent features Fish & fish habitat (not including SAR): Potential adverse effects including: sedimentation, debris introduction, increased bed load movement Marine sensitive zones: Potential adverse effects including: sedimentation, debris introduction, increased deposition Natural surface drainage patterns and non-fish streams: May result in localized drainage pattern disruptions where operational plans are insufficient / not adhered to Resource features: Localized impacts to resource features such as Karst / trails etc Riparian areas: Localized, adverse impacts to riparian vegetation can occur where operational plans are insufficient or not adhered to Social values (visual, recreation, noise etc): Harvesting may result in impacts to viewscape , as well as noise pollution where occurring adjacent to populated areas Soils: Temporary, localized erosion, soil loss, compaction and loss of productivity Species at Risk (SAR): Potential damage to site specific SAR habitat (nests, dens), sedimentation & introduction of debris into fish habitat Terrestrial vegetation / ecosystems: Localized, temporary adverse effects to terrestrial vegetation, ecosystem functionality and productivity Timber Supply (Includes wildfire hazard): Harvesting impacts timber supply, but sustainability of harvest is managed as part of the planning process Water quality in a CW & domestic water intakes: Localized sediment delivery, potential spills and debris introduction Wildlife (including wildlife habitat features, not SAR): Stand level (within the harvest area) damage to ecosystems, habitat features and other wildlife may occur where features are not identified | F16: Site level disturbance to sensitive ecosystems, CMTs or SAR | I16: =IF(AND(G16="Very Low",H16="Very Low"),Formula!$D$6,IF(AND(G16="Very Low",H16="Low"),Formula!$E$6,IF(AND(G16="Very Low",H16="Moderate"),Formula!$F$6,IF(AND(G16="Very Low",H16="High"),Formula!$G$6,IF(AND(G16="Very Low",H16="Very High"),Formula!$H$6,IF(AND(G16="Low",H16="Very Low"),Formula!$D$7,IF(AND(G16="Low",H16="Low"),Formula!$E$7,IF(AND(G16="Low",H16="Moderate"),Formula!$F$7,IF(AND(G16="Low",H16="High"),Formula!$G$7,IF(AND(G16="Low",H16="Very High"),Formula!$H$7,IF(AND(G16="Moderate",H16="Very Low"),Formula!$D$8,IF(AND(G16="Moderate",H16="Low"),Formula!$E$8,IF(AND(G16="Moderate",H16="Moderate"),Formula!$F$8,IF(AND(G16="Moderate",H16="High"),Formula!$G$8,IF(AND(G16="Moderate",H16="Very High"),Formula!$H$8,IF(AND(G16="High",H16="Very Low"),Formula!$D$9,IF(AND(G16="High",H16="Low"),Formula!$E$9,IF(AND(G16="High",H16="Moderate"),Formula!$F$9,IF(AND(G16="High",H16="High"),Formula!$G$9,IF(AND(G16="High",H16="Very High"),Formula!$H$9,IF(AND(G16="Very High",H16="Very Low"),Formula!$D$10,IF(AND(G16="Very High",H16="Low"),Formula!$E$10,IF(AND(G16="Very High",H16="Moderate"),Formula!$F$10,IF(AND(G16="Very High",H16="High"),Formula!$G$10,IF(AND(G16="Very High",H16="Very High"),Formula!$H$10,""))))))))))))))))))))))))) | J16: =IF(OR(I16="M",I16="H",I16="VH"),"Yes",IF(OR(I16="L",I16="VL"),"No","")) | K16: Environmental Operating Procedures (EOPs), Environmental Field Procedures (EFPs), Environmental Emergency Response Plans (eRPs) and BCTS Checklist Reports & Forms (e.g. Risk Rating, Incident Report, Test/Drill Report Forms)
A17: =IF($J$17="Yes", "Yes",IF($J$17="No","No","")) | B17: HARVESTING | C17: Cable Yarding | D17: Adverse effect to: Adjacent tenures Air quality Biodiversity Cultural heritage resources Fish & fish habitat (not including SAR) Marine sensitive zones Natural surface drainage patterns and non-fish streams Resource features Riparian areas Social values (visual, recreation, noise etc) Soils Species at Risk (SAR) Terrestrial vegetation / ecosystems Timber Supply (Includes wildfire hazard) Water quality in a CW & domestic water intakes Wildlife (including wildlife habitat features, not SAR) | E17: Adjacent tenures: Harvesting is limited to within the harvest area or permitted area, but may adversely affect adjacent tenures where boundaries are improperly located, or not clearly delineated Air quality: N/A Biodiversity: Short to medium term disruptions to biodiversity as a result of yarding activities Cultural heritage resources: Cultural heritage features could be altered or destroyed by harvesting activities if features are not clearly indicated in operational plans / assessments, or if yarded timber causes damage to adjacent features Fish & fish habitat (not including SAR): Potential adverse effects including: sedimentation, debris introduction, increased bed load movement Marine sensitive zones: Potential adverse effects including: sedimentation, debris introduction, increased deposition into marine areas Natural surface drainage patterns and non-fish streams: May result in localized drainage pattern disruptions where operational plans are insufficient / not adhered to Resource features: Localized impacts to Karst / trails etc Riparian areas: Localized, adverse impacts to riparian vegetation can occur where operational plans are insufficient or not adhered to Social values (visual, recreation, noise etc): Harvesting may result in impacts to viewscape , as well as noise pollution where occurring adjacent to populated areas/ recreation features Soils: Temporary, localized erosion, soil loss, compaction and loss of productivity Species at Risk (SAR): Stand level damage to SAR wildlife, their habitat plus sedimentation and debris introduction into fish habitat Terrestrial vegetation / ecosystems: Localized, temporary adverse effects to terrestrial vegetation, ecosystem functionality and productivity Timber Supply (Includes wildfire hazard): Harvesting impacts timber supply, but sustainability of harvest is managed as part of the planning process Water quality in a CW & domestic water intakes: Localized sediment delivery, and debris introduction Wildlife (including wildlife habitat features, not SAR): Stand level (within the harvest area) damage to ecosystems, habitat features, and other wildlife may occur where features are not identified | F17: Site level disturbance contributing to larger scale event (soil destabilization resulting in landslide) | I17: =IF(AND(G17="Very Low",H17="Very Low"),Formula!$D$6,IF(AND(G17="Very Low",H17="Low"),Formula!$E$6,IF(AND(G17="Very Low",H17="Moderate"),Formula!$F$6,IF(AND(G17="Very Low",H17="High"),Formula!$G$6,IF(AND(G17="Very Low",H17="Very High"),Formula!$H$6,IF(AND(G17="Low",H17="Very Low"),Formula!$D$7,IF(AND(G17="Low",H17="Low"),Formula!$E$7,IF(AND(G17="Low",H17="Moderate"),Formula!$F$7,IF(AND(G17="Low",H17="High"),Formula!$G$7,IF(AND(G17="Low",H17="Very High"),Formula!$H$7,IF(AND(G17="Moderate",H17="Very Low"),Formula!$D$8,IF(AND(G17="Moderate",H17="Low"),Formula!$E$8,IF(AND(G17="Moderate",H17="Moderate"),Formula!$F$8,IF(AND(G17="Moderate",H17="High"),Formula!$G$8,IF(AND(G17="Moderate",H17="Very High"),Formula!$H$8,IF(AND(G17="High",H17="Very Low"),Formula!$D$9,IF(AND(G17="High",H17="Low"),Formula!$E$9,IF(AND(G17="High",H17="Moderate"),Formula!$F$9,IF(AND(G17="High",H17="High"),Formula!$G$9,IF(AND(G17="High",H17="Very High"),Formula!$H$9,IF(AND(G17="Very High",H17="Very Low"),Formula!$D$10,IF(AND(G17="Very High",H17="Low"),Formula!$E$10,IF(AND(G17="Very High",H17="Moderate"),Formula!$F$10,IF(AND(G17="Very High",H17="High"),Formula!$G$10,IF(AND(G17="Very High",H17="Very High"),Formula!$H$10,""))))))))))))))))))))))))) | J17: =IF(OR(I17="M",I17="H",I17="VH"),"Yes",IF(OR(I17="L",I17="VL"),"No","")) | K17: Environmental Operating Procedures (EOPs), Environmental Field Procedures (EFPs), Environmental Emergency Response Plans (eRPs) and BCTS Checklist Reports & Forms (e.g. Risk Rating, Incident Report, Test/Drill Report Forms)
A18: =IF($J$18="Yes", "Yes",IF($J$18="No","No","")) | B18: HARVESTING | C18: Processing (chipping, grinding, delimbing) | D18: Adverse effect to: Adjacent tenures Air quality Biodiversity Cultural heritage resources Fish & fish habitat (not including SAR) Marine sensitive zones Natural surface drainage patterns and non-fish streams Resource features Riparian areas Social values (visual, recreation, noise etc) Soils Species at Risk (SAR) Terrestrial vegetation / ecosystems Timber Supply (Includes wildfire hazard) Water quality in a CW & domestic water intakes Wildlife (including wildlife habitat features, not SAR) | E18: Adjacent tenures: Processing activities are limited to within the harvest area, permitted area, forest roads and log sorts, therefore there is not considered to be a direct impact to adjacent tenures/private land Air quality: Localized temporary impacts to air quality from dust and chips Biodiversity: Where woody debris is accumulating or being removed, there may be localized impacts to biodiversity Cultural heritage resources: N/A Fish & fish habitat (not including SAR): Where improperly located, processing may result in debris introduction to fish habitat Marine sensitive zones: Potential localized debris introduction to marine areas Natural surface drainage patterns and non-fish streams: N/A Resource features: Potential debris introduction to Karst / sensitive habitats etc Riparian areas: Potential localized debris accumulation or coarse woody debris removal from riparian areas Social values (visual, recreation, noise etc): Noise pollution where occurring adjacent to populated areas/ recreation features Soils: Temporary loss of productivity in places of debris accumulation Species at Risk (SAR): N/A Terrestrial vegetation / ecosystems: Localized, temporary adverse effects to terrestrial vegetation in places of debris accumulation Timber Supply (Includes wildfire hazard): N/A Water quality in a CW & domestic water intakes: Localized debris accumulations in and adjacent to water courses where operational plans not adhered to Wildlife (including wildlife habitat features, not SAR): N/A | F18: Site level disturbance to soil, habitat or resource features/productivity loss due to debris accumulations | I18: =IF(AND(G18="Very Low",H18="Very Low"),Formula!$D$6,IF(AND(G18="Very Low",H18="Low"),Formula!$E$6,IF(AND(G18="Very Low",H18="Moderate"),Formula!$F$6,IF(AND(G18="Very Low",H18="High"),Formula!$G$6,IF(AND(G18="Very Low",H18="Very High"),Formula!$H$6,IF(AND(G18="Low",H18="Very Low"),Formula!$D$7,IF(AND(G18="Low",H18="Low"),Formula!$E$7,IF(AND(G18="Low",H18="Moderate"),Formula!$F$7,IF(AND(G18="Low",H18="High"),Formula!$G$7,IF(AND(G18="Low",H18="Very High"),Formula!$H$7,IF(AND(G18="Moderate",H18="Very Low"),Formula!$D$8,IF(AND(G18="Moderate",H18="Low"),Formula!$E$8,IF(AND(G18="Moderate",H18="Moderate"),Formula!$F$8,IF(AND(G18="Moderate",H18="High"),Formula!$G$8,IF(AND(G18="Moderate",H18="Very High"),Formula!$H$8,IF(AND(G18="High",H18="Very Low"),Formula!$D$9,IF(AND(G18="High",H18="Low"),Formula!$E$9,IF(AND(G18="High",H18="Moderate"),Formula!$F$9,IF(AND(G18="High",H18="High"),Formula!$G$9,IF(AND(G18="High",H18="Very High"),Formula!$H$9,IF(AND(G18="Very High",H18="Very Low"),Formula!$D$10,IF(AND(G18="Very High",H18="Low"),Formula!$E$10,IF(AND(G18="Very High",H18="Moderate"),Formula!$F$10,IF(AND(G18="Very High",H18="High"),Formula!$G$10,IF(AND(G18="Very High",H18="Very High"),Formula!$H$10,""))))))))))))))))))))))))) | J18: =IF(OR(I18="M",I18="H",I18="VH"),"Yes",IF(OR(I18="L",I18="VL"),"No","")) | K18: Environmental Operating Procedures (EOPs), Environmental Field Procedures (EFPs), Environmental Emergency Response Plans (eRPs) and BCTS Checklist Reports & Forms (e.g. Risk Rating, Incident Report, Test/Drill Report Forms)
A19: =IF($J$19="Yes", "Yes",IF($J$19="No","No","")) | B19: HARVESTING | C19: Dryland Sorts (upland processing areas) | D19: Adverse effect to: Adjacent tenures Air quality Biodiversity Cultural heritage resources Fish & fish habitat (not including SAR) Marine sensitive zones Natural surface drainage patterns and non-fish streams Resource features Riparian areas Social values (visual, recreation, noise etc) Soils Species at Risk (SAR) Terrestrial vegetation / ecosystems Timber Supply (Includes wildfire hazard) Water quality in a CW & domestic water intakes Wildlife (including wildlife habitat features, not SAR) | E19: Adjacent tenures: Log sorting facilities are typically located within the licence area, therefore there is not considered to be a direct impact to adjacent tenures/private land Air quality: Localized, small scale impacts to air quality from dust, exhaust etc Biodiversity: Ongoing material adverse impacts to biodiversity within and adjacent to the footprint Log dump facilities Cultural heritage resources: Ongoing, localized, adverse impacts to features if not identified and managed Fish & fish habitat (not including SAR): Frequent adverse impacts to fish and other fish habitat within and adjacent to the footprint of facilities, where improperly located Marine sensitive zones: N/A Natural surface drainage patterns and non-fish streams: May result in ongoing localized drainage pattern disruptions/alterations within and adjacent to the footprint of facilities Resource features: Ongoing impacts to adjacent features (debris accumulation and introduction) Riparian areas: Ongoing material adverse impacts to riparian vegetation and soils within and directly adjacent to operations Social values (visual, recreation, noise etc): Adverse impacts to viewscape, noise, recreation activity areas (depending on location) Soils: May result in ongoing localized erosion, soil loss, compaction and loss of productivity within the within the footprint of facilities Species at Risk (SAR): Impacts to SAR habitat adjacent to dryland sort footprint including sedimentation into creeks due to excessive runoff Terrestrial vegetation / ecosystems: localized, ongoing adverse effects to terrestrial vegetation, ecosystem functionality and productivity within the footprint of activities Timber Supply (Includes wildfire hazard): No significant impacts to timber supply anticipated as a result of facilities Water quality in a CW & domestic water intakes: Localized sediment delivery, runoff containing contaminants may be introduced to domestic water sources Wildlife (including wildlife habitat features, not SAR): Ongoing localized damage / disturbance to ecosystems, wildlife, habitat features, potential impacts to other wildlfie/features not identified and managed | F19: Ongoing soil disturbance / habitat degradation within and adjacent to site | I19: =IF(AND(G19="Very Low",H19="Very Low"),Formula!$D$6,IF(AND(G19="Very Low",H19="Low"),Formula!$E$6,IF(AND(G19="Very Low",H19="Moderate"),Formula!$F$6,IF(AND(G19="Very Low",H19="High"),Formula!$G$6,IF(AND(G19="Very Low",H19="Very High"),Formula!$H$6,IF(AND(G19="Low",H19="Very Low"),Formula!$D$7,IF(AND(G19="Low",H19="Low"),Formula!$E$7,IF(AND(G19="Low",H19="Moderate"),Formula!$F$7,IF(AND(G19="Low",H19="High"),Formula!$G$7,IF(AND(G19="Low",H19="Very High"),Formula!$H$7,IF(AND(G19="Moderate",H19="Very Low"),Formula!$D$8,IF(AND(G19="Moderate",H19="Low"),Formula!$E$8,IF(AND(G19="Moderate",H19="Moderate"),Formula!$F$8,IF(AND(G19="Moderate",H19="High"),Formula!$G$8,IF(AND(G19="Moderate",H19="Very High"),Formula!$H$8,IF(AND(G19="High",H19="Very Low"),Formula!$D$9,IF(AND(G19="High",H19="Low"),Formula!$E$9,IF(AND(G19="High",H19="Moderate"),Formula!$F$9,IF(AND(G19="High",H19="High"),Formula!$G$9,IF(AND(G19="High",H19="Very High"),Formula!$H$9,IF(AND(G19="Very High",H19="Very Low"),Formula!$D$10,IF(AND(G19="Very High",H19="Low"),Formula!$E$10,IF(AND(G19="Very High",H19="Moderate"),Formula!$F$10,IF(AND(G19="Very High",H19="High"),Formula!$G$10,IF(AND(G19="Very High",H19="Very High"),Formula!$H$10,""))))))))))))))))))))))))) | J19: =IF(OR(I19="M",I19="H",I19="VH"),"Yes",IF(OR(I19="L",I19="VL"),"No","")) | K19: Environmental Operating Procedures (EOPs), Environmental Field Procedures (EFPs), Environmental Emergency Response Plans (eRPs) and BCTS Checklist Reports & Forms (e.g. Risk Rating, Incident Report, Test/Drill Report Forms)
A20: =IF($J$20="Yes", "Yes",IF($J$20="No","No","")) | B20: HARVESTING | C20: Prescribed Burning (pile burning, broadcast burning, windrow burning) | D20: Adverse effect to: Adjacent tenures Air quality Biodiversity Cultural heritage resources Fish & fish habitat (not including SAR) Marine sensitive zones Natural surface drainage patterns and non-fish streams Resource features Riparian areas Social values (visual, recreation, noise etc) Soils Species at Risk (SAR) Terrestrial vegetation / ecosystems Timber Supply (Includes wildfire hazard) Water quality in a CW & domestic water intakes Wildlife (including wildlife habitat features, not SAR) | E20: Adjacent tenures: No impacts to adjacent tenures where controlled. Fire escapes may result in adverse effects (see Fire Hazard Management) Air quality: Moderate scale, short term impacts to air quality Biodiversity: Medium term, adverse impacts to biodiversity ranging from stand to landscape level Cultural heritage resources: May be permanently altered or destroyed Fish & fish habitat (not including SAR): Potential impacts to riparian vegetation, water quality, etc Marine sensitive zones: N/A Natural surface drainage patterns and non-fish streams: Lesser drainage patterns within prescription areas altered Resource features: localized impacts to resource features within prescription areas Riparian areas: Potential loss of riparian timber and vegetation Social values (visual, recreation, noise etc): Impacts to recreation features, viewpoints, etc. Temporary impacts to usage Soils: Loss of soil productivity, erosion due to increased runoff, absence of vegetation Species at Risk (SAR): Destruction of SAR wildlife, fish and habitat features from fire or fire suppression activities Terrestrial vegetation / ecosystems: Moderate scale medium to long term alteration of vegetation and ecosystems from fire or fire suppression activities Timber Supply (Includes wildfire hazard): Adverse impacts to timber supply in some cases Water quality in a CW & domestic water intakes: Alteration of drainage/soil properties may lead to impacts to water quality Wildlife (including wildlife habitat features, not SAR): Destruction of wildlife, habitat features from fire or fire suppression activities | F20: Burn escape that impacts more than 20 ha or affects a resource feature | I20: =IF(AND(G20="Very Low",H20="Very Low"),Formula!$D$6,IF(AND(G20="Very Low",H20="Low"),Formula!$E$6,IF(AND(G20="Very Low",H20="Moderate"),Formula!$F$6,IF(AND(G20="Very Low",H20="High"),Formula!$G$6,IF(AND(G20="Very Low",H20="Very High"),Formula!$H$6,IF(AND(G20="Low",H20="Very Low"),Formula!$D$7,IF(AND(G20="Low",H20="Low"),Formula!$E$7,IF(AND(G20="Low",H20="Moderate"),Formula!$F$7,IF(AND(G20="Low",H20="High"),Formula!$G$7,IF(AND(G20="Low",H20="Very High"),Formula!$H$7,IF(AND(G20="Moderate",H20="Very Low"),Formula!$D$8,IF(AND(G20="Moderate",H20="Low"),Formula!$E$8,IF(AND(G20="Moderate",H20="Moderate"),Formula!$F$8,IF(AND(G20="Moderate",H20="High"),Formula!$G$8,IF(AND(G20="Moderate",H20="Very High"),Formula!$H$8,IF(AND(G20="High",H20="Very Low"),Formula!$D$9,IF(AND(G20="High",H20="Low"),Formula!$E$9,IF(AND(G20="High",H20="Moderate"),Formula!$F$9,IF(AND(G20="High",H20="High"),Formula!$G$9,IF(AND(G20="High",H20="Very High"),Formula!$H$9,IF(AND(G20="Very High",H20="Very Low"),Formula!$D$10,IF(AND(G20="Very High",H20="Low"),Formula!$E$10,IF(AND(G20="Very High",H20="Moderate"),Formula!$F$10,IF(AND(G20="Very High",H20="High"),Formula!$G$10,IF(AND(G20="Very High",H20="Very High"),Formula!$H$10,""))))))))))))))))))))))))) | J20: =IF(OR(I20="M",I20="H",I20="VH"),"Yes",IF(OR(I20="L",I20="VL"),"No","")) | K20: Environmental Operating Procedures (EOPs), Environmental Field Procedures (EFPs), Environmental Emergency Response Plans (eRPs) and BCTS Checklist Reports & Forms (e.g. Risk Rating, Incident Report, Test/Drill Report Forms)
A21: =IF($J$21="Yes", "Yes",IF($J$21="No","No","")) | B21: ROADS | C21: Log Dump Construction | D21: Adverse effect to: Adjacent tenures Air quality Biodiversity Cultural heritage resources Fish & fish habitat (not including SAR) Marine sensitive zones Natural surface drainage patterns and non-fish streams Resource features Riparian areas Social values (visual, recreation, noise etc) Soils Species at Risk (SAR) Terrestrial vegetation / ecosystems Timber Supply (Includes wildfire hazard) Water quality in a CW & domestic water intakes Wildlife (including wildlife habitat features, not SAR) | E21: Adjacent tenures: Log dump facilities are typically located within the licence area, therefore there is not considered to be a direct impact to adjacent tenures/private land Air quality: Localized, small scale impacts to air quality from dust, exhaust etc Biodiversity: Material adverse impacts to biodiversity within and adjacent to the footprint log dump facilities Cultural heritage resources: Direct, localized, adverse impacts to features if not identified and managed Fish & fish habitat (not including SAR): Material adverse impacts to fish and other marine habitat within and adjacent to the footprint of facilities, where improperly located Marine sensitive zones: Localized material adverse impacts to marine sensitive areas where located adjacent to sensitive foreshore areas Natural surface drainage patterns and non-fish streams: May result in localized drainage pattern disruptions/alterations within the footprint of facilities Resource features: Potential permanent alteration of resource features where operational plans insufficient / not adhered to Riparian areas: Material adverse impacts to riparian vegetation where they are within or directly adjacent to operations Social values (visual, recreation, noise etc): Adverse impacts to viewscape, noise, recreation activity areas (depending on location) Soils: May result in localized erosion, soil loss, compaction and loss of productivity/ contamination within the within the footprint of facilities Species at Risk (SAR): Long term damage by log dump footprint and disruption to foreshore habitat (eel grass) and marine SAR (glass sponge). Sedimentation disturbance to fish habitat Terrestrial vegetation / ecosystems: Localized, long term adverse effects to terrestrial vegetation, ecosystem functionality and productivity within the footprint of facilities. Timber Supply (Includes wildfire hazard): No significant impacts to timber supply anticipated as a result of facility construction Water quality in a CW & domestic water intakes: Localized sediment delivery, runoff containing contaminants may be introduced to domestic water sources if improperly located Wildlife (including wildlife habitat features, not SAR): Localized damage to ecosystems, wildlife, habitat features, potential impacts to other features not identified and managed | F21: Long term or permanent alteration of landscape, terrestrial vegetation and ecosystem function within footprint of construction | I21: =IF(AND(G21="Very Low",H21="Very Low"),Formula!$D$6,IF(AND(G21="Very Low",H21="Low"),Formula!$E$6,IF(AND(G21="Very Low",H21="Moderate"),Formula!$F$6,IF(AND(G21="Very Low",H21="High"),Formula!$G$6,IF(AND(G21="Very Low",H21="Very High"),Formula!$H$6,IF(AND(G21="Low",H21="Very Low"),Formula!$D$7,IF(AND(G21="Low",H21="Low"),Formula!$E$7,IF(AND(G21="Low",H21="Moderate"),Formula!$F$7,IF(AND(G21="Low",H21="High"),Formula!$G$7,IF(AND(G21="Low",H21="Very High"),Formula!$H$7,IF(AND(G21="Moderate",H21="Very Low"),Formula!$D$8,IF(AND(G21="Moderate",H21="Low"),Formula!$E$8,IF(AND(G21="Moderate",H21="Moderate"),Formula!$F$8,IF(AND(G21="Moderate",H21="High"),Formula!$G$8,IF(AND(G21="Moderate",H21="Very High"),Formula!$H$8,IF(AND(G21="High",H21="Very Low"),Formula!$D$9,IF(AND(G21="High",H21="Low"),Formula!$E$9,IF(AND(G21="High",H21="Moderate"),Formula!$F$9,IF(AND(G21="High",H21="High"),Formula!$G$9,IF(AND(G21="High",H21="Very High"),Formula!$H$9,IF(AND(G21="Very High",H21="Very Low"),Formula!$D$10,IF(AND(G21="Very High",H21="Low"),Formula!$E$10,IF(AND(G21="Very High",H21="Moderate"),Formula!$F$10,IF(AND(G21="Very High",H21="High"),Formula!$G$10,IF(AND(G21="Very High",H21="Very High"),Formula!$H$10,""))))))))))))))))))))))))) | J21: =IF(OR(I21="M",I21="H",I21="VH"),"Yes",IF(OR(I21="L",I21="VL"),"No","")) | K21: Environmental Operating Procedures (EOPs), Environmental Field Procedures (EFPs), Environmental Emergency Response Plans (eRPs) and BCTS Checklist Reports & Forms (e.g. Risk Rating, Incident Report, Test/Drill Report Forms)
A22: =IF($J$22="Yes", "Yes",IF($J$22="No","No","")) | B22: ROADS | C22: Road Construction (pioneering, sub-grade construction, blasting, ballasting, ditching) | D22: Adverse effect to: Adjacent tenures Air quality Biodiversity Cultural heritage resources Fish & fish habitat (not including SAR) Marine sensitive zones Natural surface drainage patterns and non-fish streams Resource features Riparian areas Social values (visual, recreation, noise etc) Soils Species at Risk (SAR) Terrestrial vegetation / ecosystems Timber Supply (Includes wildfire hazard) Water quality in a CW & domestic water intakes Wildlife (including wildlife habitat features, not SAR) | E22: Adjacent tenures: Right of way removal and road construction may have a small scale impact on adjacent tenures where they pass through them Air quality: N/A Biodiversity: Small scale, temporary to permanent stand level alterations to biodiversity Cultural heritage resources: Features may be permanently altered or destroyed where not identified and managed Fish & fish habitat (not including SAR): Localized temporary disruptions to fish habitat, sedimentation disturbance. Potential obstructions to fish passage Marine sensitive zones: Sedimentation, contaminants may be introduced to marine sensitive areas where roads are located within or adjacent to these areas Natural surface drainage patterns and non-fish streams: Localized drainage pattern disruptions during construction. These may be temporary or permanent depending on road use Resource features: Potential permanent alteration of resource features where operational plans insufficient / not adhered to Riparian areas: Small scale impacts to riparian vegetation and timber within ROW for life of the road Social values (visual, recreation, noise etc): Adverse impacts to recreation features within or adjacent to new road (trails, camping areas etc.) from increased noise, traffic, use limitations Soils: May result in localized erosion, soil loss, compaction and loss of productivity. These effects can be mitigated by effective planning and remediation programs Species at Risk (SAR): Small scale potential damage to SAR wildlife, habitat features and other wildlife within ROW. Sedimentation disturbance to fish habitat. Short term noise disturbance. Terrestrial vegetation / ecosystems: Localized, long term or permanent alterations to terrestrial vegetation, ecosystem functionality and productivity within road footprint Timber Supply (Includes wildfire hazard): Road construction can adversely affect timber supply where poorly located, isolating timber Water quality in a CW & domestic water intakes: Localized sediment delivery, potential spills. Ongoing sedimentation from disturbance Wildlife (including wildlife habitat features, not SAR): Small scale potential damage to ecosystems, habitat features and other wildlife within ROW | F22: Stand level impacts to important features (habitat features, SAR, CMTs or fish habitat) | I22: =IF(AND(G22="Very Low",H22="Very Low"),Formula!$D$6,IF(AND(G22="Very Low",H22="Low"),Formula!$E$6,IF(AND(G22="Very Low",H22="Moderate"),Formula!$F$6,IF(AND(G22="Very Low",H22="High"),Formula!$G$6,IF(AND(G22="Very Low",H22="Very High"),Formula!$H$6,IF(AND(G22="Low",H22="Very Low"),Formula!$D$7,IF(AND(G22="Low",H22="Low"),Formula!$E$7,IF(AND(G22="Low",H22="Moderate"),Formula!$F$7,IF(AND(G22="Low",H22="High"),Formula!$G$7,IF(AND(G22="Low",H22="Very High"),Formula!$H$7,IF(AND(G22="Moderate",H22="Very Low"),Formula!$D$8,IF(AND(G22="Moderate",H22="Low"),Formula!$E$8,IF(AND(G22="Moderate",H22="Moderate"),Formula!$F$8,IF(AND(G22="Moderate",H22="High"),Formula!$G$8,IF(AND(G22="Moderate",H22="Very High"),Formula!$H$8,IF(AND(G22="High",H22="Very Low"),Formula!$D$9,IF(AND(G22="High",H22="Low"),Formula!$E$9,IF(AND(G22="High",H22="Moderate"),Formula!$F$9,IF(AND(G22="High",H22="High"),Formula!$G$9,IF(AND(G22="High",H22="Very High"),Formula!$H$9,IF(AND(G22="Very High",H22="Very Low"),Formula!$D$10,IF(AND(G22="Very High",H22="Low"),Formula!$E$10,IF(AND(G22="Very High",H22="Moderate"),Formula!$F$10,IF(AND(G22="Very High",H22="High"),Formula!$G$10,IF(AND(G22="Very High",H22="Very High"),Formula!$H$10,""))))))))))))))))))))))))) | J22: =IF(OR(I22="M",I22="H",I22="VH"),"Yes",IF(OR(I22="L",I22="VL"),"No","")) | K22: Environmental Operating Procedures (EOPs), Environmental Field Procedures (EFPs), Environmental Emergency Response Plans (eRPs) and BCTS Checklist Reports & Forms (e.g. Risk Rating, Incident Report, Test/Drill Report Forms)
A23: =IF($J$23="Yes", "Yes",IF($J$23="No","No","")) | B23: ROADS | C23: Structure Installation, Repairs & Maintenance (culverts, bridges, woodbox culvert) | D23: Adverse effect to: Adjacent tenures Air quality Biodiversity Cultural heritage resources Fish & fish habitat (not including SAR) Marine sensitive zones Natural surface drainage patterns and non-fish streams Resource features Riparian areas Social values (visual, recreation, noise etc) Soils Species at Risk (SAR) Terrestrial vegetation / ecosystems Timber Supply (Includes wildfire hazard) Water quality in a CW & domestic water intakes Wildlife (including wildlife habitat features, not SAR) | E23: Adjacent tenures: Structure installation may influence adjacent tenures where occurring on roads under permit to a different licensee for access purposes or where adjacent to tenure boundaries. Air quality: N/A Biodiversity: N/A. Replacement of an existing structure at a previously disturbed site is unlikely to significantly impact biodiversity Cultural heritage resources: Cultural heritage features are unlikely to be impacted as a result of structure replacement Fish & fish habitat (not including SAR): Potential short tem, localized impacts (sedimentation, disruption or obstructions to fish habitat), where operational plans/processes inadequate Marine sensitive zones: Potential short tem, localized impacts (sedimentation, disruption or obstructions to fish habitat), where occurring in or adjacent to marine areas Natural surface drainage patterns and non-fish streams: May result in localized drainage pattern disruptions where operational plans are insufficient / not adhered to Resource features: New structure installation may result in localized impacts to resource features Riparian areas: Temporary, localized adverse impacts to riparian vegetation Social values (visual, recreation, noise etc): Short term disruptions to usage or access where adjacent to recreation areas etc Soils: May result in short term localized erosion from disturbance caused by operations, loss of productivity within road footprint Species at Risk (SAR): Localized impact on water dependent wildlife species and their habitat. Impacts (sedimentation, disruption or obstructions ) to fish habitat Terrestrial vegetation / ecosystems: localized, temporary adverse effects to terrestrial vegetation, ecosystem functionality and productivity within footprint of structures Timber Supply (Includes wildfire hazard): No significant impacts to timber supply anticipated as a direct result of crossing structure installation and maintenance Water quality in a CW & domestic water intakes: Potential localized sediment delivery, potential spills. introduction of contaminants from footings (concrete) Wildlife (including wildlife habitat features, not SAR): Small scale potential damage to ecosystems, habitat features, and other wildlife within crossing structure footprint | F23: Improper installation or maintenance of drainage structures impacting fish habitat due to encroachment or sedimentation | I23: =IF(AND(G23="Very Low",H23="Very Low"),Formula!$D$6,IF(AND(G23="Very Low",H23="Low"),Formula!$E$6,IF(AND(G23="Very Low",H23="Moderate"),Formula!$F$6,IF(AND(G23="Very Low",H23="High"),Formula!$G$6,IF(AND(G23="Very Low",H23="Very High"),Formula!$H$6,IF(AND(G23="Low",H23="Very Low"),Formula!$D$7,IF(AND(G23="Low",H23="Low"),Formula!$E$7,IF(AND(G23="Low",H23="Moderate"),Formula!$F$7,IF(AND(G23="Low",H23="High"),Formula!$G$7,IF(AND(G23="Low",H23="Very High"),Formula!$H$7,IF(AND(G23="Moderate",H23="Very Low"),Formula!$D$8,IF(AND(G23="Moderate",H23="Low"),Formula!$E$8,IF(AND(G23="Moderate",H23="Moderate"),Formula!$F$8,IF(AND(G23="Moderate",H23="High"),Formula!$G$8,IF(AND(G23="Moderate",H23="Very High"),Formula!$H$8,IF(AND(G23="High",H23="Very Low"),Formula!$D$9,IF(AND(G23="High",H23="Low"),Formula!$E$9,IF(AND(G23="High",H23="Moderate"),Formula!$F$9,IF(AND(G23="High",H23="High"),Formula!$G$9,IF(AND(G23="High",H23="Very High"),Formula!$H$9,IF(AND(G23="Very High",H23="Very Low"),Formula!$D$10,IF(AND(G23="Very High",H23="Low"),Formula!$E$10,IF(AND(G23="Very High",H23="Moderate"),Formula!$F$10,IF(AND(G23="Very High",H23="High"),Formula!$G$10,IF(AND(G23="Very High",H23="Very High"),Formula!$H$10,""))))))))))))))))))))))))) | J23: =IF(OR(I23="M",I23="H",I23="VH"),"Yes",IF(OR(I23="L",I23="VL"),"No","")) | K23: Environmental Operating Procedures (EOPs), Environmental Field Procedures (EFPs), Environmental Emergency Response Plans (eRPs) and BCTS Checklist Reports & Forms (e.g. Risk Rating, Incident Report, Test/Drill Report Forms)
A24: =IF($J$24="Yes", "Yes",IF($J$24="No","No","")) | B24: ROADS | C24: Road Maintenance (brushing, ditching, grading) | D24: Adverse effect to: Adjacent tenures Air quality Biodiversity Cultural heritage resources Fish & fish habitat (not including SAR) Marine sensitive zones Natural surface drainage patterns and non-fish streams Resource features Riparian areas Social values (visual, recreation, noise etc) Soils Species at Risk (SAR) Terrestrial vegetation / ecosystems Timber Supply (Includes wildfire hazard) Water quality in a CW & domestic water intakes Wildlife (including wildlife habitat features, not SAR) | E24: Adjacent tenures: Road maintenance may influence adjacent tenures where occurring on roads under permit to a different licensee for access purposes or where adjacent to tenure boundaries. Air quality: Localized temporary impacts to air quality from dust, debris, etc Biodiversity: Previously disturbed areas. No significant impacts to biodiversity anticipated Cultural heritage resources: Cultural Heritage features are unlikely to be impacted by road maintenance where they have been previously identified in the vicinity of roads Fish & fish habitat (not including SAR): Potential sedimentation into fish habitat, spills or accidental removal of riparian vegetation Marine sensitive zones: Potential sedimentation, spills or accidental removal of riparian vegetation where activities are conducted adjacent to marine areas Natural surface drainage patterns and non-fish streams: May result in localized drainage pattern disruptions where debris or sediment impacts drainage structure functionality Resource features: May result in localized impacts or debris introduction to adjacent resource features such as Karst Riparian areas: Potential localized, short term adverse impacts to riparian vegetation may occur, introduction of debris or sediment Social values (visual, recreation, noise etc): No significant direct adverse impact to social values Soils: May result in localized erosion from removal of vegetation or disturbance on and adjacent to roads Species at Risk (SAR): Impacts to SAR wildlife and riparian habitat within ROW Terrestrial vegetation / ecosystems: localized, temporary adverse effects to terrestrial vegetation within ROW Timber Supply (Includes wildfire hazard): No significant impacts to timber supply anticipated as a direct result of road maintenance Water quality in a CW & domestic water intakes: Localized sediment delivery, potential spills. introduction of debris Wildlife (including wildlife habitat features, not SAR): Localized, temporary adverse effects to habitat features and other wildlife within ROW where not identified and managed | F24: Unauthorized removal of riparian vegetation from fish bearing watercourse or localized damage to habitat or resource features | I24: =IF(AND(G24="Very Low",H24="Very Low"),Formula!$D$6,IF(AND(G24="Very Low",H24="Low"),Formula!$E$6,IF(AND(G24="Very Low",H24="Moderate"),Formula!$F$6,IF(AND(G24="Very Low",H24="High"),Formula!$G$6,IF(AND(G24="Very Low",H24="Very High"),Formula!$H$6,IF(AND(G24="Low",H24="Very Low"),Formula!$D$7,IF(AND(G24="Low",H24="Low"),Formula!$E$7,IF(AND(G24="Low",H24="Moderate"),Formula!$F$7,IF(AND(G24="Low",H24="High"),Formula!$G$7,IF(AND(G24="Low",H24="Very High"),Formula!$H$7,IF(AND(G24="Moderate",H24="Very Low"),Formula!$D$8,IF(AND(G24="Moderate",H24="Low"),Formula!$E$8,IF(AND(G24="Moderate",H24="Moderate"),Formula!$F$8,IF(AND(G24="Moderate",H24="High"),Formula!$G$8,IF(AND(G24="Moderate",H24="Very High"),Formula!$H$8,IF(AND(G24="High",H24="Very Low"),Formula!$D$9,IF(AND(G24="High",H24="Low"),Formula!$E$9,IF(AND(G24="High",H24="Moderate"),Formula!$F$9,IF(AND(G24="High",H24="High"),Formula!$G$9,IF(AND(G24="High",H24="Very High"),Formula!$H$9,IF(AND(G24="Very High",H24="Very Low"),Formula!$D$10,IF(AND(G24="Very High",H24="Low"),Formula!$E$10,IF(AND(G24="Very High",H24="Moderate"),Formula!$F$10,IF(AND(G24="Very High",H24="High"),Formula!$G$10,IF(AND(G24="Very High",H24="Very High"),Formula!$H$10,""))))))))))))))))))))))))) | J24: =IF(OR(I24="M",I24="H",I24="VH"),"Yes",IF(OR(I24="L",I24="VL"),"No","")) | K24: Environmental Operating Procedures (EOPs), Environmental Field Procedures (EFPs), Environmental Emergency Response Plans (eRPs) and BCTS Checklist Reports & Forms (e.g. Risk Rating, Incident Report, Test/Drill Report Forms)
A25: =IF($J$25="Yes", "Yes",IF($J$25="No","No","")) | B25: ROADS | C25: Road Deactivation & Rehabilitation | D25: Adverse effect to: Adjacent tenures Air quality Biodiversity Cultural heritage resources Fish & fish habitat (not including SAR) Marine sensitive zones Natural surface drainage patterns and non-fish streams Resource features Riparian areas Social values (visual, recreation, noise etc) Soils Species at Risk (SAR) Terrestrial vegetation / ecosystems Timber Supply (Includes wildfire hazard) Water quality in a CW & domestic water intakes Wildlife (including wildlife habitat features, not SAR) | E25: Adjacent tenures: Road deactivation may influence adjacent tenures where occurring on roads under permit to a different licensee for access purposes or where road use is shared. Air quality: N/A Biodiversity: Deactivation and rehabilitation of disturbed areas is not anticipated to result in a net loss to biodiversity Cultural heritage resources: Cultural heritage features are unlikely to be impacted during remediation of disturbed areas Fish & fish habitat (not including SAR): Potential localized, short term sedimentation into fish habitat. Potential small scale impacts where crossing structures have become habitat features Marine sensitive zones: Potential impacts to marine areas from adjacent works or upslope disturbances (sedimentation, debris introduction or soil destabilization) Natural surface drainage patterns and non-fish streams: Road deactivation typically restores original drainage patterns Resource features: May result in localized impacts or debris introduction to adjacent resource features such as Karst Riparian areas: Potential short term localized disruptions to riparian vegetation, soils etc, adjacent to works Social values (visual, recreation, noise etc): Potential loss of access to recreation features or areas Soils: May result in temporary, localized erosion in the within the footprint of rehabilitation Species at Risk (SAR): Low impact activity affecting SAR habitat. Short term sedimentation into fish habitat. Potential small scale impacts where crossing structures have become habitat features Terrestrial vegetation / ecosystems: Rehabilitation of existing roads typically promotes restoration of terrestrial vegetation Timber Supply (Includes wildfire hazard): No significant impacts to timber supply anticipated as a direct road deactivation Water quality in a CW & domestic water intakes: Localized sediment delivery, potential spills. introduction of debris Wildlife (including wildlife habitat features, not SAR): Low impact activity. Habitat features unlikely to be associated with roads | F25: Short term sedimentation or debris introduction to fish bearing waterways | I25: =IF(AND(G25="Very Low",H25="Very Low"),Formula!$D$6,IF(AND(G25="Very Low",H25="Low"),Formula!$E$6,IF(AND(G25="Very Low",H25="Moderate"),Formula!$F$6,IF(AND(G25="Very Low",H25="High"),Formula!$G$6,IF(AND(G25="Very Low",H25="Very High"),Formula!$H$6,IF(AND(G25="Low",H25="Very Low"),Formula!$D$7,IF(AND(G25="Low",H25="Low"),Formula!$E$7,IF(AND(G25="Low",H25="Moderate"),Formula!$F$7,IF(AND(G25="Low",H25="High"),Formula!$G$7,IF(AND(G25="Low",H25="Very High"),Formula!$H$7,IF(AND(G25="Moderate",H25="Very Low"),Formula!$D$8,IF(AND(G25="Moderate",H25="Low"),Formula!$E$8,IF(AND(G25="Moderate",H25="Moderate"),Formula!$F$8,IF(AND(G25="Moderate",H25="High"),Formula!$G$8,IF(AND(G25="Moderate",H25="Very High"),Formula!$H$8,IF(AND(G25="High",H25="Very Low"),Formula!$D$9,IF(AND(G25="High",H25="Low"),Formula!$E$9,IF(AND(G25="High",H25="Moderate"),Formula!$F$9,IF(AND(G25="High",H25="High"),Formula!$G$9,IF(AND(G25="High",H25="Very High"),Formula!$H$9,IF(AND(G25="Very High",H25="Very Low"),Formula!$D$10,IF(AND(G25="Very High",H25="Low"),Formula!$E$10,IF(AND(G25="Very High",H25="Moderate"),Formula!$F$10,IF(AND(G25="Very High",H25="High"),Formula!$G$10,IF(AND(G25="Very High",H25="Very High"),Formula!$H$10,""))))))))))))))))))))))))) | J25: =IF(OR(I25="M",I25="H",I25="VH"),"Yes",IF(OR(I25="L",I25="VL"),"No","")) | K25: Environmental Operating Procedures (EOPs), Environmental Field Procedures (EFPs), Environmental Emergency Response Plans (eRPs) and BCTS Checklist Reports & Forms (e.g. Risk Rating, Incident Report, Test/Drill Report Forms)
A26: =IF($J$26="Yes", "Yes",IF($J$26="No","No","")) | B26: SILVICULTURE | C26: Silviculture Surveys | D26: Adverse effect to: Adjacent tenures Air quality Biodiversity Cultural heritage resources Fish & fish habitat (not including SAR) Marine sensitive zones Natural surface drainage patterns and non-fish streams Resource features Riparian areas Social values (visual, recreation, noise etc) Soils Species at Risk (SAR) Terrestrial vegetation / ecosystems Timber Supply (Includes wildfire hazard) Water quality in a CW & domestic water intakes Wildlife (including wildlife habitat features, not SAR) | E26: Adjacent tenures: Silviculture surveys are limited to within the harvest area or permitted area, but findings may influence timing of harvesting for adjacent tenures where harvest areas abut tenure boundaries Air quality: N/A Biodiversity: Minimal disturbance, potential introduction of invasive species Cultural heritage resources: N/A Fish & fish habitat (not including SAR): N/A Marine sensitive zones: N/A Natural surface drainage patterns and non-fish streams: N/A Resource features: N/A Riparian areas: N/A Social values N/A Soils: N/A Species at Risk (SAR): N/A Terrestrial vegetation / ecosystems: N/A Timber Supply (Includes wildfire hazard): Data may adversely influence long term planning where inaccurate Water quality in a CW & domestic water intakes: N/A Wildlife (including wildlife habitat features, not SAR): No significant impacts to habitat features anticipated | F26: Missed free growing or regen designation | I26: =IF(AND(G26="Very Low",H26="Very Low"),Formula!$D$6,IF(AND(G26="Very Low",H26="Low"),Formula!$E$6,IF(AND(G26="Very Low",H26="Moderate"),Formula!$F$6,IF(AND(G26="Very Low",H26="High"),Formula!$G$6,IF(AND(G26="Very Low",H26="Very High"),Formula!$H$6,IF(AND(G26="Low",H26="Very Low"),Formula!$D$7,IF(AND(G26="Low",H26="Low"),Formula!$E$7,IF(AND(G26="Low",H26="Moderate"),Formula!$F$7,IF(AND(G26="Low",H26="High"),Formula!$G$7,IF(AND(G26="Low",H26="Very High"),Formula!$H$7,IF(AND(G26="Moderate",H26="Very Low"),Formula!$D$8,IF(AND(G26="Moderate",H26="Low"),Formula!$E$8,IF(AND(G26="Moderate",H26="Moderate"),Formula!$F$8,IF(AND(G26="Moderate",H26="High"),Formula!$G$8,IF(AND(G26="Moderate",H26="Very High"),Formula!$H$8,IF(AND(G26="High",H26="Very Low"),Formula!$D$9,IF(AND(G26="High",H26="Low"),Formula!$E$9,IF(AND(G26="High",H26="Moderate"),Formula!$F$9,IF(AND(G26="High",H26="High"),Formula!$G$9,IF(AND(G26="High",H26="Very High"),Formula!$H$9,IF(AND(G26="Very High",H26="Very Low"),Formula!$D$10,IF(AND(G26="Very High",H26="Low"),Formula!$E$10,IF(AND(G26="Very High",H26="Moderate"),Formula!$F$10,IF(AND(G26="Very High",H26="High"),Formula!$G$10,IF(AND(G26="Very High",H26="Very High"),Formula!$H$10,""))))))))))))))))))))))))) | J26: =IF(OR(I26="M",I26="H",I26="VH"),"Yes",IF(OR(I26="L",I26="VL"),"No","")) | K26: Environmental Operating Procedures (EOPs), Environmental Field Procedures (EFPs), Environmental Emergency Response Plans (eRPs) and BCTS Checklist Reports & Forms (e.g. Risk Rating, Incident Report, Test/Drill Report Forms)
A27: =IF($J$27="Yes", "Yes",IF($J$27="No","No","")) | B27: SILVICULTURE | C27: Planting & Tree Protection | D27: Adverse effect to: Adjacent tenures Air quality Biodiversity Cultural heritage resources Fish & fish habitat (not including SAR) Marine sensitive zones Natural surface drainage patterns and non-fish streams Resource features Riparian areas Social values (visual, recreation, noise etc) Soils Species at Risk (SAR) Terrestrial vegetation / ecosystems Timber Supply (Includes wildfire hazard) Water quality in a CW & domestic water intakes Wildlife (including wildlife habitat features, not SAR) | E27: Adjacent tenures: No significant impacts to adjacent tenures anticipated from planting activities Air quality: N/A Biodiversity: Potential stand level alterations to biodiversity where inappropriate species planted on sites Cultural heritage resources: N/A Fish & fish habitat (not including SAR): N/A Marine sensitive zones: N/A Natural surface drainage patterns and non-fish streams: N/A Resource features: N/A Riparian areas: N/A Social values (visual, recreation, noise etc): N/A Soils: N/A Species at Risk (SAR): N/A Terrestrial vegetation / ecosystems: Potential introduction of invasive species from seedlings/personnel Timber Supply (Includes wildfire hazard): Delayed regeneration from improperly planted seedlings, poor survival or forage protection not removed in a timely manner Water quality in a CW & domestic water intakes: N/A Wildlife (including wildlife habitat features not SAR): Localized alteration of feeding habits of ungulates where forage protection required/applied | F27: Inappropriate species planted on site | I27: =IF(AND(G27="Very Low",H27="Very Low"),Formula!$D$6,IF(AND(G27="Very Low",H27="Low"),Formula!$E$6,IF(AND(G27="Very Low",H27="Moderate"),Formula!$F$6,IF(AND(G27="Very Low",H27="High"),Formula!$G$6,IF(AND(G27="Very Low",H27="Very High"),Formula!$H$6,IF(AND(G27="Low",H27="Very Low"),Formula!$D$7,IF(AND(G27="Low",H27="Low"),Formula!$E$7,IF(AND(G27="Low",H27="Moderate"),Formula!$F$7,IF(AND(G27="Low",H27="High"),Formula!$G$7,IF(AND(G27="Low",H27="Very High"),Formula!$H$7,IF(AND(G27="Moderate",H27="Very Low"),Formula!$D$8,IF(AND(G27="Moderate",H27="Low"),Formula!$E$8,IF(AND(G27="Moderate",H27="Moderate"),Formula!$F$8,IF(AND(G27="Moderate",H27="High"),Formula!$G$8,IF(AND(G27="Moderate",H27="Very High"),Formula!$H$8,IF(AND(G27="High",H27="Very Low"),Formula!$D$9,IF(AND(G27="High",H27="Low"),Formula!$E$9,IF(AND(G27="High",H27="Moderate"),Formula!$F$9,IF(AND(G27="High",H27="High"),Formula!$G$9,IF(AND(G27="High",H27="Very High"),Formula!$H$9,IF(AND(G27="Very High",H27="Very Low"),Formula!$D$10,IF(AND(G27="Very High",H27="Low"),Formula!$E$10,IF(AND(G27="Very High",H27="Moderate"),Formula!$F$10,IF(AND(G27="Very High",H27="High"),Formula!$G$10,IF(AND(G27="Very High",H27="Very High"),Formula!$H$10,""))))))))))))))))))))))))) | J27: =IF(OR(I27="M",I27="H",I27="VH"),"Yes",IF(OR(I27="L",I27="VL"),"No","")) | K27: Environmental Operating Procedures (EOPs), Environmental Field Procedures (EFPs), Environmental Emergency Response Plans (eRPs) and BCTS Checklist Reports & Forms (e.g. Risk Rating, Incident Report, Test/Drill Report Forms)
A28: =IF($J$28="Yes", "Yes",IF($J$28="No","No","")) | B28: SILVICULTURE | C28: Mechanical Brushing, Pruning, Spacing, Windfirming Treatments (aerial pruning, topping) | D28: Adverse effect to: Adjacent tenures Air quality Biodiversity Cultural heritage resources Fish & fish habitat (not including SAR) Marine sensitive zones Natural surface drainage patterns and non-fish streams Resource features Riparian areas Social values (visual, recreation, noise etc) Soils Species at Risk (SAR) Terrestrial vegetation / ecosystems Timber Supply (Includes wildfire hazard) Water quality in a CW & domestic water intakes Wildlife (including wildlife habitat features, not SAR) | E28: Adjacent tenures: Silviculture treatments are limited to within the harvest area or permitted area, therefore there is not considered to be a direct impact to adjacent tenures/private land Air quality: N/A Biodiversity: No significant impacts to biodiversity anticipated Cultural heritage resources: Silviculture treatments occurring in previously disturbed areas are unlikely to cause significant damage to cultural features Fish & fish habitat (not including SAR): Potential temporary, localized introduction of sediment and debris into fish habitat Marine sensitive zones: Potential temporary, localized introduction of sediment and debris into marine areas where activities occur adjacent or upslope of these areas Natural surface drainage patterns and non-fish streams: May result in localized drainage pattern disruptions debris accumulations significant Resource features: May result in localized impacts or debris introduction to adjacent resource features such as Karst Riparian areas: Adverse impacts to riparian vegetation where operational plans inadequate or not adhered to Social values (visual, recreation, noise etc): Temporary noise disturbance, access limitations during activities Soils: May result in short term, localized erosion and soil disturbance in the vicinity of activities Species at Risk (SAR): Localized damage to SAR habitat (nests, foraging areas), temporary noise damage and introduction of debris and sediment into fish habitat Terrestrial vegetation / ecosystems: localized, temporary adverse effects to terrestrial vegetation where debris accumulations occur Timber Supply (Includes wildfire hazard): No significant impacts to timber supply anticipated as a direct result of silviculture treatments Water quality in a CW & domestic water intakes: Short term, localized introduction of sediment and woody debris Wildlife (including wildlife habitat features not SAR): Temporary noise disturbance. Localized damage to ecosystems, wildlife, habitat and potential impacts on features not identified and managed | F28: Stand level impact to habitat or resource features | I28: =IF(AND(G28="Very Low",H28="Very Low"),Formula!$D$6,IF(AND(G28="Very Low",H28="Low"),Formula!$E$6,IF(AND(G28="Very Low",H28="Moderate"),Formula!$F$6,IF(AND(G28="Very Low",H28="High"),Formula!$G$6,IF(AND(G28="Very Low",H28="Very High"),Formula!$H$6,IF(AND(G28="Low",H28="Very Low"),Formula!$D$7,IF(AND(G28="Low",H28="Low"),Formula!$E$7,IF(AND(G28="Low",H28="Moderate"),Formula!$F$7,IF(AND(G28="Low",H28="High"),Formula!$G$7,IF(AND(G28="Low",H28="Very High"),Formula!$H$7,IF(AND(G28="Moderate",H28="Very Low"),Formula!$D$8,IF(AND(G28="Moderate",H28="Low"),Formula!$E$8,IF(AND(G28="Moderate",H28="Moderate"),Formula!$F$8,IF(AND(G28="Moderate",H28="High"),Formula!$G$8,IF(AND(G28="Moderate",H28="Very High"),Formula!$H$8,IF(AND(G28="High",H28="Very Low"),Formula!$D$9,IF(AND(G28="High",H28="Low"),Formula!$E$9,IF(AND(G28="High",H28="Moderate"),Formula!$F$9,IF(AND(G28="High",H28="High"),Formula!$G$9,IF(AND(G28="High",H28="Very High"),Formula!$H$9,IF(AND(G28="Very High",H28="Very Low"),Formula!$D$10,IF(AND(G28="Very High",H28="Low"),Formula!$E$10,IF(AND(G28="Very High",H28="Moderate"),Formula!$F$10,IF(AND(G28="Very High",H28="High"),Formula!$G$10,IF(AND(G28="Very High",H28="Very High"),Formula!$H$10,""))))))))))))))))))))))))) | J28: =IF(OR(I28="M",I28="H",I28="VH"),"Yes",IF(OR(I28="L",I28="VL"),"No","")) | K28: Environmental Operating Procedures (EOPs), Environmental Field Procedures (EFPs), Environmental Emergency Response Plans (eRPs) and BCTS Checklist Reports & Forms (e.g. Risk Rating, Incident Report, Test/Drill Report Forms)
A29: =IF($J$29="Yes", "Yes",IF($J$29="No","No","")) | B29: SILVICULTURE | C29: Chemical Brushing | D29: Adverse effect to: Adjacent tenures Air quality Biodiversity Cultural heritage resources Fish & fish habitat (not including SAR) Marine sensitive zones Natural surface drainage patterns and non-fish streams Resource features Riparian areas Social values (visual, recreation, noise etc) Soils Species at Risk (SAR) Terrestrial vegetation / ecosystems Timber Supply (Includes wildfire hazard) Water quality in a CW & domestic water intakes Wildlife (including wildlife habitat features, not SAR) | E29: Adjacent tenures: Invasive species may spread to adjacent tenures, if not controlled. Water borne contaminants may impact adjacent fisheries values Air quality: Temporary, potentially mobile adverse impacts to air quality Biodiversity: Stand level impacts to vegetation, insects etc Cultural heritage resources: Cultural heritage values may be altered or destroyed if processes for identification and management are not adequate and/or adhered to. Fish & fish habitat (not including SAR): Potential introduction of deleterious substances, destruction of fish Marine sensitive zones: Potential introduction of deleterious substances, destruction of fish Natural surface drainage patterns and non-fish streams: N/A Resource features: May result in localized impacts to sensitive habitats Riparian areas: Potential adverse impacts to riparian vegetation and soils, if applied in these areas Social values (visual, recreation, noise etc): No direct adverse impact to social values Soils: Loss of vegetation may contribute to erosion. Contamination of soils may occur in cases of overapplication or spills Species at Risk (SAR): Short and potential long term damage to SAR fish & wildlife habitats and destruction of species Terrestrial vegetation / ecosystems: localized, temporary adverse effects to terrestrial vegetation in the vicinity of application Timber Supply (Includes wildfire hazard): No significant adverse impacts to timber supply anticipated as a direct result of chemical brushing (intended as a tool to promote stand regeneration) Water quality in a CW & domestic water intakes: Potential contamination from application or spills. Typically these are not approved for use in community watersheds Wildlife (including wildlife habitat features, not SAR): Localized potential damage to ecosystems, habitat features, and other wildlife, depending on nature and type of pesticide applied | F29: Introduction of contaminants to sensitive habitat, waterways etc | I29: =IF(AND(G29="Very Low",H29="Very Low"),Formula!$D$6,IF(AND(G29="Very Low",H29="Low"),Formula!$E$6,IF(AND(G29="Very Low",H29="Moderate"),Formula!$F$6,IF(AND(G29="Very Low",H29="High"),Formula!$G$6,IF(AND(G29="Very Low",H29="Very High"),Formula!$H$6,IF(AND(G29="Low",H29="Very Low"),Formula!$D$7,IF(AND(G29="Low",H29="Low"),Formula!$E$7,IF(AND(G29="Low",H29="Moderate"),Formula!$F$7,IF(AND(G29="Low",H29="High"),Formula!$G$7,IF(AND(G29="Low",H29="Very High"),Formula!$H$7,IF(AND(G29="Moderate",H29="Very Low"),Formula!$D$8,IF(AND(G29="Moderate",H29="Low"),Formula!$E$8,IF(AND(G29="Moderate",H29="Moderate"),Formula!$F$8,IF(AND(G29="Moderate",H29="High"),Formula!$G$8,IF(AND(G29="Moderate",H29="Very High"),Formula!$H$8,IF(AND(G29="High",H29="Very Low"),Formula!$D$9,IF(AND(G29="High",H29="Low"),Formula!$E$9,IF(AND(G29="High",H29="Moderate"),Formula!$F$9,IF(AND(G29="High",H29="High"),Formula!$G$9,IF(AND(G29="High",H29="Very High"),Formula!$H$9,IF(AND(G29="Very High",H29="Very Low"),Formula!$D$10,IF(AND(G29="Very High",H29="Low"),Formula!$E$10,IF(AND(G29="Very High",H29="Moderate"),Formula!$F$10,IF(AND(G29="Very High",H29="High"),Formula!$G$10,IF(AND(G29="Very High",H29="Very High"),Formula!$H$10,""))))))))))))))))))))))))) | J29: =IF(OR(I29="M",I29="H",I29="VH"),"Yes",IF(OR(I29="L",I29="VL"),"No","")) | K29: Environmental Operating Procedures (EOPs), Environmental Field Procedures (EFPs), Environmental Emergency Response Plans (eRPs) and BCTS Checklist Reports & Forms (e.g. Risk Rating, Incident Report, Test/Drill Report Forms)
A30: =IF($J$30="Yes", "Yes",IF($J$30="No","No","")) | B30: SILVICULTURE | C30: Aerial Fertilization | D30: Adverse effect to: Adjacent tenures Air quality Biodiversity Cultural heritage resources Fish & fish habitat (not including SAR) Marine sensitive zones Natural surface drainage patterns and non-fish streams Resource features Riparian areas Social values (visual, recreation, noise etc) Soils Species at Risk (SAR) Terrestrial vegetation / ecosystems Timber Supply (Includes wildfire hazard) Water quality in a CW & domestic water intakes Wildlife (including wildlife habitat features, not SAR) | E30: Adjacent tenures: Fertilization is intended to promote growth within previously harvested areas of a tenure, therefore there is not considered to be a direct impact on adjacent tenures/private land Air quality: N/A Biodiversity: Promotion of favourable species within the treatment area may impact species composition Cultural heritage resources: N/A Fish & fish habitat (not including SAR): Potential Eutrophication of lakes from increased nutrient loading Marine sensitive zones: Potential nutrient loading in marine environments from fertilizer accumulations Natural surface drainage patterns and non-fish streams: N/A Resource features: No significant impacts to resource features is anticipated as a result of fertilization Riparian areas: Where fertilizers are applied in riparian areas, the risk of nutrient regime changes in waterways increases Social values (visual, recreation, noise etc): No direct adverse impact to social values Soils: May result localized nutrient regime changes where overapplied, spilled Species at Risk (SAR): Potential impact to aquatic SAR and their habitat Terrestrial vegetation / ecosystems: Potential localized species composition changes Timber Supply (Includes wildfire hazard): No significant adverse impacts to timber supply anticipated as a result of fertilization (intended as a tool to promote stand regeneration) Water quality in a CW & domestic water intakes: Use of fertilizers may result in nitrogen or chlorophyll levels in streams exceeding acceptable limits Wildlife (including wildlife habitat features, not SAR): N/A | F30: Introduction of nutrient accumulations to watercourses due to excessive wind / rain | I30: =IF(AND(G30="Very Low",H30="Very Low"),Formula!$D$6,IF(AND(G30="Very Low",H30="Low"),Formula!$E$6,IF(AND(G30="Very Low",H30="Moderate"),Formula!$F$6,IF(AND(G30="Very Low",H30="High"),Formula!$G$6,IF(AND(G30="Very Low",H30="Very High"),Formula!$H$6,IF(AND(G30="Low",H30="Very Low"),Formula!$D$7,IF(AND(G30="Low",H30="Low"),Formula!$E$7,IF(AND(G30="Low",H30="Moderate"),Formula!$F$7,IF(AND(G30="Low",H30="High"),Formula!$G$7,IF(AND(G30="Low",H30="Very High"),Formula!$H$7,IF(AND(G30="Moderate",H30="Very Low"),Formula!$D$8,IF(AND(G30="Moderate",H30="Low"),Formula!$E$8,IF(AND(G30="Moderate",H30="Moderate"),Formula!$F$8,IF(AND(G30="Moderate",H30="High"),Formula!$G$8,IF(AND(G30="Moderate",H30="Very High"),Formula!$H$8,IF(AND(G30="High",H30="Very Low"),Formula!$D$9,IF(AND(G30="High",H30="Low"),Formula!$E$9,IF(AND(G30="High",H30="Moderate"),Formula!$F$9,IF(AND(G30="High",H30="High"),Formula!$G$9,IF(AND(G30="High",H30="Very High"),Formula!$H$9,IF(AND(G30="Very High",H30="Very Low"),Formula!$D$10,IF(AND(G30="Very High",H30="Low"),Formula!$E$10,IF(AND(G30="Very High",H30="Moderate"),Formula!$F$10,IF(AND(G30="Very High",H30="High"),Formula!$G$10,IF(AND(G30="Very High",H30="Very High"),Formula!$H$10,""))))))))))))))))))))))))) | J30: =IF(OR(I30="M",I30="H",I30="VH"),"Yes",IF(OR(I30="L",I30="VL"),"No","")) | K30: Environmental Operating Procedures (EOPs), Environmental Field Procedures (EFPs), Environmental Emergency Response Plans (eRPs) and BCTS Checklist Reports & Forms (e.g. Risk Rating, Incident Report, Test/Drill Report Forms)
A31: =IF($J$31="Yes", "Yes",IF($J$31="No","No","")) | B31: PLANNING | C31: Forest Stewardship Plans (writing results, strategies and measures) | D31: Adverse effect to: Adjacent tenures Air quality Biodiversity Cultural heritage resources Fish & fish habitat (not including SAR) Marine sensitive zones Natural surface drainage patterns and non-fish streams Resource features Riparian areas Social values (visual, recreation, noise etc) Soils Species at Risk (SAR) Terrestrial vegetation / ecosystems Timber Supply (Includes wildfire hazard) Water quality in a CW & domestic water intakes Wildlife (including wildlife habitat features, not SAR) | E31: Adjacent tenures: Where FSP objectives are not met, there may be a material adverse effect to other tenures. WHA or OGMA designations adjacent to tenure lines may also have an adverse effect on adjacent tenures Air quality: FSP Objectives may in some cases only address legislative requirements Biodiversity: Considers variable retention, adjacent retained areas, maximum cutblock size; landscape-level definition used as consistent with legislation; potential loss of biodiversity if strategies are inadequate Cultural heritage resources: Cultural heritage features may be altered or destroyed if strategies do not provide adequate processes for identification and management Fish & fish habitat (not including SAR): Sets objectives to meet legal requirements for fish habitat protection, may result in impacts where there is no legislated allowance levels Marine sensitive zones: Sets objectives to meet legal requirements for fish habitat protection, including marine areas, may result in impacts where there is no legislated allowance levels Natural surface drainage patterns and non-fish streams: Defines targets for disturbance levels during operations, may result in cumulative disruptions Resource features: Prescribes management strategies for special resource features, may result in adverse impacts where strategies inadequate Riparian areas: Sets objectives to meet regulatory requirements, site specific factors such as terrain stability and windthrow may result in adverse effects if not identified Social values (visual, recreation, noise etc): Sets objectives to meet regulatory requirements, may cause adverse impacts when considering more intrinsic values (noise, access etc) Soils: Sets objectives to meet regulatory requirements, damage, loss or degradation of soils may occur where strategies inadequate Species at Risk (SAR): Sets objectives to meet legal requirements for fish and wildlife habitat protection, may result in impacts where there is no legislated allowance levels or where improperly managed Terrestrial vegetation / ecosystems: Sets objectives for biodiversity, wildlife tree retention and patch size, may result in adverse impacts to sensitive areas or ecosystems where strategies insufficient. Timber Supply (Includes wildfire hazard): FSPs may be exempt from setting objectives for timber Water quality in a CW & domestic water intakes: Sets objectives to meet regulatory requirements, strategies may be insufficient to protect water quality Wildlife (including wildlife habitat features, not SAR): Sets objectives to meet regulatory requirements, may result in landscape level impacts to ecosystems where improperly managed or overlooked. | F31: Results and strategies for managing species at risk insufficient, resulting in damage to habitat features or sensitive ecosystems | I31: =IF(AND(G31="Very Low",H31="Very Low"),Formula!$D$6,IF(AND(G31="Very Low",H31="Low"),Formula!$E$6,IF(AND(G31="Very Low",H31="Moderate"),Formula!$F$6,IF(AND(G31="Very Low",H31="High"),Formula!$G$6,IF(AND(G31="Very Low",H31="Very High"),Formula!$H$6,IF(AND(G31="Low",H31="Very Low"),Formula!$D$7,IF(AND(G31="Low",H31="Low"),Formula!$E$7,IF(AND(G31="Low",H31="Moderate"),Formula!$F$7,IF(AND(G31="Low",H31="High"),Formula!$G$7,IF(AND(G31="Low",H31="Very High"),Formula!$H$7,IF(AND(G31="Moderate",H31="Very Low"),Formula!$D$8,IF(AND(G31="Moderate",H31="Low"),Formula!$E$8,IF(AND(G31="Moderate",H31="Moderate"),Formula!$F$8,IF(AND(G31="Moderate",H31="High"),Formula!$G$8,IF(AND(G31="Moderate",H31="Very High"),Formula!$H$8,IF(AND(G31="High",H31="Very Low"),Formula!$D$9,IF(AND(G31="High",H31="Low"),Formula!$E$9,IF(AND(G31="High",H31="Moderate"),Formula!$F$9,IF(AND(G31="High",H31="High"),Formula!$G$9,IF(AND(G31="High",H31="Very High"),Formula!$H$9,IF(AND(G31="Very High",H31="Very Low"),Formula!$D$10,IF(AND(G31="Very High",H31="Low"),Formula!$E$10,IF(AND(G31="Very High",H31="Moderate"),Formula!$F$10,IF(AND(G31="Very High",H31="High"),Formula!$G$10,IF(AND(G31="Very High",H31="Very High"),Formula!$H$10,""))))))))))))))))))))))))) | J31: =IF(OR(I31="M",I31="H",I31="VH"),"Yes",IF(OR(I31="L",I31="VL"),"No","")) | K31: Environmental Operating Procedures (EOPs), Environmental Field Procedures (EFPs), Environmental Emergency Response Plans (eRPs) and BCTS Checklist Reports & Forms (e.g. Risk Rating, Incident Report, Test/Drill Report Forms)
A32: =IF($J$32="Yes", "Yes",IF($J$32="No","No","")) | B32: PLANNING | C32: Operational Plans (landscape-level planning of road and cutblock pattern) | D32: Adverse effect to: Adjacent tenures Air quality Biodiversity Cultural heritage resources Fish & fish habitat (not including SAR) Marine sensitive zones Natural surface drainage patterns and non-fish streams Resource features Riparian areas Social values (visual, recreation, noise etc) Soils Species at Risk (SAR) Terrestrial vegetation / ecosystems Timber Supply (Includes wildfire hazard) Water quality in a CW & domestic water intakes Wildlife (including wildlife habitat features, not SAR) | E32: Adjacent tenures: Determines requirements for harvesting adjacent to tenure boundaries; establishes practices to recognize and mitigate impacts to adjacent tenures / private land Air quality: May not be addressed for all activities at the landscape level, Biodiversity: Considers variable retention, adjacent retained areas, maximum cutblock size; landscape-level definition used as consistent with legislation; potential loss of biodiversity if strategies are inadequate Cultural heritage resources: Cultural heritage features may be altered or destroyed if management plans do not provide adequate processes for identification and management Fish & fish habitat (not including SAR): Establishes practices to meet legal requirements for fish habitat protection, may not address issues where there is no legislated allowance levels Marine sensitive zones: Establishes practices for operations around sensitive areas, defines characteristics of sensitive areas Natural surface drainage patterns and non-fish streams: Defines operating standards for disturbance levels during operations, may result in excessive disruptions where disturbance too great Riparian areas: Establishes practices to meet regulatory requirements, site specific factors such as terrain stability, windthrow, retention in RMZ's etc Social values (visual, recreation, noise etc): Sets practice requirements for work around recreation features, may not address more intrinsic values (noise, access etc) Soils: Sets objectives to meet regulatory requirements, establishes practices to maintain soil productivity Species at Risk (SAR): Establishes practice and legal requirements for operations around fish sensitive habitat, SAR wildlife etc Terrestrial vegetation / ecosystems: Outlines requirements for locating wildlife tree retention and retention adjacent to sensitive features Timber Supply (Includes wildfire hazard): Defines timber management strategies in relation to markets, operability and timing of harvest for areas Water quality in a CW & domestic water intakes: Defines practice requirements for operations around water intakes, community watersheds etc. Wildlife ( including wildlife habitat features, not SAR): Establishes practice requirements for operations around sensitive habitat, wildlife etc | F32: Inadequate protection for habitat features, wildlife areas or SAR due to lack of information, planning or inadequate practices | I32: =IF(AND(G32="Very Low",H32="Very Low"),Formula!$D$6,IF(AND(G32="Very Low",H32="Low"),Formula!$E$6,IF(AND(G32="Very Low",H32="Moderate"),Formula!$F$6,IF(AND(G32="Very Low",H32="High"),Formula!$G$6,IF(AND(G32="Very Low",H32="Very High"),Formula!$H$6,IF(AND(G32="Low",H32="Very Low"),Formula!$D$7,IF(AND(G32="Low",H32="Low"),Formula!$E$7,IF(AND(G32="Low",H32="Moderate"),Formula!$F$7,IF(AND(G32="Low",H32="High"),Formula!$G$7,IF(AND(G32="Low",H32="Very High"),Formula!$H$7,IF(AND(G32="Moderate",H32="Very Low"),Formula!$D$8,IF(AND(G32="Moderate",H32="Low"),Formula!$E$8,IF(AND(G32="Moderate",H32="Moderate"),Formula!$F$8,IF(AND(G32="Moderate",H32="High"),Formula!$G$8,IF(AND(G32="Moderate",H32="Very High"),Formula!$H$8,IF(AND(G32="High",H32="Very Low"),Formula!$D$9,IF(AND(G32="High",H32="Low"),Formula!$E$9,IF(AND(G32="High",H32="Moderate"),Formula!$F$9,IF(AND(G32="High",H32="High"),Formula!$G$9,IF(AND(G32="High",H32="Very High"),Formula!$H$9,IF(AND(G32="Very High",H32="Very Low"),Formula!$D$10,IF(AND(G32="Very High",H32="Low"),Formula!$E$10,IF(AND(G32="Very High",H32="Moderate"),Formula!$F$10,IF(AND(G32="Very High",H32="High"),Formula!$G$10,IF(AND(G32="Very High",H32="Very High"),Formula!$H$10,""))))))))))))))))))))))))) | J32: =IF(OR(I32="M",I32="H",I32="VH"),"Yes",IF(OR(I32="L",I32="VL"),"No","")) | K32: Environmental Operating Procedures (EOPs), Environmental Field Procedures (EFPs), Environmental Emergency Response Plans (eRPs) and BCTS Checklist Reports & Forms (e.g. Risk Rating, Incident Report, Test/Drill Report Forms)
A33: =IF($J$33="Yes", "Yes",IF($J$33="No","No","")) | B33: PLANNING | C33: Cutblock and Road Location, Design and Site Plans (stand-level planning, assessments, prescribing treatments, layout, harvest planning and mapping) | D33: Adverse effect to: Adjacent tenures Air quality Biodiversity Cultural heritage resources Fish & fish habitat (not including SAR) Marine sensitive zones Natural surface drainage patterns and non-fish streams Resource features Riparian areas Social values (visual, recreation, noise etc) Soils Species at Risk (SAR) Terrestrial vegetation / ecosystems Timber Supply (Includes wildfire hazard) Water quality in a CW & domestic water intakes Wildlife (including wildlife habitat features, not SAR) | E33: Adjacent tenures: Determines requirements for harvesting adjacent to tenure boundaries; establishes practices to recognize and mitigate impacts to adjacent tenures / private land Air quality: May not be addressed for all activities at the landscape level Biodiversity: Considers variable retention, adjacent retained areas, maximum cutblock size; landscape-level definition used as consistent with legislation; potential loss of biodiversity if strategies are inadequate Cultural heritage resources: Cultural heritage features may be altered or destroyed if management plans do not provide adequate processes for identification and management Fish & fish habitat (not including SAR): Establishes practices to meet legal requirements for fish habitat protection, may not address issues where there is no legislated allowance levels Marine sensitive zones: Establishes practices for operations around sensitive areas, defines characteristics of sensitive areas Natural surface drainage patterns and non-fish streams: Defines operating standards for disturbance levels during operations, may result in excessive disruptions where disturbance too great Riparian areas: Establishes practices to meet regulatory requirements, site specific factors such as terrain stability, windthrow, retention in RMZ's etc Social values (visual, recreation, noise etc): Sets practice requirements for work around recreation features, may not address more intrinsic values (noise, access etc) Soils: Sets objectives to meet regulatory requirements, establishes practices to maintain soil productivity Species at Risk (SAR): Establishes practice and legal requirements for operations around fish sensitive habitat, SAR wildlife etc Terrestrial vegetation / ecosystems: Outlines requirements for locating wildlife tree retention and retention adjacent to sensitive features Timber Supply (Includes wildfire hazard): Defines timber management strategies in relation to markets, operability and timing of harvest for areas Water quality in a CW & domestic water intakes: Defines practice requirements for operations around water intakes, community watersheds etc. Wildlife (including wildlife habitat features, not SAR): Establishes practice requirements for operations around sensitive habitat, wildlife etc | F33: Localized, long term or permanent alteration of drainage, Wildlife or fish habitat, SAR, CMT's or riparian areas where not identified or managed adequately to circumstances | I33: =IF(AND(G33="Very Low",H33="Very Low"),Formula!$D$6,IF(AND(G33="Very Low",H33="Low"),Formula!$E$6,IF(AND(G33="Very Low",H33="Moderate"),Formula!$F$6,IF(AND(G33="Very Low",H33="High"),Formula!$G$6,IF(AND(G33="Very Low",H33="Very High"),Formula!$H$6,IF(AND(G33="Low",H33="Very Low"),Formula!$D$7,IF(AND(G33="Low",H33="Low"),Formula!$E$7,IF(AND(G33="Low",H33="Moderate"),Formula!$F$7,IF(AND(G33="Low",H33="High"),Formula!$G$7,IF(AND(G33="Low",H33="Very High"),Formula!$H$7,IF(AND(G33="Moderate",H33="Very Low"),Formula!$D$8,IF(AND(G33="Moderate",H33="Low"),Formula!$E$8,IF(AND(G33="Moderate",H33="Moderate"),Formula!$F$8,IF(AND(G33="Moderate",H33="High"),Formula!$G$8,IF(AND(G33="Moderate",H33="Very High"),Formula!$H$8,IF(AND(G33="High",H33="Very Low"),Formula!$D$9,IF(AND(G33="High",H33="Low"),Formula!$E$9,IF(AND(G33="High",H33="Moderate"),Formula!$F$9,IF(AND(G33="High",H33="High"),Formula!$G$9,IF(AND(G33="High",H33="Very High"),Formula!$H$9,IF(AND(G33="Very High",H33="Very Low"),Formula!$D$10,IF(AND(G33="Very High",H33="Low"),Formula!$E$10,IF(AND(G33="Very High",H33="Moderate"),Formula!$F$10,IF(AND(G33="Very High",H33="High"),Formula!$G$10,IF(AND(G33="Very High",H33="Very High"),Formula!$H$10,""))))))))))))))))))))))))) | J33: =IF(OR(I33="M",I33="H",I33="VH"),"Yes",IF(OR(I33="L",I33="VL"),"No","")) | K33: Environmental Operating Procedures (EOPs), Environmental Field Procedures (EFPs), Environmental Emergency Response Plans (eRPs) and BCTS Checklist Reports & Forms (e.g. Risk Rating, Incident Report, Test/Drill Report Forms)

Sheet Table 004-1 (Sig Env Aspects)
A1: Functional Area | B1: Significant Environmental Aspects
A2: =IF('Table 004-3 (Evaluation Form)'!$A10="Yes",'Table 004-3 (Evaluation Form)'!B10,"") | B2: =IF('Table 004-3 (Evaluation Form)'!$A10="Yes",'Table 004-3 (Evaluation Form)'!C10,"")
A3: =IF('Table 004-3 (Evaluation Form)'!$A11="Yes",'Table 004-3 (Evaluation Form)'!B11,"") | B3: =IF('Table 004-3 (Evaluation Form)'!$A11="Yes",'Table 004-3 (Evaluation Form)'!C11,"")
A4: =IF('Table 004-3 (Evaluation Form)'!$A12="Yes",'Table 004-3 (Evaluation Form)'!B12,"") | B4: =IF('Table 004-3 (Evaluation Form)'!$A12="Yes",'Table 004-3 (Evaluation Form)'!C12,"")
A5: =IF('Table 004-3 (Evaluation Form)'!$A13="Yes",'Table 004-3 (Evaluation Form)'!B13,"") | B5: =IF('Table 004-3 (Evaluation Form)'!$A13="Yes",'Table 004-3 (Evaluation Form)'!C13,"")
A6: =IF('Table 004-3 (Evaluation Form)'!$A14="Yes",'Table 004-3 (Evaluation Form)'!B14,"") | B6: =IF('Table 004-3 (Evaluation Form)'!$A14="Yes",'Table 004-3 (Evaluation Form)'!C14,"")
A7: =IF('Table 004-3 (Evaluation Form)'!$A15="Yes",'Table 004-3 (Evaluation Form)'!B15,"") | B7: =IF('Table 004-3 (Evaluation Form)'!$A15="Yes",'Table 004-3 (Evaluation Form)'!C15,"")
A8: =IF('Table 004-3 (Evaluation Form)'!$A16="Yes",'Table 004-3 (Evaluation Form)'!B16,"") | B8: =IF('Table 004-3 (Evaluation Form)'!$A16="Yes",'Table 004-3 (Evaluation Form)'!C16,"")
A9: =IF('Table 004-3 (Evaluation Form)'!$A17="Yes",'Table 004-3 (Evaluation Form)'!B17,"") | B9: =IF('Table 004-3 (Evaluation Form)'!$A17="Yes",'Table 004-3 (Evaluation Form)'!C17,"")
A10: =IF('Table 004-3 (Evaluation Form)'!$A18="Yes",'Table 004-3 (Evaluation Form)'!B18,"") | B10: =IF('Table 004-3 (Evaluation Form)'!$A18="Yes",'Table 004-3 (Evaluation Form)'!C18,"")
A11: =IF('Table 004-3 (Evaluation Form)'!$A19="Yes",'Table 004-3 (Evaluation Form)'!B19,"") | B11: =IF('Table 004-3 (Evaluation Form)'!$A19="Yes",'Table 004-3 (Evaluation Form)'!C19,"")
A12: =IF('Table 004-3 (Evaluation Form)'!$A20="Yes",'Table 004-3 (Evaluation Form)'!B20,"") | B12: =IF('Table 004-3 (Evaluation Form)'!$A20="Yes",'Table 004-3 (Evaluation Form)'!C20,"")
A13: =IF('Table 004-3 (Evaluation Form)'!$A21="Yes",'Table 004-3 (Evaluation Form)'!B21,"") | B13: =IF('Table 004-3 (Evaluation Form)'!$A21="Yes",'Table 004-3 (Evaluation Form)'!C21,"")
... A25: =IF('Table 004-3 (Evaluation Form)'!$A33="Yes",'Table 004-3 (Evaluation Form)'!B33,"") | B25: =IF('Table 004-3 (Evaluation Form)'!$A33="Yes",'Table 004-3 (Evaluation Form)'!C33,"")
A27: Note: Functional Area and Significant Environmental Aspects populated automatically from Table 004-3 data. Enter BA name and date in Header and save as local pdf when completed

Sheet List Values
A1: List Values
A3: Rating values | D3: Significant Aspect Values
E4: Yes
B5: Very Low | E5: No
B6: Low
B7: Moderate
B8: High
B9: Very High
B10: N/A
A14: Note: This worksheet contains the references for Table 004-3 list values. Do not alter.

Sheet Formula
A1: Risk Assessment Matrix
D4: Consequence
D5: Very Low | E5: Low | F5: Moderate | G5: High | H5: Very High
B6: Probability | C6: Very Low | D6: VL | E6: VL | F6: L | G6: M | H6: H
C7: Low | D7: VL | E7: L | F7: M | G7: H | H7: H
C8: Moderate | D8: L | E8: L | F8: M | G8: H | H8: H
C9: High | D9: L | E9: L | F9: H | G9: H | H9: VH
C10: Very High | D10: L | E10: M | F10: H | G10: VH | H10: VH
A13: Note: This worksheet contains the references for Table 004-3 list values. Do not alter.
