Workbook

Sheet Template (Reg or Dist) 
D1: Total Goals for Region
A3: Category | B3: Planned Goals | H3: Unit Costs | I3: Comments (Estimated MPB / WF) | K3: Category | L3: Planned Funding
A4: Activity | B4: 2012 / 2013 | C4: 2013 / 2014 | D4: 2014 / 2015 | E4: 2015 / 2016 | F4: 2016 / 2017 | G4: Total | K4: Activity | L4: 2012 / 2013 | M4: 2013 / 2014 | N4: 2014 / 2015 | O4: 2015 / 2016 | P4: 2016 / 2017 | Q4: Total $$
A6: Current Reforestation (ha/trees) | K6: Current Reforestation
A7: Surveys (Backlog NSR ) | B7: 2500 | C7: 2500 | D7: 2500 | E7: 500 | F7: 500 | G7: =B7+C7+D7+E7+F7 -> 8500 | H7: ='All found Costs '!C4 -> 30 | K7: Surveys (Backlog NSR ) | L7: =H7*B7 -> 75000 | M7: =$H$7*C7 -> 75000 | N7: =$H$7*D7 -> 75000 | O7: =$H$7*E7 -> 15000 | P7: =$H$7*F7 -> 15000 | Q7: =L7+M7+N7+O7+P7 -> 255000
A8: Surveys and Overview Planning | K8: Surveys and Overview Planning | Q8: =L8+M8+N8+O8+P8 -> 0
A9: a) MPB | B9: 5000 | C9: 2500 | D9: 1000 | E9: 1000 | F9: 1000 | G9: =B9+C9+D9+E9+F9 -> 10500 | H9: ='All found Costs '!C5 -> 55 | K9: a) MPB | L9: =$H9*B9 -> 275000 | M9: =$H9*C9 -> 137500 | N9: =$H9*D9 -> 55000 | O9: =$H9*E9 -> 55000 | P9: =$H9*F9 -> 55000 | Q9: =L9+M9+N9+O9+P9 -> 577500
A10: b) Wildfire | C10: 5000 | D10: 2000 | E10: 3000 | F10: 0 | G10: =B10+C10+D10+E10+F10 -> 10000 | H10: ='All found Costs '!C5 -> 55 | K10: b) Wildfire | L10: =$H10*B10 -> 0 | M10: =$H10*C10 -> 275000 | N10: =$H10*D10 -> 110000 | O10: =$H10*E10 -> 165000 | P10: =$H10*F10 -> 0 | Q10: =L10+M10+N10+O10+P10 -> 550000
A11: c)Non_Obligation NSR
A12: d) Stand Maintenance SU
A13: Site Preparation | B13: 0 | C13: 0 | D13: 0 | E13: 1500 | F13: 2000 | G13: =B13+C13+D13+E13+F13 -> 3500 | H13: ='All found Costs '!C6 -> 350 | K13: Site Preparation | L13: =$H13*B13 -> 0 | M13: =$H13*C13 -> 0 | N13: =$H13*D13 -> 0 | O13: =$H13*E13 -> 525000 | P13: =$H13*F13 -> 700000 | Q13: =L13+M13+N13+O13+P13 -> 1225000
A14: Brushing | B14: 200 | C14: 200 | D14: 500 | E14: 500 | F14: 500 | G14: =B14+C14+D14+E14+F14 -> 1900 | H14: ='All found Costs '!C7 -> 762 | K14: Brushing | L14: =$H14*B14 -> 152400 | M14: =$H14*C14 -> 152400 | N14: =$H14*D14 -> 381000 | O14: =$H14*E14 -> 381000 | P14: =$H14*F14 -> 381000 | Q14: =L14+M14+N14+O14+P14 -> 1447800
A15: Planting (Trees) | B15: 500000 | C15: 1000000 | D15: 1000000 | E15: 1000000 | F15: 1000000 | G15: =B15+C15+D15+E15+F15 -> 4500000 | H15: ='All found Costs '!C8 -> 0.57 | K15: Planting (Seedlings) | L15: =$H15*B15 -> 285000 | M15: =$H15*C15 -> 570000 | N15: =$H15*D15 -> 570000 | O15: =$H15*E15 -> 570000 | P15: =$H15*F15 -> 570000 | Q15: =L15+M15+N15+O15+P15 -> 2565000
A16: Sowing (Trees) | B16: 1000000 | C16: 1000000 | D16: 1000000 | E16: 1000000 | F16: 1000000 | G16: =B16+C16+D16+E16+F16 -> 5000000 | H16: 0.21
A18: Timber Supply Mitigation (ha) | G18: 8300 | K18: Timber Supply Mitigation
A19: Surveys and Overview Planning | B19: 2500 | C19: 2500 | D19: 2500 | E19: 2500 | F19: 2500 | G19: =B19+C19+D19+E19+F19 -> 12500 | H19: ='All found Costs '!C11 -> 30 | K19: Surveys and Overview Planning | L19: =$H19*B19 -> 75000 | M19: =$H19*C19 -> 75000 | N19: =$H19*D19 -> 75000 | O19: =$H19*E19 -> 75000 | P19: =$H19*F19 -> 75000 | Q19: =L19+M19+N19+O19+P19 -> 375000
A20: Brushing / Cleaning | B20: 0 | C20: 0 | D20: 0 | E20: 0 | F20: 0 | G20: 0 | H20: ='All found Costs '!C12 -> 800 | K20: Brushing / Cleaning | L20: =$H20*B20 -> 0 | M20: =$H20*C20 -> 0 | N20: =$H20*D20 -> 0 | O20: =$H20*E20 -> 0 | P20: =$H20*F20 -> 0 | Q20: =L20+M20+N20+O20+P20 -> 0
A21: Spacing | B21: 500 | C21: 750 | D21: 1000 | E21: 1000 | F21: 1000 | G21: =B21+C21+D21+E21+F21 -> 4250 | H21: ='All found Costs '!C13 -> 1500 | K21: Spacing | L21: =$H21*B21 -> 750000 | M21: =$H21*C21 -> 1125000 | N21: =$H21*D21 -> 1500000 | O21: =$H21*E21 -> 1500000 | P21: =$H21*F21 -> 1500000 | Q21: =L21+M21+N21+O21+P21 -> 6375000
A22: Fertilization | B22: 600 | C22: 600 | D22: 600 | E22: 600 | F22: 600 | G22: =B22+C22+D22+E22+F22 -> 3000 | H22: ='All found Costs '!C14 -> 220 | K22: Fertilization | L22: =$H22*B22 -> 132000 | M22: =$H22*C22 -> 132000 | N22: =$H22*D22 -> 132000 | O22: =$H22*E22 -> 132000 | P22: =$H22*F22 -> 132000 | Q22: =L22+M22+N22+O22+P22 -> 660000
A23: Pruning | G23: =B23+C23+D23+E23+F23 -> 0 | K23: Pruning | L23: =$H23*B23 -> 0 | M23: =$H23*C23 -> 0 | N23: =$H23*D23 -> 0 | O23: =$H23*E23 -> 0 | P23: =$H23*F23 -> 0 | Q23: =L23+M23+N23+O23+P23 -> 0
G24: =B24+C24+D24+E24+F24 -> 0
A25: Additional Activities | K25: Additional Activities
A26: Infrastructure _Roads (km, Culvert) | G26: =B26+C26+D26+E26+F26 -> 0 | H26: NA | K26: Infrastructure _Roads
A27: Program Support (Admin) | G27: =B27+C27+D27+E27+F27 -> 0 | K27: Sowing $$ | L27: =B16*H16 -> 210000 | M27: =$H$16*C16 -> 210000 | N27: =$H$16*D16 -> 210000 | O27: =$H$16*E16 -> 210000 | P27: =$H$16*F16 -> 210000 | Q27: =H16*G16 -> 1050000
A29: Total | K29: Total
K31: GRAND TOTAL | L31: =L7+L8+L9+L10+L13+L14+L15 -> 787400 | M31: =M7+M8+M9+M10+M13+M14+M15 -> 1209900 | N31: =N7+N8+N9+N10+N13+N14+N15 -> 1191000 | O31: =O7+O8+O9+O10+O13+O14+O15 -> 1711000 | P31: =P7+P8+P9+P10+P13+P14+P15 -> 1721000 | Q31: =Q7+Q8+Q9+Q10+Q13+Q14+Q15 -> 6620300
A32: Assumptions
K34: Assumptions

Sheet Annual Operational Plan 
A1: Region Annual Operational Plan for Current Reforestation and Timber Supply Mitigation
A2: C U R R E N T R E F O R E S T A T I O N
A4: Planning Unit (TSA/District/TFL) | B4: Delivery Agent | C4: Spring / Summer Planting | D4: Fall Sowing Targets | E4: Admin / Implem4 | F4: % of Operational $ 7 | G4: Access6 | H4: Overview Planning | I4: Surveys5 | O4: Site Preparation | R4: Stand Maintenance Brushing 3 | U4: Planting 2 | X4: Current Reforestation Total
C5: SPAR | D5: (Estimate) | I5: Backlo NSR (RESULTSR004 ) | L5: Surveys All (MPB/WF)
C6: (trees) | D6: (trees) | E6: ($) | F6: % Total | G6: ($) | H6: ($) | I6: goals(ha) | J6: ($) | K6: $/ha | L6: goals(ha) | M6: ($) | N6: $/ha | O6: goals(ha) | P6: ($) | Q6: $/ha | R6: goals(ha) | S6: ($) | T6: $/ha | U6: goals (tree) | V6: ($) | W6: $/ tree | X6: ($)
A8: Region | H8: 359000
A10: District A | B10: BCTS | C10: 1200200 | D10: 2000000 | E10: 50000 | F10: =E10/X10 -> 0.071205393 | G10: 15000 | L10: 3500 | M10: 57750 | N10: =M10/L10 -> 16.5 | O10: 50 | P10: 25000 | Q10: =P10/O10 -> 500 | R10: 50 | S10: 25000 | T10: =S10/R10 -> 500 | U10: 1239315 | V10: =198000+331444 -> 529444 | W10: =V10/U10 -> 0.42720697 | X10: =V10+S10+P10+M10+J10+H10+G10+E10 -> 702194
B11: Dist/Reg | C11: 1076000 | D11: 1000000 | E11: 10000 | F11: =E11/X11 -> 0.027173913 | I11: 800 | J11: 13000 | K11: =J11/I11 -> 16.25 | L11: 4000 | M11: 45000 | N11: =M11/L11 -> 11.25 | O11: 313 | P11: 150000 | Q11: =P11/O11 -> 479.23323 | R11: 313 | S11: 150000 | T11: =S11/R11 -> 479.23323 | X11: =V11+S11+P11+M11+J11+H11+G11+E11 -> 368000
B12: Recipient | F12: =E12/X12 -> 0 | H12: 10000 | X12: =V12+S12+P12+M12+J12+H12+G12+E12 -> 10000
B13: TFL
A15: District B | B15: BCTS | C15: 282300 | D15: 500000 | E15: 15000 | F15: =E15/X15 -> 0.096153846 | G15: 35000 | L15: 4000 | M15: 66000 | N15: =M15/L15 -> 16.5 | O15: 200 | P15: 20000 | Q15: =P15/O15 -> 100 | R15: 200 | S15: 20000 | T15: =S15/R15 -> 100 | X15: =V15+S15+P15+M15+J15+H15+G15+E15 -> 156000
B16: Dist/Reg | C16: 165800 | D16: 3000000 | E16: 12000 | F16: =E16/X16 -> 0.041571399 | H16: 30000 | I16: 3000 | J16: 90000 | K16: =J16/I16 -> 30 | L16: =D16/1800*2+3000 -> 6333.3333 | M16: 156660 | N16: =M16/L16 -> 24.735789 | X16: =V16+S16+P16+M16+J16+H16+G16+E16 -> 288660
B17: Recipient | E17: 2000 | F17: =E17/X17 -> 0.16666667 | H17: 10000 | X17: =V17+S17+P17+M17+J17+H17+G17+E17 -> 12000
B18: TFL
A20: District C | B20: BCTS | C20: 274900 | D20: 1006000 | E20: 15000 | F20: =E20/X20 -> 0.044033207 | L20: =304+1000 -> 1304 | M20: =7200+15000 -> 22200 | N20: =M20/L20 -> 17.02454 | O20: 124 | P20: 85200 | Q20: =P20/O20 -> 687.09677 | R20: 124 | S20: 85200 | T20: =S20/R20 -> 687.09677 | U20: 429200 | V20: 133052 | W20: =V20/U20 -> 0.31 | X20: =V20+S20+P20+M20+J20+H20+G20+E20 -> 340652
B21: Dist/Reg | C21: 609600 | D21: 700000 | E21: 5000 | F21: =E21/X21 -> 0.023201856 | G21: 15000 | H21: 25000 | I21: 1800 | J21: 63000 | K21: =J21/I21 -> 35 | L21: 5400 | M21: 107500 | N21: =M21/L21 -> 19.907407 | U21: 0 | X21: =V21+S21+P21+M21+J21+H21+G21+E21 -> 215500
B22: Recipient
B23: TFL | E23: 2000 | F23: =E23/X23 -> 0.090909091 | H23: 20000 | X23: =V23+S23+P23+M23+J23+H23+G23+E23 -> 22000
A25: Sub totals | B25: BCTS | C25: =C10+C15+C20 -> 1757400 | D25: =D10+D15+D20 -> 3506000 | E25: =E10+E15+E20 -> 80000 | G25: =G10+G15+G20 -> 50000 | H25: =H10+H15+H20 -> 0 | I25: =I10+I15+I20 -> 0 | J25: =J10+J15+J20 -> 0 | L25: =L10+L15+L20 -> 8804 | M25: =M10+M15+M20 -> 145950 | O25: =O10+O15+O20 -> 374 | P25: =P10+P15+P20 -> 130200 | R25: =R10+R15+R20 -> 374 | S25: =S10+S15+S20 -> 130200 | U25: =U10+U15+U20 -> 1668515 | V25: =V10+V15+V20 -> 662496 | X25: =X10+X15+X20 -> 1198846
B26: Dist/Reg | C26: =C11+C16+C21 -> 1851400 | D26: =D11+D16+D21 -> 4700000 | E26: =E11+E16+E21 -> 27000 | G26: =G11+G16+G21 -> 15000 | H26: =H11+H16+H21 -> 55000 | I26: =I11+I16+I21 -> 5600 | J26: =J11+J16+J21 -> 166000 | K26: =J26/I26 -> 29.642857 | L26: =L11+L16+L21 -> 15733.333 | M26: =M11+M16+M21 -> 309160 | O26: =O11+O16+O21 -> 313 | P26: =P11+P16+P21 -> 150000 | R26: =R11+R16+R21 -> 313 | S26: =S11+S16+S21 -> 150000 | U26: =U11+U16+U21 -> 0 | V26: =V11+V16+V21 -> 0 | X26: =X11+X16+X21 -> 872160
B27: Recipient | C27: =C17+C22+C12 -> 0 | D27: =D17+D22+D12 -> 0 | E27: =E17+E22+E12 -> 2000 | G27: =G17+G22+G12 -> 0 | H27: =H17+H22+H12 -> 20000 | I27: =I17+I22+I12 -> 0 | J27: =J17+J22+J12 -> 0 | L27: =L17+L22+L12 -> 0 | M27: =M17+M22+M12 -> 0 | O27: =O17+O22+O12 -> 0 | P27: =P17+P22+P12 -> 0 | R27: =R17+R22+R12 -> 0 | S27: =S17+S22+S12 -> 0 | U27: =U17+U22+U12 -> 0 | V27: =V17+V22+V12 -> 0 | X27: =X17+X22+X12 -> 22000
B28: TFL | C28: =C13+C18+C23 -> 0 | D28: =D13+D18+D23 -> 0 | E28: =E13+E18+E23 -> 2000 | G28: =G13+G18+G23 -> 0 | H28: =H13+H18+H23 -> 20000 | I28: =I13+I18+I23 -> 0 | J28: =J13+J18+J23 -> 0 | L28: =L13+L18+L23 -> 0 | M28: =M13+M18+M23 -> 0 | O28: =O13+O18+O23 -> 0 | P28: =P13+P18+P23 -> 0 | R28: =R13+R18+R23 -> 0 | S28: =S13+S18+S23 -> 0 | U28: =U13+U18+U23 -> 0 | V28: =V13+V18+V23 -> 0 | X28: =X13+X18+X23 -> 22000
A30: Grand Total | C30: =SUM(C25:C28) -> 3608800 | D30: =SUM(D25:D28) -> 8206000 | H30: =SUM(H25:H28) -> 95000 | I30: =SUM(I25:I28) -> 5600 | J30: =SUM(J25:J28) -> 166000 | L30: =SUM(L25:L28) -> 24537.333 | M30: =SUM(M25:M28) -> 455110 | O30: =SUM(O25:O28) -> 687 | P30: =SUM(P25:P28) -> 280200 | R30: =SUM(R25:R28) -> 687 | S30: =SUM(S25:S28) -> 280200 | U30: =SUM(U25:U28) -> 1668515 | V30: =SUM(V25:V28) -> 662496 | X30: =SUM(X25:X28) -> 2115006
A33: Current Reforestation Assumptions:
A34: 1 - Forecasts may change if targeted fall sowing numbers change.
A35: 2 - Spring/summer planting numbers includign reefer and storage (may not include possible stock purchases)
A36: 3 - Brushing forecast as per project approval forecast or IM estimate.
A37: 4 - Administration / Implementation is determine by Delivery Agent as per LBIS Delivery Document
A38: 5 - Includes NSR and other regular surveys such as post planting and ITSL eligibility. Survey costs are assumed to include Surveys, Prescriptions, ROI, Layout, RESULTS and forward planning
A39: 6 -Access to capture district engineering costs associated with road repairs, upgrades, snow plowing and user fees.
A40: 7- CR and TSM % Operational dollrs is based on the total value of the works and shoudl follow the LBIS Delivery Guidebook
A41: T I M B E R S U P L Y M I T I G A T I O N
A43: Planning Unit (TSA/District/TFL) | B43: Delivery Agent | E43: Admin / Implem3 | F43: % of Operational $ 7 | G43: Surveys2 | L43: Impeded Brushing / Cleaning | O43: Spacing | R43: Fertilization | U43: Pruning | X43: Timber Supply Mitigation Total
L44: Treatments1 | O44: Treatments1 | R44: Treatments1 | U44: Treatments1
E45: ($) | F45: % Total | G45: goals (ha) | H45: ($) | I45: $/ha | L45: goals (ha) | M45: ($) | N45: $/ha | O45: goals (ha) | P45: ($) | Q45: $/ha | R45: goals (ha) | S45: ($) | T45: $/ha | U45: goals (ha) | V45: ($) | X45: ($)
A47: Region | X47: =E47+H47+M47+P47+S47+V47 -> 0
A49: District A | B49: BCTS | X49: =E49+H49+M49+P49+S49+V49 -> 0
B50: Dist/Reg | G50: 3500 | H50: 57750 | I50: =H50/G50 -> 16.5 | X50: =E50+H50+M50+P50+S50+V50 -> 57750
B51: Recipient | E51: 50000 | F51: 1 | G51: 4000 | H51: 45000 | I51: =H51/G51 -> 11.25 | X51: =E51+H51+M51+P51+S51+V51 -> 95000
B52: TFL | X52: =E52+H52+M52+P52+S52+V52 -> 0
...

Sheet All found Costs 
A1: DRAFT - Activity Cost Benchmarks Template LINKED into UNIT COSTS | V1: Prepared By:
A2: Activity | B2: Coast Average Cost | C2: Interior Average Cost | D2: Min | E2: Max | F2: Comments/Definitions
A3: Current Reforestation
A4: Surveys (Backlog NSR ) | B4: 30 | C4: 30
A5: Surveys and Overview Planning | B5: 55 | C5: 55
A6: Site Preparation | B6: 550 | C6: 350
A7: Brushing | B7: 762 | C7: 762
A8: Planting (Seedlings) | B8: 0.57 | C8: 0.57
A10: Timber Supply Mitigation
A11: Surveys and Overview Planning | B11: 30 | C11: 30
A12: Brushing / Cleaning | B12: 1000 | C12: 800
A13: Spacing | B13: 1760 | C13: 1500
A14: Fertilizer | B14: 248 | C14: 220
A16: Additional Costs / Activities
A17: Sowing / Seed Purchase
A18: Fertilizer Purchase

Sheet Detailed Costs 
A1: DRAFT - Activity Cost Benchmarks 2011/12 - Operations | W1: Prepared By:
A2: Project Submission Activity Category | B2: Billing Units | C2: Target Maximum Costs | D2: Variance + 20% | E2: Min | F2: Max | G2: Comments/Definitions
A3: 1.0 Administration | G3: One Per Investment Schedule _ Allowed
A4: 1.1 General Administration | B4: % I_S | C4: 0.015 | D4: =C4*1.2 -> 0.018 | E4: 0.05 | F4: 0.5 | G4: Includes General Administration, MU Budget Planning, RAH required Meetings
A5: 1.2 First Nations Capacity Building | B5: % I_S
B7: $ / Project
B8: $ / Project
B9: $ / Project
B11: $ / Project
B12: $ / Project
A13: 2.0 Strategic Resource Planning | G13: Only one Phase per IS for all activities unless approval given by IM.
A14: 2.1 Overview Planning | B14: $ / ha | C14: 0.015 | D14: 0.015 | E14: 0.46 | F14: 6.44 | G14: One Per I-S for all Overhead Related Activities
A15: 2.2 Access Mgmt Planning and Inspections | B15: $ / km | C15: 25 | D15: =C15*1.2 -> 30 | E15: 3 | F15: 206
A16: 2.2 Access Mgmt Treatments | B16: $ / km | C16: 1601 | D16: =C16*1.2 -> 1921.2 | E16: 285 | F16: 6179
A17: 3.0 Stand Estab. \ Treatment - All Areas | G17: Survey Projects should be separated when cost are greater the 10% (MPB vs. WF). If a Recipients is performing multiple phase (Surveys, and treatments plans) then the total costs should not be more that the combined allowable for each phases and should be indicated in the Project level descriptions or MU Budget comment section.
A18: Surveys Recce Level | B18: $ / ha | C18: 22 | D18: =C18*1.2 -> 26.4 | E18: 25 | F18: 92 | G18: Includes Recce field work summaries and REULTS entry (if Applicable)
A19: Surveys (MPB/WF) Full Plot | B19: $ / ha | C19: 50 | D19: =C19*1.2 -> 60 | E19: 25 | F19: 92 | G19: Includes Field Assessment and RESULTS Entry Total cost for Surveys and Site Treatment Plans is $65/ha
A20: Site Treatment Plans (MPB/WF) Full Scope | B20: $ / ha | C20: 15 | D20: =C20*1.2 -> 18 | E20: 25 | F20: 92 | G20: Includes Treatments Prescription / ROI Analysis Total costs Surveys and Site Treatment Plans is $65/ha
A21: Surveys (ITLS) | B21: $ / ha | C21: 30 | D21: =C21*1.2 -> 36 | E21: 35 | F21: 65 | G21: Includes Field Assessment / ROI )
A22: Surveys RG_FG (on FFT stands) | B22: $ / ha | C22: 25 | D22: =C22*1.2 -> 30 | E22: 19 | F22: 51 | G22: Includes Field Assessment / RESULTS Entry
A23: Multi Year Planning, contract Prep etc. (DTA, PL, BR, MSP) | B23: $ / ha | C23: 2 | D23: =C23*1.2 -> 2.4 | E23: 20 | F23: 350 | G23: Contract prep, planning, viewing etc not related to planting year
A24: Layout (PL, BR, MSP, including ITLSL works) | B24: $ / ha | C24: 60 | D24: =C24*1.2 -> 72 | E24: 19 | F24: 244 | G24: Layout for areas should only be completed once per opening (MSP, then PL)
A25: Danger Tree Assessment (MPB) | B25: $ / ha | C25: 29 | D25: =C25*1.2 -> 34.8 | E25: 19 | F25: 43 | G25: Includes assessment MPB often included with planting contracts
A26: Danger Tree Assessment / Felling (WF) | B26: $ / ha | C26: 150 | D26: =C26*1.2 -> 180 | E26: 101 | F26: 948 | G26: Includes assessment and/or falling WF
A27: Brushing (Site Prep or Maintenance) | B27: $ / ha | C27: 762 | D27: =C27*1.2 -> 914.4 | E27: 151 | F27: 1411 | G27: includes Field Boundary / Brushing Treatment / RESULTS entry
A28: Site Preparation _ Buncher/Knockdown Pile and Burn | B28: $ / ha | C28: 927 | D28: =C28*1.2 -> 1112.4 | E28: 492 | F28: 2682
A29: Site Preparation _ Disk Trench/Mounding | B29: $ / ha | C29: 340 | D29: =C29*1.2 -> 408 | E29: 383 | F29: 1139
A30: Site Preparation _ Knockdown Mulching | B30: $ / ha | C30: 650 | D30: =C30*1.2 -> 780 | E30: 1673 | F30: 1386 | G30: Includes Field Boundary / Treatment / RESULTS entry
A31: Planting | B31: $ / seedling | C31: 0.57 | D31: =C31*1.2 -> 0.684 | E31: 0.25 | F31: 2.14 | G31: Includes stock allocation / Plantwizard admin / planting / RESULTS entry
A32: FltC
A33: FltC Planning | B33: $ / Strategy | C33: 275 | D33: =C33*1.2 -> 330 | E33: 208 | F33: 931 | G33: Includes Cruising and Layout as well (Benchmarks below)
A34: Cruising | B34: $ / ha | G34: Included in above project
A35: Layout | B35: $ / ha | G35: Included in above project
A36: FltC Treatment and Processing | B36: $ / ha | C36: 650 | D36: =C36*1.2 -> 780 | E36: 899 | F36: 1169
A37: Stand Estab. \ Treatment -Backlog Impeded Stands
A38: File Review | B38: $ / ha | C38: 2.57 | D38: =C38*1.2 -> 3.084 | E38: 0.12 | F38: 27.14
A39: Field Review | B39: $ / ha | C39: 32 | D39: =C39*1.2 -> 38.4 | E39: 19 | F39: 51 | G39: Includes Field Assessment / Prescription / ROI / Field Boundary / RESULTS Entry
A40: Brushing | B40: $ / ha | C40: 762 | D40: =C40*1.2 -> 914.4 | E40: 151 | F40: 1411 | G40: includes Field Boundary / Brushing Treatment / RESULTS entry
A41: Stand Estab. \ Treatment - Enhancement
A42: Fertilization | B42: $ / ha | G42: Includes up front planning costs / treatments and RESULTS entry
...

Sheet Definitions

Sheet Sheet2
