Workbook
Name _: LocationLookUp!$L$3
Name Armstrong: LocationLookUp!$B$3
Name Campbell_River: LocationLookUp!$C$3
Name Chemainus: LocationLookUp!$D$3
Name chp_comments: Chip_MillQ!$C$49
Name chp_input_log_volume_tcm: Chip_MillQ!$E$46
Name chp_lat: Chip_MillQ!$E$13
Name chp_long: Chip_MillQ!$E$14
Name chp_mill_location: Chip_MillQ!$E$10
Name chp_mill_number: Chip_MillQ!$E$12
Name chp_operating_days: Chip_MillQ!$E$44
Name chp_output_cap_bdu: Chip_MillQ!$E$30
Name chp_output_cap_gpu: Chip_MillQ!$E$31
Name chp_persons_employed: Chip_MillQ!$E$43
Name chp_prodn_bdu: Chip_MillQ!$E$37
Name chp_prodn_gpu: Chip_MillQ!$E$39
Name chp_prodn_odt: Chip_MillQ!$E$38
Name chp_signature_name: Chip_MillQ!$C$58
Name chp_signature_telephone: Chip_MillQ!$E$58
Name Heffley_Creek: LocationLookUp!$E$3
Name Kamloops: LocationLookUp!$F$3
Name Langdale_Dryland_Sort: LocationLookUp!$G$3
Name location1: LocationLookUp!$B$2:$L$2
Name Mackenzie: LocationLookUp!$H$3
Name Port_Mellon: LocationLookUp!$I$3
Name Terrace: LocationLookUp!$J$3
Name Williams_lake: LocationLookUp!$K$3:$K$4

Sheet Chip_MillQ
B3: Ministry of Forests, Lands and Natural Resource Operations
B4: Mill Survey - 2010
B5: Please complete the following questionnaire electronically by filling in the blue cells and return by email to;
B6: Please indicate any corrections in pink cells
D7: Judith.Elkins@gov.bc.ca
B8: Thank you for your co-operation.
B9: 1. Chip Mill | F9: Any corrections?
C10: Mill Location: | D10: =IF(E10="_","→"," ") | E10: Heffley_Creek | I10: chp_mill_location
J11: =IF((chp_output_cap_bdu*chp_output_cap_gpu>0),"1","0") -> 0
C12: Mill Number: | D12: =IF(E12="","→"," ") | E12: 394 | I12: chp_mill_number
C13: Latitude | E13: =IF($E$12="","",VLOOKUP($E$12,Chip_Mill_List!$A$3:$AN$100,24,FALSE)) -> 54.52765 | I13: chp_lat
C14: Longitude | E14: =IF($E$12="","",VLOOKUP($E$12,Chip_Mill_List!$A$3:$AN$100,25,FALSE)) -> -128.5958 | I14: chp_long
D16: Any corrections? | G16: Any corrections?
B17: To: | C17: =IF($E$12="","",VLOOKUP($E$12,Chip_Mill_List!$A$3:$AN$100,7,FALSE)) -> Natalie Young | E17: e - mail: | F17: =IF($E$12="","",VLOOKUP($E$12,Chip_Mill_List!$A$3:$AN$100,12,FALSE)) -> Natalie.young@tolko.com
C18: =IF($E$12="","",VLOOKUP($E$12,Chip_Mill_List!$A$3:$AN$100,3,FALSE)) -> Tolko Industries Ltd. | E18: Phone: | F18: =IF($E$12="","",VLOOKUP($E$12,Chip_Mill_List!$A$3:$AN$100,8,FALSE)) -> (250) 578-7212
C19: =IF($E$12="","",VLOOKUP($E$12,Chip_Mill_List!$A$3:$AN$100,6,FALSE)) -> Heffley Creek
C20: =IF($E$12="","",VLOOKUP($E$12,Chip_Mill_List!$A$3:$AN$100,9,FALSE)) -> 6275 Yellowhead Hwy
C21: =IF($E$12="","",VLOOKUP($E$12,Chip_Mill_List!$A$3:$AN$100,10,FALSE)) -> Kamloops, B.C.
B23: If you have any questions, please contact either
B24: Jim Johnston | D24: OR | E24: =IF($E$12="","",VLOOKUP($E$12,Chip_Mill_List!$A$3:$AN$100,16,FALSE)) -> Brent May | F24: at your District Forestry office,
B25: Phone: (250) 387 8374 | E25: Phone: | F25: =IF($E$12="","",VLOOKUP($E$12,Chip_Mill_List!$A$3:$AI$100,20,FALSE)) -> (250) 638-5121
B26: Email: Jim.Johnston@gov.bc.ca. | E26: email: | F26: =IF($E$12="","",VLOOKUP($E$12,Chip_Mill_List!$A$3:$AI$13,22,FALSE)) -> Brent.May@gov.bc.ca
J28: =IF(((chp_prodn_bdu*chp_prodn_odt)+(chp_prodn_bdu*chp_prodn_gpu)+(chp_prodn_odt*chp_prodn_gpu))>0,"1","0") -> 0
B29: 2. Output Capacity | D29: Chips:
F30: 000 BDUs per 8-hr. Shift. | G30: =IF(J11="1","←"," ") | I30: chp_output_cap_bdu
D31: OR | F31: 000 GPUs (or 000 VUs) per 8-hr. Shift. | G31: =IF(J11="1","←"," ") | I31: chp_output_cap_gpu
B33: The information that you provide in the boxed portion of the survey form below is protected from disclosure under Section 21 of the Freedom of Information and Protection of Privacy Act. It will not be disclosed to anyone. Only aggregate results calculated from the data below will be published and no one will be able to identify your specific information.
B36: 3. Production (2010 actual) | D36: Chips:
F37: 000 BDUs | G37: =IF(J28="1","←"," ") | I37: chp_prodn_bdu
D38: OR | F38: 000 ODUs | G38: =IF(J28="1","←"," ") | I38: chp_prodn_odt
D39: OR | F39: 000 GPUs (or 000 VUs) | G39: =IF(J28="1","←"," ") | I39: chp_prodn_gpu
B41: 4. Total Employment 2010 (at this plant)
B42: (including production, maintenance, sales and administrative employees)
D43: Number of people employed this year | F43: persons | I43: chp_persons_employed
D44: Number of operating days this year | F44: days | I44: chp_operating_days
B46: 5. Volume of Logs Used (2010) | D46: : | F46: 000 cubic metres (m3) | I46: chp_input_log_volume_tcm
B47: Additional Comments
I48: chp_comments
B57: Name of person signing off on this response: (Please alter to the correct name and telephone number if either the name or number here are not correct)
C58: =IF($E$12="","",VLOOKUP($E$12,Chip_Mill_List!$A$3:$AN$100,7,FALSE)) -> Natalie Young | D58: Telephone | E58: =IF($E$12="","",VLOOKUP($E$12,Chip_Mill_List!$A$3:$AN$100,8,FALSE)) -> (250) 578-7212 | I58: chp_signature_name | J58: chp_signature_telephone
...

Sheet Chip_Mill_Data
B2: 1. Mill | E2: 2. Output Capacity | G2: 3. Production (2010 actual) | J2: 4. Total Employment 2010 (at this plant) | L2: 5. Volume of Logs Used (2010) | M2: Comments | N2: Name of Signee | O2: Signee Telephone Number
B3: Type | C3: Mill Location: | D3: Mill Number | E3: Chips | F3: or | G3: Chips | H3: or | I3: or | J3: Number of people employed this year | K3: Number of operating days this year
E4: 000 BDUs per 8-hr. shift | F4: 000 GPUs per 8-hr. shift | G4: 000 BDUs | H4: 000 oven dried tonnes | I4: 000 GPUs (or 000 VUs) | J4: persons | K4: days | L4: 000 cubic metres (m3)
B5: Chip Mill | C5: =chp_mill_location -> Heffley_Creek | D5: =chp_mill_number -> 394 | E5: =chp_output_cap_bdu -> 0 | F5: =chp_output_cap_gpu -> 0 | G5: =chp_prodn_bdu -> 0 | H5: =chp_prodn_odt -> 0 | I5: =chp_prodn_gpu -> 0 | J5: =chp_persons_employed -> 0 | K5: =chp_operating_days -> 0 | L5: =chp_input_log_volume_tcm -> 0 | M5: =chp_comments -> 0 | N5: =chp_signature_name -> Natalie Young | O5: =chp_signature_telephone -> (250) 578-7212

Sheet Chip_Mill_Data_Edits
A2: Contact Information | I2: 1. Mill | N2: 2. Output Capacity | P2: 3. Production (2010 actual) | S2: 4. Total Employment 2010 (at this plant) | U2: 5. Volume of Logs Used (2010) | V2: Name of Signee | W2: Signee Telephone Number
A3: Contact | B3: Contact Company | C3: Contact Address 1 | D3: Contact Address 2 | E3: Contact Address 3 | F3: Contact Email | G3: Contact Tel | H3: Contact Fax | I3: Type | J3: Mill Location: | K3: Mill Number | L3: Latitude | M3: Longitude | N3: Chips | O3: or | P3: Chips | Q3: or | R3: or | S3: Number of people employed this year | T3: Number of operating days this year
N4: 000 BDUs per 8-hr. shift | O4: 000 GPUs per 8-hr. shift | P4: 000 BDUs | Q4: 000 oven dried tonnes | R4: 000 GPUs (or 000 VUs) | S4: persons | T4: days | U4: 000 cubic metres (m3)
A5: =IF(Chip_MillQ!D17 = "", Chip_MillQ!C17, Chip_MillQ!D17) -> Natalie Young | B5: =IF(Chip_MillQ!D18 = "", Chip_MillQ!C18, Chip_MillQ!D18) -> Tolko Industries Ltd. | C5: =IF(Chip_MillQ!D19 = "", Chip_MillQ!C19, Chip_MillQ!D19) -> Heffley Creek | D5: =IF(Chip_MillQ!D20 = "", Chip_MillQ!C20, Chip_MillQ!D20) -> 6275 Yellowhead Hwy | E5: =IF(Chip_MillQ!D21 = "", Chip_MillQ!C21, Chip_MillQ!D21) -> Kamloops, B.C. | F5: =IF(Chip_MillQ!G17 ="", Chip_MillQ!F17,Chip_MillQ!G17) -> Natalie.young@tolko.com | G5: =IF(Chip_MillQ!G18="", Chip_MillQ!F18,Chip_MillQ!G18) -> (250) 578-7212 | H5: =IF(Chip_MillQ!G19 ="", Chip_MillQ!F19, Chip_MillQ!G19) -> 0 | I5: Chip Mill | J5: =IF(Chip_MillQ!F10 ="", chp_mill_location,Chip_MillQ!F10 ) -> Heffley_Creek | K5: =chp_mill_number -> 394 | L5: =IF(Chip_MillQ!F13="", chp_lat, Chip_MillQ!F13) -> 54.52765 | M5: =IF(Chip_MillQ!F14 = "", chp_long,Chip_MillQ!F14) -> -128.5958 | N5: =chp_output_cap_bdu -> 0 | O5: =chp_output_cap_gpu -> 0 | P5: =chp_prodn_bdu -> 0 | Q5: =chp_prodn_odt -> 0 | R5: =chp_prodn_gpu -> 0 | S5: =chp_persons_employed -> 0 | T5: =chp_operating_days -> 0 | U5: =chp_input_log_volume_tcm -> 0 | V5: =IF(Chip_MillQ!C60 ="", chp_signature_name,Chip_MillQ!C60) -> Natalie Young | W5: =IF(Chip_MillQ!E60 ="", chp_signature_telephone,Chip_MillQ!E60) -> (250) 578-7212

Sheet LocationLookUp
A2: Location | B2: Armstrong | C2: Campbell_River | D2: Chemainus | E2: Heffley_Creek | F2: Kamloops | G2: Langdale_Dryland_Sort | H2: Mackenzie | I2: Port_Mellon | J2: Terrace | K2: Williams_Lake | L2: _
A3: Mill_NO | B3: 68 | C3: 446 | D3: 345 | E3: 394 | F3: 952 | G3: 18 | H3: 356 | I3: 937 | J3: 183 | K3: 107
K4: 977

Sheet Chip_Mill_List
A1: MILL_NO | B1: COMBINED_ID | C1: COMPANY | D1: PROD | E1: DIVISION | F1: LOCATION | G1: CONTACT | H1: PHONE | I1: ADDRESS | J1: CITYPROV | K1: PSTCD | L1: EMAIL | M1: TSA | N1: FLRNRO REGION | O1: FLNRO District | P1: District Contact Info.CONTACT | Q1: District Contact Info.ADDRESS | R1: District Contact Info.CITYPROV | S1: District Contact Info.PSTCD | T1: District TELEPHONE | U1: Disctrict FAX | V1: District Contact Info.EMAIL | W1: MILL TYPE | X1: Latitude | Y1: Longitude | Z1: TOTAL CAPACITY | AC1: STATUS | AF1: Happy to Receive by Email? | AG1: Happy to Complete Electronically? | AH1: Have Excel? | AI1: If not, what? | AJ1: Happy to Return by Email? | AK1: Alternative Contact | AL1: COMMENTS | AM1: SURVEY_YEAR | AN1: RECORD NUMBER
Z2: 2006 | AA2: 2008 | AB2: 2009 | AC2: 2010 | AD2: 2011 | AE2: 40909
A3: 18 | B3: 18_CHP | C3: Terminal Forest Products Ltd. | D3: CHP | E3: Chipping Operations | F3: Langdale Dryland Sort | G3: Ian Ross | H3: (604) 886-7033 | I3: RR#6 2230 Twin Creek Road | J3: Gibsons B.C. | K3: V0N 1V6 | L3: iross@terminalforest.com | M3: 0 | N3: Northern Interior | O3: Mackenzie | P3: Betty Jo Weaver | Q3: Bag 5000, | R3: Mackenzie, B.C. | S3: V0J 2C0 | T3: (250) 997-2278 | U3: (250) 997-2236 | V3: BettyJo.Weaver@gov.bc.ca | W3: Chip Mill | X3: 55.3331 | Y3: -123.0991 | AA3: 240 | AF3: 1 | AG3: 1 | AI3: 1
A4: 68 | B4: 68_CHP | C4: Tolko Industries Ltd. | D4: CHP | E4: Chipping Operations - Armstrong | F4: Armstrong | G4: Luvena Bredick | H4: (250) 546-3171 | I4: 844 Otter Lake X-Road, Bag 5000 | J4: Armstrong, BC | K4: V0E 1B0 | L4: luvena.bredick@tolko.com | M4: 22 | N4: Coast | O4: Sunshine Coast | P4: Michael Davenport | Q4: 7077 Duncan Street, | R4: Powell River, B.C. | S4: V8A 1W1 | T4: (604) 485-0737 | U4: (604) 485-0799 | V4: Michael.Davenport@gov.bc.ca | W4: Chip Mill | X4: 49.433333 | Y4: -123.46667 | AA4: 91.2 | AF4: 1
A5: 107 | B5: 107_CHP | C5: Tolko Industries Ltd. | D5: CHP | E5: Chipping Operations - Soda Creek | F5: Williams Lake | G5: Crystal Armes | H5: (250) 398-3931 | I5: 110 Hodgson Road | J5: Williams Lake, B.C. | K5: V2G 3P6 | L5: crystal.armes@tolko.com | M5: 29 | N5: Coast | O5: Campbell River | P5: Patrick Hoyle | Q5: 1265 Dalhousie Drive, | R5: Kamloops, B.C. | S5: V2C 5Z5 | T5: (250) 371-6590 | U5: (250) 371-6565 | V5: patrick.hoyle@gov.bc.ca | W5: Chip Mill | X5: 49.89231 | Y5: -125.1532 | AA5: 110.4 | AF5: 1 | AG5: 1 | AI5: 1
A6: 183 | B6: 183_CHP | C6: West Fraser Mills Ltd. | D6: CHP | E6: Skeena Sawmill Division - Chipping Operations | F6: Terrace | G6: Linda McColman | H6: (250) 845-2322 | I6: P.O. Box 10 | J6: Terrace, B.C. | K6: V8G 4A3 | L6: linda.mccolman@westfraser.com | M6: 10 | N6: Coast | O6: Chilliwack | P6: Michael Davenport | Q6: 7077 Duncan Street, | R6: Powell River, B.C. | S6: V8A 1W1 | T6: (604) 485-0737 | U6: (604) 485-0799 | V6: Michael.Davenport@gov.bc.ca | W6: Chip Mill | X6: 49.216733 | Y6: -123.08684 | AA6: 264 | AF6: 1 | AG6: 1 | AI6: 1
A7: 345 | B7: 345_CHP | C7: DCT Chambers Trucking Ltd. | D7: CHP | E7: Chemanius - Chipping Operations | F7: Chemainus | G7: Joanne Stone | H7: (250) 550-2721 | I7: 600 Waddington Drive | J7: Vernon, B.C. | K7: V1T 8T6 | L7: joanne@dctchambers.com | M7: 38 | N7: Southern Interior | O7: Central Cariboo | P7: Bob Sklapsky | Q7: #200-640 Borland Street | R7: Williams Lake, B.C. | S7: V2G 4T1 | T7: (250) 398-4367 | U7: (250) 398-4790 | V7: bob.sklapsky@gov.bc.ca | W7: Chip Mill | X7: 52.00103 | Y7: -121.9188 | AA7: 57.6 | AF7: 1
A8: 356 | B8: 356_CHP | C8: East Fraser Fibre Co Ltd. | D8: CHP | E8: Chipping Operations | F8: Mackenzie | G8: Virginia Lessard | H8: (250) 563-6567 | I8: Suite 260, 1990 S. Ogilvie Street | J8: Prince George, B.C. | K8: V2N 1X1 | L8: vlessard@parallel55.com | M8: 16 | N8: Southern Interior | O8: Kamloops | P8: Patrick Hoyle | Q8: 1265 Dalhousie Drive, | R8: Kamloops, B.C. | S8: V2C 5Z5 | T8: (250) 371-6590 | U8: (250) 371-6565 | V8: patrick.hoyle@gov.bc.ca | W8: Chip Mill | X8: 50.85126 | Y8: -120.2705 | AA8: 81.6 | AF8: 1
A9: 394 | B9: 394_CHP | C9: Tolko Industries Ltd. | D9: CHP | E9: Chipping Operations | F9: Heffley Creek | G9: Natalie Young | H9: (250) 578-7212 | I9: 6275 Yellowhead Hwy | J9: Kamloops, B.C. | K9: V2H 1T8 | L9: Natalie.young@tolko.com | M9: 11 | N9: Northern Interior | O9: Kalum | P9: Brent May | Q9: Rm. 200, 5220 Keith Ave. | R9: Terrace, B.C. | S9: V8G 1L1 | T9: (250) 638-5121 | U9: (250) 638-5176 | V9: Brent.May@gov.bc.ca | W9: Chip Mill | X9: 54.52765 | Y9: -128.5958 | AA9: 480 | AF9: 1 | AG9: 1 | AI9: 1
A10: 446 | B10: 446_CHP | C10: Campbell River Fibre Ltd. | D10: CHP | E10: Chipping Operations | F10: Campbell River | G10: Gord Kraus | H10: (250) 286-3965 | I10: P.O. Box 838 | J10: Campbell River, B.C. | K10: V9W 6Y4 | L10: man.crf@telus.net | M10: 37 | N10: Southern Interior | O10: Okanagan Shuswap | P10: Hal Chambers | Q10: 2501 14th Avenue | R10: Vernon, B.C. | S10: V1T 8Z1 | T10: (250) 308-7815 | V10: Hal.Chambers@gov.bc.ca | W10: Chip Mill | X10: 50.44914 | Y10: -119.2019 | AA10: 96 | AF10: 1
A11: 937 | B11: 937_CHP | C11: Pacific Fibre | D11: CHP | E11: Chipping Operations | F11: Port Mellon | G11: David Milne | H11: (604) 881-2808 | I11: 9701 - 201st Street | J11: Langley, BC | K11: V1M 3E7 | L11: davem@interpacforest.com | M11: 39 | N11: Coast | O11: South Island | P11: Fred Rossiter | Q11: 370 S. Dogwood Street, | R11: Campbell River, B.C. | S11: V9W 6Y7 | T11: (250) 286-9354 | U11: (250) 286-9490 | V11: Fred.Rossiter@gov.bc.ca | W11: Chip Mill | X11: 49.14514 | Y11: -123.8782 | AA11: 0 | AF11: 1 | AG11: 1 | AI11: 1
A12: 952 | B12: 952_CHP | C12: River City Fibre | D12: CHP | E12: Chipping Operation | F12: Kamloops | G12: Dean Rosneau | H12: (250) 374-9503 | I12: 1880 Mission Flats Road | J12: Kamloops, BC | K12: V2C 1A9 | L12: rcf2007@telus.net | M12: 11 | N12: Coast | O12: South Island | P12: Tori Jones | Q12: 4885 Cherry Creek Road, | R12: Port Alberni, B.C. | S12: V9Y 8E9 | T12: (250) 731-3000 | U12: (250) 731-3010 | V12: Tori.Jones@gov.bc.ca | W12: Chip Mill | X12: 48.924874 | Y12: -123.75825 | AA12: 249.6 | AF12: 1
A13: 977 | B13: 977_CHP | C13: Pioneer Logging Ltd. | D13: CHP | E13: Pioneer Biomass Division | F13: Williams Lake | G13: Brian Hanson | H13: (250) 398-5922 | I13: 351 Hodgson Road | J13: Williams Lake, BC | K13: V2G 3P7 | L13: brian@pioneerlogging.com | M13: 29 | N13: Coast | O13: Chilliwack | P13: Bob Sklapsky | Q13: #200-640 Borland Street | R13: Williams Lake, B.C. | S13: V2G 4T1 | T13: (250) 398-4367 | U13: (250) 398-4790 | V13: bob.sklapsky@gov.bc.ca | W13: Chip Mill | X13: 49.18129 | Y13: -122.8852
A101: 1 | B101: =1+A101 -> 2 | C101: =1+B101 -> 3 | D101: =1+C101 -> 4 | E101: =1+D101 -> 5 | F101: =1+E101 -> 6 | G101: =1+F101 -> 7 | H101: =1+G101 -> 8 | I101: =1+H101 -> 9 | ... AN101: =1+AM101 -> 40

Sheet Full_Mill_List
A1: MILL_NO | B1: COMBINED_ID | C1: COMPANY | D1: STATUS | E1: PROD | F1: DIVISION | G1: LOCATION | H1: CONTACT | I1: PHONE | J1: ADDRESS | K1: CITYPROV | L1: PSTCD | M1: EMAIL | N1: Happy to Receive by Email? | O1: Alternative Contact | P1: COMMENTS | Q1: TSA | S1: SURVEY_YEAR | T1: Happy to Complete Electronically? | U1: Have Excel? | V1: If not, what? | W1: Happy to Return by Email? | X1: District Contact Info.CONTACT | Y1: District Contact Info.ADDRESS | Z1: District Contact Info.CITYPROV | AA1: District Contact Info.PSTCD | AB1: TELEPHONE | AC1: FAX | AD1: District Contact Info.EMAIL | AE1: Mill OK to Receive and Respond Electronically? | AJ1: NOTES
A3: 68 | B3: 68_CHP | C3: Tolko Industries Ltd. | D3: Op | E3: CHP | F3: Chipping Operations - Armstrong | G3: Armstrong | H3: Luvena Bredick | I3: (250) 546-3171 | J3: 844 Otter Lake X-Road, Bag 5000 | K3: Armstrong, BC | L3: V0E 1B0 | M3: luvena.bredick@tolko.com | N3: 1 | Q3: 22 | S3: 2010 | T3: 1 | X3: Michael Davenport | Y3: 7077 Duncan Street, | Z3: Powell River, B.C. | AA3: V8A 1W1 | AB3: (604) 485-0737 | AC3: (604) 485-0799 | AD3: Michael.Davenport@gov.bc.ca | AE3: Yes | AF3: Maybe | AG3: Unlikely | AH3: No | AI3: Don't Know
A4: 446 | B4: 446_CHP | C4: Campbell River Fibre Ltd. | D4: Op | E4: CHP | F4: Chipping Operations | G4: Campbell River | H4: Gord Kraus | I4: (250) 286-3965 | J4: P.O. Box 838 | K4: Campbell River, B.C. | L4: V9W 6Y4 | M4: man.crf@telus.net | N4: 1 | Q4: 37 | S4: 2009 | T4: 1 | X4: Hal Chambers | Y4: 2501 14th Avenue | Z4: Vernon, B.C. | AA4: V1T 8Z1 | AB4: (250) 308-7815 | AD4: Hal.Chambers@gov.bc.ca | AE4: Yes | AF4: Maybe | AG4: Unlikely | AH4: No | AI4: Don't Know
A5: 345 | B5: 345_CHP | C5: DCT Chambers Trucking Ltd. | D5: Op | E5: CHP | F5: Chemanius - Chipping Operations | G5: Chemainus | H5: Joanne Stone | I5: (250) 550-2721 | J5: 600 Waddington Drive | K5: Vernon, B.C. | L5: V1T 8T6 | M5: joanne@dctchambers.com | N5: 1 | Q5: 38 | S5: 2009 | T5: 1 | X5: Bob Sklapsky | Y5: #200-640 Borland Street | Z5: Williams Lake, B.C. | AA5: V2G 4T1 | AB5: (250) 398-4367 | AC5: (250) 398-4790 | AD5: bob.sklapsky@gov.bc.ca | AE5: Yes | AF5: Maybe | AG5: Unlikely | AH5: No | AI5: Don't Know
A6: 394 | B6: 394_CHP | C6: Tolko Industries Ltd. | D6: Op | E6: CHP | F6: Chipping Operations | G6: Heffley Creek | H6: Natalie Young | I6: (250) 578-7212 | J6: 6275 Yellowhead Hwy | K6: Kamloops, B.C. | L6: V2H 1T8 | M6: Natalie.young@tolko.com | N6: 1 | Q6: 11 | S6: 2009 | T6: 1 | U6: 1 | W6: 1 | X6: Brent May | Y6: Rm. 200, 5220 Keith Ave. | Z6: Terrace, B.C. | AA6: V8G 1L1 | AB6: (250) 638-5121 | AC6: (250) 638-5176 | AD6: Brent.May@gov.bc.ca | AE6: Yes | AF6: Maybe | AG6: Unlikely | AH6: No | AI6: Don't Know
A7: 952 | B7: 952_CHP | C7: River City Fibre | D7: Op | E7: CHP | F7: Chipping Operation | G7: Kamloops | H7: Dean Rosneau | I7: (250) 374-9503 | J7: 1880 Mission Flats Road | K7: Kamloops, BC | L7: V2C 1A9 | M7: rcf2007@telus.net | N7: 1 | Q7: 11 | S7: 2009 | T7: 1 | X7: Tori Jones | Y7: 4885 Cherry Creek Road, | Z7: Port Alberni, B.C. | AA7: V9Y 8E9 | AB7: (250) 731-3000 | AC7: (250) 731-3010 | AD7: Tori.Jones@gov.bc.ca | AE7: Yes | AF7: Maybe | AG7: Unlikely | AH7: No | AI7: Don't Know
A8: 18 | B8: 18_CHP | C8: Terminal Forest Products Ltd. | D8: IO | E8: CHP | F8: Chipping Operations | G8: Langdale Dryland Sort | H8: Ian Ross | I8: (604) 886-7033 | J8: RR#6 2230 Twin Creek Road | K8: Gibsons B.C. | L8: V0N 1V6 | M8: iross@terminalforest.com | N8: 1 | Q8: 0 | S8: 2009 | T8: 1 | U8: 1 | W8: 1 | X8: Betty Jo Weaver | Y8: Bag 5000, | Z8: Mackenzie, B.C. | AA8: V0J 2C0 | AB8: (250) 997-2278 | AC8: (250) 997-2236 | AD8: BettyJo.Weaver@gov.bc.ca | AE8: Yes | AF8: Maybe | AG8: Unlikely | AH8: No | AI8: Don't Know
A9: 356 | B9: 356_CHP | C9: East Fraser Fibre Co Ltd. | D9: Op | E9: CHP | F9: Chipping Operations | G9: Mackenzie | H9: Virginia Lessard | I9: (250) 563-6567 | J9: Suite 260, 1990 S. Ogilvie Street | K9: Prince George, B.C. | L9: V2N 1X1 | M9: vlessard@parallel55.com | N9: 1 | Q9: 16 | S9: 2009 | T9: 1 | X9: Patrick Hoyle | Y9: 1265 Dalhousie Drive, | Z9: Kamloops, B.C. | AA9: V2C 5Z5 | AB9: (250) 371-6590 | AC9: (250) 371-6565 | AD9: patrick.hoyle@gov.bc.ca | AE9: Yes | AF9: Maybe | AG9: Unlikely | AH9: No | AI9: Don't Know
A10: 937 | B10: 937_CHP | C10: Pacific Fibre | D10: Op | E10: CHP | F10: Chipping Operations | G10: Port Mellon | H10: David Milne | I10: (604) 881-2808 | J10: 9701 - 201st Street | K10: Langley, BC | L10: V1M 3E7 | M10: davem@interpacforest.com | N10: 1 | P10: likely an intermittent operation, no response | Q10: 39 | S10: 2009 | T10: 1 | U10: 1 | W10: 1 | X10: Fred Rossiter | Y10: 370 S. Dogwood Street, | Z10: Campbell River, B.C. | AA10: V9W 6Y7 | AB10: (250) 286-9354 | AC10: (250) 286-9490 | AD10: Fred.Rossiter@gov.bc.ca | AE10: Yes | AF10: Maybe | AG10: Unlikely | AH10: No | AI10: Don't Know
A11: 183 | B11: 183_CHP | C11: West Fraser Mills Ltd. | D11: TC | E11: CHP | F11: Skeena Sawmill Division - Chipping Operations | G11: Terrace | H11: Linda McColman | I11: (250) 845-2322 | J11: P.O. Box 10 | K11: Terrace, B.C. | L11: V8G 4A3 | M11: linda.mccolman@westfraser.com | N11: 1 | P11: In sale process | Q11: 10 | S11: 2010 | T11: 1 | U11: 1 | W11: 1 | X11: Michael Davenport | Y11: 7077 Duncan Street, | Z11: Powell River, B.C. | AA11: V8A 1W1 | AB11: (604) 485-0737 | AC11: (604) 485-0799 | AD11: Michael.Davenport@gov.bc.ca | AE11: Yes | AF11: Maybe | AG11: Unlikely | AH11: No | AI11: Don't Know
A12: 107 | B12: 107_CHP | C12: Tolko Industries Ltd. | D12: Op | E12: CHP | F12: Chipping Operations - Soda Creek | G12: Williams Lake | H12: Crystal Armes | I12: (250) 398-3931 | J12: 110 Hodgson Road | K12: Williams Lake, B.C. | L12: V2G 3P6 | M12: crystal.armes@tolko.com | N12: 1 | Q12: 29 | S12: 2009 | T12: 1 | U12: 1 | W12: 1 | X12: Patrick Hoyle | Y12: 1265 Dalhousie Drive, | Z12: Kamloops, B.C. | AA12: V2C 5Z5 | AB12: (250) 371-6590 | AC12: (250) 371-6565 | AD12: patrick.hoyle@gov.bc.ca | AE12: Yes | AF12: Maybe | AG12: Unlikely | AH12: No | AI12: Don't Know
A13: 977 | B13: 977_CHP | C13: Pioneer Logging Ltd. | D13: TC | E13: CHP | F13: Pioneer Biomass Division | G13: Williams Lake | H13: Brian Hanson | I13: (250) 398-5922 | J13: 351 Hodgson Road | K13: Williams Lake, BC | L13: V2G 3P7 | M13: brian@pioneerlogging.com | N13: 1 | P13: site 625 | Q13: 29 | S13: 2009 | T13: 1 | X13: Bob Sklapsky | Y13: #200-640 Borland Street | Z13: Williams Lake, B.C. | AA13: V2G 4T1 | AB13: (250) 398-4367 | AC13: (250) 398-4790 | AD13: bob.sklapsky@gov.bc.ca | AE13: Yes | AF13: Maybe | AG13: Unlikely | AH13: No | AI13: Don't Know
A14: 5 | B14: 5_LBR | C14: Abfam Enterprises Ltd. | D14: Op | E14: LBR | F14: Lumber Operations | G14: Port Clements | H14: Jim Abbott | I14: (250) 557-4201 | J14: P.O. Box 233 | K14: Port Clements, B.C. | L14: V0T 1R0 | M14: abfam@qcislands.net | N14: 1 | P14: 80%, Scale Site: 1BB | Q14: 25 | S14: 2008 | T14: 1 | X14: Dave Crossley | Y14: Box 39, | Z14: Queen Charlotte City, B.C. | AA14: V0T 1S0 | AB14: (250) 559-6200 | AC14: (250) 559-8342 | AD14: dave.crossley@gov.bc.ca | AE14: Yes | AF14: Maybe | AG14: Unlikely | AH14: No | AI14: Don't Know
A15: 9 | B15: 9_LBR | C15: A.J. Forest Products ltd. | D15: Op | E15: LBR | F15: Lumber Operations | G15: Brackendale | H15: June Gardiner | I15: (604) 898-3712 | J15: P.O. Box 3831 | K15: Garibaldi Highlands, B.C. | L15: V0N 1T0 | M15: juneg@ajforest.com | N15: 1 | Q15: 31 | S15: 2008 | T15: 1 | U15: 1 | W15: 1 | X15: Garry Newton | Y15: 42000 Loggers Lane, | Z15: Squamish, B.C. | AA15: V8B 0H3 | AB15: (604) 898-2116 | AC15: (604) 898-2191 | AD15: Gary.Newton@gov.bc.ca | AE15: Yes | AF15: Maybe | AG15: Unlikely | AH15: No | AI15: Don't Know
A16: 10 | B16: 10_LBR | C16: BC Custom Timber Products Ltd. | D16: TC | E16: LBR | F16: Lumber Operations | G16: Vanderhoof | H16: D. Cunningham | I16: (250) 567-2874 | J16: P.O. Box 635 | K16: Vanderhoof, B.C. | L16: V0J 3A0 | M16: timber@sinkutwireless.ca | N16: 1 | Q16: 24 | S16: 2008 | T16: 1 | X16: David R. Johnson | Y16: Box 190, 1522 Hwy 16 | Z16: Vanderhoof, B.C. | AA16: V0J 3A0 | AB16: (250) 567-6531 | AC16: (250) 567-6369 | AD16: David.Johnson@gov.bc.ca | AE16: Yes
A17: 12 | B17: 12_LBR | C17: Federated Co-op Ltd. | D17: DNO | E17: LBR | F17: Lumber Operations | G17: Canoe | H17: Dale Remsbery, Comptroller | I17: (250) 833-1200 | J17: P.O.Box 70 | K17: Canoe, B.C. | L17: V0E 1K0 | M17: dremsbery@fclcanoe.com | N17: 1 | Q17: 22 | S17: 2008 | T17: 1 | U17: 1 | W17: 1 | X17: Hal Chambers | Y17: 2501 14th Avenue | Z17: Vernon, B.C. | AA17: V1T 8Z1 | AB17: (250) 308-7815 | AD17: Hal.Chambers@gov.bc.ca | AE17: Yes | AF17: Maybe | AG17: Unlikely | AH17: No | AI17: Don't Know
A18: 14 | B18: 14_LBR | C18: Gorman Bros Lumber Ltd. | D18: Op | E18: LBR | F18: Lumber Operations | G18: Westbank | H18: R.A. Scott | I18: (250) 768-5131 | J18: P.O. Box 26052 | K18: Westbank, B.C. | L18: V4T 2G3 | M18: rscott@gormanbros.com | N18: 1 | Q18: 22 | S18: 2009 | T18: 1 | U18: 1 | W18: 1 | X18: Hal Chambers | Y18: 2501 14th Avenue | Z18: Vernon, B.C. | AA18: V1T 8Z1 | AB18: (250) 308-7815 | AD18: Hal.Chambers@gov.bc.ca | AE18: Yes | AF18: Maybe | AG18: Unlikely | AH18: No | AI18: Don't Know
A19: 20 | B19: 20_LBR | C19: Tolko Industries Ltd. | D19: Op | E19: LBR | F19: Lavington Division | G19: Lavington | H19: Heather Goodman | I19: (250) 545-4992 | J19: P.O. Box 1540 | K19: Vernon, B.C. | L19: V1T 8C2 | M19: heather.goodman@tolko.com | N19: 1 | Q19: 22 | S19: 2009 | T19: 1 | X19: Hal Chambers | Y19: 2501 14th Avenue | Z19: Vernon, B.C. | AA19: V1T 8Z1 | AB19: (250) 308-7815 | AD19: Hal.Chambers@gov.bc.ca | AE19: Yes | AF19: Maybe | AG19: Unlikely | AH19: No | AI19: Don't Know
A20: 25 | B20: 25_LBR | C20: Tolko Industries Ltd. | D20: OP | E20: LBR | F20: Nicola Valley Division | G20: Merritt | H20: Janice Parker | I20: (250) 378-2224 | J20: 1750 Lindley Creek Road | K20: Merritt, B.C. | L20: V1K 0A2 | M20: janice.parker@tolko.com | N20: 1 | Q20: 18 | S20: 2009 | T20: 1 | U20: 1 | W20: 1 | X20: Ray Lang | Y20: 3840 Airport Road | Z20: Merritt, B.C. | AA20: V1K 1B8 | AB20: (250) 378-8485 | AD20: Ray.Lang@gov.bc.ca | AE20: Yes | AF20: Maybe | AG20: Unlikely | AH20: No | AI20: Don't Know
A21: 27 | B21: 27_LBR | C21: Weyerhaeuser Company Ltd. | D21: CLOSED | E21: LBR | F21: Okanagan Falls Sawmill | G21: Okanagan Falls | H21: Nicole Elliot | I21: (250) 828-7769 | J21: P.O. Box 800 | K21: Kamloops, B.C. | L21: V2C 5M7 | M21: nicole.elliot@weyerhaeuser.com | N21: 1 | Q21: 22 | S21: 2008 | T21: 1 | X21: Hal Chambers | Y21: 2501 14th Avenue | Z21: Vernon, B.C. | AA21: V1T 8Z1 | AB21: (250) 308-7815 | AD21: Hal.Chambers@gov.bc.ca | AE21: Yes | AF21: Maybe | AG21: Unlikely | AH21: No | AI21: Don't Know
A22: 29 | B22: 29_LBR | C22: Weyerhaeuser Company Ltd. | D22: Op | E22: LBR | F22: Princeton Sawmill | G22: Princeton | H22: Ken Whitter | I22: (604) 661-8133 | J22: Old Hedley Road | K22: Princeton, BC | L22: V0X 1W0 | M22: ken.whitter@weyerhaeuser.com | N22: 1 | Q22: 18 | S22: 2009 | T22: 1 | X22: Ray Lang | Y22: 3840 Airport Road | Z22: Merritt, B.C. | AA22: V1K 1B8 | AB22: (250) 378-8485 | AD22: Ray.Lang@gov.bc.ca | AE22: Yes | AF22: Maybe | AG22: Unlikely | AH22: No | AI22: Don't Know
A23: 30 | B23: 30_LBR | C23: Interfor | D23: Op | E23: LBR | F23: Lumber Operations -Grand Forks | G23: Grand Forks | H23: Cheryl Beatty | I23: (250) 443-2444 | J23: P.O. Box 39 | K23: Grand Forks, B.C. | L23: V0H 1H0 | M23: cheryl.Beatty@interfor.com | N23: 1 | Q23: 2 | S23: 2009 | T23: 1 | X23: Val Golley | Y23: 1907 Ridgewood Road | Z23: Nelson BC | AA23: V1L 6K1 | AB23: (250) 825-1169 | AC23: (250) 825-9657 | AD23: Val.Golley@gov.bc.ca | AE23: Yes | AF23: Maybe | AG23: Unlikely | AH23: No | AI23: Don't Know
A24: 32 | B24: 32_LBR | C24: Gibbs Custom Sawmill | D24: Op | E24: LBR | F24: Lumber Operations | G24: McBride | H24: Andrew Gibbs | I24: (250) 569-3228 | J24: P.O. Box 307 | K24: McBride, B.C. | L24: V0J 2E0 | M24: aagibbs@telus.net | N24: 1 | Q24: 17 | S24: 2008 | T24: 1 | U24: 1 | W24: 1 | X24: Patrick Ellis | Y24: Box 40, 300 Robson Centre | Z24: McBride, B.C. | AA24: V0J 3E0 | AB24: (250) 614-7454 | AD24: Patrick.Ellis@gov.bc.ca | AE24: Yes | AF24: Maybe | AG24: Unlikely | AH24: No | AI24: Don't Know
A25: 45 | B25: 45_LBR | C25: Downie Timber Ltd. | D25: Op | E25: LBR | F25: Lumber Operations | G25: Revelstoke | H25: Mark Pickering | I25: (250) 814-7442 | J25: P.O. Box 800 | K25: Revelstoke, B.C. | L25: V0E 2S0 | M25: mpickering@downietimber.com | N25: 1 | Q25: 27 | S25: 2009 | T25: 1 | X25: Bryan Juelfs | Y25: BOX 9158 RPO #3 | Z25: Revelstoke, BC | AA25: V0E 3K0 | AB25: (250) 837-7700 | AC25: (250) 837-7626 | AD25: Bryan.Juelfs@gov.bc.ca | AE25: Yes | AF25: Maybe | AG25: Unlikely | AH25: No | AI25: Don't Know
A26: 50 | B26: 50_LBR | C26: Kalesnikoff Lumber Co. Ltd. | D26: Op | E26: LBR | F26: Lumber Operations | G26: Thrums | H26: Stan Hadikin | I26: (250) 399-4211 | J26: P.O. Box 3000, Highway 3A | K26: Thrums, B.C. | L26: V1N 3L8 | M26: stanh@kalesnikoff.com | N26: 1 | Q26: 1 | S26: 2009 | T26: 1 | X26: Val Golley | Y26: 1907 Ridgewood Road | Z26: Nelson BC | AA26: V1L 6K1 | AB26: (250) 825-1169 | AC26: (250) 825-9657 | AD26: Val.Golley@gov.bc.ca | AE26: Yes | AF26: Maybe | AG26: Unlikely | AH26: No | AI26: Don't Know
A27: 55 | B27: 55_LBR | C27: Springer Creek Forest Products | D27: Op | E27: LBR | F27: Slocan | G27: Slocan | H27: Dianne V. Smith | I27: (250) 355-2100 | J27: 705 Delaney Avenue | K27: Slocan, B.C. | L27: V0G 2C0 | M27: dianne.smith@springercreek.com | N27: 1 | Q27: 1 | S27: 2009 | T27: 1 | X27: Val Golley | Y27: 1907 Ridgewood Road | Z27: Nelson BC | AA27: V1L 6K1 | AB27: (250) 825-1169 | AC27: (250) 825-9657 | AD27: Val.Golley@gov.bc.ca | AE27: Yes | AF27: Maybe | AG27: Unlikely | AH27: No | AI27: Don't Know
A28: 62 | B28: 62_LBR | C28: Interfor | D28: Op | E28: LBR | F28: Lumber Operations - Castlegar | G28: Castlegar | H28: Yez Malloff | I28: (250) 365-4406 | J28: 2705 Arrow Lakes Drive | K28: Castlegar, B.C. | L28: V1N 3W4 | M28: yez.malloff@interfor.com | N28: 1 | Q28: 1 | S28: 2009 | T28: 1 | X28: Val Golley | Y28: 1907 Ridgewood Road | Z28: Nelson BC | AA28: V1L 6K1 | AB28: (250) 825-1169 | AC28: (250) 825-9657 | AD28: Val.Golley@gov.bc.ca | AE28: Yes | AF28: Maybe | AG28: Unlikely | AH28: No | AI28: Don't Know
A29: 64 | B29: 64_LBR | C29: Canadian Forest Products Ltd. | D29: TC | E29: LBR | F29: Vavenby Division | G29: Vavenby | H29: Heather Millard | I29: (250) 962-3410 | J29: P.O. Box 39 | K29: Vavenby, B.C. | L29: V0E 3A0 | M29: heather.millard@canfor.com | N29: 1 | Q29: 11 | S29: 2009 | T29: 1 | U29: 1 | W29: 1 | X29: Patrick Hoyle | Y29: 1265 Dalhousie Drive, | Z29: Kamloops, B.C. | AA29: V2C 5Z5 | AB29: (250) 371-6590 | AC29: (250) 371-6565 | AD29: patrick.hoyle@gov.bc.ca | AE29: Yes | AF29: Maybe | AG29: Unlikely | AH29: No | AI29: Don't Know
A30: 66 | B30: 66_LBR | C30: Gilbert Smith For Prod Ltd. | D30: Op | E30: LBR | F30: Lumber Operations | G30: Barriere | H30: Martin Matthews | I30: (250) 672-9435 | J30: P.O. Box 689 | K30: Barriere, B.C. | L30: V0E 1E0 | M30: gilbert_smith@telus.net | N30: 1 | Q30: 11 | S30: 2009 | T30: 1 | X30: Patrick Hoyle | Y30: 1265 Dalhousie Drive, | Z30: Kamloops, B.C. | AA30: V2C 5Z5 | AB30: (250) 371-6590 | AC30: (250) 371-6565 | AD30: patrick.hoyle@gov.bc.ca | AE30: Yes | AF30: Maybe | AG30: Unlikely | AH30: No | AI30: Don't Know
A31: 67 | B31: 67_LBR | C31: Tolko Industries Ltd. | D31: Op | E31: LBR | F31: Lumber Operations - Kelowna | G31: Kelowna | H31: Michelle Wood | I31: (250) 861-6933 | J31: 820 Guy Street | K31: Kelowna, B.C. | L31: V1Y 7R5 | M31: michelle.wood@tolko.com | N31: 1 | Q31: 22 | S31: 2009 | T31: 1 | X31: Hal Chambers | Y31: 2501 14th Avenue | Z31: Vernon, B.C. | AA31: V1T 8Z1 | AB31: (250) 308-7815 | AD31: Hal.Chambers@gov.bc.ca | AE31: Yes | AF31: Maybe | AG31: Unlikely | AH31: No | AI31: Don't Know
A32: 68 | B32: 68_LBR | C32: Tolko Industries Ltd. | D32: Op | E32: LBR | F32: Lumber Operations - Armstrong | G32: Armstrong | H32: Luvena Bredick | I32: (250) 546-3171 | J32: 844 Otter Lake X-Road, Bag 5000 | K32: Armstrong, BC | L32: V0E 1B0 | M32: luvena.bredick@tolko.com | N32: 1 | Q32: 22 | S32: 2009 | T32: 1 | X32: Hal Chambers | Y32: 2501 14th Avenue | Z32: Vernon, B.C. | AA32: V1T 8Z1 | AB32: (250) 308-7815 | AD32: Hal.Chambers@gov.bc.ca | AE32: Yes | AF32: Maybe | AG32: Unlikely | AH32: No | AI32: Don't Know
A33: 70 | B33: 70_LBR | C33: International Forest Products Ltd. | D33: Op | E33: LBR | F33: Adams Lake Lumber Division | G33: Adams Lake | H33: Doug Reedman | I33: (250) 679-3234 | J33: R.R. #2 | K33: Chase, B.C. | L33: V0E 1M0 | M33: doug.reedman@interfor.com | N33: 1 | Q33: 11 | S33: 2009 | T33: 1 | U33: 1 | W33: 1 | X33: Patrick Hoyle | Y33: 1265 Dalhousie Drive, | Z33: Kamloops, B.C. | AA33: V2C 5Z5 | AB33: (250) 371-6590 | AC33: (250) 371-6565 | AD33: patrick.hoyle@gov.bc.ca | AE33: Yes | AF33: Maybe | AG33: Unlikely | AH33: No | AI33: Don't Know
A34: 79 | B34: 79_LBR | C34: Tembec Industries Ltd. | D34: Op | E34: LBR | F34: Lumber Operations - Canal Flats | G34: Canal Flats | H34: Troy Hromadnik | I34: 250-426-9246 | J34: P.O. Box 4600 | K34: Cranbrook, B.C. | L34: V1C 4J7 | M34: troy.hromadnik@tembec.com | N34: 1 | Q34: 9 | S34: 2009 | T34: 1 | X34: Dean Draper | Y34: 1902 Theatre Rd | Z34: Cranbrook, BC | AA34: V1C 7G1 | AB34: (250) 426-1752 | AD34: Dean.Draper@gov.bc.ca | AE34: Yes | AF34: Maybe | AG34: Unlikely | AH34: No | AI34: Don't Know
A35: 82 | B35: 82_LBR | C35: Tembec Industries Ltd. | D35: Op | E35: LBR | F35: Lumber Operations - Elko | G35: Elko | H35: Troy Hromadnik | I35: 250-426-9246 | J35: P.O. Box 4600 | K35: Cranbrook, B.C. | L35: V1C 4J7 | M35: troy.hromadnik@tembec.com | N35: 1 | Q35: 5 | S35: 2009 | T35: 1 | X35: Dean Draper | Y35: 1902 Theatre Rd | Z35: Cranbrook, BC | AA35: V1C 7G1 | AB35: (250) 426-1752 | AD35: Dean.Draper@gov.bc.ca | AE35: Yes | AF35: Maybe | AG35: Unlikely | AH35: No | AI35: Don't Know
A36: 86 | B36: 86_LBR | C36: Galloway Lumber Co. Ltd. | D36: Op | E36: LBR | F36: Lumber Operations | G36: Galloway | H36: Bud Nelson | I36: (250) 429-3496 | J36: General Delivery | K36: Galloway, B.C. | L36: V0B 1P0 | M36: bud@gallowaylumber.ca | N36: 1 | Q36: 5 | S36: 2008 | T36: 1 | X36: Dean Draper | Y36: 1902 Theatre Rd | Z36: Cranbrook, BC | AA36: V1C 7G1 | AB36: (250) 426-1752 | AD36: Dean.Draper@gov.bc.ca | AE36: Yes | AF36: Maybe | AG36: Unlikely | AH36: No | AI36: Don't Know
A37: 87 | B37: 87_LBR | C37: Woodex Industries Ltd. | D37: Op | E37: LBR | F37: Lumber Operations | G37: Edgewater | H37: Steve Williams | I37: (250) 688-1257 | J37: #208 - 10451 Shellbridge Way | K37: Richmond, BC | L37: V6X 2W8 | M37: swilliams@woodexind.com | N37: 1 | Q37: 9 | S37: 2009 | T37: 1 | X37: Dean Draper | Y37: 1902 Theatre Rd | Z37: Cranbrook, BC | AA37: V1C 7G1 | AB37: (250) 426-1752 | AD37: Dean.Draper@gov.bc.ca | AE37: Yes | AF37: Maybe | AG37: Unlikely | AH37: No | AI37: Don't Know
A38: 88 | B38: 88_LBR | C38: J H Huscroft Ltd. | D38: Op | E38: LBR | F38: Lumber Operations | G38: Erickson | H38: Gwen Telling | I38: (250) 428-3713 | J38: 922 32nd Ave S | K38: Creston, B.C. | L38: V0B 1G1 | M38: telling.g@shawcable.com | N38: 1 | Q38: 13 | S38: 2009 | T38: 1 | X38: Val Golley | Y38: 1907 Ridgewood Rd. | Z38: Nelson, B.C. | AA38: V1L 6K1 | AB38: (250) 825-1169 | AC38: (250) 825-9657 | AD38: val.golley@gov.bc.ca | AE38: Yes | AF38: Maybe | AG38: Unlikely | AH38: No | AI38: Don't Know
A39: 90 | B39: 90_LBR | C39: Canadian Forest Products Ltd. | D39: IC | E39: LBR | F39: Radium Division | G39: Radium Hot Sprgs | H39: Heather Millard | I39: (250) 962-3410 | J39: P.O. Box 39 | K39: Radium Hot Springs, B.C. | L39: V0A 1M0 | M39: heather.millard@canfor.com | N39: 1 | Q39: 9 | S39: 2009 | T39: 1 | U39: 1 | W39: 1 | X39: Dean Draper | Y39: 1902 Theatre Rd | Z39: Cranbrook, BC | AA39: V1C 7G1 | AB39: (250) 426-1752 | AD39: Dean.Draper@gov.bc.ca | AE39: Yes | AF39: Maybe | AG39: Unlikely | AH39: No | AI39: Don't Know
A40: 93 | B40: 93_LBR | C40: Wynndel Box & Lumber Co. Ltd. | D40: Op | E40: LBR | F40: Lumber Operations | G40: Wynndel | H40: Michael Wigen | I40: (250) 866-5231 | J40: P.O. Box 40 | K40: Wynndel, B.C. | L40: V0B 2N0 | M40: jmwigen@uniserve.com | N40: 1 | Q40: 13 | S40: 2009 | T40: 1 | X40: Val Golley | Y40: 1907 Ridgewood Rd. | Z40: Nelson, B.C. | AA40: V1L 6K1 | AB40: (250) 825-1169 | AC40: (250) 825-9657 | AD40: val.golley@gov.bc.ca | AE40: Yes | AF40: Maybe | AG40: Unlikely | AH40: No | AI40: Don't Know
A41: 95 | B41: 95_LBR | C41: West Fraser Mills Ltd. | D41: OP | E41: LBR | F41: Lumber Operations | G41: 100 Mile House | H41: Ken Robertson | I41: (250) 395-8200 | J41: P.O. Box 97 | K41: 100 Mile House, B.C. | L41: V0K 2E0 | M41: ken.robertson@westfraser.com | N41: 1 | Q41: 23 | S41: 2009 | T41: 1 | X41: Phil Kabool | Y41: Box 129 | Z41: 100 Mile House. B.C. | AA41: V0K 2E0 | AB41: (250) 395-7890 | AC41: (250) 395-7810 | AD41: philip.kabool@gov.bc.ca | AE41: Yes | AF41: Maybe | AG41: Unlikely | AH41: No | AI41: Don't Know
...

Sheet Updating_Data
A1: How to Edit the Mill Survey
A2: [Sheet Names]
A4: -Since the Mill List changes from year to year, edits must be made to the excel spreadsheets to reflect current data
A5: Updating Data for the Survey
A7: 1) Once the [Full_Mill_List] Sheet has been updated, to pull in new data into the survey we must sort the data to input the correct product(s). First go to the [Full_Mill_List] Sheet, and click “E” above the PROD Column, then go to “Sort & Filter” and click “Filter”. (You will notice a small tab has appeared on the right side of the cell)
A21: 2) Next Click the tab in the “PROD” cell and pick the product(s) you desire, you can now compare this list with the [Chip_Mill_List]
A35: 3) If there are changes to be made please copy the data from [Full_Mill_List], and Special paste, only Values in row 3.
A49: 4) Using the data you just pasted compare the Locations and Mill_NO fields with data from [LocationLookUp]. If there are changes to be made, go to [LocationLookUp] and make the required changes by adding or removing locations and mill number’s.
A54: 5) When adding locations make sure to use “_” instead of spaces, and insure that all the mill numbers are given the appropriate mill name (Example: If I add a location named Williams_Lake and it has mills 107 and 977, I would highlight these two cells then click the name box left of the formula bar and type in “Williams_Lake” and press Enter.
A70: 6) Adding a mill number to an already existing location is a bit more complicated, first add in the mill number then click Ctrl + F3, this will bring you to the “name manager,” where you can adjust names. Find the location name which you added the mill number and select “Edit.”
A90: 7) This will bring a window up called “Edit Name,” which you will then proceed by clicking the Reference to, too include your new entries.
A104: 8) Once finished editing the location and mill numbers, go back into the name manager and edit the name location1 to include new locations you added.

Sheet Notes
B2: List of Names of Yellow & Blue Cells, from Chip_MillQ:
B5: 1. Mill | C5: Type | E5: CHP
C6: Mill Location: | E6: chp_mill_location
C7: Mill Number | E7: chp_mill_number
B8: 2. Output Capacity | C8: Chips | D8: 000 BDUs per 8-hr. shift | E8: chp_output_cap_bdu
C9: or | D9: 000 GPUs per 8-hr. shift | E9: chp_output_cap_gpu
B10: 3. Production (2010 actual) | C10: Chips | D10: 000 BDUs | E10: chp_prodn_bdu
C11: or | D11: 000 oven dried tonnes | E11: chp_prodn_odt
C12: or | D12: 000 GPUs (or 000 VUs) | E12: chp_prodn_gpu
B13: 4. Total Employment 2010 (at this plant) | C13: Number of people employed this year | D13: persons | E13: chp_persons_employed
C14: Number of operating days this year | D14: days | E14: chp_operating_days
B15: 5. Volume of Logs Used (2010) | D15: 000 cubic metres (m3) | E15: chp_input_log_volume_tcm
B16: Comments | E16: chp_comments
B17: Signee Telephone Number | E17: chp_signature_name
B18: Name of Signee | E18: chp_signature_telephone
B20: Green | C20: Data included in our Database
B21: Yellow | C21: Mill Location and Number
B22: Pink | C22: corrections made by chip mill
B23: Blue | C23: Information MFLNRO wishes to collect
B29: CHP_Mill_Data provides a row of data using only the Yellow & Blue cells with the formates and names in order listed above which can be imported into the Access Database
B32: CHP_Mill_Data_Edits provides a row of data using Green & Yellow cells as the primary cells, however if the Pink (tanned) cells consist of data this data will be used since the Pink (tanned) cells include changes to original data which we provided
B36: If there are changes to be made to data we have provided, please use the CHP_Mill_Data_Edits Sheet and make the appropriate changes to the Access Database
