Workbook

Sheet Notes
A1: Description | B1: This Excel Workbook presents the estimated forest volume killed in the Crown Forested Land Base by selected Aerial Overview Forest Health Factors, as well as the amount of that killed volume that has been either harvested or not harvested as of the year 2017. See the 'FHF LUT' worksheet to see with Aerial Overview forest health factors are included in this analysis. The estimates are only for Timber Supply Areas and do not include Tree Farm Licences.
A2: Source Data | B2: 1) Crica 2001 forest inventory derived from the circa 2001 Vegetation Inventory (VRI) and the circa 2001 State of the Forest. 2) 1999 through 2017 Aerial Overview Surveys of Forest Health. 3) Logging history derived from the VRI and Results databases. 4) Provincial Mountain Pine Beetle Spread Model (www.for.gov.bc.ca/hre/bcmpb) 5) Crown Forested Land Base based on F_own (see 'CFLB Definition' worksheet for criteria used), excluding areas within Tree Farm Licences
A3: Author | B3: Adrian Walton, Ministry of Forests, Lands, Natural Resource Operations and Rural Development
A4: Production Date | B4: 43175
A5: Caveats | B5: In the 2008 aerial overview, there were inconsistency in data gathering compared to other years. These were in part due to weather conditions and contractor availability that resulted in completion of the 2008 aerial overview survey for portions of the Northern Interior Forest Region (NIFR) much later than is optimal . The forest management units most negatively affected were Lakes, Mackenzie and Dawson Creek Timber Supply Areas, and the Vanderhoof, Fort St. James and Prince George Forest Districts. As a result, these management units all showed a drop in overall infestation levels in 2008. Estimates for the mountain pine beetle (IBM) are derived from the provincial mountain pine beetle spread model (aka BCMPB) (www.for.gov.bc.ca/hre/bcmpb) In 2006 and 2008, the mountain pine beetle impacts were overestimated in some TSAs in the southeast of the province. The TSAs most affected were Arrow, Boundary, Cranbrook, Golden and Kootenay Lake.
A6: Instructions | B6: 1) Choose the desired TSA and/or Forest Health Factor on the 'Single TSA and FHF' worksheet and the tables and chart will update to reflect the choice. 2) Similarly, choose the desired TSA(s) and/or Forest Health Factor(s) on the 'Tsa Comparson' worksheet and the tables will be updated on that sheet as well as the charts on the 'TSA Comparison Chart' worksheet. 3) Again Similarly, choose the desired TSA(s) and/or Forest Health Factor(s) on the 'FHF Comparson' worksheet and the tables will be updated on that sheet as well as the charts on the 'FHF Comparison Chart' worksheet.

Sheet Single TSA and FHF
A1: Forest Health Factor | B1: (All)
A2: TSA_NUMBER_DESCR | B2: (All)
B4: Values
A5: Year | B5: Sum of VOLUMEKILLED | C5: Sum of NRLVOLUME
A6: 1999 | B6: 14922608 | C6: 12528819
A7: 2000 | B7: 26938078 | C7: 23644474
A8: 2001 | B8: 34589078 | C8: 29765241
A9: 2002 | B9: 61562303 | C9: 50987050
A10: 2003 | B10: 97488954 | C10: 78329454
A11: 2004 | B11: 119071836 | C11: 90545266
A12: 2005 | B12: 189308533 | C12: 136628167
A13: 2006 | B13: 161531782 | C13: 120923305
A14: 2007 | B14: 144541484 | C14: 111827902
A15: 2008 | B15: 85749091 | C15: 71172280
A16: 2009 | B16: 85738264 | C16: 77582053
A17: 2010 | B17: 73211331 | C17: 68513048
... A24: 2017 | B24: 28115448 | C24: 27507828
A25: Grand Total | B25: 1255523435 | C25: 1027944684
A27: =CONCATENATE("Annual Volume Killed -- ",IF($B$1 = "(ALL)","ALL Modelled Health Factors",$B$1)," -- ",IF($B$2 = "(ALL)","Entire Province",$B$2)," CFLB") -> Annual Volume Killed -- ALL Modelled Health Factors -- Entire Province CFLB
A28: =A5 -> Year | B28: Volume Killed | C28: Volume Killed and Not Harvested (NRL) as of 2017 | D28: Volume Killed and Harvested as of 2017
A29: =A6 -> 1999 | B29: =B6 -> 14922608 | C29: =C6 -> 12528819 | D29: =B29-C29 -> 2393789
A30: =A7 -> 2000 | B30: =B7 -> 26938078 | C30: =C7 -> 23644474 | D30: =B30-C30 -> 3293604
A31: =A8 -> 2001 | B31: =B8 -> 34589078 | C31: =C8 -> 29765241 | D31: =B31-C31 -> 4823837
A32: =A9 -> 2002 | B32: =B9 -> 61562303 | C32: =C9 -> 50987050 | D32: =B32-C32 -> 10575253
A33: =A10 -> 2003 | B33: =B10 -> 97488954 | C33: =C10 -> 78329454 | D33: =B33-C33 -> 19159500
A34: =A11 -> 2004 | B34: =B11 -> 119071836 | C34: =C11 -> 90545266 | D34: =B34-C34 -> 28526570
A35: =A12 -> 2005 | B35: =B12 -> 189308533 | C35: =C12 -> 136628167 | D35: =B35-C35 -> 52680366
A36: =A13 -> 2006 | B36: =B13 -> 161531782 | C36: =C13 -> 120923305 | D36: =B36-C36 -> 40608477
A37: =A14 -> 2007 | B37: =B14 -> 144541484 | C37: =C14 -> 111827902 | D37: =B37-C37 -> 32713582
A38: =A15 -> 2008 | B38: =B15 -> 85749091 | C38: =C15 -> 71172280 | D38: =B38-C38 -> 14576811
A39: =A16 -> 2009 | B39: =B16 -> 85738264 | C39: =C16 -> 77582053 | D39: =B39-C39 -> 8156211
A40: =A17 -> 2010 | B40: =B17 -> 73211331 | C40: =C17 -> 68513048 | D40: =B40-C40 -> 4698283
... A47: =A24 -> 2017 | B47: =B24 -> 28115448 | C47: =C24 -> 27507828 | D47: =B47-C47 -> 607620
A48: Grand Total | B48: =SUM(B29:B47) -> 1255523435 | C48: =SUM(C29:C47) -> 1027944684 | D48: =SUM(D29:D47) -> 227578751
A52: =CONCATENATE("Cumulative Volume Killed -- ",IF($B$1 = "(ALL)","ALL Modelled Health Factors",$B$1)," -- ",IF($B$2 = "(ALL)","Entire Province",$B$2)," CFLB") -> Cumulative Volume Killed -- ALL Modelled Health Factors -- Entire Province CFLB
A53: =A28 -> Year | B53: Volume Killed | C53: Volume Killed and Not Harvested (NRL) as of 2017 | D53: Volume Killed and Harvested as of 2017
A54: =A29 -> 1999 | B54: =B29 -> 14922608 | C54: =C29 -> 12528819 | D54: =B54-C54 -> 2393789
A55: =A30 -> 2000 | B55: =B30+B54 -> 41860686 | C55: =C30+C54 -> 36173293 | D55: =D30+D54 -> 5687393
A56: =A31 -> 2001 | B56: =B31+B55 -> 76449764 | C56: =C31+C55 -> 65938534 | D56: =D31+D55 -> 10511230
A57: =A32 -> 2002 | B57: =B32+B56 -> 138012067 | C57: =C32+C56 -> 116925584 | D57: =D32+D56 -> 21086483
A58: =A33 -> 2003 | B58: =B33+B57 -> 235501021 | C58: =C33+C57 -> 195255038 | D58: =D33+D57 -> 40245983
A59: =A34 -> 2004 | B59: =B34+B58 -> 354572857 | C59: =C34+C58 -> 285800304 | D59: =D34+D58 -> 68772553
A60: =A35 -> 2005 | B60: =B35+B59 -> 543881390 | C60: =C35+C59 -> 422428471 | D60: =D35+D59 -> 121452919
A61: =A36 -> 2006 | B61: =B36+B60 -> 705413172 | C61: =C36+C60 -> 543351776 | D61: =D36+D60 -> 162061396
A62: =A37 -> 2007 | B62: =B37+B61 -> 849954656 | C62: =C37+C61 -> 655179678 | D62: =D37+D61 -> 194774978
A63: =A38 -> 2008 | B63: =B38+B62 -> 935703747 | C63: =C38+C62 -> 726351958 | D63: =D38+D62 -> 209351789
A64: =A39 -> 2009 | B64: =B39+B63 -> 1021442011 | C64: =C39+C63 -> 803934011 | D64: =D39+D63 -> 217508000
A65: =A40 -> 2010 | B65: =B40+B64 -> 1094653342 | C65: =C40+C64 -> 872447059 | D65: =D40+D64 -> 222206283
A66: =A41 -> 2011 | B66: =B41+B65 -> 1134844597 | C66: =C41+C65 -> 910473985 | D66: =D41+D65 -> 224370612
... A72: =A47 -> 2017 | B72: =B47+B71 -> 1255523435 | C72: =C47+C71 -> 1027944684 | D72: =D47+D71 -> 227578751

Sheet TSA Comparison
A2: Forest Health Factor | B2: (All)
A4: Sum of VOLUMEKILLED | B4: Column Labels
A5: Year | B5: 100 Mile House TSA | C5: Arrow TSA | D5: Arrowsmith TSA | E5: Boundary TSA | F5: Bulkley TSA | G5: Cascadia TSA | H5: Cassiar TSA | I5: Cranbrook TSA | J5: Dawson Creek TSA | K5: Fort Nelson TSA | L5: Fort St. John TSA | M5: Fraser TSA | N5: Golden TSA | O5: Invermere TSA | P5: Kalum TSA | Q5: Kamloops TSA | R5: Kispiox TSA | S5: Kootenay Lake TSA | T5: Lakes TSA | U5: Lillooet TSA | V5: MacKenzie TSA | W5: Merritt TSA | X5: Morice TSA | Y5: Nass TSA | Z5: Okanagan TSA | AA5: Pacific TSA | AB5: Prince George TSA | AC5: Queen Charlotte TSA | AD5: Quesnel TSA | AE5: Revelstoke TSA | AF5: Robson Valley TSA | AG5: Soo TSA | AH5: Sunshine Coast TSA | AI5: Williams Lake TSA | AJ5: GBR South TSA | AK5: GBR North TSA | AL5: North Island TSA
A6: 1999 | B6: 348877 | C6: 130057 | D6: 0 | E6: 5728 | F6: 167166 | G6: 11900 | H6: 0 | I6: 134074 | J6: 7 | K6: 0 | L6: 0 | M6: 51353 | N6: 126206 | O6: 65138 | P6: 312 | Q6: 359509 | R6: 624847 | S6: 36731 | T6: 1565283 | U6: 38075 | V6: 2549319 | W6: 275313 | X6: 990350 | Y6: 10838 | Z6: 288091 | AA6: 0 | AB6: 3055534 | AC6: 0 | AD6: 1479832 | AE6: 0 | AF6: 1433441 | AG6: 196854 | AH6: 0 | AI6: 643621 | AJ6: 0 | AK6: 334152 | AL6: 0
A7: 2000 | B7: 216393 | C7: 167609 | D7: 0 | E7: 47912 | F7: 202905 | G7: 67018 | H7: 554 | I7: 100391 | J7: 123558 | K7: 54091 | L7: 2840 | M7: 116470 | N7: 157280 | O7: 144174 | P7: 559 | Q7: 238959 | R7: 664001 | S7: 67324 | T7: 5458567 | U7: 44207 | V7: 3343107 | W7: 288151 | X7: 1306693 | Y7: 10104 | Z7: 124885 | AA7: 0 | AB7: 9707012 | AC7: 0 | AD7: 1942938 | AE7: 10747 | AF7: 901595 | AG7: 67640 | AH7: 0 | AI7: 610947 | AJ7: 3648 | AK7: 745799 | AL7: 0
A8: 2001 | B8: 328658 | C8: 109577 | D8: 0 | E8: 6061 | F8: 726004 | G8: 52195 | H8: 13856 | I8: 94755 | J8: 271405 | K8: 0 | L8: 77784 | M8: 131979 | N8: 66706 | O8: 57399 | P8: 11312 | Q8: 417445 | R8: 3247450 | S8: 89486 | T8: 9283298 | U8: 93853 | V8: 506431 | W8: 471857 | X8: 2049157 | Y8: 51747 | Z8: 286628 | AA8: 370 | AB8: 6583828 | AC8: 0 | AD8: 3934643 | AE8: 1348 | AF8: 196557 | AG8: 68573 | AH8: 0 | AI8: 1524041 | AJ8: 0 | AK8: 3834675 | AL8: 0
A9: 2002 | B9: 489558 | C9: 133650 | D9: 0 | E9: 4283 | F9: 122202 | G9: 74531 | H9: 45960 | I9: 185831 | J9: 184581 | K9: 9576 | L9: 7641 | M9: 177966 | N9: 98746 | O9: 64365 | P9: 17625 | Q9: 657212 | R9: 329425 | S9: 106734 | T9: 15072235 | U9: 164035 | V9: 2015219 | W9: 348101 | X9: 518378 | Y9: 94732 | Z9: 256719 | AA9: 0 | AB9: 22502554 | AC9: 0 | AD9: 8816527 | AE9: 434 | AF9: 1114255 | AG9: 93412 | AH9: 0 | AI9: 3038166 | AJ9: 0 | AK9: 4817650 | AL9: 0
A10: 2003 | B10: 2194583 | C10: 310700 | D10: 0 | E10: 16950 | F10: 154057 | G10: 314098 | H10: 0 | I10: 317277 | J10: 400894 | K10: 145659 | L10: 24020 | M10: 211302 | N10: 111547 | O10: 160720 | P10: 2962 | Q10: 1326913 | R10: 449705 | S10: 176679 | T10: 13785413 | U10: 88485 | V10: 4123776 | W10: 240068 | X10: 781795 | Y10: 19206 | Z10: 353935 | AA10: 0 | AB10: 37114790 | AC10: 0 | AD10: 20531364 | AE10: 2415 | AF10: 149558 | AG10: 79068 | AH10: 0 | AI10: 8856944 | AJ10: 0 | AK10: 5044071 | AL10: 0
A11: 2004 | B11: 6175487 | C11: 742324 | D11: 0 | E11: 62608 | F11: 109107 | G11: 505989 | H11: 1397008 | I11: 579429 | J11: 134905 | K11: 897721 | L11: 146355 | M11: 566800 | N11: 106453 | O11: 302688 | P11: 7454 | Q11: 4199272 | R11: 129546 | S11: 371018 | T11: 7726735 | U11: 334679 | V11: 1608218 | W11: 710796 | X11: 772275 | Y11: 21643 | Z11: 995539 | AA11: 0 | AB11: 36180735 | AC11: 0 | AD11: 30230980 | AE11: 18516 | AF11: 518004 | AG11: 147700 | AH11: 0 | AI11: 19577969 | AJ11: 453 | AK11: 3793430 | AL11: 0
A12: 2005 | B12: 11562895 | C12: 880851 | D12: 203 | E12: 108768 | F12: 189319 | G12: 609668 | H12: 284 | I12: 1037876 | J12: 147540 | K12: 64373 | L12: 55635 | M12: 580307 | N12: 353954 | O12: 604932 | P12: 70 | Q12: 8060839 | R12: 159685 | S12: 733649 | T12: 23566334 | U12: 755215 | V12: 2240214 | W12: 1392680 | X12: 5520695 | Y12: 45108 | Z12: 1432145 | AA12: 0 | AB12: 67937983 | AC12: 0 | AD12: 32817193 | AE12: 40294 | AF12: 589118 | AG12: 53459 | AH12: 0 | AI12: 26161482 | AJ12: 40756 | AK12: 1564811 | AL12: 198
A13: 2006 | B13: 22594372 | C13: 1070560 | D13: 0 | E13: 130833 | F13: 129116 | G13: 206771 | H13: 12290 | I13: 894165 | J13: 1186838 | K13: 732112 | L13: 364777 | M13: 482452 | N13: 495010 | O13: 760901 | P13: 10260 | Q13: 11872506 | R13: 404800 | S13: 1031668 | T13: 14171597 | U13: 1349552 | V13: 4602454 | W13: 2823961 | X13: 8679465 | Y13: 59868 | Z13: 2040985 | AA13: 465 | AB13: 35362178 | AC13: 0 | AD13: 18020994 | AE13: 64107 | AF13: 593125 | AG13: 240140 | AH13: 0 | AI13: 29330552 | AJ13: 94112 | AK13: 1716810 | AL13: 1986
A14: 2007 | B14: 9975002 | C14: 673099 | D14: 0 | E14: 128435 | F14: 377274 | G14: 83333 | H14: 1503 | I14: 530510 | J14: 4960708 | K14: 248438 | L14: 77781 | M14: 425919 | N14: 209625 | O14: 867587 | P14: 126 | Q14: 9715778 | R14: 206594 | S14: 963488 | T14: 8865928 | U14: 2127022 | V14: 9328300 | W14: 4102750 | X14: 9557820 | Y14: 7114 | Z14: 2646871 | AA14: 39748 | AB14: 40533355 | AC14: 40664 | AD14: 7813501 | AE14: 49932 | AF14: 902196 | AG14: 186171 | AH14: 909 | AI14: 27250012 | AJ14: 43770 | AK14: 1600221 | AL14: 0
A15: 2008 | B15: 2593338 | C15: 485884 | D15: 0 | E15: 307193 | F15: 817809 | G15: 59068 | H15: 4688 | I15: 1025971 | J15: 6209413 | K15: 164324 | L15: 823954 | M15: 339021 | N15: 283119 | O15: 1091400 | P15: 37458 | Q15: 2966358 | R15: 213498 | S15: 1110713 | T15: 3798985 | U15: 2032556 | V15: 14164302 | W15: 3947383 | X15: 9172958 | Y15: 8587 | Z15: 2377172 | AA15: 28439 | AB15: 19485116 | AC15: 16626 | AD15: 1694070 | AE15: 12098 | AF15: 887935 | AG15: 113455 | AH15: 8725 | AI15: 8485965 | AJ15: 197419 | AK15: 784091 | AL15: 0
A16: 2009 | B16: 1015418 | C16: 305054 | D16: 0 | E16: 129953 | F16: 830270 | G16: 150980 | H16: 411128 | I16: 579872 | J16: 3556169 | K16: 1437904 | L16: 2379078 | M16: 257179 | N16: 120269 | O16: 604603 | P16: 98258 | Q16: 1449471 | R16: 316167 | S16: 482883 | T16: 940755 | U16: 3478064 | V16: 36281117 | W16: 3765723 | X16: 3112051 | Y16: 16167 | Z16: 2282750 | AA16: 24544 | AB16: 13953390 | AC16: 0 | AD16: 682293 | AE16: 15976 | AF16: 729847 | AG16: 184586 | AH16: 38717 | AI16: 5403399 | AJ16: 29098 | AK16: 477735 | AL16: 197396
A17: 2010 | B17: 245677 | C17: 113903 | D17: 9858 | E17: 87118 | F17: 1465987 | G17: 31437 | H17: 1232866 | I17: 568650 | J17: 6603965 | K17: 125353 | L17: 7124777 | M17: 127826 | N17: 97082 | O17: 623436 | P17: 25666 | Q17: 485717 | R17: 288181 | S17: 397772 | T17: 862613 | U17: 772990 | V17: 33686473 | W17: 941968 | X17: 2204023 | Y17: 5307 | Z17: 1131712 | AA17: 2927 | AB17: 9040142 | AC17: 996 | AD17: 835181 | AE17: 15700 | AF17: 838495 | AG17: 47183 | AH17: 42462 | AI17: 1821422 | AJ17: 5266 | AK17: 1301100 | AL17: 100
... A24: 2017 | B24: 1927770 | C24: 56269 | D24: 613 | E24: 43642 | F24: 122107 | G24: 38497 | H24: 49883 | I24: 1336760 | J24: 348666 | K24: 808948 | L24: 122354 | M24: 139092 | N24: 92444 | O24: 1151115 | P24: 18079 | Q24: 2050047 | R24: 175340 | S24: 779955 | T24: 93484 | U24: 218012 | V24: 1890677 | W24: 215850 | X24: 166705 | Y24: 73707 | Z24: 546001 | AA24: 40744 | AB24: 5119943 | AC24: 17812 | AD24: 3165055 | AE24: 30918 | AF24: 571397 | AG24: 30455 | AH24: 23524 | AI24: 6292764 | AJ24: 9621 | AK24: 338216 | AL24: 8982
A25: Forest Health Factor | B25: (All)
A27: Sum of NRLVOLUME | B27: Column Labels
A28: Year | B28: 100 Mile House TSA | C28: Arrow TSA | D28: Arrowsmith TSA | E28: Boundary TSA | F28: Bulkley TSA | G28: Cascadia TSA | H28: Cassiar TSA | I28: Cranbrook TSA | J28: Dawson Creek TSA | K28: Fort Nelson TSA | L28: Fort St. John TSA | M28: Fraser TSA | N28: Golden TSA | O28: Invermere TSA | P28: Kalum TSA | Q28: Kamloops TSA | R28: Kispiox TSA | S28: Kootenay Lake TSA | T28: Lakes TSA | U28: Lillooet TSA | V28: MacKenzie TSA | W28: Merritt TSA | X28: Morice TSA | Y28: Nass TSA | Z28: Okanagan TSA | AA28: Pacific TSA | AB28: Prince George TSA | AC28: Queen Charlotte TSA | AD28: Quesnel TSA | AE28: Revelstoke TSA | AF28: Robson Valley TSA | AG28: Soo TSA | AH28: Sunshine Coast TSA | AI28: Williams Lake TSA | AJ28: GBR South TSA | AK28: GBR North TSA | AL28: North Island TSA
A29: 1999 | B29: 250980 | C29: 101767 | D29: 0 | E29: 3971 | F29: 151953 | G29: 9988 | H29: 0 | I29: 85033 | J29: 7 | K29: 0 | L29: 0 | M29: 50815 | N29: 91734 | O29: 48759 | P29: 288 | Q29: 264105 | R29: 622206 | S29: 30162 | T29: 1536831 | U29: 33715 | V29: 2464745 | W29: 206585 | X29: 798600 | Y29: 10544 | Z29: 214928 | AA29: 0 | AB29: 2204742 | AC29: 0 | AD29: 996874 | AE29: 0 | AF29: 1346324 | AG29: 181929 | AH29: 0 | AI29: 487089 | AJ29: 0 | AK29: 334145 | AL29: 0
A30: 2000 | B30: 159191 | C30: 142996 | D30: 0 | E30: 43527 | F30: 183038 | G30: 58900 | H30: 554 | I30: 67374 | J30: 121383 | K30: 52688 | L30: 2777 | M30: 111839 | N30: 129305 | O30: 119894 | P30: 383 | Q30: 194545 | R30: 646619 | S30: 55794 | T30: 5323173 | U30: 41161 | V30: 3227438 | W30: 223251 | X30: 991865 | Y30: 10104 | Z30: 98335 | AA30: 0 | AB30: 8234693 | AC30: 0 | AD30: 1267466 | AE30: 9682 | AF30: 864828 | AG30: 59442 | AH30: 0 | AI30: 452789 | AJ30: 3648 | AK30: 745792 | AL30: 0
A31: 2001 | B31: 243117 | C31: 96238 | D31: 0 | E31: 5353 | F31: 703055 | G31: 46674 | H31: 13856 | I31: 71277 | J31: 266513 | K31: 0 | L31: 75146 | M31: 131115 | N31: 55735 | O31: 47593 | P31: 10696 | Q31: 297210 | R31: 3189675 | S31: 76049 | T31: 8614776 | U31: 87911 | V31: 491201 | W31: 354537 | X31: 1627434 | Y31: 51747 | Z31: 215807 | AA31: 370 | AB31: 5313906 | AC31: 0 | AD31: 2490988 | AE31: 1195 | AF31: 174323 | AG31: 63455 | AH31: 0 | AI31: 1113634 | AJ31: 0 | AK31: 3834655 | AL31: 0
A32: 2002 | B32: 370964 | C32: 114132 | D32: 0 | E32: 4166 | F32: 112889 | G32: 63943 | H32: 45960 | I32: 130715 | J32: 183338 | K32: 9576 | L32: 7543 | M32: 177126 | N32: 79969 | O32: 49272 | P32: 17625 | Q32: 460520 | R32: 327314 | S32: 96209 | T32: 13611515 | U32: 158621 | V32: 1931300 | W32: 251381 | X32: 409807 | Y32: 93617 | Z32: 179954 | AA32: 0 | AB32: 17704337 | AC32: 0 | AD32: 6130999 | AE32: 376 | AF32: 1072203 | AG32: 88235 | AH32: 0 | AI32: 2285875 | AJ32: 0 | AK32: 4817569 | AL32: 0
A33: 2003 | B33: 1712406 | C33: 267438 | D33: 0 | E33: 16018 | F33: 144651 | G33: 273663 | H33: 0 | I33: 241833 | J33: 399973 | K33: 145228 | L33: 23023 | M33: 210401 | N33: 92128 | O33: 130585 | P33: 2962 | Q33: 976289 | R33: 447964 | S33: 159751 | T33: 11909182 | U33: 82592 | V33: 3965069 | W33: 177840 | X33: 696573 | Y33: 19206 | Z33: 252958 | AA33: 0 | AB33: 28678748 | AC33: 0 | AD33: 14864304 | AE33: 2009 | AF33: 138264 | AG33: 73823 | AH33: 0 | AI33: 7181246 | AJ33: 0 | AK33: 5043327 | AL33: 0
A34: 2004 | B34: 4715008 | C34: 639931 | D34: 0 | E34: 62011 | F34: 98667 | G34: 425288 | H34: 1397008 | I34: 428400 | J34: 121068 | K34: 897721 | L34: 137807 | M34: 555929 | N34: 88153 | O34: 232398 | P34: 7454 | Q34: 2999118 | R34: 125795 | S34: 333851 | T34: 6365672 | U34: 319884 | V34: 1531510 | W34: 492960 | X34: 645936 | Y34: 21636 | Z34: 706709 | AA34: 0 | AB34: 26331647 | AC34: 0 | AD34: 20951123 | AE34: 16588 | AF34: 491977 | AG34: 141061 | AH34: 0 | AI34: 15470632 | AJ34: 453 | AK34: 3791871 | AL34: 0
A35: 2005 | B35: 8333797 | C35: 774675 | D35: 0 | E35: 105992 | F35: 166894 | G35: 514818 | H35: 284 | I35: 827240 | J35: 134486 | K35: 64349 | L35: 55524 | M35: 579105 | N35: 310754 | O35: 512308 | P35: 70 | Q35: 5298607 | R35: 159199 | S35: 663888 | T35: 18658980 | U35: 721842 | V35: 2021745 | W35: 941039 | X35: 4251375 | Y35: 44945 | Z35: 981591 | AA35: 0 | AB35: 45186982 | AC35: 0 | AD35: 23488651 | AE35: 40058 | AF35: 541994 | AG35: 52550 | AH35: 0 | AI35: 19589433 | AJ35: 40756 | AK35: 1564236 | AL35: 0
A36: 2006 | B36: 15101090 | C36: 948250 | D36: 0 | E36: 125342 | F36: 117449 | G36: 181597 | H36: 12290 | I36: 711320 | J36: 1125803 | K36: 732088 | L36: 336849 | M36: 477660 | N36: 398716 | O36: 653728 | P36: 9682 | Q36: 8171423 | R36: 403891 | S36: 941649 | T36: 11107698 | U36: 1293229 | V36: 3964023 | W36: 1949886 | X36: 6444127 | Y36: 59868 | Z36: 1476895 | AA36: 465 | AB36: 24030871 | AC36: 0 | AD36: 13651250 | AE36: 63228 | AF36: 543096 | AG36: 233581 | AH36: 0 | AI36: 23844984 | AJ36: 93821 | AK36: 1716552 | AL36: 904
A37: 2007 | B37: 7075582 | C37: 602453 | D37: 0 | E37: 125249 | F37: 333644 | G37: 72928 | H37: 1503 | I37: 443369 | J37: 4438441 | K37: 248438 | L37: 67284 | M37: 416495 | N37: 176694 | O37: 789967 | P37: 126 | Q37: 7182523 | R37: 203558 | S37: 914237 | T37: 6916859 | U37: 2058838 | V37: 7490069 | W37: 2674862 | X37: 7114199 | Y37: 7114 | Z37: 1992516 | AA37: 39561 | AB37: 28474466 | AC37: 40664 | AD37: 6188439 | AE37: 49369 | AF37: 835614 | AG37: 183010 | AH37: 700 | AI37: 23027807 | AJ37: 43770 | AK37: 1597554 | AL37: 0
A38: 2008 | B38: 1971545 | C38: 434393 | D38: 0 | E38: 304919 | F38: 711517 | G38: 56310 | H38: 4688 | I38: 912074 | J38: 5550904 | K38: 164324 | L38: 736481 | M38: 333764 | N38: 242923 | O38: 984575 | P38: 35097 | Q38: 2296517 | R38: 202680 | S38: 1053423 | T38: 3133658 | U38: 1987136 | V38: 12202335 | W38: 2604981 | X38: 6871266 | Y38: 8256 | Z38: 1808661 | AA38: 28242 | AB38: 15491155 | AC38: 16626 | AD38: 1434538 | AE38: 11031 | AF38: 792314 | AG38: 111413 | AH38: 8725 | AI38: 7687147 | AJ38: 195489 | AK38: 783173 | AL38: 0
A39: 2009 | B39: 955784 | C39: 284323 | D39: 0 | E39: 126311 | F39: 742205 | G39: 143693 | H39: 410417 | I39: 503667 | J39: 3152643 | K39: 1437904 | L39: 2205764 | M39: 252740 | N39: 110187 | O39: 535081 | P39: 97299 | Q39: 1295472 | R39: 312639 | S39: 457158 | T39: 808953 | U39: 3443535 | V39: 33135857 | W39: 2671384 | X39: 2504782 | Y39: 15990 | Z39: 1886632 | AA39: 24544 | AB39: 12780528 | AC39: 0 | AD39: 640481 | AE39: 15300 | AF39: 619066 | AG39: 184077 | AH39: 38717 | AI39: 5089252 | AJ39: 29098 | AK39: 474425 | AL39: 196145
A40: 2010 | B40: 190900 | C40: 105952 | D40: 8411 | E40: 85375 | F40: 1290145 | G40: 27315 | H40: 1232148 | I40: 491975 | J40: 5777824 | K40: 125341 | L40: 6682719 | M40: 126199 | N40: 90743 | O40: 546887 | P40: 24260 | Q40: 457018 | R40: 279816 | S40: 380233 | T40: 814772 | U40: 758022 | V40: 32265380 | W40: 645350 | X40: 1872686 | Y40: 5307 | Z40: 892847 | AA40: 2660 | AB40: 8619809 | AC40: 996 | AD40: 811936 | AE40: 14965 | AF40: 722387 | AG40: 46060 | AH40: 36804 | AI40: 1773441 | AJ40: 5266 | AK40: 1300999 | AL40: 100
... A47: 2017 | B47: 1893741 | C47: 56065 | D47: 613 | E47: 43630 | F47: 121190 | G47: 36756 | H47: 45710 | I47: 1320265 | J47: 347726 | K47: 808450 | L47: 122266 | M47: 136628 | N47: 92010 | O47: 1134576 | P47: 18079 | Q47: 2025767 | R47: 175027 | S47: 779813 | T47: 92795 | U47: 216809 | V47: 1883905 | W47: 187076 | X47: 163800 | Y47: 73564 | Z47: 540829 | AA47: 40696 | AB47: 4994455 | AC47: 17812 | AD47: 2965159 | AE47: 30630 | AF47: 570880 | AG47: 30423 | AH47: 23235 | AI47: 6160761 | AJ47: 9612 | AK47: 338093 | AL47: 8982
A49: =CONCATENATE("Annual Volume Killed on the CFLB -- ",IF($B$2 = "(ALL)","ALL Modelled Health Factors",$B$2)) -> Annual Volume Killed on the CFLB -- ALL Modelled Health Factors
A50: =A5 -> Year | B50: =B5 -> 100 Mile House TSA | C50: =C5 -> Arrow TSA | D50: =D5 -> Arrowsmith TSA | E50: =E5 -> Boundary TSA | F50: =F5 -> Bulkley TSA | G50: =G5 -> Cascadia TSA | H50: =H5 -> Cassiar TSA | ... AM50: =AM5 -> 0 | AN50: Grand Total
A51: =A6 -> 1999 | B51: =B6 -> 348877 | C51: =C6 -> 130057 | D51: =D6 -> 0 | E51: =E6 -> 5728 | F51: =F6 -> 167166 | G51: =G6 -> 11900 | H51: =H6 -> 0 | ... AM51: =AM6 -> 0 | AN51: =SUM(B51:AM51) -> 14922608
A52: =A7 -> 2000 | B52: =B7 -> 216393 | C52: =C7 -> 167609 | D52: =D7 -> 0 | E52: =E7 -> 47912 | F52: =F7 -> 202905 | G52: =G7 -> 67018 | H52: =H7 -> 554 | ... AM52: =AM7 -> 0 | AN52: =SUM(B52:AM52) -> 26938078
A53: =A8 -> 2001 | B53: =B8 -> 328658 | C53: =C8 -> 109577 | D53: =D8 -> 0 | E53: =E8 -> 6061 | F53: =F8 -> 726004 | G53: =G8 -> 52195 | H53: =H8 -> 13856 | ... AM53: =AM8 -> 0 | AN53: =SUM(B53:AM53) -> 34589078
A54: =A9 -> 2002 | B54: =B9 -> 489558 | C54: =C9 -> 133650 | D54: =D9 -> 0 | E54: =E9 -> 4283 | F54: =F9 -> 122202 | G54: =G9 -> 74531 | H54: =H9 -> 45960 | ... AM54: =AM9 -> 0 | AN54: =SUM(B54:AM54) -> 61562303
A55: =A10 -> 2003 | B55: =B10 -> 2194583 | C55: =C10 -> 310700 | D55: =D10 -> 0 | E55: =E10 -> 16950 | F55: =F10 -> 154057 | G55: =G10 -> 314098 | H55: =H10 -> 0 | ... AM55: =AM10 -> 0 | AN55: =SUM(B55:AM55) -> 97488954
A56: =A11 -> 2004 | B56: =B11 -> 6175487 | C56: =C11 -> 742324 | D56: =D11 -> 0 | E56: =E11 -> 62608 | F56: =F11 -> 109107 | G56: =G11 -> 505989 | H56: =H11 -> 1397008 | ... AM56: =AM11 -> 0 | AN56: =SUM(B56:AM56) -> 119071836
A57: =A12 -> 2005 | B57: =B12 -> 11562895 | C57: =C12 -> 880851 | D57: =D12 -> 203 | E57: =E12 -> 108768 | F57: =F12 -> 189319 | G57: =G12 -> 609668 | H57: =H12 -> 284 | ... AM57: =AM12 -> 0 | AN57: =SUM(B57:AM57) -> 189308533
A58: =A13 -> 2006 | B58: =B13 -> 22594372 | C58: =C13 -> 1070560 | D58: =D13 -> 0 | E58: =E13 -> 130833 | F58: =F13 -> 129116 | G58: =G13 -> 206771 | H58: =H13 -> 12290 | ... AM58: =AM13 -> 0 | AN58: =SUM(B58:AM58) -> 161531782
A59: =A14 -> 2007 | B59: =B14 -> 9975002 | C59: =C14 -> 673099 | D59: =D14 -> 0 | E59: =E14 -> 128435 | F59: =F14 -> 377274 | G59: =G14 -> 83333 | H59: =H14 -> 1503 | ... AM59: =AM14 -> 0 | AN59: =SUM(B59:AM59) -> 144541484
A60: =A15 -> 2008 | B60: =B15 -> 2593338 | C60: =C15 -> 485884 | D60: =D15 -> 0 | E60: =E15 -> 307193 | F60: =F15 -> 817809 | G60: =G15 -> 59068 | H60: =H15 -> 4688 | ... AM60: =AM15 -> 0 | AN60: =SUM(B60:AM60) -> 85749091
A61: =A16 -> 2009 | B61: =B16 -> 1015418 | C61: =C16 -> 305054 | D61: =D16 -> 0 | E61: =E16 -> 129953 | F61: =F16 -> 830270 | G61: =G16 -> 150980 | H61: =H16 -> 411128 | ... AM61: =AM16 -> 0 | AN61: =SUM(B61:AM61) -> 85738264
A62: =A17 -> 2010 | B62: =B17 -> 245677 | C62: =C17 -> 113903 | D62: =D17 -> 9858 | E62: =E17 -> 87118 | F62: =F17 -> 1465987 | G62: =G17 -> 31437 | H62: =H17 -> 1232866 | ... AM62: =AM17 -> 0 | AN62: =SUM(B62:AM62) -> 73211331
... A69: =A24 -> 2017 | B69: =B24 -> 1927770 | C69: =C24 -> 56269 | D69: =D24 -> 613 | E69: =E24 -> 43642 | F69: =F24 -> 122107 | G69: =G24 -> 38497 | H69: =H24 -> 49883 | ... AM69: =AM24 -> 0 | AN69: =SUM(B69:AM69) -> 28115448
A70: Grand Total | B70: =SUM(B51:B69) -> 60113203 | C70: =SUM(C51:C69) -> 5459126 | D70: =SUM(D51:D69) -> 26821 | E70: =SUM(E51:E69) -> 1635212 | F70: =SUM(F51:F69) -> 8968458 | G70: =SUM(G51:G69) -> 2284794 | H70: =SUM(H51:H69) -> 4439691 | I70: =SUM(I51:I69) -> 8089725 | ... AN70: =SUM(AN51:AN69) -> 1255523435
A73: =CONCATENATE("Annual Volume Killed on the CFLB and Not Harvested as of 2017 -- ",IF($B$2 = "(ALL)","ALL Modelled Health Factors",$B$2)) -> Annual Volume Killed on the CFLB and Not Harvested as of 2017 -- ALL Modelled Health Factors
A74: =A28 -> Year | B74: =B28 -> 100 Mile House TSA | C74: =C28 -> Arrow TSA | D74: =D28 -> Arrowsmith TSA | E74: =E28 -> Boundary TSA | F74: =F28 -> Bulkley TSA | G74: =G28 -> Cascadia TSA | H74: =H28 -> Cassiar TSA | ... AM74: =AM28 -> 0 | AN74: Grand Total
A75: =A29 -> 1999 | B75: =B29 -> 250980 | C75: =C29 -> 101767 | D75: =D29 -> 0 | E75: =E29 -> 3971 | F75: =F29 -> 151953 | G75: =G29 -> 9988 | H75: =H29 -> 0 | ... AM75: =AM29 -> 0 | AN75: =SUM(B75:AM75) -> 12528819
A76: =A30 -> 2000 | B76: =B30 -> 159191 | C76: =C30 -> 142996 | D76: =D30 -> 0 | E76: =E30 -> 43527 | F76: =F30 -> 183038 | G76: =G30 -> 58900 | H76: =H30 -> 554 | ... AM76: =AM30 -> 0 | AN76: =SUM(B76:AM76) -> 23644474
A77: =A31 -> 2001 | B77: =B31 -> 243117 | C77: =C31 -> 96238 | D77: =D31 -> 0 | E77: =E31 -> 5353 | F77: =F31 -> 703055 | G77: =G31 -> 46674 | H77: =H31 -> 13856 | ... AM77: =AM31 -> 0 | AN77: =SUM(B77:AM77) -> 29765241
A78: =A32 -> 2002 | B78: =B32 -> 370964 | C78: =C32 -> 114132 | D78: =D32 -> 0 | E78: =E32 -> 4166 | F78: =F32 -> 112889 | G78: =G32 -> 63943 | H78: =H32 -> 45960 | ... AM78: =AM32 -> 0 | AN78: =SUM(B78:AM78) -> 50987050
A79: =A33 -> 2003 | B79: =B33 -> 1712406 | C79: =C33 -> 267438 | D79: =D33 -> 0 | E79: =E33 -> 16018 | F79: =F33 -> 144651 | G79: =G33 -> 273663 | H79: =H33 -> 0 | ... AM79: =AM33 -> 0 | AN79: =SUM(B79:AM79) -> 78329454
A80: =A34 -> 2004 | B80: =B34 -> 4715008 | C80: =C34 -> 639931 | D80: =D34 -> 0 | E80: =E34 -> 62011 | F80: =F34 -> 98667 | G80: =G34 -> 425288 | H80: =H34 -> 1397008 | ... AM80: =AM34 -> 0 | AN80: =SUM(B80:AM80) -> 90545266
A81: =A35 -> 2005 | B81: =B35 -> 8333797 | C81: =C35 -> 774675 | D81: =D35 -> 0 | E81: =E35 -> 105992 | F81: =F35 -> 166894 | G81: =G35 -> 514818 | H81: =H35 -> 284 | ... AM81: =AM35 -> 0 | AN81: =SUM(B81:AM81) -> 136628167
A82: =A36 -> 2006 | B82: =B36 -> 15101090 | C82: =C36 -> 948250 | D82: =D36 -> 0 | E82: =E36 -> 125342 | F82: =F36 -> 117449 | G82: =G36 -> 181597 | H82: =H36 -> 12290 | ... AM82: =AM36 -> 0 | AN82: =SUM(B82:AM82) -> 120923305
A83: =A37 -> 2007 | B83: =B37 -> 7075582 | C83: =C37 -> 602453 | D83: =D37 -> 0 | E83: =E37 -> 125249 | F83: =F37 -> 333644 | G83: =G37 -> 72928 | H83: =H37 -> 1503 | ... AM83: =AM37 -> 0 | AN83: =SUM(B83:AM83) -> 111827902
A84: =A38 -> 2008 | B84: =B38 -> 1971545 | C84: =C38 -> 434393 | D84: =D38 -> 0 | E84: =E38 -> 304919 | F84: =F38 -> 711517 | G84: =G38 -> 56310 | H84: =H38 -> 4688 | ... AM84: =AM38 -> 0 | AN84: =SUM(B84:AM84) -> 71172280
A85: =A39 -> 2009 | B85: =B39 -> 955784 | C85: =C39 -> 284323 | D85: =D39 -> 0 | E85: =E39 -> 126311 | F85: =F39 -> 742205 | G85: =G39 -> 143693 | H85: =H39 -> 410417 | ... AM85: =AM39 -> 0 | AN85: =SUM(B85:AM85) -> 77582053
A86: =A40 -> 2010 | B86: =B40 -> 190900 | C86: =C40 -> 105952 | D86: =D40 -> 8411 | E86: =E40 -> 85375 | F86: =F40 -> 1290145 | G86: =G40 -> 27315 | H86: =H40 -> 1232148 | ... AM86: =AM40 -> 0 | AN86: =SUM(B86:AM86) -> 68513048
... A93: =A47 -> 2017 | B93: =B47 -> 1893741 | C93: =C47 -> 56065 | D93: =D47 -> 613 | E93: =E47 -> 43630 | F93: =F47 -> 121190 | G93: =G47 -> 36756 | H93: =H47 -> 45710 | ... AM93: =AM47 -> 0 | AN93: =SUM(B93:AM93) -> 27507828
A94: Grand Total | B94: =SUM(B75:B93) -> 43384298 | C94: =SUM(C75:C93) -> 4837558 | D94: =SUM(D75:D93) -> 24908 | E94: =SUM(E75:E93) -> 1585116 | F94: =SUM(F75:F93) -> 8009625 | G94: =SUM(G75:G93) -> 1987932 | H94: =SUM(H75:H93) -> 4430737 | I94: =SUM(I75:I93) -> 6851029 | ... AN94: =SUM(AN75:AN93) -> 1027944684
A97: =CONCATENATE("Annual Volume Killed on the CFLB and Harvested as of 2014 -- ",IF($B$2 = "(ALL)","ALL Modelled Health Factors",$B$2)) -> Annual Volume Killed on the CFLB and Harvested as of 2014 -- ALL Modelled Health Factors
A98: =A74 -> Year | B98: =B74 -> 100 Mile House TSA | C98: =C74 -> Arrow TSA | D98: =D74 -> Arrowsmith TSA | E98: =E74 -> Boundary TSA | F98: =F74 -> Bulkley TSA | G98: =G74 -> Cascadia TSA | H98: =H74 -> Cassiar TSA | ... AN98: =AN74 -> Grand Total
A99: =A75 -> 1999 | B99: =B51-B75 -> 97897 | C99: =C51-C75 -> 28290 | D99: =D51-D75 -> 0 | E99: =E51-E75 -> 1757 | F99: =F51-F75 -> 15213 | G99: =G51-G75 -> 1912 | H99: =H51-H75 -> 0 | I99: =I51-I75 -> 49041 | ... AM99: =AM51-AM75 -> 0 | AN99: =SUM(B99:AM99) -> 2393789
A100: =A76 -> 2000 | B100: =B52-B76 -> 57202 | C100: =C52-C76 -> 24613 | D100: =D52-D76 -> 0 | E100: =E52-E76 -> 4385 | F100: =F52-F76 -> 19867 | G100: =G52-G76 -> 8118 | H100: =H52-H76 -> 0 | I100: =I52-I76 -> 33017 | ... AM100: =AM52-AM76 -> 0 | AN100: =SUM(B100:AM100) -> 3293604
A101: =A77 -> 2001 | B101: =B53-B77 -> 85541 | C101: =C53-C77 -> 13339 | D101: =D53-D77 -> 0 | E101: =E53-E77 -> 708 | F101: =F53-F77 -> 22949 | G101: =G53-G77 -> 5521 | H101: =H53-H77 -> 0 | I101: =I53-I77 -> 23478 | ... AM101: =AM53-AM77 -> 0 | AN101: =SUM(B101:AM101) -> 4823837
A102: =A78 -> 2002 | B102: =B54-B78 -> 118594 | C102: =C54-C78 -> 19518 | D102: =D54-D78 -> 0 | E102: =E54-E78 -> 117 | F102: =F54-F78 -> 9313 | G102: =G54-G78 -> 10588 | H102: =H54-H78 -> 0 | I102: =I54-I78 -> 55116 | ... AM102: =AM54-AM78 -> 0 | AN102: =SUM(B102:AM102) -> 10575253
A103: =A79 -> 2003 | B103: =B55-B79 -> 482177 | C103: =C55-C79 -> 43262 | D103: =D55-D79 -> 0 | E103: =E55-E79 -> 932 | F103: =F55-F79 -> 9406 | G103: =G55-G79 -> 40435 | H103: =H55-H79 -> 0 | I103: =I55-I79 -> 75444 | ... AM103: =AM55-AM79 -> 0 | AN103: =SUM(B103:AM103) -> 19159500
A104: =A80 -> 2004 | B104: =B56-B80 -> 1460479 | C104: =C56-C80 -> 102393 | D104: =D56-D80 -> 0 | E104: =E56-E80 -> 597 | F104: =F56-F80 -> 10440 | G104: =G56-G80 -> 80701 | H104: =H56-H80 -> 0 | I104: =I56-I80 -> 151029 | ... AM104: =AM56-AM80 -> 0 | AN104: =SUM(B104:AM104) -> 28526570
A105: =A81 -> 2005 | B105: =B57-B81 -> 3229098 | C105: =C57-C81 -> 106176 | D105: =D57-D81 -> 203 | E105: =E57-E81 -> 2776 | F105: =F57-F81 -> 22425 | G105: =G57-G81 -> 94850 | H105: =H57-H81 -> 0 | I105: =I57-I81 -> 210636 | ... AM105: =AM57-AM81 -> 0 | AN105: =SUM(B105:AM105) -> 52680366
A106: =A82 -> 2006 | B106: =B58-B82 -> 7493282 | C106: =C58-C82 -> 122310 | D106: =D58-D82 -> 0 | E106: =E58-E82 -> 5491 | F106: =F58-F82 -> 11667 | G106: =G58-G82 -> 25174 | H106: =H58-H82 -> 0 | I106: =I58-I82 -> 182845 | ... AM106: =AM58-AM82 -> 0 | AN106: =SUM(B106:AM106) -> 40608477
A107: =A83 -> 2007 | B107: =B59-B83 -> 2899420 | C107: =C59-C83 -> 70646 | D107: =D59-D83 -> 0 | E107: =E59-E83 -> 3186 | F107: =F59-F83 -> 43630 | G107: =G59-G83 -> 10405 | H107: =H59-H83 -> 0 | I107: =I59-I83 -> 87141 | ... AM107: =AM59-AM83 -> 0 | AN107: =SUM(B107:AM107) -> 32713582
A108: =A84 -> 2008 | B108: =B60-B84 -> 621793 | C108: =C60-C84 -> 51491 | D108: =D60-D84 -> 0 | E108: =E60-E84 -> 2274 | F108: =F60-F84 -> 106292 | G108: =G60-G84 -> 2758 | H108: =H60-H84 -> 0 | I108: =I60-I84 -> 113897 | ... AM108: =AM60-AM84 -> 0 | AN108: =SUM(B108:AM108) -> 14576811
A109: =A85 -> 2009 | B109: =B61-B85 -> 59634 | C109: =C61-C85 -> 20731 | D109: =D61-D85 -> 0 | E109: =E61-E85 -> 3642 | F109: =F61-F85 -> 88065 | G109: =G61-G85 -> 7287 | H109: =H61-H85 -> 711 | I109: =I61-I85 -> 76205 | ... AM109: =AM61-AM85 -> 0 | AN109: =SUM(B109:AM109) -> 8156211
A110: =A86 -> 2010 | B110: =B62-B86 -> 54777 | C110: =C62-C86 -> 7951 | D110: =D62-D86 -> 1447 | E110: =E62-E86 -> 1743 | F110: =F62-F86 -> 175842 | G110: =G62-G86 -> 4122 | H110: =H62-H86 -> 718 | I110: =I62-I86 -> 76675 | ... AM110: =AM62-AM86 -> 0 | AN110: =SUM(B110:AM110) -> 4698283
... A114: =A90 -> 2014 | B114: =B66-B90 -> 215 | C114: =C66-C90 -> 1418 | D114: =D66-D90 -> 0 | E114: =E66-E90 -> 2146 | F114: =F66-F90 -> 6479 | G114: =G66-G90 -> 106 | H114: =H66-H90 -> 1130 | I114: =I66-I90 -> 7301 | ... AM114: =AM66-AM90 -> 0 | AN114: =SUM(B114:AM114) -> 402227
A115: =A91 -> 2015 | B115: =B67-B91 -> 75 | C115: =C67-C91 -> 2192 | D115: =D67-D91 -> 0 | E115: =E67-E91 -> 10300 | F115: =F67-F91 -> 3667 | G115: =G67-G91 -> 271 | H115: =H67-H91 -> 0 | I115: =I67-I91 -> 13230 | ... AN115: =AN67-AN91 -> 332138
A116: =A92 -> 2016 | B116: =B68-B92 -> 1650 | C116: =C68-C92 -> 895 | D116: =D68-D92 -> 140 | E116: =E68-E92 -> 1393 | F116: =F68-F92 -> 3019 | G116: =G68-G92 -> 735 | H116: =H68-H92 -> 0 | I116: =I68-I92 -> 4530 | ... AN116: =AN68-AN92 -> 329650
A117: =A93 -> 2017 | B117: =B69-B93 -> 34029 | C117: =C69-C93 -> 204 | D117: =D69-D93 -> 0 | E117: =E69-E93 -> 12 | F117: =F69-F93 -> 917 | G117: =G69-G93 -> 1741 | H117: =H69-H93 -> 4173 | I117: =I69-I93 -> 16495 | ... AN117: =AN69-AN93 -> 607620
A118: Grand Total | B118: =SUM(B99:B117) -> 16728905 | C118: =SUM(C99:C117) -> 621568 | D118: =SUM(D99:D117) -> 1913 | E118: =SUM(E99:E117) -> 50096 | F118: =SUM(F99:F117) -> 958833 | G118: =SUM(G99:G117) -> 296862 | H118: =SUM(H99:H117) -> 8954 | I118: =SUM(I99:I117) -> 1238696 | ... AN118: =SUM(AN99:AN117) -> 227578751
A121: =CONCATENATE("Cumulative Volume Killed on the CFLB and Not Harvested as of 2014 -- ",IF($B$2 = "(ALL)","ALL Modelled Health Factors",$B$2)) -> Cumulative Volume Killed on the CFLB and Not Harvested as of 2014 -- ALL Modelled Health Factors
A122: =A28 -> Year | B122: =B28 -> 100 Mile House TSA | C122: =C28 -> Arrow TSA | D122: =D28 -> Arrowsmith TSA | E122: =E28 -> Boundary TSA | F122: =F28 -> Bulkley TSA | G122: =G28 -> Cascadia TSA | H122: =H28 -> Cassiar TSA | ... AM122: =AM28 -> 0 | AN122: Grand Total
A123: =A29 -> 1999 | B123: =B29 -> 250980 | C123: =C29 -> 101767 | D123: =D29 -> 0 | E123: =E29 -> 3971 | F123: =F29 -> 151953 | G123: =G29 -> 9988 | H123: =H29 -> 0 | ... AM123: =AM29 -> 0 | AN123: =SUM(B123:AM123) -> 12528819
A124: =A30 -> 2000 | B124: =B123+B30 -> 410171 | C124: =C123+C30 -> 244763 | D124: =D123+D30 -> 0 | E124: =E123+E30 -> 47498 | F124: =F123+F30 -> 334991 | G124: =G123+G30 -> 68888 | H124: =H123+H30 -> 554 | I124: =I123+I30 -> 152407 | ... AM124: =AM123+AM30 -> 0 | AN124: =SUM(B124:AM124) -> 36173293
A125: =A31 -> 2001 | B125: =B124+B31 -> 653288 | C125: =C124+C31 -> 341001 | D125: =D124+D31 -> 0 | E125: =E124+E31 -> 52851 | F125: =F124+F31 -> 1038046 | G125: =G124+G31 -> 115562 | H125: =H124+H31 -> 14410 | I125: =I124+I31 -> 223684 | ... AM125: =AM124+AM31 -> 0 | AN125: =SUM(B125:AM125) -> 65938534
A126: =A32 -> 2002 | B126: =B125+B32 -> 1024252 | C126: =C125+C32 -> 455133 | D126: =D125+D32 -> 0 | E126: =E125+E32 -> 57017 | F126: =F125+F32 -> 1150935 | G126: =G125+G32 -> 179505 | H126: =H125+H32 -> 60370 | I126: =I125+I32 -> 354399 | ... AM126: =AM125+AM32 -> 0 | AN126: =SUM(B126:AM126) -> 116925584
A127: =A33 -> 2003 | B127: =B126+B33 -> 2736658 | C127: =C126+C33 -> 722571 | D127: =D126+D33 -> 0 | E127: =E126+E33 -> 73035 | F127: =F126+F33 -> 1295586 | G127: =G126+G33 -> 453168 | H127: =H126+H33 -> 60370 | I127: =I126+I33 -> 596232 | ... AM127: =AM126+AM33 -> 0 | AN127: =SUM(B127:AM127) -> 195255038
A128: =A34 -> 2004 | B128: =B127+B34 -> 7451666 | C128: =C127+C34 -> 1362502 | D128: =D127+D34 -> 0 | E128: =E127+E34 -> 135046 | F128: =F127+F34 -> 1394253 | G128: =G127+G34 -> 878456 | H128: =H127+H34 -> 1457378 | I128: =I127+I34 -> 1024632 | ... AM128: =AM127+AM34 -> 0 | AN128: =SUM(B128:AM128) -> 285800304
A129: =A35 -> 2005 | B129: =B128+B35 -> 15785463 | C129: =C128+C35 -> 2137177 | D129: =D128+D35 -> 0 | E129: =E128+E35 -> 241038 | F129: =F128+F35 -> 1561147 | G129: =G128+G35 -> 1393274 | H129: =H128+H35 -> 1457662 | I129: =I128+I35 -> 1851872 | ... AM129: =AM128+AM35 -> 0 | AN129: =SUM(B129:AM129) -> 422428471
A130: =A36 -> 2006 | B130: =B129+B36 -> 30886553 | C130: =C129+C36 -> 3085427 | D130: =D129+D36 -> 0 | E130: =E129+E36 -> 366380 | F130: =F129+F36 -> 1678596 | G130: =G129+G36 -> 1574871 | H130: =H129+H36 -> 1469952 | I130: =I129+I36 -> 2563192 | ... AM130: =AM129+AM36 -> 0 | AN130: =SUM(B130:AM130) -> 543351776
A131: =A37 -> 2007 | B131: =B130+B37 -> 37962135 | C131: =C130+C37 -> 3687880 | D131: =D130+D37 -> 0 | E131: =E130+E37 -> 491629 | F131: =F130+F37 -> 2012240 | G131: =G130+G37 -> 1647799 | H131: =H130+H37 -> 1471455 | I131: =I130+I37 -> 3006561 | ... AM131: =AM130+AM37 -> 0 | AN131: =SUM(B131:AM131) -> 655179678
A132: =A38 -> 2008 | B132: =B131+B38 -> 39933680 | C132: =C131+C38 -> 4122273 | D132: =D131+D38 -> 0 | E132: =E131+E38 -> 796548 | F132: =F131+F38 -> 2723757 | G132: =G131+G38 -> 1704109 | H132: =H131+H38 -> 1476143 | I132: =I131+I38 -> 3918635 | ... AM132: =AM131+AM38 -> 0 | AN132: =SUM(B132:AM132) -> 726351958
A133: =A39 -> 2009 | B133: =B132+B39 -> 40889464 | C133: =C132+C39 -> 4406596 | D133: =D132+D39 -> 0 | E133: =E132+E39 -> 922859 | F133: =F132+F39 -> 3465962 | G133: =G132+G39 -> 1847802 | H133: =H132+H39 -> 1886560 | I133: =I132+I39 -> 4422302 | ... AM133: =AM132+AM39 -> 0 | AN133: =SUM(B133:AM133) -> 803934011
A134: =A40 -> 2010 | B134: =B133+B40 -> 41080364 | C134: =C133+C40 -> 4512548 | D134: =D133+D40 -> 8411 | E134: =E133+E40 -> 1008234 | F134: =F133+F40 -> 4756107 | G134: =G133+G40 -> 1875117 | H134: =H133+H40 -> 3118708 | I134: =I133+I40 -> 4914277 | ... AM134: =AM133+AM40 -> 0 | AN134: =SUM(B134:AM134) -> 872447059
A135: =A41 -> 2011 | B135: =B134+B41 -> 41103506 | C135: =C134+C41 -> 4552502 | D135: =D134+D41 -> 9928 | E135: =E134+E41 -> 1060477 | F135: =F134+F41 -> 6268255 | G135: =G134+G41 -> 1884806 | H135: =H134+H41 -> 3446708 | I135: =I134+I41 -> 5116747 | ... AM135: =AM134+AM41 -> 0 | AN135: =SUM(B135:AM135) -> 910473985
... A141: =A47 -> 2017 | B141: =B140+B47 -> 43384298 | C141: =C140+C47 -> 4837558 | D141: =D140+D47 -> 24908 | E141: =E140+E47 -> 1585116 | F141: =F140+F47 -> 8009625 | G141: =G140+G47 -> 1987932 | H141: =H140+H47 -> 4430737 | I141: =I140+I47 -> 6851029 | ... AM141: =AM140+AM47 -> 0 | AN141: =SUM(B141:AM141) -> 1027944684

Sheet TSA Comparison Charts

Sheet FHF Comparison
A2: TSA_NUMBER_DESCR | B2: (All)
A4: Sum of VOLUMEKILLED | B4: Column Labels
A5: Year | B5: Douglas-fir Beetle | C5: Douglas-fir Tussock Moth | D5: Drought | E5: Engraver Beetle (Ips species) | F5: Fir engraver Beetle | G5: Fire | H5: Flooding | I5: Lodgepole Pine Beetle | J5: Mountain Pine Beetle | K5: Red Turpentine Beetle | L5: Spruce Beetle | M5: Twig Beetle | N5: Unknown Beetle | O5: Western Balsam Bark Beetle | P5: Western Pine Beetle | Q5: Yellow cedar decline | R5: (blank) | S5: #N/A
A6: 1999 | B6: 52870 | D6: 230802 | E6: 4354 | G6: 388439 | H6: 16764 | J6: 8987035 | L6: 1338553 | O6: 3903593 | P6: 198
A7: 2000 | B7: 286031 | D7: 115 | E7: 74 | G7: 79217 | H7: 14295 | J7: 15375723 | L7: 3117245 | O7: 8065246 | P7: 132
A8: 2001 | B8: 319827 | C8: 108 | D8: 16 | E8: 2876 | G8: 171901 | H8: 197604 | J8: 26335463 | K8: 0 | L8: 1332245 | N8: 18 | O8: 6228716 | P8: 304
A9: 2002 | B9: 143770 | C9: 0 | D9: 8015 | E9: 170 | G9: 168002 | H9: 165847 | I9: 2173 | J9: 50605357 | K9: 0 | L9: 4853117 | O9: 5615804 | P9: 48
A10: 2003 | B10: 221930 | C10: 1233 | D10: 8507 | E10: 6853 | G10: 693822 | H10: 140737 | I10: 56 | J10: 84122576 | L10: 3741544 | O10: 8551071 | P10: 625
A11: 2004 | B11: 243511 | D11: 63894 | F11: 0 | G11: 7198098 | H11: 76526 | J11: 105494955 | L11: 2937311 | O11: 3056991 | P11: 550
A12: 2005 | B12: 266070 | C12: 86 | D12: 2935 | F12: 5106 | G12: 768025 | H12: 59779 | J12: 184178634 | L12: 947038 | O12: 3080554 | P12: 306
A13: 2006 | B13: 233660 | D13: 126379 | G13: 4387710 | H13: 64530 | J13: 153388640 | L13: 632055 | O13: 2568285 | P13: 0 | Q13: 130523
A14: 2007 | B14: 285739 | C14: 617 | D14: 740 | E14: 0 | G14: 1276141 | H14: 58726 | J14: 140343203 | L14: 730617 | N14: 124 | O14: 1441596 | Q14: 403981
A15: 2008 | B15: 399078 | C15: 14040 | D15: 4326 | E15: 0 | G15: 760625 | H15: 57045 | J15: 83420226 | L15: 338344 | N15: 474 | O15: 222256 | Q15: 532677
A16: 2009 | B16: 421959 | C16: 146969 | D16: 4338332 | E16: 687 | G16: 7980696 | H16: 105684 | I16: 47 | J16: 70769978 | L16: 670948 | M16: 0 | N16: 0 | O16: 1237557 | Q16: 65407
A17: 2010 | B17: 165000 | C17: 257372 | D17: 6783 | G17: 6325657 | H17: 42017 | J17: 64357328 | L17: 632491 | O17: 1279544 | Q17: 145139
A18: 2011 | B18: 214573 | C18: 52594 | D18: 704 | E18: 9 | G18: 374436 | H18: 320058 | J18: 38748896 | L18: 237303 | O18: 198906 | Q18: 43776
A19: 2012 | B19: 181056 | C19: 380 | D19: 551592 | G19: 2139680 | H19: 377258 | J19: 22660025 | L19: 734812 | N19: 57649 | O19: 534757 | Q19: 34146
A20: 2013 | B20: 108725 | D20: 0 | E20: 8 | G20: 509814 | H20: 180553 | I20: 110 | J20: 11067754 | L20: 153156 | N20: 2355 | O20: 455043 | Q20: 67625
A21: 2014 | B21: 248917 | D21: 99837 | G21: 9886429 | H21: 427880 | I21: 15536 | J21: 5475260 | L21: 1182483 | N21: 315 | O21: 3433977 | Q21: 104277
A22: 2015 | B22: 371404 | D22: 753492 | G22: 6332693 | H22: 384668 | J22: 2170712 | L22: 2985088 | N22: 46 | O22: 3695685 | Q22: 112114
A23: 2016 | B23: 738973 | D23: 106164 | G23: 2051354 | H23: 336409 | I23: 131 | J23: 1858019 | L23: 3515282 | O23: 6283569 | P23: 230 | Q23: 175948
A24: 2017 | B24: 1160470 | C24: 0 | D24: 61166 | E24: 0 | G24: 16241295 | H24: 954837 | I24: 623 | J24: 662463 | L24: 4399131 | O24: 4452654 | P24: 12 | Q24: 182797
A25: TSA_NUMBER_DESCR | B25: (All)
A27: Sum of NRLVOLUME | B27: Column Labels
A28: Year | B28: Douglas-fir Beetle | C28: Douglas-fir Tussock Moth | D28: Drought | E28: Engraver Beetle (Ips species) | F28: Fir engraver Beetle | G28: Fire | H28: Flooding | I28: Lodgepole Pine Beetle | J28: Mountain Pine Beetle | K28: Red Turpentine Beetle | L28: Spruce Beetle | M28: Twig Beetle | N28: Unknown Beetle | O28: Western Balsam Bark Beetle | P28: Western Pine Beetle | Q28: Yellow cedar decline | R28: (blank) | S28: #N/A
A29: 1999 | B29: 45236 | D29: 175152 | E29: 3869 | G29: 314182 | H29: 14809 | J29: 7011093 | L29: 1227764 | O29: 3736516 | P29: 198
A30: 2000 | B30: 244294 | D30: 115 | E30: 74 | G30: 75665 | H30: 13291 | J30: 12916779 | L30: 2448041 | O30: 7946083 | P30: 132
A31: 2001 | B31: 290904 | C31: 108 | D31: 16 | E31: 1452 | G31: 136693 | H31: 183441 | J31: 21954707 | K31: 0 | L31: 1132698 | N31: 18 | O31: 6064937 | P31: 267
A32: 2002 | B32: 134258 | C32: 0 | D32: 7215 | E32: 170 | G32: 160491 | H32: 145848 | I32: 2173 | J32: 40820051 | K32: 0 | L32: 4220373 | O32: 5496423 | P32: 48
A33: 2003 | B33: 202752 | C33: 1233 | D33: 8507 | E33: 6794 | G33: 680425 | H33: 137392 | I33: 56 | J33: 65448511 | L33: 3483427 | O33: 8359770 | P33: 587
A34: 2004 | B34: 233152 | D34: 61055 | F34: 0 | G34: 7078175 | H34: 74301 | J34: 77500828 | L34: 2627295 | O34: 2970335 | P34: 125
A35: 2005 | B35: 246002 | C35: 86 | D35: 2935 | F35: 4781 | G35: 749424 | H35: 58482 | J35: 131669538 | L35: 882419 | O35: 3014425 | P35: 75
A36: 2006 | B36: 220473 | D36: 125801 | G36: 4170291 | H36: 63871 | J36: 113101405 | L36: 574076 | O36: 2537156 | P36: 0 | Q36: 130232
A37: 2007 | B37: 272860 | C37: 617 | D37: 740 | E37: 0 | G37: 1239489 | H37: 57962 | J37: 107796361 | L37: 648787 | N37: 124 | O37: 1409718 | Q37: 401244
A38: 2008 | B38: 388703 | C38: 13027 | D38: 4326 | E38: 0 | G38: 690518 | H38: 57045 | J38: 68949388 | L38: 321933 | N38: 474 | O38: 217200 | Q38: 529666
A39: 2009 | B39: 410814 | C39: 145241 | D39: 4305101 | E39: 687 | G39: 7878967 | H39: 105425 | I39: 47 | J39: 62856200 | L39: 595563 | M39: 0 | N39: 0 | O39: 1219260 | Q39: 64748
A40: 2010 | B40: 153342 | C40: 256909 | D40: 6751 | G40: 6176668 | H40: 41713 | J40: 59910815 | L40: 569631 | O40: 1252149 | Q40: 145070
A41: 2011 | B41: 210412 | C41: 51310 | D41: 704 | E41: 9 | G41: 373097 | H41: 319605 | J41: 36627170 | L41: 206244 | O41: 194693 | Q41: 43682
A42: 2012 | B42: 172526 | C42: 380 | D42: 546297 | G42: 2134180 | H42: 376899 | J42: 21595153 | L42: 691442 | N42: 55007 | O42: 523876 | Q42: 34139
A43: 2013 | B43: 105063 | D43: 0 | E43: 8 | G43: 502045 | H43: 177226 | I43: 110 | J43: 10698004 | L43: 147825 | N43: 2264 | O43: 450052 | Q43: 67498
A44: 2014 | B44: 245905 | D44: 98091 | G44: 9710189 | H44: 426837 | I44: 15536 | J44: 5378858 | L44: 1098776 | N44: 315 | O44: 3393974 | Q44: 104203
A45: 2015 | B45: 365643 | D45: 751112 | G45: 6246867 | H45: 383158 | J45: 2129691 | L45: 2827462 | N45: 46 | O45: 3658000 | Q45: 111785
A46: 2016 | B46: 729915 | D46: 105529 | G46: 1893896 | H46: 335784 | I46: 131 | J46: 1827938 | L46: 3420549 | O46: 6246741 | P46: 230 | Q46: 175716
A47: 2017 | B47: 1150110 | C47: 0 | D47: 60892 | E47: 0 | G47: 15763174 | H47: 953418 | I47: 623 | J47: 651565 | L47: 4320370 | O47: 4425047 | P47: 12 | Q47: 182617
A49: =CONCATENATE("Annual Volume Killed on the CFLB as of 2017 -- ",IF($B$2 = "(ALL)","ALL TSAs",$B$2)) -> Annual Volume Killed on the CFLB as of 2017 -- ALL TSAs
A50: =A5 -> Year | B50: =B5 -> Douglas-fir Beetle | C50: =C5 -> Douglas-fir Tussock Moth | D50: =D5 -> Drought | E50: =E5 -> Engraver Beetle (Ips species) | F50: =F5 -> Fir engraver Beetle | G50: =G5 -> Fire | H50: =H5 -> Flooding | ... Q50: =Q5 -> Yellow cedar decline | R50: Grand Total
A51: =A6 -> 1999 | B51: =B6 -> 52870 | C51: =C6 -> 0 | D51: =D6 -> 230802 | E51: =E6 -> 4354 | F51: =F6 -> 0 | G51: =G6 -> 388439 | H51: =H6 -> 16764 | ... Q51: =Q6 -> 0 | R51: =SUM(B51:Q51) -> 14922608
A52: =A7 -> 2000 | B52: =B7 -> 286031 | C52: =C7 -> 0 | D52: =D7 -> 115 | E52: =E7 -> 74 | F52: =F7 -> 0 | G52: =G7 -> 79217 | H52: =H7 -> 14295 | ... Q52: =Q7 -> 0 | R52: =SUM(B52:Q52) -> 26938078
A53: =A8 -> 2001 | B53: =B8 -> 319827 | C53: =C8 -> 108 | D53: =D8 -> 16 | E53: =E8 -> 2876 | F53: =F8 -> 0 | G53: =G8 -> 171901 | H53: =H8 -> 197604 | ... Q53: =Q8 -> 0 | R53: =SUM(B53:Q53) -> 34589078
A54: =A9 -> 2002 | B54: =B9 -> 143770 | C54: =C9 -> 0 | D54: =D9 -> 8015 | E54: =E9 -> 170 | F54: =F9 -> 0 | G54: =G9 -> 168002 | H54: =H9 -> 165847 | ... Q54: =Q9 -> 0 | R54: =SUM(B54:Q54) -> 61562303
A55: =A10 -> 2003 | B55: =B10 -> 221930 | C55: =C10 -> 1233 | D55: =D10 -> 8507 | E55: =E10 -> 6853 | F55: =F10 -> 0 | G55: =G10 -> 693822 | H55: =H10 -> 140737 | ... Q55: =Q10 -> 0 | R55: =SUM(B55:Q55) -> 97488954
A56: =A11 -> 2004 | B56: =B11 -> 243511 | C56: =C11 -> 0 | D56: =D11 -> 63894 | E56: =E11 -> 0 | F56: =F11 -> 0 | G56: =G11 -> 7198098 | H56: =H11 -> 76526 | ... Q56: =Q11 -> 0 | R56: =SUM(B56:Q56) -> 119071836
A57: =A12 -> 2005 | B57: =B12 -> 266070 | C57: =C12 -> 86 | D57: =D12 -> 2935 | E57: =E12 -> 0 | F57: =F12 -> 5106 | G57: =G12 -> 768025 | H57: =H12 -> 59779 | ... Q57: =Q12 -> 0 | R57: =SUM(B57:Q57) -> 189308533
A58: =A13 -> 2006 | B58: =B13 -> 233660 | C58: =C13 -> 0 | D58: =D13 -> 126379 | E58: =E13 -> 0 | F58: =F13 -> 0 | G58: =G13 -> 4387710 | H58: =H13 -> 64530 | ... Q58: =Q13 -> 130523 | R58: =SUM(B58:Q58) -> 161531782
A59: =A14 -> 2007 | B59: =B14 -> 285739 | C59: =C14 -> 617 | D59: =D14 -> 740 | E59: =E14 -> 0 | F59: =F14 -> 0 | G59: =G14 -> 1276141 | H59: =H14 -> 58726 | ... Q59: =Q14 -> 403981 | R59: =SUM(B59:Q59) -> 144541484
A60: =A15 -> 2008 | B60: =B15 -> 399078 | C60: =C15 -> 14040 | D60: =D15 -> 4326 | E60: =E15 -> 0 | F60: =F15 -> 0 | G60: =G15 -> 760625 | H60: =H15 -> 57045 | ... Q60: =Q15 -> 532677 | R60: =SUM(B60:Q60) -> 85749091
A61: =A16 -> 2009 | B61: =B16 -> 421959 | C61: =C16 -> 146969 | D61: =D16 -> 4338332 | E61: =E16 -> 687 | F61: =F16 -> 0 | G61: =G16 -> 7980696 | H61: =H16 -> 105684 | ... Q61: =Q16 -> 65407 | R61: =SUM(B61:Q61) -> 85738264
A62: =A17 -> 2010 | B62: =B17 -> 165000 | C62: =C17 -> 257372 | D62: =D17 -> 6783 | E62: =E17 -> 0 | F62: =F17 -> 0 | G62: =G17 -> 6325657 | H62: =H17 -> 42017 | ... Q62: =Q17 -> 145139 | R62: =SUM(B62:Q62) -> 73211331
... A69: =A24 -> 2017 | B69: =B24 -> 1160470 | C69: =C24 -> 0 | D69: =D24 -> 61166 | E69: =E24 -> 0 | F69: =F24 -> 0 | G69: =G24 -> 16241295 | H69: =H24 -> 954837 | ... Q69: =Q24 -> 182797 | R69: =SUM(B69:Q69) -> 28115448
A70: Grand Total | B70: =SUM(B51:B69) -> 6063563 | C70: =SUM(C51:C69) -> 473399 | D70: =SUM(D51:D69) -> 6363799 | E70: =SUM(E51:E69) -> 15031 | F70: =SUM(F51:F69) -> 5106 | G70: =SUM(G51:G69) -> 67734034 | H70: =SUM(H51:H69) -> 3981217 | I70: =SUM(I51:I69) -> 18676 | ... R70: =SUM(R51:R69) -> 1255523435
A73: =CONCATENATE("Annual Volume Killed on the CFLB and Not Harvested as of 2017 -- ",IF($B$2 = "(ALL)","ALL TSAs",$B$2)) -> Annual Volume Killed on the CFLB and Not Harvested as of 2017 -- ALL TSAs
A74: =A28 -> Year | B74: =B28 -> Douglas-fir Beetle | C74: =C28 -> Douglas-fir Tussock Moth | D74: =D28 -> Drought | E74: =E28 -> Engraver Beetle (Ips species) | F74: =F28 -> Fir engraver Beetle | G74: =G28 -> Fire | H74: =H28 -> Flooding | ... Q74: =Q28 -> Yellow cedar decline | R74: Grand Total
A75: =A29 -> 1999 | B75: =B29 -> 45236 | C75: =C29 -> 0 | D75: =D29 -> 175152 | E75: =E29 -> 3869 | F75: =F29 -> 0 | G75: =G29 -> 314182 | H75: =H29 -> 14809 | ... Q75: =Q29 -> 0 | R75: =SUM(B75:Q75) -> 12528819
A76: =A30 -> 2000 | B76: =B30 -> 244294 | C76: =C30 -> 0 | D76: =D30 -> 115 | E76: =E30 -> 74 | F76: =F30 -> 0 | G76: =G30 -> 75665 | H76: =H30 -> 13291 | ... Q76: =Q30 -> 0 | R76: =SUM(B76:Q76) -> 23644474
A77: =A31 -> 2001 | B77: =B31 -> 290904 | C77: =C31 -> 108 | D77: =D31 -> 16 | E77: =E31 -> 1452 | F77: =F31 -> 0 | G77: =G31 -> 136693 | H77: =H31 -> 183441 | ... Q77: =Q31 -> 0 | R77: =SUM(B77:Q77) -> 29765241
A78: =A32 -> 2002 | B78: =B32 -> 134258 | C78: =C32 -> 0 | D78: =D32 -> 7215 | E78: =E32 -> 170 | F78: =F32 -> 0 | G78: =G32 -> 160491 | H78: =H32 -> 145848 | ... Q78: =Q32 -> 0 | R78: =SUM(B78:Q78) -> 50987050
A79: =A33 -> 2003 | B79: =B33 -> 202752 | C79: =C33 -> 1233 | D79: =D33 -> 8507 | E79: =E33 -> 6794 | F79: =F33 -> 0 | G79: =G33 -> 680425 | H79: =H33 -> 137392 | ... Q79: =Q33 -> 0 | R79: =SUM(B79:Q79) -> 78329454
A80: =A34 -> 2004 | B80: =B34 -> 233152 | C80: =C34 -> 0 | D80: =D34 -> 61055 | E80: =E34 -> 0 | F80: =F34 -> 0 | G80: =G34 -> 7078175 | H80: =H34 -> 74301 | ... Q80: =Q34 -> 0 | R80: =SUM(B80:Q80) -> 90545266
A81: =A35 -> 2005 | B81: =B35 -> 246002 | C81: =C35 -> 86 | D81: =D35 -> 2935 | E81: =E35 -> 0 | F81: =F35 -> 4781 | G81: =G35 -> 749424 | H81: =H35 -> 58482 | ... Q81: =Q35 -> 0 | R81: =SUM(B81:Q81) -> 136628167
A82: =A36 -> 2006 | B82: =B36 -> 220473 | C82: =C36 -> 0 | D82: =D36 -> 125801 | E82: =E36 -> 0 | F82: =F36 -> 0 | G82: =G36 -> 4170291 | H82: =H36 -> 63871 | ... Q82: =Q36 -> 130232 | R82: =SUM(B82:Q82) -> 120923305
A83: =A37 -> 2007 | B83: =B37 -> 272860 | C83: =C37 -> 617 | D83: =D37 -> 740 | E83: =E37 -> 0 | F83: =F37 -> 0 | G83: =G37 -> 1239489 | H83: =H37 -> 57962 | ... Q83: =Q37 -> 401244 | R83: =SUM(B83:Q83) -> 111827902
A84: =A38 -> 2008 | B84: =B38 -> 388703 | C84: =C38 -> 13027 | D84: =D38 -> 4326 | E84: =E38 -> 0 | F84: =F38 -> 0 | G84: =G38 -> 690518 | H84: =H38 -> 57045 | ... Q84: =Q38 -> 529666 | R84: =SUM(B84:Q84) -> 71172280
A85: =A39 -> 2009 | B85: =B39 -> 410814 | C85: =C39 -> 145241 | D85: =D39 -> 4305101 | E85: =E39 -> 687 | F85: =F39 -> 0 | G85: =G39 -> 7878967 | H85: =H39 -> 105425 | ... Q85: =Q39 -> 64748 | R85: =SUM(B85:Q85) -> 77582053
A86: =A40 -> 2010 | B86: =B40 -> 153342 | C86: =C40 -> 256909 | D86: =D40 -> 6751 | E86: =E40 -> 0 | F86: =F40 -> 0 | G86: =G40 -> 6176668 | H86: =H40 -> 41713 | ... Q86: =Q40 -> 145070 | R86: =SUM(B86:Q86) -> 68513048
... A93: =A47 -> 2017 | B93: =B47 -> 1150110 | C93: =C47 -> 0 | D93: =D47 -> 60892 | E93: =E47 -> 0 | F93: =F47 -> 0 | G93: =G47 -> 15763174 | H93: =H47 -> 953418 | ... Q93: =Q47 -> 182617 | R93: =SUM(B93:Q93) -> 27507828
A94: Grand Total | B94: =SUM(B75:B93) -> 5822364 | C94: =SUM(C75:C93) -> 468911 | D94: =SUM(D75:D93) -> 6260339 | E94: =SUM(E75:E93) -> 13063 | F94: =SUM(F75:F93) -> 4781 | G94: =SUM(G75:G93) -> 65974436 | H94: =SUM(H75:H93) -> 3926507 | I94: =SUM(I75:I93) -> 18676 | ... R94: =SUM(R75:R93) -> 1027944684
A97: =CONCATENATE("Annual Volume Killed on the CFLB and Harvested as of 2017 -- ",IF($B$2 = "(ALL)","ALL TSAs",$B$2)) -> Annual Volume Killed on the CFLB and Harvested as of 2017 -- ALL TSAs
A98: =A74 -> Year | B98: =B74 -> Douglas-fir Beetle | C98: =C74 -> Douglas-fir Tussock Moth | D98: =D74 -> Drought | E98: =E74 -> Engraver Beetle (Ips species) | F98: =F74 -> Fir engraver Beetle | G98: =G74 -> Fire | H98: =H74 -> Flooding | ... AN98: =AN74 -> 0
A99: =A75 -> 1999 | B99: =B51-B75 -> 7634 | C99: =C51-C75 -> 0 | D99: =D51-D75 -> 55650 | E99: =E51-E75 -> 485 | F99: =F51-F75 -> 0 | G99: =G51-G75 -> 74257 | H99: =H51-H75 -> 1955 | I99: =I51-I75 -> 0 | ... AM99: =AM51-AM75 -> 0 | AN99: =SUM(B99:AM99) -> 4787578
A100: =A76 -> 2000 | B100: =B52-B76 -> 41737 | C100: =C52-C76 -> 0 | D100: =D52-D76 -> 0 | E100: =E52-E76 -> 0 | F100: =F52-F76 -> 0 | G100: =G52-G76 -> 3552 | H100: =H52-H76 -> 1004 | I100: =I52-I76 -> 0 | ... AM100: =AM52-AM76 -> 0 | AN100: =SUM(B100:AM100) -> 6587208
A101: =A77 -> 2001 | B101: =B53-B77 -> 28923 | C101: =C53-C77 -> 0 | D101: =D53-D77 -> 0 | E101: =E53-E77 -> 1424 | F101: =F53-F77 -> 0 | G101: =G53-G77 -> 35208 | H101: =H53-H77 -> 14163 | I101: =I53-I77 -> 0 | ... AM101: =AM53-AM77 -> 0 | AN101: =SUM(B101:AM101) -> 9647674
A102: =A78 -> 2002 | B102: =B54-B78 -> 9512 | C102: =C54-C78 -> 0 | D102: =D54-D78 -> 800 | E102: =E54-E78 -> 0 | F102: =F54-F78 -> 0 | G102: =G54-G78 -> 7511 | H102: =H54-H78 -> 19999 | I102: =I54-I78 -> 0 | ... AM102: =AM54-AM78 -> 0 | AN102: =SUM(B102:AM102) -> 21150506
A103: =A79 -> 2003 | B103: =B55-B79 -> 19178 | C103: =C55-C79 -> 0 | D103: =D55-D79 -> 0 | E103: =E55-E79 -> 59 | F103: =F55-F79 -> 0 | G103: =G55-G79 -> 13397 | H103: =H55-H79 -> 3345 | I103: =I55-I79 -> 0 | ... AM103: =AM55-AM79 -> 0 | AN103: =SUM(B103:AM103) -> 38319000
A104: =A80 -> 2004 | B104: =B56-B80 -> 10359 | C104: =C56-C80 -> 0 | D104: =D56-D80 -> 2839 | E104: =E56-E80 -> 0 | F104: =F56-F80 -> 0 | G104: =G56-G80 -> 119923 | H104: =H56-H80 -> 2225 | I104: =I56-I80 -> 0 | ... AM104: =AM56-AM80 -> 0 | AN104: =SUM(B104:AM104) -> 57053140
A105: =A81 -> 2005 | B105: =B57-B81 -> 20068 | C105: =C57-C81 -> 0 | D105: =D57-D81 -> 0 | E105: =E57-E81 -> 0 | F105: =F57-F81 -> 325 | G105: =G57-G81 -> 18601 | H105: =H57-H81 -> 1297 | I105: =I57-I81 -> 0 | ... AM105: =AM57-AM81 -> 0 | AN105: =SUM(B105:AM105) -> 105360732
A106: =A82 -> 2006 | B106: =B58-B82 -> 13187 | C106: =C58-C82 -> 0 | D106: =D58-D82 -> 578 | E106: =E58-E82 -> 0 | F106: =F58-F82 -> 0 | G106: =G58-G82 -> 217419 | H106: =H58-H82 -> 659 | I106: =I58-I82 -> 0 | ... AM106: =AM58-AM82 -> 0 | AN106: =SUM(B106:AM106) -> 81216954
A107: =A83 -> 2007 | B107: =B59-B83 -> 12879 | C107: =C59-C83 -> 0 | D107: =D59-D83 -> 0 | E107: =E59-E83 -> 0 | F107: =F59-F83 -> 0 | G107: =G59-G83 -> 36652 | H107: =H59-H83 -> 764 | I107: =I59-I83 -> 0 | ... AM107: =AM59-AM83 -> 0 | AN107: =SUM(B107:AM107) -> 65427164
A108: =A84 -> 2008 | B108: =B60-B84 -> 10375 | C108: =C60-C84 -> 1013 | D108: =D60-D84 -> 0 | E108: =E60-E84 -> 0 | F108: =F60-F84 -> 0 | G108: =G60-G84 -> 70107 | H108: =H60-H84 -> 0 | I108: =I60-I84 -> 0 | ... AM108: =AM60-AM84 -> 0 | AN108: =SUM(B108:AM108) -> 29153622
A109: =A85 -> 2009 | B109: =B61-B85 -> 11145 | C109: =C61-C85 -> 1728 | D109: =D61-D85 -> 33231 | E109: =E61-E85 -> 0 | F109: =F61-F85 -> 0 | G109: =G61-G85 -> 101729 | H109: =H61-H85 -> 259 | I109: =I61-I85 -> 0 | ... AM109: =AM61-AM85 -> 0 | AN109: =SUM(B109:AM109) -> 16312422
A110: =A86 -> 2010 | B110: =B62-B86 -> 11658 | C110: =C62-C86 -> 463 | D110: =D62-D86 -> 32 | E110: =E62-E86 -> 0 | F110: =F62-F86 -> 0 | G110: =G62-G86 -> 148989 | H110: =H62-H86 -> 304 | I110: =I62-I86 -> 0 | ... AM110: =AM62-AM86 -> 0 | AN110: =SUM(B110:AM110) -> 9396566
... A117: =A93 -> 2017 | B117: =B69-B93 -> 10360 | C117: =C69-C93 -> 0 | D117: =D69-D93 -> 274 | E117: =E69-E93 -> 0 | F117: =F69-F93 -> 0 | G117: =G69-G93 -> 478121 | H117: =H69-H93 -> 1419 | I117: =I69-I93 -> 0 | ... AM117: =AM69-AM93 -> 0 | AN117: =SUM(B117:AM117) -> 1215240
A118: Grand Total | B118: =SUM(B99:B117) -> 241199 | C118: =SUM(C99:C117) -> 4488 | D118: =SUM(D99:D117) -> 103460 | E118: =SUM(E99:E117) -> 1968 | F118: =SUM(F99:F117) -> 325 | G118: =SUM(G99:G117) -> 1759598 | H118: =SUM(H99:H117) -> 54710 | I118: =SUM(I99:I117) -> 0 | ... AN118: =SUM(AN99:AN117) -> 455157502
A121: =CONCATENATE("Cumulative Volume Killed on the CFLB and Not Harvested as of 2017 -- ",IF($B$2 = "(ALL)","ALL TSAs",$B$2)) -> Cumulative Volume Killed on the CFLB and Not Harvested as of 2017 -- ALL TSAs
A122: =A28 -> Year | B122: =B28 -> Douglas-fir Beetle | C122: =C28 -> Douglas-fir Tussock Moth | D122: =D28 -> Drought | E122: =E28 -> Engraver Beetle (Ips species) | F122: =F28 -> Fir engraver Beetle | G122: =G28 -> Fire | H122: =H28 -> Flooding | ... AM122: =AM28 -> 0 | AN122: Grand Total
A123: =A29 -> 1999 | B123: =B29 -> 45236 | C123: =C29 -> 0 | D123: =D29 -> 175152 | E123: =E29 -> 3869 | F123: =F29 -> 0 | G123: =G29 -> 314182 | H123: =H29 -> 14809 | ... AM123: =AM29 -> 0 | AN123: =SUM(B123:AM123) -> 12528819
A124: =A30 -> 2000 | B124: =B123+B30 -> 289530 | C124: =C123+C30 -> 0 | D124: =D123+D30 -> 175267 | E124: =E123+E30 -> 3943 | F124: =F123+F30 -> 0 | G124: =G123+G30 -> 389847 | H124: =H123+H30 -> 28100 | I124: =I123+I30 -> 0 | ... AM124: =AM123+AM30 -> 0 | AN124: =SUM(B124:AM124) -> 36173293
A125: =A31 -> 2001 | B125: =B124+B31 -> 580434 | C125: =C124+C31 -> 108 | D125: =D124+D31 -> 175283 | E125: =E124+E31 -> 5395 | F125: =F124+F31 -> 0 | G125: =G124+G31 -> 526540 | H125: =H124+H31 -> 211541 | I125: =I124+I31 -> 0 | ... AM125: =AM124+AM31 -> 0 | AN125: =SUM(B125:AM125) -> 65938534
A126: =A32 -> 2002 | B126: =B125+B32 -> 714692 | C126: =C125+C32 -> 108 | D126: =D125+D32 -> 182498 | E126: =E125+E32 -> 5565 | F126: =F125+F32 -> 0 | G126: =G125+G32 -> 687031 | H126: =H125+H32 -> 357389 | I126: =I125+I32 -> 2173 | ... AM126: =AM125+AM32 -> 0 | AN126: =SUM(B126:AM126) -> 116925584
A127: =A33 -> 2003 | B127: =B126+B33 -> 917444 | C127: =C126+C33 -> 1341 | D127: =D126+D33 -> 191005 | E127: =E126+E33 -> 12359 | F127: =F126+F33 -> 0 | G127: =G126+G33 -> 1367456 | H127: =H126+H33 -> 494781 | I127: =I126+I33 -> 2229 | ... AM127: =AM126+AM33 -> 0 | AN127: =SUM(B127:AM127) -> 195255038
A128: =A34 -> 2004 | B128: =B127+B34 -> 1150596 | C128: =C127+C34 -> 1341 | D128: =D127+D34 -> 252060 | E128: =E127+E34 -> 12359 | F128: =F127+F34 -> 0 | G128: =G127+G34 -> 8445631 | H128: =H127+H34 -> 569082 | I128: =I127+I34 -> 2229 | ... AM128: =AM127+AM34 -> 0 | AN128: =SUM(B128:AM128) -> 285800304
...

Sheet FHF Comparison Charts

Sheet FHF LUT
A1: Damage Type | B1: M = Mortality; G = Growth Loss; B = both
A2: Timber Supply Significance | B2: L=Low, M=Medium; H=High - relating to impact on volume
A4: Disturbance Code | B4: Disturbance Description | C4: Disturbance Class | D4: Code from AOS Summary Spreadsheet | E4: Hosts | F4: Damage Type | G4: Timber Supply Significance | H4: Volume Losses Calculated in this Analysis? (Yes/No) | I4: Comments
A5: =TRIM(LEFT(D5,FIND("=",D5)-1)) -> A | B5: =TRIM(MID(D5,FIND("=",D5)+1,100)) -> Animal | C5: Animals | D5: A=Animal | E5: All | F5: M | G5: L | H5: No | I5: Better data capture through silviculture surveys and SDM
A6: =TRIM(LEFT(D6,FIND("=",D6)-1)) -> AB | B6: =TRIM(MID(D6,FIND("=",D6)+1,100)) -> Bear | C6: Animals | D6: AB=Bear | E6: All | F6: M | G6: L | H6: No | I6: Better data capture through silviculture surveys and SDM
A7: =TRIM(LEFT(D7,FIND("=",D7)-1)) -> AD | B7: =TRIM(MID(D7,FIND("=",D7)+1,100)) -> Deer | C7: Animals | D7: AD=Deer | E7: All | F7: M | G7: L | H7: No | I7: Better data capture through silviculture surveys and SDM
A8: =TRIM(LEFT(D8,FIND("=",D8)-1)) -> AH | B8: =TRIM(MID(D8,FIND("=",D8)+1,100)) -> Hare/Rabbits | C8: Animals | D8: AH=Hare/Rabbits | E8: All | F8: M | G8: L | H8: No | I8: Better data capture through silviculture surveys and SDM
A9: =TRIM(LEFT(D9,FIND("=",D9)-1)) -> AP | B9: =TRIM(MID(D9,FIND("=",D9)+1,100)) -> Porcupine | C9: Animals | D9: AP=Porcupine | E9: All | F9: M | G9: L | H9: No | I9: Better data capture through silviculture surveys and SDM
A10: =TRIM(LEFT(D10,FIND("=",D10)-1)) -> DF | B10: =TRIM(MID(D10,FIND("=",D10)+1,100)) -> Unknown Disease | C10: Diseases | D10: DF= Unknown Disease | E10: All | F10: G | G10: L | H10: No | I10: Better data capture through silviculture surveys and SDM
A11: =TRIM(LEFT(D11,FIND("=",D11)-1)) -> DFB | B11: =TRIM(MID(D11,FIND("=",D11)+1,100)) -> Delphinella needle cast | C11: Diseases | D11: DFB=Delphinella needle cast | E11: Bl | F11: G | G11: L | H11: No | I11: Better data capture through silviculture surveys and SDM
A12: =TRIM(LEFT(D12,FIND("=",D12)-1)) -> DFC | B12: =TRIM(MID(D12,FIND("=",D12)+1,100)) -> Large-spored Spruce-labrador Tea Rust | C12: Diseases | D12: DFC=Large-spored Spruce-labrador Tea Rust | E12: Sx | F12: G | G12: L | H12: No | I12: Better data capture through silviculture surveys and SDM
A13: =TRIM(LEFT(D13,FIND("=",D13)-1)) -> DFH | B13: =TRIM(MID(D13,FIND("=",D13)+1,100)) -> Larch Needle Blight | C13: Diseases | D13: DFH=Larch Needle Blight | E13: Lw | F13: G | G13: M | H13: No | I13: Better data capture through silviculture surveys and SDM
A14: =TRIM(LEFT(D14,FIND("=",D14)-1)) -> DFL | B14: =TRIM(MID(D14,FIND("=",D14)+1,100)) -> Lophodermella Needle Cast | C14: Diseases | D14: DFL=Lophodermella Needle Cast | E14: Pl | F14: G | G14: H | H14: No | I14: Better data capture through silviculture surveys and SDM
A15: =TRIM(LEFT(D15,FIND("=",D15)-1)) -> DFM | B15: =TRIM(MID(D15,FIND("=",D15)+1,100)) -> Larch Needle Cast | C15: Diseases | D15: DFM=Larch Needle Cast | E15: Lw | F15: G | G15: L | H15: No | I15: Better data capture through silviculture surveys and SDM
A16: =TRIM(LEFT(D16,FIND("=",D16)-1)) -> DFR | B16: =TRIM(MID(D16,FIND("=",D16)+1,100)) -> Douglas-fir Needle Cast | C16: Diseases | D16: DFR=Douglas-fir Needle Cast | E16: Fd | F16: G | G16: M | H16: No | I16: Better data capture through silviculture surveys and SDM
... A29: =TRIM(LEFT(D29,FIND("=",D29)-1)) -> IAS | B29: =TRIM(MID(D29,FIND("=",D29)+1,100)) -> Green Spruce Aphid | C29: Defoliators | D29: IAS=Green Spruce Aphid | E29: Ss | F29: G | G29: L | H29: No | I29: Limited to low elevations on Coast
A30: =TRIM(LEFT(D30,FIND("=",D30)-1)) -> IB | B30: =TRIM(MID(D30,FIND("=",D30)+1,100)) -> Unknown Beetle | C30: Bark Beetles | D30: IB=Unknown Beetle | E30: All conifers | F30: M | G30: L | H30: Yes
A31: =TRIM(LEFT(D31,FIND("=",D31)-1)) -> IBB | B31: =TRIM(MID(D31,FIND("=",D31)+1,100)) -> Western Balsam Bark Beetle | C31: Bark Beetles | D31: IBB=Western Balsam Bark Beetle | E31: Bl | F31: M | G31: M | H31: Yes | I31: Major Bark Beetle but damage chronic
A32: =TRIM(LEFT(D32,FIND("=",D32)-1)) -> IBD | B32: =TRIM(MID(D32,FIND("=",D32)+1,100)) -> Douglas-fir Beetle | C32: Bark Beetles | D32: IBD=Douglas-fir Beetle | E32: Fd | F32: M | G32: H | H32: Yes | I32: Major Bark Beetle
A33: =TRIM(LEFT(D33,FIND("=",D33)-1)) -> IBF | B33: =TRIM(MID(D33,FIND("=",D33)+1,100)) -> Fir engraver Beetle | C33: Bark Beetles | D33: IBF = Fir engraver Beetle | E33: Ba, Bl | F33: M | G33: L | H33: Yes | I33: Scattered mortality on Coast
A34: =TRIM(LEFT(D34,FIND("=",D34)-1)) -> IBI | B34: =TRIM(MID(D34,FIND("=",D34)+1,100)) -> Engraver Beetle (Ips species) | C34: Bark Beetles | D34: IBI=Engraver Beetle (Ips species) | E34: Pl | F34: M | G34: L | H34: Yes | I34: Secondary BB
A35: =TRIM(LEFT(D35,FIND("=",D35)-1)) -> IBL | B35: =TRIM(MID(D35,FIND("=",D35)+1,100)) -> Lodgepole Pine Beetle | C35: Bark Beetles | D35: IBL=Lodgepole Pine Beetle | E35: Pl | F35: M | G35: L | H35: Yes | I35: Scattered mortality in mature Pl
A36: =TRIM(LEFT(D36,FIND("=",D36)-1)) -> IBM | B36: =TRIM(MID(D36,FIND("=",D36)+1,100)) -> Mountain Pine Beetle | C36: Bark Beetles | D36: IBM=Mountain Pine Beetle | E36: Pl, Pw, Pa, Pf | F36: M | G36: H | H36: Yes | I36: Major Bark Beetle
A37: =TRIM(LEFT(D37,FIND("=",D37)-1)) -> IBP | B37: =TRIM(MID(D37,FIND("=",D37)+1,100)) -> Twig Beetle | C37: Bark Beetles | D37: IBP=Twig Beetle | E37: Pl | F37: M | G37: L | H37: Yes | I37: Secondary BB
A38: =TRIM(LEFT(D38,FIND("=",D38)-1)) -> IBS | B38: =TRIM(MID(D38,FIND("=",D38)+1,100)) -> Spruce Beetle | C38: Bark Beetles | D38: IBS=Spruce Beetle | E38: Sx | F38: M | G38: H | H38: Yes | I38: Major Bark Beetle
A39: =TRIM(LEFT(D39,FIND("=",D39)-1)) -> IBT | B39: =TRIM(MID(D39,FIND("=",D39)+1,100)) -> Red Turpentine Beetle | C39: Bark Beetles | D39: IBT=Red Turpentine Beetle | E39: Pl | F39: M | G39: L | H39: Yes | I39: Scattered mortality in mature Pl
A40: =TRIM(LEFT(D40,FIND("=",D40)-1)) -> IBW | B40: =TRIM(MID(D40,FIND("=",D40)+1,100)) -> Western Pine Beetle | C40: Bark Beetles | D40: IBW=Western Pine Beetle | E40: Py | F40: M | G40: L | H40: Yes | I40: Limited to Py often mixed with MPB
A41: =TRIM(LEFT(D41,FIND("=",D41)-1)) -> ID | B41: =TRIM(MID(D41,FIND("=",D41)+1,100)) -> Defoliators | C41: Defoliators | D41: ID=Defoliators | E41: All | F41: G | H41: No
A42: =TRIM(LEFT(D42,FIND("=",D42)-1)) -> ID2 | B42: =TRIM(MID(D42,FIND("=",D42)+1,100)) -> Bruce spanworm | C42: Defoliators | D42: ID2=Bruce spanworm | E42: At | F42: G | G42: L | H42: No | I42: Deciduous pest
A43: =TRIM(LEFT(D43,FIND("=",D43)-1)) -> ID6 | B43: =TRIM(MID(D43,FIND("=",D43)+1,100)) -> Aspen Leaf Miner | C43: Defoliators | D43: ID6=Aspen Leaf Miner | E43: At | F43: G | G43: L | H43: No | I43: Deciduous pest
A44: =TRIM(LEFT(D44,FIND("=",D44)-1)) -> IDA | B44: =TRIM(MID(D44,FIND("=",D44)+1,100)) -> Black Army Cutworm | C44: Defoliators | D44: IDA=Black Army Cutworm | E44: All | F44: M | G44: L | H44: No | I44: Seedling pest
A45: =TRIM(LEFT(D45,FIND("=",D45)-1)) -> IDB | B45: =TRIM(MID(D45,FIND("=",D45)+1,100)) -> 2-Year Budworm | C45: Defoliators | D45: IDB=2-Year Budworm | E45: Sx, Bl | F45: B | G45: M | H45: No | I45: Impacts need quantifying
A46: =TRIM(LEFT(D46,FIND("=",D46)-1)) -> IDC | B46: =TRIM(MID(D46,FIND("=",D46)+1,100)) -> Larch casebearer | C46: Defoliators | D46: IDC=Larch casebearer | E46: Lw | F46: G | G46: L | H46: No | I46: Infrequent outbreaks
A47: =TRIM(LEFT(D47,FIND("=",D47)-1)) -> IDE | B47: =TRIM(MID(D47,FIND("=",D47)+1,100)) -> Spruce Budworm | C47: Defoliators | D47: IDE=Spruce Budworm | E47: Sx, Bl | F47: G | G47: M | H47: No | I47: Mainly in NE
A48: =TRIM(LEFT(D48,FIND("=",D48)-1)) -> IDF | B48: =TRIM(MID(D48,FIND("=",D48)+1,100)) -> Forest Tent Caterpillar | C48: Defoliators | D48: IDF=Forest Tent Caterpillar | E48: A | F48: B | G48: M | H48: No | I48: Deciduous pest
A49: =TRIM(LEFT(D49,FIND("=",D49)-1)) -> IDH | B49: =TRIM(MID(D49,FIND("=",D49)+1,100)) -> Western Blackheaded Budworm | C49: Defoliators | D49: IDH=Western Blackheaded Budworm | E49: Hw, Cw | F49: B | G49: H | H49: No | I49: Mainly coastal
A50: =TRIM(LEFT(D50,FIND("=",D50)-1)) -> IDI | B50: =TRIM(MID(D50,FIND("=",D50)+1,100)) -> Pine needle sheathminer | C50: Defoliators | D50: IDI=Pine needle sheathminer | E50: Pl | F50: G | G50: L | H50: No | I50: Infrequent outbreaks
A51: =TRIM(LEFT(D51,FIND("=",D51)-1)) -> IDK | B51: =TRIM(MID(D51,FIND("=",D51)+1,100)) -> Northern Tent Caterpillar | C51: Defoliators | D51: IDK=Northern Tent Caterpillar | E51: A, W | F51: G | G51: L | H51: No | I51: Deciduous pest
A52: =TRIM(LEFT(D52,FIND("=",D52)-1)) -> IDL | B52: =TRIM(MID(D52,FIND("=",D52)+1,100)) -> Western Hemlock Looper | C52: Defoliators | D52: IDL=Western Hemlock Looper | E52: Hw, Cw, Fd | F52: B | G52: H | H52: No | I52: Impacts need quantifying
A53: =TRIM(LEFT(D53,FIND("=",D53)-1)) -> IDN | B53: =TRIM(MID(D53,FIND("=",D53)+1,100)) -> Birch Leaf Miner | C53: Defoliators | D53: IDN=Birch Leaf Miner | E53: Ep | F53: G | G53: L | H53: No | I53: Deciduous pest
... A63: =TRIM(LEFT(D63,FIND("=",D63)-1)) -> IWW | B63: =TRIM(MID(D63,FIND("=",D63)+1,100)) -> Warrens Root Collar Weevil | C63: Bark Beetles | D63: IWW=Warrens Root Collar Weevil | E63: Pl, Sx | F63: M | G63: L | H63: No | I63: Better data capture through silviculture surveys and SDM
A64: N | B64: Other | C64: Other | D64: N | H64: No
A65: =TRIM(LEFT(D65,FIND("=",D65)-1)) -> NAV | B65: =TRIM(MID(D65,FIND("=",D65)+1,100)) -> Avalanche or snow slide | C65: Other | D65: NAV=Avalanche or snow slide | E65: All | F65: M | G65: L | H65: No
A66: =TRIM(LEFT(D66,FIND("=",D66)-1)) -> NB | B66: =TRIM(MID(D66,FIND("=",D66)+1,100)) -> Fire | C66: Other | D66: NB=Fire | E66: All | F66: M | G66: H | H66: Yes
A67: =TRIM(LEFT(D67,FIND("=",D67)-1)) -> NCA | B67: =TRIM(MID(D67,FIND("=",D67)+1,100)) -> Aspen decline | C67: Other | D67: NCA=Aspen decline | E67: At | F67: B | G67: ? | H67: No | I67: Impacts need quantifying
A68: =TRIM(LEFT(D68,FIND("=",D68)-1)) -> NCB | B68: =TRIM(MID(D68,FIND("=",D68)+1,100)) -> Birch decline | C68: Other | D68: NCB=Birch decline | E68: Ep | F68: B | G68: ? | H68: No | I68: Impacts need quantifying
A69: =TRIM(LEFT(D69,FIND("=",D69)-1)) -> NCY | B69: =TRIM(MID(D69,FIND("=",D69)+1,100)) -> Yellow cedar decline | C69: Other | D69: NCY=Yellow cedar decline | E69: Yc | F69: B | G69: M | H69: Yes | I69: Significant impacts on Yc on the coast
A70: =TRIM(LEFT(D70,FIND("=",D70)-1)) -> ND | B70: =TRIM(MID(D70,FIND("=",D70)+1,100)) -> Drought | C70: Other | D70: ND=Drought | E70: All | F70: M | G70: L | H70: Yes
A71: =TRIM(LEFT(D71,FIND("=",D71)-1)) -> NF | B71: =TRIM(MID(D71,FIND("=",D71)+1,100)) -> Flooding | C71: Other | D71: NF=Flooding | E71: All | F71: M | G71: L | H71: Yes
A72: =TRIM(LEFT(D72,FIND("=",D72)-1)) -> NGK | B72: =TRIM(MID(D72,FIND("=",D72)+1,100)) -> Shoot/Bud Frost Kill | C72: Other | D72: NGK=Shoot/Bud Frost Kill | E72: All | F72: G | G72: L | H72: No
A73: =TRIM(LEFT(D73,FIND("=",D73)-1)) -> NH | B73: =TRIM(MID(D73,FIND("=",D73)+1,100)) -> Hail | C73: Other | D73: NH=Hail | E73: All | F73: G | G73: L | H73: No
A74: =TRIM(LEFT(D74,FIND("=",D74)-1)) -> NN | B74: =TRIM(MID(D74,FIND("=",D74)+1,100)) -> Road Salt | C74: Other | D74: NN=Road Salt | E74: All | F74: M | G74: L | H74: No
A75: =TRIM(LEFT(D75,FIND("=",D75)-1)) -> NR | B75: =TRIM(MID(D75,FIND("=",D75)+1,100)) -> Redbelt | C75: Other | D75: NR=Redbelt | E75: All | F75: G | G75: L | H75: No
A76: =TRIM(LEFT(D76,FIND("=",D76)-1)) -> NS | B76: =TRIM(MID(D76,FIND("=",D76)+1,100)) -> Slide | C76: Other | D76: NS=Slide | E76: All | F76: G | G76: L | H76: No
A77: =TRIM(LEFT(D77,FIND("=",D77)-1)) -> NW | B77: =TRIM(MID(D77,FIND("=",D77)+1,100)) -> Windthrow | C77: Other | D77: NW=Windthrow | E77: All | F77: G | G77: M | H77: No
A78: =TRIM(LEFT(D78,FIND("=",D78)-1)) -> NY | B78: =TRIM(MID(D78,FIND("=",D78)+1,100)) -> Snow/Ice | C78: Other | D78: NY=Snow/Ice | E78: All | F78: B | G78: L | H78: No
A79: =TRIM(LEFT(D79,FIND("=",D79)-1)) -> PDT | B79: =TRIM(MID(D79,FIND("=",D79)+1,100)) -> Cedar Leaf Blight | C79: Diseases | D79: PDT=Cedar Leaf Blight | E79: Cw | F79: G | G79: L: | H79: No
A80: TL | B80: Logging | C80: Other | D80: TL=Logging | E80: All | F80: M | G80: H | H80: No
B84: Disturbance Description | C84: Disturbance Code | D84: Affected Tree Species Code
B85: Fire | C85: NB | D85: All Species
B86: Drought | C86: ND | D86: All Species
B87: Flooding | C87: NF | D87: All Species
B88: Mountain Pine Beetle | C88: IBM | D88: Pl, Pw, Pa, Pf
B89: Western Balsam Bark Beetle | C89: IBB | D89: Bl
B90: Spruce Beetle | C90: IBS | D90: Sx
B91: Douglas-fir Beetle | C91: IBD | D91: Fd
B92: Fir engraver Beetle | C92: IBF | D92: Ba, Bl
B93: Engraver Beetle (Ips species) | C93: IBI | D93: Pl
B94: Lodgepole Pine Beetle | C94: IBL | D94: Pl
B95: Twig Beetle | C95: IBP | D95: Pl
... B100: Unknown Beetle | C100: IB | D100: All conifers

Sheet inData
A1: YEAR | B1: FHF | C1: Forest Health Factor | D1: TSA_NUMBER | E1: TSA_NUMBER_DESCR | F1: VOLUMEKILLED | G1: NRLVOLUME
A2: 1999 | B2: IBB | C2: =VLOOKUP(B2,'FHF LUT'!$A$5:$H$80,2,FALSE) -> Western Balsam Bark Beetle | D2: 24 | E2: Prince George TSA | F2: 136643 | G2: 91998
A3: 1999 | B3: IBB | C3: =VLOOKUP(B3,'FHF LUT'!$A$5:$H$80,2,FALSE) -> Western Balsam Bark Beetle | D3: 44 | E3: Pacific TSA | F3: 0 | G3: 0
A4: 1999 | B4: IBB | C4: =VLOOKUP(B4,'FHF LUT'!$A$5:$H$80,2,FALSE) -> Western Balsam Bark Beetle | D4: 10 | E4: Kalum TSA | F4: 0 | G4: 0
A5: 1999 | B5: IBB | C5: =VLOOKUP(B5,'FHF LUT'!$A$5:$H$80,2,FALSE) -> Western Balsam Bark Beetle | D5: 12 | E5: Kispiox TSA | F5: 598942 | G5: 596301
A6: 1999 | B6: IBB | C6: =VLOOKUP(B6,'FHF LUT'!$A$5:$H$80,2,FALSE) -> Western Balsam Bark Beetle | D6: 22 | E6: Okanagan TSA | F6: 1589 | G6: 1412
A7: 1999 | B7: IBB | C7: =VLOOKUP(B7,'FHF LUT'!$A$5:$H$80,2,FALSE) -> Western Balsam Bark Beetle | D7: 29 | E7: Williams Lake TSA | F7: 25843 | G7: 24503
A8: 1999 | B8: IBB | C8: =VLOOKUP(B8,'FHF LUT'!$A$5:$H$80,2,FALSE) -> Western Balsam Bark Beetle | D8: 11 | E8: Kamloops TSA | F8: 16772 | G8: 12614
A9: 1999 | B9: IBB | C9: =VLOOKUP(B9,'FHF LUT'!$A$5:$H$80,2,FALSE) -> Western Balsam Bark Beetle | D9: 45 | E9: Cascadia TSA | F9: 966 | G9: 628
A10: 1999 | B10: IBB | C10: =VLOOKUP(B10,'FHF LUT'!$A$5:$H$80,2,FALSE) -> Western Balsam Bark Beetle | D10: 38 | E10: Arrowsmith TSA | F10: 0 | G10: 0
A11: 1999 | B11: IBB | C11: =VLOOKUP(B11,'FHF LUT'!$A$5:$H$80,2,FALSE) -> Western Balsam Bark Beetle | D11: 13 | E11: Kootenay Lake TSA | F11: 211 | G11: 211
A12: 1999 | B12: IBB | C12: =VLOOKUP(B12,'FHF LUT'!$A$5:$H$80,2,FALSE) -> Western Balsam Bark Beetle | D12: 18 | E12: Merritt TSA | F12: 273 | G12: 260
A13: 1999 | B13: IBB | C13: =VLOOKUP(B13,'FHF LUT'!$A$5:$H$80,2,FALSE) -> Western Balsam Bark Beetle | D13: 15 | E13: Lillooet TSA | F13: 6183 | G13: 5892
... A7290: 2017 | B7290: NF | C7290: =VLOOKUP(B7290,'FHF LUT'!$A$5:$H$80,2,FALSE) -> Flooding | D7290: 1 | E7290: Arrow TSA | F7290: 172 | G7290: 172

Sheet CFLB Definition
A1: Category | B1: CFLB (Y/N) | C1: Ownership Code | D1: Schedule | E1: Description
A2: Private lands (Crown Grants – Private Administration) | B2: N | C2: 40 | D2: N | E2: Private
B3: N | C3: 41 | D3: N | E3: Private - Land Claim Settlement Area
A4: Federal Lands (Federal Administration) | B4: N | C4: 50 | D4: N | E4: Federal - Federal Reserve
B5: N | C5: 51 | D5: N | E5: Federal - National Park
B6: N | C6: 52 | D6: N | E6: Federal - Indian Reserve
B7: N | C7: 53 | D7: N | E7: Federal - Military Reserve
B8: N | C8: 54 | D8: N | E8: Federal - Dominion government Block/Federal Parcels
A9: Crown Lands (Provincial Administration) | B9: Y | C9: 60 | D9: N | E9: Crown - Conservancy Area, Ecological Reserve, Protected Area, Provincial Park
B10: Y | C10: 61 | D10: C | E10: Crown - UREP (Use, Recreation and Enjoyment of the Public Reserve)
B11: Y | C11: 62 | D11: C | E11: Crown - Forest Management Unit
B12: Y | C12: 63 | D12: N | E12: Crown - Biodiversity, Mining, Tourism Area
B13: Y | C13: 64 | D13: N | E13: Crown - Special Forest Management Area
B14: Y | C14: 65 | D14: U | E14: Crown - Wildlife Management Area
B15: Y | C15: 66 | D15: N | E15: Crown - Recreation Area
B16: Y | C16: 67 | D16: N | E16: Crown - Heritage Site
B17: Y | C17: 68 | D17: U | E17: Crown - Forest Recreation Reserves
B18: Y | C18: 69 | D18: C | E18: Crown - Community Watershed
B19: Y | C19: 69 | D19: U | E19: Crown - Misc. Reserves, Watershed Reserve/ Crown - Misc. Reserves Caribou
A20: Crown Tenure | B20: Y | C20: 70 | D20: U | E20: Crown Tenure - Timber Licence
B21: N | C21: 72 | D21: A | E21: Crown Tenure - Tree Farm Licence, Schedule A
B22: N | C22: 72 | D22: B | E22: Crown Tenure - Tree Farm Licence, Schedule B
B23: Y | C23: 74 | D23: N | E23: Crown - Timber Alienated in Watershed
B24: Y | C24: 75 | D24: N | E24: Crown Tenure - Christmas Tree Licence
B25: Y | C25: 77 | D25: A | E25: Crown Tenure - Woodlot Licence, Schedule A
B26: Y | C26: 77 | D26: B | E26: Crown Tenure - Woodlot Licence, Schedule B
B27: Y | C27: 78 | D27: B | E27: Crown Tenure - First Nations Woodland Licence
B28: Y | C28: 79 | D28: A | E28: Crown Tenure - Community Forest Agreement, Schedule A
B29: Y | C29: 79 | D29: B | E29: Crown Tenure - Community Forest Agreement, Schedule B
A30: Crown Lands (Municipal Administration) | B30: N | C30: 80 | D30: N | E30: Crown - Municipal Parcels
B31: N | C31: 81 | D31: U | E31: Crown - Local/Regional Park
A32: Crown Leases | B32: N | C32: 99 | D32: N | E32: Crown Lease – Misc. lease
A33: Exceptions | B33: N | C33: 91 | D33: U | E33: Unknown Ownership/Exceptions

Sheet Data Creation Methodology
A1: 1. Creation of a somewhat seamless forest cover layer for the province:
A2: · Most of the data came from 2002 VRI data supplied by James Wang
A3: · TFL data came from the timber reallocation project
A4: · Vegetation information from the State of the Forest (circa 2001 and supplied by Stephen Sutherland) was used to fill gaps in the TFL data and the VRI supplied by James Wang
A5: · Unfortunately the TFL data did not have volumes for each of the typical 6 levels recorded in VRI forest cover. It did, however, have total volume and the percents for each of the 6 levels. So I apportioned the total volume amongst the 6 species levels depending on the percent coverage.
A6: · The resulting “seamless” forest cover polygon layers was converted to separate rasters for each of the 6 species, percent and volume levels (a total of 18 raster layers) all with a raster cell size of 100m x 100m ( 1 ha). Separate rasters were also created for age and site index –also with a 1 ha cell size.
A8: 2. Creation of a provincial timber harvesting land base layer:
A9: · I didn’t want to handle THLB Inclusion/Contribution Factors so a cell was considered THLB if the contribution (a value between 0 and 1, where 0 means not included in the THLB and 1 means fully included in the) was less than a random number between 0 and 1. So for example, a cell with a THLB inclusion factor of 0.8 had a 80% chance of becoming fully included in the THLB.
A10: · For the analysis that used the historical THLB a “somewhat" seamless layer was created from data used for the the timber reallocation project. THLB information was missing from some small TFLs.
A12: 3. Create Aerial Overview Forest Health Factor layers:
A13: · Aerial Overview polygon data and spot data were processed differently before being combined into a single raster of severity for each Forest Health Factor for each year.
A14: · Each year of the Aerial Overview polygon data was simply converted to a separate raster of severity for each forest health factor.
... A22: · Based on the advice of Tim Ebata, a decision was made to only assess the non recovered losses caused by the forest health factors listed in the table below because they represented the largest impacts on timber supply. Also included in the list below is the tree species impacted by each forest health factor.
B23: Disturbance Description (forest health factor) | C23: Disturbance Code | D23: Affected Tree Species Code
B24: Fire | C24: NB | D24: All Species
B25: Drought | C25: ND | D25: All Species
B26: Flooding | C26: NF | D26: All Species
B27: Mountain Pine Beetle | C27: IBM | D27: Pl, Pw, Pa, Pf
B28: Western Balsam Bark Beetle | C28: IBB | D28: Bl
B29: Spruce Beetle | C29: IBS | D29: Sx
B30: Douglas-fir Beetle | C30: IBD | D30: Fd
B31: Fir engraver Beetle | C31: IBF | D31: Ba, Bl
B32: Engraver Beetle (Ips species) | C32: IBI | D32: Pl
B33: Lodgepole Pine Beetle | C33: IBL | D33: Pl
B34: Twig Beetle | C34: IBP | D34: Pl
... B39: Unknown Beetle | C39: IB | D39: All conifers
A40: · Estimating the volume killed by each forest health factor was done iteratively for each year of the Aerial Overview.
A41: · Starting in 1999:
A42: o The vegetation volumes were first reduced to zero in areas overlapping with forest harvesting that occurred in, or prior to, the year being processed.
A43: o Starting with the volume layers created in the prior step, each forest health factor (FHF) listed in the above table was in turn overlaid (in the order listed in the table) with the vegetation volume, species, and percent information to:
A44: 1. Reduce the volume of the affected tree species depending on the mapped FHF severity rating (see table below).
A45: 2. Adjust the percent-cover for each species level to reflect the volume loss attributed to a particular FHF.
A46: 3. Create a raster of volume loss (volume killed) attributed to a particular FHF in a particular year.
B47: Severity Rating | C47: Percent Volume Reduction
B48: Very Severe | C48: 75
B49: Severe | C49: 30
B50: Moderate | C50: 15
B51: Low | C51: 5
B52: Endemic | C52: 0.5
A53: o The updated species volume and percent raster layers were subsequently used as input when processing the next FHF.
A54: o Once all FHF were processed for a particular year, the resulting vegetation volume, species, and percent raster layers (adjusted for volume loss) were used as the input vegetation information for the subsequent year to be processed.
A55: · The resulting volume loss/kill rasters for each FHF and year were subsequently overlaid with the TSA boundaries and summarized by year, FHF, TSA and volume loss.
A56: · To estimate the NRL, the areas harvested were removed from the volume loss/kill rasters to create a separate set of NRL volume rasters. These NRL volume rasters were overlaid with the TSA boundaries and summarized by year, FHF, TSA and NRL volume loss.
A57: · The NRL estimates for mountain pine beetle (disturbance code IBM) come from the Provincial Mountain Pine Beetle Spread Model (aka BCMPB; www.for.gov.bc.ca/hre/bcmpb).
