Workbook

Sheet READ ME
A1: Description | B1: · This Excel Workbook presents the estimated forest volume killed in the Crown Forested Land Base for selected Aerial Overview Forest Health Factors. · The selected Forest Health Factors are: - Fire, Drought-caused Mortality, Flooding, Windthrow, Mountain Pine Beetle, Western Balsam Bark Beetle, Spruce Beetle, Douglas-fir Beetle, Fir engraver Beetle, Engraver Beetle (Ips species), Lodgepole Pine Beetle, Twig Beetle, Red Turpentine Beetle, Western Pine Beetle, Douglas-fir Tussock Moth, Yellow cedar decline, and Unknown Beetle. · The killed forest volume is categorized into volume harvested or not harvested as of the year 2019. · The estimates are for Timber Supply Areas outer boundaries and encompass all crown-forested areas including parks, Tree Farm Licences, etc. · More information on the Forest Health Factors included in this analysis is provided on the 'FHF LUT' worksheet. · On the 'Single TSA and FHF' worksheet there is also a comparison to the Timber Harvesting Land Base (THLB). The THLB excludes Tree Farm Licences.
A2: Source Data | B2: 1) Crica 2001 forest inventory derived from the circa 2001 Vegetation Inventory (VRI) and the circa 2001 State of the Forest. 2) 1999 through 2019 Aerial Overview Surveys of Forest Health. 3) Logging history derived from the VRI and Results databases. 4) Provincial Mountain Pine Beetle Spread Model (www.for.gov.bc.ca/hre/bcmpb) 5) Crown Forested Land Base (CFLB) based on F_own (see 'CFLB Definition' worksheet for criteria used) 6) Timber Harvesting Land Base (THLB) derived from best available provincial THLB as of 2019, excluding areas within Tree Farm Licences
A3: Author | B3: Adrian Walton, Ministry of Forests, Lands, Natural Resource Operations and Rural Development
A4: Production Date | B4: 43929
A5: Caveats | B5: In the 2008 aerial overview, there were inconsistency in data gathering compared to other years. These were in part due to weather conditions and contractor availability that resulted in completion of the 2008 aerial overview survey for portions of the Northern Interior Forest Region (NIFR) much later than is optimal . The forest management units most negatively affected were Lakes, Mackenzie and Dawson Creek Timber Supply Areas, and the Vanderhoof, Fort St. James and Prince George Forest Districts. As a result, these management units all showed a drop in overall infestation levels in 2008. Estimates for the mountain pine beetle (IBM) are derived from the provincial mountain pine beetle spread model (aka BCMPB) (www.for.gov.bc.ca/hre/bcmpb) In 2006 and 2008, the mountain pine beetle impacts were overestimated in some TSAs in the southeast of the province. The TSAs most affected were Arrow, Boundary, Cranbrook, Golden and Kootenay Lake.
A6: Instructions | B6: 1) Choose the desired TSA and/or Forest Health Factor on the 'Single TSA and FHF' worksheet and the tables and graph will update to reflect the choice. 2) Choose the desired TSA(s) and/or Forest Health Factor(s) on the 'Tsa Comparson' worksheet and the tables will be updated on that sheet as well as the graphs on the 'TSA Comparison Graphs' worksheet. 3) Choose the desired TSA(s) and/or Forest Health Factor(s) on the 'FHF Comparson' worksheet and the tables will be updated on that sheet as well as the graphs on the 'FHF Comparison Graphs' worksheet.

Sheet Single TSA and FHF
A1: Forest Health Factor | B1: (All)
A2: TSA_NUMBER_DESCR | B2: (All)
B4: Values
A5: Year | B5: Sum of VOLUMEKILLED | C5: Sum of NRLVOLUME | D5: Sum of THLBVOLKILLED | E5: Sum of THLBNRLVOL
A6: 1999 | B6: 15442750 | C6: 12839384 | D6: 6249334 | E6: 4389369
A7: 2000 | B7: 27427989 | C7: 23875722 | D7: 8870184 | E7: 6318205
A8: 2001 | B8: 35353000 | C8: 30225592 | D8: 13616018 | E8: 9736402
A9: 2002 | B9: 63055244 | C9: 51634821 | D9: 28031644 | E9: 19288782
A10: 2003 | B10: 100883000 | C10: 80158455 | D10: 50239023 | E10: 34136112
A11: 2004 | B11: 126124428 | C11: 94473987 | D11: 68178450 | E11: 44180089
A12: 2005 | B12: 197935897 | C12: 139783654 | D12: 119999324 | E12: 75009947
A13: 2006 | B13: 165903535 | C13: 122266290 | D13: 100347145 | E13: 64601488
A14: 2007 | B14: 153296375 | C14: 117161327 | D14: 87698940 | E14: 58562174
A15: 2008 | B15: 92219109 | C15: 75609046 | D15: 47950690 | E15: 34775929
A16: 2009 | B16: 90677493 | C16: 81116617 | D16: 42853560 | E16: 34868026
A17: 2010 | B17: 77166294 | C17: 71590583 | D17: 32974247 | E17: 28841857
... A26: 2019 | B26: 8343007 | C26: 8343007 | D26: 2822388 | E26: 2822388
A27: Grand Total | B27: 1368826973 | C27: 1116592862 | D27: 683558956 | E27: 485401595
A29: =CONCATENATE("Annual Volume Killed -- ",IF($B$1 = "(ALL)","ALL Modelled Health Factors",$B$1)," -- ",IF($B$2 = "(ALL)","Entire Province",$B$2)) -> Annual Volume Killed -- ALL Modelled Health Factors -- Entire Province
A30: =A5 -> Year | B30: CFLB Volume Killed | C30: =CONCATENATE("CFLB Volume Killed and Harvested as of ", MAX(A:A)) -> CFLB Volume Killed and Harvested as of 2019 | D30: =CONCATENATE("CFLB Volume Killed and Not Harvested (NRL) as of ", MAX(A:A)) -> CFLB Volume Killed and Not Harvested (NRL) as of 2019 | E30: THLB Volume Killed | F30: =CONCATENATE("THLB* Volume Killed and Harvested as of ", MAX(A:A)) -> THLB* Volume Killed and Harvested as of 2019 | G30: =CONCATENATE("THLB* Volume Killed and Not Harvested (NRL) as of ", MAX(A:A)) -> THLB* Volume Killed and Not Harvested (NRL) as of 2019
A31: =A6 -> 1999 | B31: =B6 -> 15442750 | C31: =B31-D31 -> 2603366 | D31: =C6 -> 12839384 | E31: =D6 -> 6249334 | F31: =E31-G31 -> 1859965 | G31: =E6 -> 4389369
A32: =A7 -> 2000 | B32: =B7 -> 27427989 | C32: =B32-D32 -> 3552267 | D32: =C7 -> 23875722 | E32: =D7 -> 8870184 | F32: =E32-G32 -> 2551979 | G32: =E7 -> 6318205
A33: =A8 -> 2001 | B33: =B8 -> 35353000 | C33: =B33-D33 -> 5127408 | D33: =C8 -> 30225592 | E33: =D8 -> 13616018 | F33: =E33-G33 -> 3879616 | G33: =E8 -> 9736402
A34: =A9 -> 2002 | B34: =B9 -> 63055244 | C34: =B34-D34 -> 11420423 | D34: =C9 -> 51634821 | E34: =D9 -> 28031644 | F34: =E34-G34 -> 8742862 | G34: =E9 -> 19288782
A35: =A10 -> 2003 | B35: =B10 -> 100883000 | C35: =B35-D35 -> 20724545 | D35: =C10 -> 80158455 | E35: =D10 -> 50239023 | F35: =E35-G35 -> 16102911 | G35: =E10 -> 34136112
A36: =A11 -> 2004 | B36: =B11 -> 126124428 | C36: =B36-D36 -> 31650441 | D36: =C11 -> 94473987 | E36: =D11 -> 68178450 | F36: =E36-G36 -> 23998361 | G36: =E11 -> 44180089
A37: =A12 -> 2005 | B37: =B12 -> 197935897 | C37: =B37-D37 -> 58152243 | D37: =C12 -> 139783654 | E37: =D12 -> 119999324 | F37: =E37-G37 -> 44989377 | G37: =E12 -> 75009947
A38: =A13 -> 2006 | B38: =B13 -> 165903535 | C38: =B38-D38 -> 43637245 | D38: =C13 -> 122266290 | E38: =D13 -> 100347145 | F38: =E38-G38 -> 35745657 | G38: =E13 -> 64601488
A39: =A14 -> 2007 | B39: =B14 -> 153296375 | C39: =B39-D39 -> 36135048 | D39: =C14 -> 117161327 | E39: =D14 -> 87698940 | F39: =E39-G39 -> 29136766 | G39: =E14 -> 58562174
A40: =A15 -> 2008 | B40: =B15 -> 92219109 | C40: =B40-D40 -> 16610063 | D40: =C15 -> 75609046 | E40: =D15 -> 47950690 | F40: =E40-G40 -> 13174761 | G40: =E15 -> 34775929
A41: =A16 -> 2009 | B41: =B16 -> 90677493 | C41: =B41-D41 -> 9560876 | D41: =C16 -> 81116617 | E41: =D16 -> 42853560 | F41: =E41-G41 -> 7985534 | G41: =E16 -> 34868026
A42: =A17 -> 2010 | B42: =B17 -> 77166294 | C42: =B42-D42 -> 5575711 | D42: =C17 -> 71590583 | E42: =D17 -> 32974247 | F42: =E42-G42 -> 4132390 | G42: =E17 -> 28841857
... A51: =A26 -> 2019 | B51: =B26 -> 8343007 | C51: =B51-D51 -> 0 | D51: =C26 -> 8343007 | E51: =D26 -> 2822388 | F51: =E51-G51 -> 0 | G51: =E26 -> 2822388
A52: Grand Total | B52: =SUM(B31:B51) -> 1368826973 | C52: =SUM(C31:C51) -> 252234111 | D52: =SUM(D31:D51) -> 1116592862 | E52: =SUM(E31:E51) -> 683558956 | F52: =SUM(F31:F51) -> 198157361 | G52: =SUM(G31:G51) -> 485401595
A54: =CONCATENATE("Annual Volume Killed -- ",IF($B$1 = "(ALL)","ALL Modelled Health Factors",$B$1)," -- ",IF($B$2 = "(ALL)","Entire Province",$B$2)) -> Annual Volume Killed -- ALL Modelled Health Factors -- Entire Province
A55: =A5 -> Year | B55: CFLB Volume Killed | C55: =CONCATENATE("CFLB Volume Killed and Harvested as of ", MAX(A:A)) -> CFLB Volume Killed and Harvested as of 2019 | D55: =CONCATENATE("CFLB Volume Killed and Not Harvested (NRL) as of ", MAX(A:A)) -> CFLB Volume Killed and Not Harvested (NRL) as of 2019 | E55: THLB Volume Killed | F55: =CONCATENATE("THLB* Volume Killed and Harvested as of ", MAX(A:A)) -> THLB* Volume Killed and Harvested as of 2019 | G55: =CONCATENATE("THLB* Volume Killed and Not Harvested (NRL) as of ", MAX(A:A)) -> THLB* Volume Killed and Not Harvested (NRL) as of 2019
A56: =A6 -> 1999 | B56: =B6 -> 15442750 | C56: =B56-D56 -> 2603366 | D56: =C6 -> 12839384
E57: =D6 -> 6249334 | F57: =E57-G57 -> 1859965 | G57: =E6 -> 4389369
A59: =A7 -> 2000 | B59: =B7 -> 27427989 | C59: =B59-D59 -> 3552267 | D59: =C7 -> 23875722
E60: =D7 -> 8870184 | F60: =E60-G60 -> 2551979 | G60: =E7 -> 6318205
A62: =A8 -> 2001 | B62: =B8 -> 35353000 | C62: =B62-D62 -> 5127408 | D62: =C8 -> 30225592
E63: =D8 -> 13616018 | F63: =E63-G63 -> 3879616 | G63: =E8 -> 9736402
A65: =A9 -> 2002 | B65: =B9 -> 63055244 | C65: =B65-D65 -> 11420423 | D65: =C9 -> 51634821
E66: =D9 -> 28031644 | F66: =E66-G66 -> 8742862 | G66: =E9 -> 19288782
A68: =A10 -> 2003 | B68: =B10 -> 100883000 | C68: =B68-D68 -> 20724545 | D68: =C10 -> 80158455
E69: =D10 -> 50239023 | F69: =E69-G69 -> 16102911 | G69: =E10 -> 34136112
A71: =A11 -> 2004 | B71: =B11 -> 126124428 | C71: =B71-D71 -> 31650441 | D71: =C11 -> 94473987
E72: =D11 -> 68178450 | F72: =E72-G72 -> 23998361 | G72: =E11 -> 44180089
A74: =A12 -> 2005 | B74: =B12 -> 197935897 | C74: =B74-D74 -> 58152243 | D74: =C12 -> 139783654
E75: =D12 -> 119999324 | F75: =E75-G75 -> 44989377 | G75: =E12 -> 75009947
A77: =A13 -> 2006 | B77: =B13 -> 165903535 | C77: =B77-D77 -> 43637245 | D77: =C13 -> 122266290
E78: =D13 -> 100347145 | F78: =E78-G78 -> 35745657 | G78: =E13 -> 64601488
A80: =A14 -> 2007 | B80: =B14 -> 153296375 | C80: =B80-D80 -> 36135048 | D80: =C14 -> 117161327
E81: =D14 -> 87698940 | F81: =E81-G81 -> 29136766 | G81: =E14 -> 58562174
A83: =A15 -> 2008 | B83: =B15 -> 92219109 | C83: =B83-D83 -> 16610063 | D83: =C15 -> 75609046
E84: =D15 -> 47950690 | F84: =E84-G84 -> 13174761 | G84: =E15 -> 34775929
A86: =A16 -> 2009 | B86: =B16 -> 90677493 | C86: =B86-D86 -> 9560876 | D86: =C16 -> 81116617
E87: =D16 -> 42853560 | F87: =E87-G87 -> 7985534 | G87: =E16 -> 34868026
A89: =A17 -> 2010 | B89: =B17 -> 77166294 | C89: =B89-D89 -> 5575711 | D89: =C17 -> 71590583
E90: =D17 -> 32974247 | F90: =E90-G90 -> 4132390 | G90: =E17 -> 28841857
A92: =A18 -> 2011 | B92: =B18 -> 41619130 | C92: =B92-D92 -> 2552739 | D92: =C18 -> 39066391
E93: =D18 -> 17189203 | F93: =E93-G93 -> 2099938 | G93: =E18 -> 15089265
A95: =A19 -> 2012 | B95: =B19 -> 28515900 | C95: =B95-D95 -> 1386473 | D95: =C19 -> 27129427
E96: =D19 -> 10656337 | F96: =E96-G96 -> 1135052 | G96: =E19 -> 9521285
A98: =A20 -> 2013 | B98: =B20 -> 13019196 | C98: =B98-D98 -> 474961 | D98: =C20 -> 12544235
E99: =D20 -> 4148290 | F99: =E99-G99 -> 416275 | G99: =E20 -> 3732015
A101: =A21 -> 2014 | B101: =B21 -> 22071503 | C101: =B101-D101 -> 513964 | D101: =C21 -> 21557539
E102: =D21 -> 7266108 | F102: =E102-G102 -> 404440 | G102: =E21 -> 6861668
A104: =A22 -> 2015 | B104: =B22 -> 18276079 | C104: =B104-D104 -> 550568 | D104: =C22 -> 17725511
E105: =D22 -> 5241865 | F105: =E105-G105 -> 374015 | G105: =E22 -> 4867850
A107: =A23 -> 2016 | B107: =B23 -> 15693201 | C107: =B107-D107 -> 591925 | D107: =C23 -> 15101276
E108: =D23 -> 5487738 | F108: =E108-G108 -> 446027 | G108: =E23 -> 5041711
A110: =A24 -> 2017 | B110: =B24 -> 30334183 | C110: =B110-D110 -> 926192 | D110: =C24 -> 29407991
E111: =D24 -> 13074863 | F111: =E111-G111 -> 632791 | G111: =E24 -> 12442072
A113: =A25 -> 2018 | B113: =B25 -> 45469660 | C113: =B113-D113 -> 487653 | D113: =C25 -> 44982007
E114: =D25 -> 10663605 | F114: =E114-G114 -> 348644 | G114: =E25 -> 10314961
A116: =A26 -> 2019 | B116: =B26 -> 8343007 | C116: =B116-D116 -> 0 | D116: =C26 -> 8343007
E117: =D26 -> 2822388 | F117: =E117-G117 -> 0 | G117: =E26 -> 2822388
A118: Grand Total | B118: =SUM(B56:B117) -> 1368826973 | C118: =SUM(C56:C117) -> 252234111 | D118: =SUM(D56:D117) -> 1116592862 | E118: =SUM(E56:E117) -> 683558956 | F118: =SUM(F56:F117) -> 198157361 | G118: =SUM(G56:G117) -> 485401595

Sheet TSA Comparison
A2: Forest Health Factor | B2: (All)
A4: Sum of VOLUMEKILLED | B4: Column Labels
A5: Year | B5: 100 Mile House TSA | C5: Arrow TSA | D5: Arrowsmith TSA | E5: Boundary TSA | F5: Bulkley TSA | G5: Cascadia TSA | H5: Cassiar TSA | I5: Cranbrook TSA | J5: Dawson Creek TSA | K5: Fort Nelson TSA | L5: Fort St. John TSA | M5: Fraser TSA | N5: Golden TSA | O5: Invermere TSA | P5: Kalum TSA | Q5: Kamloops TSA | R5: Kispiox TSA | S5: Kootenay Lake TSA | T5: Lakes TSA | U5: Lillooet TSA | V5: MacKenzie TSA | W5: Merritt TSA | X5: Morice TSA | Y5: Nass TSA | Z5: Okanagan TSA | AA5: Pacific TSA | AB5: Prince George TSA | AC5: Queen Charlotte TSA | AD5: Quesnel TSA | AE5: Revelstoke TSA | AF5: Robson Valley TSA | AG5: Soo TSA | AH5: Sunshine Coast TSA | AI5: Williams Lake TSA | AJ5: GBR South TSA | AK5: GBR North TSA | AL5: North Island TSA
A6: 1999 | B6: 355147 | C6: 223828 | D6: 0 | E6: 10717 | F6: 167868 | G6: 11900 | H6: 0 | I6: 136160 | J6: 7 | K6: 0 | L6: 0 | M6: 51458 | N6: 126206 | O6: 90157 | P6: 312 | Q6: 402104 | R6: 624082 | S6: 55602 | T6: 1565098 | U6: 38090 | V6: 2549257 | W6: 275414 | X6: 990384 | Y6: 10838 | Z6: 344706 | AA6: 0 | AB6: 3081516 | AC6: 0 | AD6: 1709810 | AE6: 0 | AF6: 1445204 | AG6: 196854 | AH6: 0 | AI6: 645694 | AJ6: 0 | AK6: 334337 | AL6: 0
A7: 2000 | B7: 223327 | C7: 231982 | D7: 0 | E7: 48987 | F7: 203174 | G7: 67169 | H7: 554 | I7: 100485 | J7: 157514 | K7: 54091 | L7: 2840 | M7: 113940 | N7: 162956 | O7: 159869 | P7: 1545 | Q7: 242948 | R7: 665245 | S7: 70079 | T7: 5458474 | U7: 44265 | V7: 3344314 | W7: 288195 | X7: 1305899 | Y7: 10104 | Z7: 174038 | AA7: 0 | AB7: 9780926 | AC7: 0 | AD7: 2174731 | AE7: 10781 | AF7: 901502 | AG7: 67640 | AH7: 0 | AI7: 611761 | AJ7: 2368 | AK7: 746286 | AL7: 0
A8: 2001 | B8: 328698 | C8: 165270 | D8: 0 | E8: 8908 | F8: 730680 | G8: 52241 | H8: 13856 | I8: 94755 | J8: 366370 | K8: 0 | L8: 78193 | M8: 131455 | N8: 66706 | O8: 63223 | P8: 61457 | Q8: 431273 | R8: 3255075 | S8: 90339 | T8: 9277351 | U8: 93909 | V8: 507241 | W8: 450769 | X8: 2050035 | Y8: 51747 | Z8: 349893 | AA8: 370 | AB8: 6612265 | AC8: 0 | AD8: 4387576 | AE8: 1391 | AF8: 196719 | AG8: 68573 | AH8: 0 | AI8: 1522605 | AJ8: 0 | AK8: 3844057 | AL8: 0
A9: 2002 | B9: 489528 | C9: 217085 | D9: 0 | E9: 4514 | F9: 124878 | G9: 74384 | H9: 45960 | I9: 185831 | J9: 230536 | K9: 9576 | L9: 7641 | M9: 178016 | N9: 98959 | O9: 70366 | P9: 33524 | Q9: 686414 | R9: 331103 | S9: 107141 | T9: 15068767 | U9: 164080 | V9: 2025893 | W9: 348194 | X9: 518500 | Y9: 94759 | Z9: 350674 | AA9: 0 | AB9: 22678509 | AC9: 0 | AD9: 9837758 | AE9: 485 | AF9: 1118140 | AG9: 93412 | AH9: 0 | AI9: 3038479 | AJ9: 0 | AK9: 4822138 | AL9: 0
A10: 2003 | B10: 2196957 | C10: 456208 | D10: 0 | E10: 17452 | F10: 154569 | G10: 313941 | H10: 0 | I10: 317325 | J10: 608202 | K10: 146061 | L10: 24020 | M10: 211302 | N10: 111734 | O10: 180026 | P10: 2995 | Q10: 1372671 | R10: 451153 | S10: 176679 | T10: 13785680 | U10: 88159 | V10: 4108654 | W10: 240036 | X10: 782800 | Y10: 19206 | Z10: 471697 | AA10: 0 | AB10: 37554463 | AC10: 0 | AD10: 22947897 | AE10: 3013 | AF10: 149558 | AG10: 78973 | AH10: 0 | AI10: 8866709 | AJ10: 0 | AK10: 5044184 | AL10: 676
A11: 2004 | B11: 6429726 | C11: 1224342 | D11: 0 | E11: 73350 | F11: 109255 | G11: 508504 | H11: 1397008 | I11: 579634 | J11: 272107 | K11: 898657 | L11: 146162 | M11: 569638 | N11: 106453 | O11: 342660 | P11: 23901 | Q11: 4400906 | R11: 133105 | S11: 371001 | T11: 7727537 | U11: 333546 | V11: 1604893 | W11: 710847 | X11: 772214 | Y11: 21697 | Z11: 1362208 | AA11: 0 | AB11: 37309327 | AC11: 0 | AD11: 34085406 | AE11: 18958 | AF11: 517258 | AG11: 147606 | AH11: 0 | AI11: 20116785 | AJ11: 453 | AK11: 3809284 | AL11: 0
A12: 2005 | B12: 11583650 | C12: 1538178 | D12: 203 | E12: 137131 | F12: 189314 | G12: 609580 | H12: 284 | I12: 1034014 | J12: 310532 | K12: 67351 | L12: 72311 | M12: 580674 | N12: 353958 | O12: 641426 | P12: 2206 | Q12: 8906170 | R12: 162108 | S12: 733945 | T12: 23726241 | U12: 755499 | V12: 2260755 | W12: 1392742 | X12: 5524721 | Y12: 45108 | Z12: 1915286 | AA12: 0 | AB12: 69518210 | AC12: 0 | AD12: 37332113 | AE12: 85292 | AF12: 589119 | AG12: 53580 | AH12: 0 | AI12: 26207704 | AJ12: 41389 | AK12: 1565103 | AL12: 0
A13: 2006 | B13: 22604759 | C13: 1479552 | D13: 0 | E13: 155376 | F13: 129110 | G13: 209945 | H13: 12290 | I13: 893402 | J13: 1475432 | K13: 736146 | L13: 443321 | M13: 483407 | N13: 487863 | O13: 839016 | P13: 37649 | Q13: 13280499 | R13: 405561 | S13: 1032132 | T13: 14173733 | U13: 1348402 | V13: 4601646 | W13: 2823593 | X13: 8680548 | Y13: 59868 | Z13: 2691011 | AA13: 465 | AB13: 35515399 | AC13: 0 | AD13: 19168379 | AE13: 97694 | AF13: 593209 | AG13: 240182 | AH13: 0 | AI13: 29386859 | AJ13: 90761 | AK13: 1716979 | AL13: 9347
A14: 2007 | B14: 9978381 | C14: 889853 | D14: 219110 | E14: 138862 | F14: 377245 | G14: 82939 | H14: 6598 | I14: 531184 | J14: 10761200 | K14: 252628 | L14: 124768 | M14: 435719 | N14: 211346 | O14: 925208 | P14: 3449 | Q14: 10907627 | R14: 209551 | S14: 970288 | T14: 8866207 | U14: 2127039 | V14: 9328591 | W14: 4102865 | X14: 9557823 | Y14: 7114 | Z14: 3374481 | AA14: 50362 | AB14: 40643891 | AC14: 73009 | AD14: 8055246 | AE14: 62957 | AF14: 902632 | AG14: 188829 | AH14: 3855 | AI14: 27253946 | AJ14: 40457 | AK14: 1611769 | AL14: 19346
A15: 2008 | B15: 2617865 | C15: 678597 | D15: 61576 | E15: 334141 | F15: 817811 | G15: 59068 | H15: 4688 | I15: 1027397 | J15: 11252484 | K15: 172079 | L15: 824390 | M15: 339538 | N15: 283121 | O15: 1121313 | P15: 96774 | Q15: 3275972 | R15: 227485 | S15: 1115496 | T15: 3803071 | U15: 2033103 | V15: 14164648 | W15: 3947383 | X15: 9172956 | Y15: 8722 | Z15: 2832060 | AA15: 28814 | AB15: 19535346 | AC15: 42338 | AD15: 1796060 | AE15: 18381 | AF15: 887927 | AG15: 113454 | AH15: 9953 | AI15: 8515931 | AJ15: 202428 | AK15: 796437 | AL15: 302
A16: 2009 | B16: 1010231 | C16: 646474 | D16: 483 | E16: 143989 | F16: 832479 | G16: 150790 | H16: 412743 | I16: 582521 | J16: 6993537 | K16: 1453260 | L16: 2390276 | M16: 260642 | N16: 121249 | O16: 629748 | P16: 445632 | Q16: 1493042 | R16: 318189 | S16: 484576 | T16: 941050 | U16: 3478117 | V16: 36281493 | W16: 3766552 | X16: 3111454 | Y16: 16777 | Z16: 2689575 | AA16: 58126 | AB16: 14044309 | AC16: 0 | AD16: 744549 | AE16: 35600 | AF16: 730230 | AG16: 188216 | AH16: 38717 | AI16: 5435021 | AJ16: 28858 | AK16: 486797 | AL16: 232191
A17: 2010 | B17: 245459 | C17: 208865 | D17: 11238 | E17: 108727 | F17: 1466055 | G17: 33982 | H17: 1232866 | I17: 580327 | J17: 10009594 | K17: 127782 | L17: 7133117 | M17: 128114 | N17: 122765 | O17: 691393 | P17: 74573 | Q17: 486075 | R17: 288471 | S17: 413191 | T17: 859657 | U17: 774402 | V17: 33686859 | W17: 941684 | X17: 2228337 | Y17: 5307 | Z17: 1187592 | AA17: 596 | AB17: 9076816 | AC17: 996 | AD17: 879480 | AE17: 50068 | AF17: 843999 | AG17: 47180 | AH17: 58301 | AI17: 1850217 | AJ17: 9610 | AK17: 1301966 | AL17: 633
... A26: 2019 | B26: 30190 | C26: 51644 | D26: 421 | E26: 14844 | F26: 47973 | G26: 17341 | H26: 302 | I26: 115592 | J26: 481541 | K26: 113816 | L26: 89902 | M26: 26291 | N26: 116504 | O26: 203482 | P26: 21320 | Q26: 233594 | R26: 30833 | S26: 95057 | T26: 114758 | U26: 120551 | V26: 1060092 | W26: 13646 | X26: 98821 | Y26: 772 | Z26: 87448 | AA26: 18280 | AB26: 3944905 | AC26: 111432 | AD26: 74328 | AE26: 16757 | AF26: 408207 | AG26: 24964 | AH26: 6615 | AI26: 434716 | AJ26: 11913 | AK26: 60212 | AL26: 43943
A28: Forest Health Factor | B28: (All)
A30: Sum of NRLVOLUME | B30: Column Labels
A31: Year | B31: 100 Mile House TSA | C31: Arrow TSA | D31: Arrowsmith TSA | E31: Boundary TSA | F31: Bulkley TSA | G31: Cascadia TSA | H31: Cassiar TSA | I31: Cranbrook TSA | J31: Dawson Creek TSA | K31: Fort Nelson TSA | L31: Fort St. John TSA | M31: Fraser TSA | N31: Golden TSA | O31: Invermere TSA | P31: Kalum TSA | Q31: Kamloops TSA | R31: Kispiox TSA | S31: Kootenay Lake TSA | T31: Lakes TSA | U31: Lillooet TSA | V31: MacKenzie TSA | W31: Merritt TSA | X31: Morice TSA | Y31: Nass TSA | Z31: Okanagan TSA | AA31: Pacific TSA | AB31: Prince George TSA | AC31: Queen Charlotte TSA | AD31: Quesnel TSA | AE31: Revelstoke TSA | AF31: Robson Valley TSA | AG31: Soo TSA | AH31: Sunshine Coast TSA | AI31: Williams Lake TSA | AJ31: GBR South TSA | AK31: GBR North TSA | AL31: North Island TSA
A32: 1999 | B32: 248492 | C32: 182058 | D32: 0 | E32: 7599 | F32: 150270 | G32: 9985 | H32: 0 | I32: 84303 | J32: 7 | K32: 0 | L32: 0 | M32: 51236 | N32: 91093 | O32: 67184 | P32: 288 | Q32: 286726 | R32: 622736 | S32: 45795 | T32: 1536074 | U32: 33687 | V32: 2449990 | W32: 203271 | X32: 786822 | Y32: 10189 | Z32: 253979 | AA32: 0 | AB32: 2209292 | AC32: 0 | AD32: 1143741 | AE32: 0 | AF32: 1363529 | AG32: 182685 | AH32: 0 | AI32: 484023 | AJ32: 0 | AK32: 334330 | AL32: 0
A33: 2000 | B33: 158409 | C33: 195507 | D33: 0 | E33: 44782 | F33: 182081 | G33: 59019 | H33: 554 | I33: 66220 | J33: 152268 | K33: 52688 | L33: 2768 | M33: 113206 | N33: 131972 | O33: 131228 | P33: 1215 | Q33: 197295 | R33: 648790 | S33: 57294 | T33: 5318244 | U33: 39764 | V33: 3183470 | W33: 221733 | X33: 981716 | Y33: 10034 | Z33: 132488 | AA33: 0 | AB33: 8247605 | AC33: 0 | AD33: 1411328 | AE33: 9716 | AF33: 866683 | AG33: 59410 | AH33: 0 | AI33: 449588 | AJ33: 2368 | AK33: 746279 | AL33: 0
A34: 2001 | B34: 238253 | C34: 142647 | D34: 0 | E34: 7849 | F34: 696066 | G34: 46669 | H34: 13856 | I34: 69927 | J34: 356802 | K34: 0 | L34: 75996 | M34: 131115 | N34: 55182 | O34: 51756 | P34: 58729 | Q34: 305528 | R34: 3202722 | S34: 75150 | T34: 8577803 | U34: 88314 | V34: 487371 | W34: 355684 | X34: 1603924 | Y34: 51747 | Z34: 255757 | AA34: 370 | AB34: 5313162 | AC34: 0 | AD34: 2778559 | AE34: 1258 | AF34: 174191 | AG34: 63459 | AH34: 0 | AI34: 1101709 | AJ34: 0 | AK34: 3844037 | AL34: 0
A35: 2002 | B35: 363274 | C35: 186244 | D35: 0 | E35: 4207 | F35: 113435 | G35: 63011 | H35: 45960 | I35: 129759 | J35: 227407 | K35: 9576 | L35: 7543 | M35: 177076 | N35: 79818 | O35: 53595 | P35: 33462 | Q35: 477576 | R35: 328822 | S35: 96107 | T35: 13531527 | U35: 158620 | V35: 1925853 | W35: 249004 | X35: 405839 | Y35: 91734 | Z35: 233758 | AA35: 0 | AB35: 17576585 | AC35: 0 | AD35: 6821635 | AE35: 427 | AF35: 1075282 | AG35: 87463 | AH35: 0 | AI35: 2258165 | AJ35: 0 | AK35: 4822057 | AL35: 0
A36: 2003 | B36: 1705889 | C36: 387630 | D36: 0 | E36: 16898 | F36: 141800 | G36: 267834 | H36: 0 | I36: 240113 | J36: 604669 | K36: 145758 | L36: 22645 | M36: 210401 | N36: 92032 | O36: 144538 | P36: 2995 | Q36: 996937 | R36: 449587 | S36: 159664 | T36: 11821029 | U36: 82602 | V36: 3923395 | W36: 175597 | X36: 693643 | Y36: 19206 | Z36: 323612 | AA36: 0 | AB36: 28669495 | AC36: 0 | AD36: 16457014 | AE36: 2607 | AF36: 138112 | AG36: 73707 | AH36: 0 | AI36: 7145020 | AJ36: 0 | AK36: 5043440 | AL36: 586
A37: 2004 | B37: 4827162 | C37: 1049809 | D37: 0 | E37: 69040 | F37: 96197 | G37: 421319 | H37: 1397008 | I37: 425177 | J37: 246345 | K37: 898657 | L37: 138369 | M37: 560635 | N37: 87725 | O37: 259433 | P37: 23901 | Q37: 3130555 | R37: 129631 | S37: 332597 | T37: 6270441 | U37: 320666 | V37: 1522591 | W37: 487501 | X37: 633639 | Y37: 21601 | Z37: 928891 | AA37: 0 | AB37: 26592316 | AC37: 0 | AD37: 23286453 | AE37: 16857 | AF37: 491735 | AG37: 140845 | AH37: 0 | AI37: 15858713 | AJ37: 453 | AK37: 3807725 | AL37: 0
A38: 2005 | B38: 8218584 | C38: 1371791 | D38: 0 | E38: 127514 | F38: 164340 | G38: 502797 | H38: 284 | I38: 822605 | J38: 281019 | K38: 67327 | L38: 69993 | M38: 579472 | N38: 307889 | O38: 542611 | P38: 2186 | Q38: 5781658 | R38: 161678 | S38: 661764 | T38: 18340306 | U38: 722091 | V38: 2027448 | W38: 924794 | X38: 4154225 | Y38: 44655 | Z38: 1286460 | AA38: 0 | AB38: 44796621 | AC38: 0 | AD38: 26051322 | AE38: 75057 | AF38: 540629 | AG38: 52575 | AH38: 0 | AI38: 19498007 | AJ38: 41389 | AK38: 1564563 | AL38: 0
A39: 2006 | B39: 14846121 | C39: 1311415 | D39: 0 | E39: 142997 | F39: 116954 | G39: 178741 | H39: 12290 | I39: 707827 | J39: 1395112 | K39: 736122 | L39: 416212 | M39: 478552 | N39: 397864 | O39: 716261 | P39: 36529 | Q39: 8924796 | R39: 404080 | S39: 939539 | T39: 10864813 | U39: 1292238 | V39: 3929168 | W39: 1918859 | X39: 6329430 | Y39: 59868 | Z39: 1870789 | AA39: 465 | AB39: 23625591 | AC39: 0 | AD39: 14260110 | AE39: 96195 | AF39: 542872 | AG39: 233615 | AH39: 0 | AI39: 23665949 | AJ39: 89695 | AK39: 1716721 | AL39: 8500
A40: 2007 | B40: 6959201 | C40: 809676 | D40: 196189 | E40: 131831 | F40: 332364 | G40: 72721 | H40: 6598 | I40: 441056 | J40: 9265388 | K40: 252628 | L40: 112834 | M40: 423991 | N40: 178486 | O40: 837753 | P40: 3259 | Q40: 7836528 | R40: 206939 | S40: 920011 | T40: 6751419 | U40: 2055810 | V40: 7371360 | W40: 2629355 | X40: 7007227 | Y40: 7114 | Z40: 2452530 | AA40: 49531 | AB40: 27879455 | AC40: 73009 | AD40: 6270829 | AE40: 62575 | AF40: 835400 | AG40: 185764 | AH40: 3491 | AI40: 22870831 | AJ40: 40457 | AK40: 1609939 | AL40: 17778
A41: 2008 | B41: 1965437 | C41: 608752 | D41: 48987 | E41: 328642 | F41: 702647 | G41: 56246 | H41: 4688 | I41: 909626 | J41: 9732055 | K41: 172079 | L41: 733827 | M41: 333433 | N41: 241368 | O41: 1007860 | P41: 91458 | Q41: 2493691 | R41: 214256 | S41: 1056845 | T41: 3054927 | U41: 1984195 | V41: 12021955 | W41: 2554785 | X41: 6745170 | Y41: 8722 | Z41: 2106048 | AA41: 28814 | AB41: 15298092 | AC41: 42338 | AD41: 1501240 | AE41: 16969 | AF41: 791113 | AG41: 111260 | AH41: 9953 | AI41: 7637208 | AJ41: 201153 | AK41: 793112 | AL41: 95
A42: 2009 | B42: 942321 | C42: 618461 | D42: 483 | E42: 136306 | F42: 738544 | G42: 141819 | H42: 412032 | I42: 503298 | J42: 5993464 | K42: 1453260 | L42: 2211828 | M42: 256640 | N42: 110054 | O42: 554587 | P42: 413714 | Q42: 1321712 | R42: 314264 | S42: 457876 | T42: 787249 | U42: 3443492 | V42: 32793307 | W42: 2606857 | X42: 2469351 | Y42: 16443 | Z42: 2210806 | AA42: 58126 | AB42: 12755805 | AC42: 0 | AD42: 685961 | AE42: 33805 | AF42: 617982 | AG42: 187408 | AH42: 38717 | AI42: 5089236 | AJ42: 28858 | AK42: 483604 | AL42: 228947
A43: 2010 | B43: 189428 | C43: 194374 | D43: 10228 | E43: 102654 | F43: 1272323 | G43: 29764 | H43: 1232148 | I43: 499128 | J43: 8624851 | K43: 127782 | L43: 6661780 | M43: 126301 | N43: 114581 | O43: 604277 | P43: 72633 | Q43: 458741 | R43: 279249 | S43: 394939 | T43: 821652 | U43: 759762 | V43: 32060573 | W43: 630340 | X43: 1891977 | Y43: 5202 | Z43: 932936 | AA43: 554 | AB43: 8630114 | AC43: 996 | AD43: 864031 | AE43: 46522 | AF43: 725629 | AG43: 46056 | AH43: 51223 | AI43: 1815626 | AJ43: 9610 | AK43: 1301966 | AL43: 633
... A52: 2019 | B52: 30190 | C52: 51644 | D52: 421 | E52: 14844 | F52: 47973 | G52: 17341 | H52: 302 | I52: 115592 | J52: 481541 | K52: 113816 | L52: 89902 | M52: 26291 | N52: 116504 | O52: 203482 | P52: 21320 | Q52: 233594 | R52: 30833 | S52: 95057 | T52: 114758 | U52: 120551 | V52: 1060092 | W52: 13646 | X52: 98821 | Y52: 772 | Z52: 87448 | AA52: 18280 | AB52: 3944905 | AC52: 111432 | AD52: 74328 | AE52: 16757 | AF52: 408207 | AG52: 24964 | AH52: 6615 | AI52: 434716 | AJ52: 11913 | AK52: 60212 | AL52: 43943
A54: =CONCATENATE("Annual Volume Killed on the CFLB as of ",MAX(A1:A53)," -- ",IF($B$2 = "(ALL)","ALL Modelled Health Factors",$B$2)) -> Annual Volume Killed on the CFLB as of 2019 -- ALL Modelled Health Factors
A55: =A5 -> Year | B55: =B5 -> 100 Mile House TSA | C55: =C5 -> Arrow TSA | D55: =D5 -> Arrowsmith TSA | E55: =E5 -> Boundary TSA | F55: =F5 -> Bulkley TSA | G55: =G5 -> Cascadia TSA | H55: =H5 -> Cassiar TSA | ... AM55: =AM5 -> 0 | AN55: Grand Total
A56: =A6 -> 1999 | B56: =B6 -> 355147 | C56: =C6 -> 223828 | D56: =D6 -> 0 | E56: =E6 -> 10717 | F56: =F6 -> 167868 | G56: =G6 -> 11900 | H56: =H6 -> 0 | ... AM56: =AM6 -> 0 | AN56: =SUM(B56:AM56) -> 15442750
A57: =A7 -> 2000 | B57: =B7 -> 223327 | C57: =C7 -> 231982 | D57: =D7 -> 0 | E57: =E7 -> 48987 | F57: =F7 -> 203174 | G57: =G7 -> 67169 | H57: =H7 -> 554 | ... AM57: =AM7 -> 0 | AN57: =SUM(B57:AM57) -> 27427989
A58: =A8 -> 2001 | B58: =B8 -> 328698 | C58: =C8 -> 165270 | D58: =D8 -> 0 | E58: =E8 -> 8908 | F58: =F8 -> 730680 | G58: =G8 -> 52241 | H58: =H8 -> 13856 | ... AM58: =AM8 -> 0 | AN58: =SUM(B58:AM58) -> 35353000
A59: =A9 -> 2002 | B59: =B9 -> 489528 | C59: =C9 -> 217085 | D59: =D9 -> 0 | E59: =E9 -> 4514 | F59: =F9 -> 124878 | G59: =G9 -> 74384 | H59: =H9 -> 45960 | ... AM59: =AM9 -> 0 | AN59: =SUM(B59:AM59) -> 63055244
A60: =A10 -> 2003 | B60: =B10 -> 2196957 | C60: =C10 -> 456208 | D60: =D10 -> 0 | E60: =E10 -> 17452 | F60: =F10 -> 154569 | G60: =G10 -> 313941 | H60: =H10 -> 0 | ... AM60: =AM10 -> 0 | AN60: =SUM(B60:AM60) -> 100883000
A61: =A11 -> 2004 | B61: =B11 -> 6429726 | C61: =C11 -> 1224342 | D61: =D11 -> 0 | E61: =E11 -> 73350 | F61: =F11 -> 109255 | G61: =G11 -> 508504 | H61: =H11 -> 1397008 | ... AM61: =AM11 -> 0 | AN61: =SUM(B61:AM61) -> 126124428
A62: =A12 -> 2005 | B62: =B12 -> 11583650 | C62: =C12 -> 1538178 | D62: =D12 -> 203 | E62: =E12 -> 137131 | F62: =F12 -> 189314 | G62: =G12 -> 609580 | H62: =H12 -> 284 | ... AM62: =AM12 -> 0 | AN62: =SUM(B62:AM62) -> 197935897
A63: =A13 -> 2006 | B63: =B13 -> 22604759 | C63: =C13 -> 1479552 | D63: =D13 -> 0 | E63: =E13 -> 155376 | F63: =F13 -> 129110 | G63: =G13 -> 209945 | H63: =H13 -> 12290 | ... AM63: =AM13 -> 0 | AN63: =SUM(B63:AM63) -> 165903535
A64: =A14 -> 2007 | B64: =B14 -> 9978381 | C64: =C14 -> 889853 | D64: =D14 -> 219110 | E64: =E14 -> 138862 | F64: =F14 -> 377245 | G64: =G14 -> 82939 | H64: =H14 -> 6598 | ... AM64: =AM14 -> 0 | AN64: =SUM(B64:AM64) -> 153296375
A65: =A15 -> 2008 | B65: =B15 -> 2617865 | C65: =C15 -> 678597 | D65: =D15 -> 61576 | E65: =E15 -> 334141 | F65: =F15 -> 817811 | G65: =G15 -> 59068 | H65: =H15 -> 4688 | ... AM65: =AM15 -> 0 | AN65: =SUM(B65:AM65) -> 92219109
A66: =A16 -> 2009 | B66: =B16 -> 1010231 | C66: =C16 -> 646474 | D66: =D16 -> 483 | E66: =E16 -> 143989 | F66: =F16 -> 832479 | G66: =G16 -> 150790 | H66: =H16 -> 412743 | ... AM66: =AM16 -> 0 | AN66: =SUM(B66:AM66) -> 90677493
A67: =A17 -> 2010 | B67: =B17 -> 245459 | C67: =C17 -> 208865 | D67: =D17 -> 11238 | E67: =E17 -> 108727 | F67: =F17 -> 1466055 | G67: =G17 -> 33982 | H67: =H17 -> 1232866 | ... AM67: =AM17 -> 0 | AN67: =SUM(B67:AM67) -> 77166294
... A76: =A26 -> 2019 | B76: =B26 -> 30190 | C76: =C26 -> 51644 | D76: =D26 -> 421 | E76: =E26 -> 14844 | F76: =F26 -> 47973 | G76: =G26 -> 17341 | H76: =H26 -> 302 | ... AM76: =AM26 -> 0 | AN76: =SUM(B76:AM76) -> 8343007
A77: Grand Total | B77: =SUM(B56:B76) -> 60769968 | C77: =SUM(C56:C76) -> 9599408 | D77: =SUM(D56:D76) -> 395209 | E77: =SUM(E56:E76) -> 2115186 | F77: =SUM(F56:F76) -> 9329636 | G77: =SUM(G56:G76) -> 2457650 | H77: =SUM(H56:H76) -> 11170701 | I77: =SUM(I56:I76) -> 8867056 | ... AN77: =SUM(AN56:AN76) -> 1368826973
A80: =CONCATENATE("Annual Volume Killed on the CFLB and Not Harvested as of ",MAX(A1:A55)," -- ",IF($B$2 = "(ALL)","ALL Modelled Health Factors",$B$2)) -> Annual Volume Killed on the CFLB and Not Harvested as of 2019 -- ALL Modelled Health Factors
A81: =A31 -> Year | B81: =B31 -> 100 Mile House TSA | C81: =C31 -> Arrow TSA | D81: =D31 -> Arrowsmith TSA | E81: =E31 -> Boundary TSA | F81: =F31 -> Bulkley TSA | G81: =G31 -> Cascadia TSA | H81: =H31 -> Cassiar TSA | ... AM81: =AM31 -> 0 | AN81: Grand Total
A82: =A32 -> 1999 | B82: =B32 -> 248492 | C82: =C32 -> 182058 | D82: =D32 -> 0 | E82: =E32 -> 7599 | F82: =F32 -> 150270 | G82: =G32 -> 9985 | H82: =H32 -> 0 | ... AM82: =AM32 -> 0 | AN82: =SUM(B82:AM82) -> 12839384
A83: =A33 -> 2000 | B83: =B33 -> 158409 | C83: =C33 -> 195507 | D83: =D33 -> 0 | E83: =E33 -> 44782 | F83: =F33 -> 182081 | G83: =G33 -> 59019 | H83: =H33 -> 554 | ... AM83: =AM33 -> 0 | AN83: =SUM(B83:AM83) -> 23875722
A84: =A34 -> 2001 | B84: =B34 -> 238253 | C84: =C34 -> 142647 | D84: =D34 -> 0 | E84: =E34 -> 7849 | F84: =F34 -> 696066 | G84: =G34 -> 46669 | H84: =H34 -> 13856 | ... AM84: =AM34 -> 0 | AN84: =SUM(B84:AM84) -> 30225592
A85: =A35 -> 2002 | B85: =B35 -> 363274 | C85: =C35 -> 186244 | D85: =D35 -> 0 | E85: =E35 -> 4207 | F85: =F35 -> 113435 | G85: =G35 -> 63011 | H85: =H35 -> 45960 | ... AM85: =AM35 -> 0 | AN85: =SUM(B85:AM85) -> 51634821
A86: =A36 -> 2003 | B86: =B36 -> 1705889 | C86: =C36 -> 387630 | D86: =D36 -> 0 | E86: =E36 -> 16898 | F86: =F36 -> 141800 | G86: =G36 -> 267834 | H86: =H36 -> 0 | ... AM86: =AM36 -> 0 | AN86: =SUM(B86:AM86) -> 80158455
A87: =A37 -> 2004 | B87: =B37 -> 4827162 | C87: =C37 -> 1049809 | D87: =D37 -> 0 | E87: =E37 -> 69040 | F87: =F37 -> 96197 | G87: =G37 -> 421319 | H87: =H37 -> 1397008 | ... AM87: =AM37 -> 0 | AN87: =SUM(B87:AM87) -> 94473987
A88: =A38 -> 2005 | B88: =B38 -> 8218584 | C88: =C38 -> 1371791 | D88: =D38 -> 0 | E88: =E38 -> 127514 | F88: =F38 -> 164340 | G88: =G38 -> 502797 | H88: =H38 -> 284 | ... AM88: =AM38 -> 0 | AN88: =SUM(B88:AM88) -> 139783654
A89: =A39 -> 2006 | B89: =B39 -> 14846121 | C89: =C39 -> 1311415 | D89: =D39 -> 0 | E89: =E39 -> 142997 | F89: =F39 -> 116954 | G89: =G39 -> 178741 | H89: =H39 -> 12290 | ... AM89: =AM39 -> 0 | AN89: =SUM(B89:AM89) -> 122266290
A90: =A40 -> 2007 | B90: =B40 -> 6959201 | C90: =C40 -> 809676 | D90: =D40 -> 196189 | E90: =E40 -> 131831 | F90: =F40 -> 332364 | G90: =G40 -> 72721 | H90: =H40 -> 6598 | ... AM90: =AM40 -> 0 | AN90: =SUM(B90:AM90) -> 117161327
A91: =A41 -> 2008 | B91: =B41 -> 1965437 | C91: =C41 -> 608752 | D91: =D41 -> 48987 | E91: =E41 -> 328642 | F91: =F41 -> 702647 | G91: =G41 -> 56246 | H91: =H41 -> 4688 | ... AM91: =AM41 -> 0 | AN91: =SUM(B91:AM91) -> 75609046
A92: =A42 -> 2009 | B92: =B42 -> 942321 | C92: =C42 -> 618461 | D92: =D42 -> 483 | E92: =E42 -> 136306 | F92: =F42 -> 738544 | G92: =G42 -> 141819 | H92: =H42 -> 412032 | ... AM92: =AM42 -> 0 | AN92: =SUM(B92:AM92) -> 81116617
A93: =A43 -> 2010 | B93: =B43 -> 189428 | C93: =C43 -> 194374 | D93: =D43 -> 10228 | E93: =E43 -> 102654 | F93: =F43 -> 1272323 | G93: =G43 -> 29764 | H93: =H43 -> 1232148 | ... AM93: =AM43 -> 0 | AN93: =SUM(B93:AM93) -> 71590583
... A102: =A52 -> 2019 | B102: =B52 -> 30190 | C102: =C52 -> 51644 | D102: =D52 -> 421 | E102: =E52 -> 14844 | F102: =F52 -> 47973 | G102: =G52 -> 17341 | H102: =H52 -> 302 | ... AM102: =AM52 -> 0 | AN102: =SUM(B102:AM102) -> 8343007
A103: Grand Total | B103: =SUM(B82:B102) -> 43221494 | C103: =SUM(C82:C102) -> 8654992 | D103: =SUM(D82:D102) -> 353355 | E103: =SUM(E82:E102) -> 2006767 | F103: =SUM(F82:F102) -> 8235194 | G103: =SUM(G82:G102) -> 2123308 | H103: =SUM(H82:H102) -> 11165952 | I103: =SUM(I82:I102) -> 7462079 | ... AN103: =SUM(AN82:AN102) -> 1116592862
A106: =CONCATENATE("Annual Volume Killed on the CFLB and Harvested as of ",MAX(A1:A55)," -- ",IF($B$2 = "(ALL)","ALL Modelled Health Factors",$B$2)) -> Annual Volume Killed on the CFLB and Harvested as of 2019 -- ALL Modelled Health Factors
A107: =A81 -> Year | B107: =B81 -> 100 Mile House TSA | C107: =C81 -> Arrow TSA | D107: =D81 -> Arrowsmith TSA | E107: =E81 -> Boundary TSA | F107: =F81 -> Bulkley TSA | G107: =G81 -> Cascadia TSA | H107: =H81 -> Cassiar TSA | ... AN107: =AN81 -> Grand Total
A108: =A82 -> 1999 | B108: =B56-B82 -> 106655 | C108: =C56-C82 -> 41770 | D108: =D56-D82 -> 0 | E108: =E56-E82 -> 3118 | F108: =F56-F82 -> 17598 | G108: =G56-G82 -> 1915 | H108: =H56-H82 -> 0 | I108: =I56-I82 -> 51857 | ... AM108: =AM56-AM82 -> 0 | AN108: =SUM(B108:AM108) -> 2603366
A109: =A83 -> 2000 | B109: =B57-B83 -> 64918 | C109: =C57-C83 -> 36475 | D109: =D57-D83 -> 0 | E109: =E57-E83 -> 4205 | F109: =F57-F83 -> 21093 | G109: =G57-G83 -> 8150 | H109: =H57-H83 -> 0 | I109: =I57-I83 -> 34265 | ... AM109: =AM57-AM83 -> 0 | AN109: =SUM(B109:AM109) -> 3552267
A110: =A84 -> 2001 | B110: =B58-B84 -> 90445 | C110: =C58-C84 -> 22623 | D110: =D58-D84 -> 0 | E110: =E58-E84 -> 1059 | F110: =F58-F84 -> 34614 | G110: =G58-G84 -> 5572 | H110: =H58-H84 -> 0 | I110: =I58-I84 -> 24828 | ... AM110: =AM58-AM84 -> 0 | AN110: =SUM(B110:AM110) -> 5127408
A111: =A85 -> 2002 | B111: =B59-B85 -> 126254 | C111: =C59-C85 -> 30841 | D111: =D59-D85 -> 0 | E111: =E59-E85 -> 307 | F111: =F59-F85 -> 11443 | G111: =G59-G85 -> 11373 | H111: =H59-H85 -> 0 | I111: =I59-I85 -> 56072 | ... AM111: =AM59-AM85 -> 0 | AN111: =SUM(B111:AM111) -> 11420423
A112: =A86 -> 2003 | B112: =B60-B86 -> 491068 | C112: =C60-C86 -> 68578 | D112: =D60-D86 -> 0 | E112: =E60-E86 -> 554 | F112: =F60-F86 -> 12769 | G112: =G60-G86 -> 46107 | H112: =H60-H86 -> 0 | I112: =I60-I86 -> 77212 | ... AM112: =AM60-AM86 -> 0 | AN112: =SUM(B112:AM112) -> 20724545
A113: =A87 -> 2004 | B113: =B61-B87 -> 1602564 | C113: =C61-C87 -> 174533 | D113: =D61-D87 -> 0 | E113: =E61-E87 -> 4310 | F113: =F61-F87 -> 13058 | G113: =G61-G87 -> 87185 | H113: =H61-H87 -> 0 | I113: =I61-I87 -> 154457 | ... AM113: =AM61-AM87 -> 0 | AN113: =SUM(B113:AM113) -> 31650441
A114: =A88 -> 2005 | B114: =B62-B88 -> 3365066 | C114: =C62-C88 -> 166387 | D114: =D62-D88 -> 203 | E114: =E62-E88 -> 9617 | F114: =F62-F88 -> 24974 | G114: =G62-G88 -> 106783 | H114: =H62-H88 -> 0 | I114: =I62-I88 -> 211409 | ... AM114: =AM62-AM88 -> 0 | AN114: =SUM(B114:AM114) -> 58152243
A115: =A89 -> 2006 | B115: =B63-B89 -> 7758638 | C115: =C63-C89 -> 168137 | D115: =D63-D89 -> 0 | E115: =E63-E89 -> 12379 | F115: =F63-F89 -> 12156 | G115: =G63-G89 -> 31204 | H115: =H63-H89 -> 0 | I115: =I63-I89 -> 185575 | ... AM115: =AM63-AM89 -> 0 | AN115: =SUM(B115:AM115) -> 43637245
A116: =A90 -> 2007 | B116: =B64-B90 -> 3019180 | C116: =C64-C90 -> 80177 | D116: =D64-D90 -> 22921 | E116: =E64-E90 -> 7031 | F116: =F64-F90 -> 44881 | G116: =G64-G90 -> 10218 | H116: =H64-H90 -> 0 | I116: =I64-I90 -> 90128 | ... AM116: =AM64-AM90 -> 0 | AN116: =SUM(B116:AM116) -> 36135048
A117: =A91 -> 2008 | B117: =B65-B91 -> 652428 | C117: =C65-C91 -> 69845 | D117: =D65-D91 -> 12589 | E117: =E65-E91 -> 5499 | F117: =F65-F91 -> 115164 | G117: =G65-G91 -> 2822 | H117: =H65-H91 -> 0 | I117: =I65-I91 -> 117771 | ... AM117: =AM65-AM91 -> 0 | AN117: =SUM(B117:AM117) -> 16610063
A118: =A92 -> 2009 | B118: =B66-B92 -> 67910 | C118: =C66-C92 -> 28013 | D118: =D66-D92 -> 0 | E118: =E66-E92 -> 7683 | F118: =F66-F92 -> 93935 | G118: =G66-G92 -> 8971 | H118: =H66-H92 -> 711 | I118: =I66-I92 -> 79223 | ... AM118: =AM66-AM92 -> 0 | AN118: =SUM(B118:AM118) -> 9560876
A119: =A93 -> 2010 | B119: =B67-B93 -> 56031 | C119: =C67-C93 -> 14491 | D119: =D67-D93 -> 1010 | E119: =E67-E93 -> 6073 | F119: =F67-F93 -> 193732 | G119: =G67-G93 -> 4218 | H119: =H67-H93 -> 718 | I119: =I67-I93 -> 81199 | ... AM119: =AM67-AM93 -> 0 | AN119: =SUM(B119:AM119) -> 5575711
... A128: =A102 -> 2019 | B128: =B76-B102 -> 0 | C128: =C76-C102 -> 0 | D128: =D76-D102 -> 0 | E128: =E76-E102 -> 0 | F128: =F76-F102 -> 0 | G128: =G76-G102 -> 0 | H128: =H76-H102 -> 0 | I128: =I76-I102 -> 0 | ... AM128: =AM76-AM102 -> 0 | AN128: =SUM(B128:AM128) -> 0
A129: Grand Total | B129: =SUM(B108:B128) -> 17548474 | C129: =SUM(C108:C128) -> 944416 | D129: =SUM(D108:D128) -> 41854 | E129: =SUM(E108:E128) -> 108419 | F129: =SUM(F108:F128) -> 1094442 | G129: =SUM(G108:G128) -> 334342 | H129: =SUM(H108:H128) -> 4749 | I129: =SUM(I108:I128) -> 1404977 | ... AN129: =SUM(AN108:AN128) -> 252234111
A132: =CONCATENATE("Cumulative Volume Killed on the CFLB as of ",MAX(A1:A55)," -- ",IF($B$2 = "(ALL)","ALL Modelled Health Factors",$B$2)) -> Cumulative Volume Killed on the CFLB as of 2019 -- ALL Modelled Health Factors
A133: =A31 -> Year | B133: =B31 -> 100 Mile House TSA | C133: =C31 -> Arrow TSA | D133: =D31 -> Arrowsmith TSA | E133: =E31 -> Boundary TSA | F133: =F31 -> Bulkley TSA | G133: =G31 -> Cascadia TSA | H133: =H31 -> Cassiar TSA | ... AM133: =AM31 -> 0 | AN133: Grand Total
A134: =A32 -> 1999 | B134: =B6 -> 355147 | C134: =C6 -> 223828 | D134: =D6 -> 0 | E134: =E6 -> 10717 | F134: =F6 -> 167868 | G134: =G6 -> 11900 | H134: =H6 -> 0 | I134: =I6 -> 136160 | ... AM134: =AM6 -> 0 | AN134: =SUM(B134:AM134) -> 15442750
A135: =A33 -> 2000 | B135: =B134+B7 -> 578474 | C135: =C134+C7 -> 455810 | D135: =D134+D7 -> 0 | E135: =E134+E7 -> 59704 | F135: =F134+F7 -> 371042 | G135: =G134+G7 -> 79069 | H135: =H134+H7 -> 554 | I135: =I134+I7 -> 236645 | ... AM135: =AM134+AM7 -> 0 | AN135: =SUM(B135:AM135) -> 42870739
A136: =A34 -> 2001 | B136: =B135+B8 -> 907172 | C136: =C135+C8 -> 621080 | D136: =D135+D8 -> 0 | E136: =E135+E8 -> 68612 | F136: =F135+F8 -> 1101722 | G136: =G135+G8 -> 131310 | H136: =H135+H8 -> 14410 | I136: =I135+I8 -> 331400 | ... AM136: =AM135+AM8 -> 0 | AN136: =SUM(B136:AM136) -> 78223739
A137: =A35 -> 2002 | B137: =B136+B9 -> 1396700 | C137: =C136+C9 -> 838165 | D137: =D136+D9 -> 0 | E137: =E136+E9 -> 73126 | F137: =F136+F9 -> 1226600 | G137: =G136+G9 -> 205694 | H137: =H136+H9 -> 60370 | I137: =I136+I9 -> 517231 | ... AM137: =AM136+AM9 -> 0 | AN137: =SUM(B137:AM137) -> 141278983
A138: =A36 -> 2003 | B138: =B137+B10 -> 3593657 | C138: =C137+C10 -> 1294373 | D138: =D137+D10 -> 0 | E138: =E137+E10 -> 90578 | F138: =F137+F10 -> 1381169 | G138: =G137+G10 -> 519635 | H138: =H137+H10 -> 60370 | I138: =I137+I10 -> 834556 | ... AM138: =AM137+AM10 -> 0 | AN138: =SUM(B138:AM138) -> 242161983
A139: =A37 -> 2004 | B139: =B138+B11 -> 10023383 | C139: =C138+C11 -> 2518715 | D139: =D138+D11 -> 0 | E139: =E138+E11 -> 163928 | F139: =F138+F11 -> 1490424 | G139: =G138+G11 -> 1028139 | H139: =H138+H11 -> 1457378 | I139: =I138+I11 -> 1414190 | ... AM139: =AM138+AM11 -> 0 | AN139: =SUM(B139:AM139) -> 368286411
A140: =A38 -> 2005 | B140: =B139+B12 -> 21607033 | C140: =C139+C12 -> 4056893 | D140: =D139+D12 -> 203 | E140: =E139+E12 -> 301059 | F140: =F139+F12 -> 1679738 | G140: =G139+G12 -> 1637719 | H140: =H139+H12 -> 1457662 | I140: =I139+I12 -> 2448204 | ... AM140: =AM139+AM12 -> 0 | AN140: =SUM(B140:AM140) -> 566222308
A141: =A39 -> 2006 | B141: =B140+B13 -> 44211792 | C141: =C140+C13 -> 5536445 | D141: =D140+D13 -> 203 | E141: =E140+E13 -> 456435 | F141: =F140+F13 -> 1808848 | G141: =G140+G13 -> 1847664 | H141: =H140+H13 -> 1469952 | I141: =I140+I13 -> 3341606 | ... AM141: =AM140+AM13 -> 0 | AN141: =SUM(B141:AM141) -> 732125843
A142: =A40 -> 2007 | B142: =B141+B14 -> 54190173 | C142: =C141+C14 -> 6426298 | D142: =D141+D14 -> 219313 | E142: =E141+E14 -> 595297 | F142: =F141+F14 -> 2186093 | G142: =G141+G14 -> 1930603 | H142: =H141+H14 -> 1476550 | I142: =I141+I14 -> 3872790 | ... AM142: =AM141+AM14 -> 0 | AN142: =SUM(B142:AM142) -> 885422218
A143: =A41 -> 2008 | B143: =B142+B15 -> 56808038 | C143: =C142+C15 -> 7104895 | D143: =D142+D15 -> 280889 | E143: =E142+E15 -> 929438 | F143: =F142+F15 -> 3003904 | G143: =G142+G15 -> 1989671 | H143: =H142+H15 -> 1481238 | I143: =I142+I15 -> 4900187 | ... AM143: =AM142+AM15 -> 0 | AN143: =SUM(B143:AM143) -> 977641327
A144: =A42 -> 2009 | B144: =B143+B16 -> 57818269 | C144: =C143+C16 -> 7751369 | D144: =D143+D16 -> 281372 | E144: =E143+E16 -> 1073427 | F144: =F143+F16 -> 3836383 | G144: =G143+G16 -> 2140461 | H144: =H143+H16 -> 1893981 | I144: =I143+I16 -> 5482708 | ... AM144: =AM143+AM16 -> 0 | AN144: =SUM(B144:AM144) -> 1068318820
A145: =A43 -> 2010 | B145: =B144+B17 -> 58063728 | C145: =C144+C17 -> 7960234 | D145: =D144+D17 -> 292610 | E145: =E144+E17 -> 1182154 | F145: =F144+F17 -> 5302438 | G145: =G144+G17 -> 2174443 | H145: =H144+H17 -> 3126847 | I145: =I144+I17 -> 6063035 | ... AM145: =AM144+AM17 -> 0 | AN145: =SUM(B145:AM145) -> 1145485114
A146: =A44 -> 2011 | B146: =B145+B18 -> 58091991 | C146: =C145+C18 -> 8031579 | D146: =D145+D18 -> 299806 | E146: =E145+E18 -> 1259373 | F146: =F145+F18 -> 7034396 | G146: =G145+G18 -> 2184278 | H146: =H145+H18 -> 3454030 | I146: =I145+I18 -> 6304711 | ... AM146: =AM145+AM18 -> 0 | AN146: =SUM(B146:AM146) -> 1187104244
... A154: =A52 -> 2019 | B154: =B153+B26 -> 60769968 | C154: =C153+C26 -> 9599408 | D154: =D153+D26 -> 395209 | E154: =E153+E26 -> 2115186 | F154: =F153+F26 -> 9329636 | G154: =G153+G26 -> 2457650 | H154: =H153+H26 -> 11170701 | I154: =I153+I26 -> 8867056 | ... AM154: =AM153+AM26 -> 0 | AN154: =SUM(B154:AM154) -> 1368826973

Sheet TSA Comparison Graphs

Sheet FHF Comparison
A2: TSA_NUMBER_DESCR | B2: (All)
A4: Sum of VOLUMEKILLED | B4: Column Labels
A5: Year | B5: Douglas-fir Beetle | C5: Douglas-fir Tussock Moth | D5: Engraver Beetle (Ips species) | E5: Fir engraver Beetle | F5: Fire | G5: Flooding | H5: Lodgepole Pine Beetle | I5: Mountain Pine Beetle | J5: Red Turpentine Beetle | K5: Spruce Beetle | L5: Twig Beetle | M5: Unknown Beetle | N5: Western Balsam Bark Beetle | O5: Western Pine Beetle | P5: Yellow cedar decline | Q5: Drought-caused Mortality | R5: Windthrow
A6: 1999 | B6: 54966 | D6: 4354 | F6: 395218 | G6: 16835 | I6: 9405312 | K6: 1327525 | N6: 3928239 | O6: 198 | Q6: 234143 | R6: 75960
A7: 2000 | B7: 287118 | D7: 74 | F7: 79475 | G7: 17757 | I7: 15767268 | K7: 3156392 | N7: 8095307 | O7: 132 | Q7: 115 | R7: 24351
A8: 2001 | B8: 326079 | C8: 108 | D8: 2876 | F8: 153429 | G8: 219523 | I8: 26842756 | J8: 0 | K8: 1349229 | M8: 18 | N8: 6450623 | O8: 304 | Q8: 298 | R8: 7757
A9: 2002 | B9: 145925 | C9: 0 | D9: 170 | F9: 171233 | G9: 176747 | H9: 2173 | I9: 51735795 | J9: 0 | K9: 4971313 | N9: 5820397 | O9: 48 | Q9: 8015 | R9: 23428
A10: 2003 | B10: 226805 | C10: 1233 | D10: 6853 | F10: 696825 | G10: 151688 | H10: 56 | I10: 86861902 | K10: 3846734 | N10: 9079122 | O10: 625 | Q10: 8893 | R10: 2264
A11: 2004 | B11: 244971 | E11: 0 | F11: 7225685 | G11: 78633 | I11: 111332055 | K11: 2952704 | N11: 3154643 | O11: 550 | Q11: 64990 | R11: 1070197
A12: 2005 | B12: 272916 | C12: 86 | E12: 5097 | F12: 830240 | G12: 60722 | I12: 192227771 | K12: 975349 | N12: 3173335 | O12: 306 | Q12: 2935 | R12: 387140
A13: 2006 | B13: 302431 | F13: 4435912 | G13: 67568 | I13: 157224309 | K13: 735327 | N13: 2685040 | O13: 0 | P13: 130561 | Q13: 126259 | R13: 196128
A14: 2007 | B14: 306740 | C14: 617 | D14: 0 | F14: 1344884 | G14: 68877 | I14: 148447359 | K14: 758714 | M14: 124 | N14: 1540480 | P14: 438759 | Q14: 740 | R14: 389081
A15: 2008 | B15: 472082 | C15: 14040 | D15: 0 | F15: 789596 | G15: 62457 | I15: 89423978 | K15: 343423 | M15: 474 | N15: 228877 | P15: 568426 | Q15: 4867 | R15: 310889
A16: 2009 | B16: 447390 | C16: 148279 | D16: 705 | F16: 8573528 | G16: 114633 | H16: 47 | I16: 74487133 | K16: 667208 | L16: 0 | M16: 0 | N16: 1305044 | P16: 65524 | Q16: 4712712 | R16: 155290
A17: 2010 | B17: 182774 | C17: 257306 | F17: 6457013 | G17: 58756 | I17: 67939714 | K17: 630690 | N17: 1321172 | P17: 145751 | Q17: 6783 | R17: 166335
A18: 2011 | B18: 226082 | C18: 51366 | D18: 9 | F18: 377331 | G18: 337448 | I18: 39433150 | K18: 238633 | N18: 210218 | P18: 43711 | Q18: 704 | R18: 700478
A19: 2012 | B19: 191242 | C19: 380 | F19: 2269587 | G19: 381297 | I19: 23065747 | K19: 742120 | M19: 75568 | N19: 622691 | P19: 34160 | Q19: 551969 | R19: 581139
A20: 2013 | B20: 129803 | D20: 8 | F20: 515154 | G20: 197611 | H20: 110 | I20: 11202645 | K20: 155862 | M20: 2353 | N20: 465633 | P20: 85063 | Q20: 0 | R20: 264954
A21: 2014 | B21: 260085 | F21: 10645981 | G21: 433666 | H21: 15536 | I21: 5546527 | K21: 1195206 | M21: 315 | N21: 3556093 | P21: 121880 | Q21: 100516 | R21: 195698
A22: 2015 | B22: 386582 | F22: 7140727 | G22: 424465 | I22: 2204383 | K22: 3016676 | M22: 46 | N22: 3794253 | P22: 132888 | Q22: 767598 | R22: 408461
A23: 2016 | B23: 771551 | F23: 2036940 | G23: 356589 | H23: 131 | I23: 1874649 | K23: 3496216 | N23: 6584440 | O23: 242 | P23: 180046 | Q23: 132505 | R23: 259892
A24: 2017 | B24: 1287750 | C24: 0 | D24: 0 | F24: 16220491 | G24: 983396 | H24: 630 | I24: 1751349 | K24: 4641393 | N24: 4994433 | O24: 13 | P24: 175744 | Q24: 131807 | R24: 147177
A25: 2018 | B25: 846588 | C25: 0 | F25: 37611657 | G25: 337669 | I25: 621172 | K25: 1896374 | M25: 0 | N25: 2967853 | O25: 15 | P25: 86377 | Q25: 884917 | R25: 217038
A26: 2019 | B26: 510273 | C26: 20893 | G26: 162955 | I26: 542626 | K26: 3513592 | M26: 51 | N26: 3242713 | O26: 115 | P26: 64618 | Q26: 122683 | R26: 162488
A28: TSA_NUMBER_DESCR | B28: (All)
A30: Sum of NRLVOLUME | B30: Column Labels
A31: Year | B31: Douglas-fir Beetle | C31: Douglas-fir Tussock Moth | D31: Engraver Beetle (Ips species) | E31: Fir engraver Beetle | F31: Fire | G31: Flooding | H31: Lodgepole Pine Beetle | I31: Mountain Pine Beetle | J31: Red Turpentine Beetle | K31: Spruce Beetle | L31: Twig Beetle | M31: Unknown Beetle | N31: Western Balsam Bark Beetle | O31: Western Pine Beetle | P31: Yellow cedar decline | Q31: Drought-caused Mortality | R31: Windthrow
A32: 1999 | B32: 46860 | D32: 3869 | F32: 321726 | G32: 15194 | I32: 7255310 | K32: 1219820 | N32: 3733052 | O32: 198 | Q32: 178328 | R32: 65027
A33: 2000 | B33: 248107 | D33: 74 | F33: 73103 | G33: 16849 | I33: 13135565 | K33: 2433636 | N33: 7953665 | O33: 132 | Q33: 115 | R33: 14476
A34: 2001 | B34: 295123 | C34: 108 | D34: 1532 | F34: 142165 | G34: 202921 | I34: 22201618 | J34: 0 | K34: 1128222 | M34: 18 | N34: 6246296 | O34: 267 | Q34: 298 | R34: 7024
A35: 2002 | B35: 133075 | C35: 0 | D35: 170 | F35: 163336 | G35: 153651 | H35: 2173 | I35: 41329090 | J35: 0 | K35: 4206580 | N35: 5617182 | O35: 48 | Q35: 6557 | R35: 22959
A36: 2003 | B36: 205902 | C36: 1233 | D36: 6794 | F36: 686211 | G36: 147991 | H36: 56 | I36: 66820052 | K36: 3539712 | N36: 8739076 | O36: 587 | Q36: 8893 | R36: 1948
A37: 2004 | B37: 234077 | E37: 0 | F37: 7137925 | G37: 76219 | I37: 80392687 | K37: 2644209 | N37: 3043935 | O37: 104 | Q37: 61699 | R37: 883132
A38: 2005 | B38: 252169 | C38: 86 | E38: 4554 | F38: 813090 | G38: 58691 | I38: 134399396 | K38: 896588 | N38: 3082355 | O38: 306 | Q38: 2935 | R38: 273484
A39: 2006 | B39: 272479 | F39: 4265795 | G39: 66730 | I39: 113945542 | K39: 638031 | N39: 2640048 | O39: 0 | P39: 130407 | Q39: 125548 | R39: 181710
A40: 2007 | B40: 292323 | C40: 617 | D40: 0 | F40: 1317188 | G40: 67653 | I40: 112537727 | K40: 667262 | M40: 124 | N40: 1491735 | P40: 437046 | Q40: 740 | R40: 348912
A41: 2008 | B41: 453978 | C41: 13098 | D41: 0 | F41: 722506 | G41: 62221 | I41: 72982908 | K41: 325494 | M41: 474 | N41: 221023 | P41: 563409 | Q41: 4867 | R41: 259068
A42: 2009 | B42: 431864 | C42: 146472 | D42: 649 | F42: 8434337 | G42: 113969 | H42: 47 | I42: 65271908 | K42: 585673 | L42: 0 | M42: 0 | N42: 1276978 | P42: 64773 | Q42: 4650075 | R42: 139872
A43: 2010 | B43: 168084 | C43: 256877 | F43: 6392080 | G43: 58132 | I43: 62560350 | K43: 569675 | N43: 1276903 | P43: 145751 | Q43: 6783 | R43: 155948
A44: 2011 | B44: 219730 | C44: 51310 | D44: 9 | F44: 376384 | G44: 336525 | I44: 36976496 | K44: 206701 | N44: 203802 | P44: 43711 | Q44: 704 | R44: 651019
A45: 2012 | B45: 179201 | C45: 380 | F45: 2264512 | G45: 380974 | I45: 21802190 | K45: 690997 | M45: 72532 | N45: 600819 | P45: 34158 | Q45: 546101 | R45: 557563
A46: 2013 | B46: 120753 | D46: 8 | F46: 510736 | G46: 195436 | H46: 110 | I46: 10760772 | K46: 150987 | M46: 2292 | N46: 456474 | P46: 85024 | Q46: 0 | R46: 261643
A47: 2014 | B47: 253993 | F47: 10483288 | G47: 430125 | H47: 15536 | I47: 5429545 | K47: 1049709 | M47: 315 | N47: 3478370 | P47: 121694 | Q47: 99557 | R47: 195407
A48: 2015 | B48: 374859 | F48: 7068616 | G48: 423764 | I48: 2153475 | K48: 2687618 | M48: 46 | N48: 3718245 | P48: 132333 | Q48: 765514 | R48: 401041
A49: 2016 | B49: 739248 | F49: 1880108 | G49: 356342 | H49: 131 | I49: 1837829 | K49: 3218515 | N49: 6505953 | O49: 242 | P49: 179414 | Q49: 127206 | R49: 256288
A50: 2017 | B50: 1260039 | C50: 0 | D50: 0 | F50: 15598872 | G50: 983333 | H50: 630 | I50: 1726091 | K50: 4440662 | N50: 4945356 | O50: 13 | P50: 175741 | Q50: 131807 | R50: 145447
A51: 2018 | B51: 840482 | C51: 0 | F51: 37164593 | G51: 336958 | I51: 620818 | K51: 1873343 | M51: 0 | N51: 2961782 | O51: 15 | P51: 86365 | Q51: 880751 | R51: 216900
A52: 2019 | B52: 510273 | C52: 20893 | G52: 162955 | I52: 542626 | K52: 3513592 | M52: 51 | N52: 3242713 | O52: 115 | P52: 64618 | Q52: 122683 | R52: 162488
A54: =CONCATENATE("Annual Volume Killed on the CFLB as of ",MAX(A1:A53)," -- ",IF($B$2 = "(ALL)","ALL TSAs",$B$2)) -> Annual Volume Killed on the CFLB as of 2019 -- ALL TSAs
A55: =A5 -> Year | B55: =B5 -> Douglas-fir Beetle | C55: =C5 -> Douglas-fir Tussock Moth | D55: =D5 -> Engraver Beetle (Ips species) | E55: =E5 -> Fir engraver Beetle | F55: =F5 -> Fire | G55: =G5 -> Flooding | H55: =H5 -> Lodgepole Pine Beetle | ... S55: =S5 -> 0 | AN55: Grand Total
A56: =A6 -> 1999 | B56: =B6 -> 54966 | C56: =C6 -> 0 | D56: =D6 -> 4354 | E56: =E6 -> 0 | F56: =F6 -> 395218 | G56: =G6 -> 16835 | H56: =H6 -> 0 | ... S56: =S6 -> 0 | AN56: =SUM(B56:Q56) -> 15366790
A57: =A7 -> 2000 | B57: =B7 -> 287118 | C57: =C7 -> 0 | D57: =D7 -> 74 | E57: =E7 -> 0 | F57: =F7 -> 79475 | G57: =G7 -> 17757 | H57: =H7 -> 0 | ... S57: =S7 -> 0 | AN57: =SUM(B57:Q57) -> 27403638
A58: =A8 -> 2001 | B58: =B8 -> 326079 | C58: =C8 -> 108 | D58: =D8 -> 2876 | E58: =E8 -> 0 | F58: =F8 -> 153429 | G58: =G8 -> 219523 | H58: =H8 -> 0 | ... S58: =S8 -> 0 | AN58: =SUM(B58:Q58) -> 35345243
A59: =A9 -> 2002 | B59: =B9 -> 145925 | C59: =C9 -> 0 | D59: =D9 -> 170 | E59: =E9 -> 0 | F59: =F9 -> 171233 | G59: =G9 -> 176747 | H59: =H9 -> 2173 | ... S59: =S9 -> 0 | AN59: =SUM(B59:Q59) -> 63031816
A60: =A10 -> 2003 | B60: =B10 -> 226805 | C60: =C10 -> 1233 | D60: =D10 -> 6853 | E60: =E10 -> 0 | F60: =F10 -> 696825 | G60: =G10 -> 151688 | H60: =H10 -> 56 | ... S60: =S10 -> 0 | AN60: =SUM(B60:Q60) -> 100880736
A61: =A11 -> 2004 | B61: =B11 -> 244971 | C61: =C11 -> 0 | D61: =D11 -> 0 | E61: =E11 -> 0 | F61: =F11 -> 7225685 | G61: =G11 -> 78633 | H61: =H11 -> 0 | ... S61: =S11 -> 0 | AN61: =SUM(B61:Q61) -> 125054231
A62: =A12 -> 2005 | B62: =B12 -> 272916 | C62: =C12 -> 86 | D62: =D12 -> 0 | E62: =E12 -> 5097 | F62: =F12 -> 830240 | G62: =G12 -> 60722 | H62: =H12 -> 0 | ... S62: =S12 -> 0 | AN62: =SUM(B62:Q62) -> 197548757
A63: =A13 -> 2006 | B63: =B13 -> 302431 | C63: =C13 -> 0 | D63: =D13 -> 0 | E63: =E13 -> 0 | F63: =F13 -> 4435912 | G63: =G13 -> 67568 | H63: =H13 -> 0 | ... S63: =S13 -> 0 | AN63: =SUM(B63:Q63) -> 165707407
A64: =A14 -> 2007 | B64: =B14 -> 306740 | C64: =C14 -> 617 | D64: =D14 -> 0 | E64: =E14 -> 0 | F64: =F14 -> 1344884 | G64: =G14 -> 68877 | H64: =H14 -> 0 | ... S64: =S14 -> 0 | AN64: =SUM(B64:Q64) -> 152907294
A65: =A15 -> 2008 | B65: =B15 -> 472082 | C65: =C15 -> 14040 | D65: =D15 -> 0 | E65: =E15 -> 0 | F65: =F15 -> 789596 | G65: =G15 -> 62457 | H65: =H15 -> 0 | ... S65: =S15 -> 0 | AN65: =SUM(B65:Q65) -> 91908220
A66: =A16 -> 2009 | B66: =B16 -> 447390 | C66: =C16 -> 148279 | D66: =D16 -> 705 | E66: =E16 -> 0 | F66: =F16 -> 8573528 | G66: =G16 -> 114633 | H66: =H16 -> 47 | ... S66: =S16 -> 0 | AN66: =SUM(B66:Q66) -> 90522203
A67: =A17 -> 2010 | B67: =B17 -> 182774 | C67: =C17 -> 257306 | D67: =D17 -> 0 | E67: =E17 -> 0 | F67: =F17 -> 6457013 | G67: =G17 -> 58756 | H67: =H17 -> 0 | ... S67: =S17 -> 0 | AN67: =SUM(B67:Q67) -> 76999959
... A76: =A26 -> 2019 | B76: =B26 -> 510273 | C76: =C26 -> 20893 | D76: =D26 -> 0 | E76: =E26 -> 0 | F76: =F26 -> 0 | G76: =G26 -> 162955 | H76: =H26 -> 0 | ... S76: =S26 -> 0 | AN76: =SUM(B76:Q76) -> 8180519
A77: Grand Total | B77: =SUM(B56:B76) -> 7880153 | C77: =SUM(C56:C76) -> 494308 | D77: =SUM(D56:D76) -> 15049 | E77: =SUM(E56:E76) -> 5097 | F77: =SUM(F56:F76) -> 107970906 | G77: =SUM(G56:G76) -> 4709292 | H77: =SUM(H56:H76) -> 18683 | I77: =SUM(I56:I76) -> 1117937600 | ... S77: =SUM(S56:S76) -> 0 | AN77: =SUM(AN56:AN76) -> 1363080828
A80: =CONCATENATE("Annual Volume Killed on the CFLB and Not Harvested as of ",MAX(A1:A53)," -- ",IF($B$2 = "(ALL)","ALL TSAs",$B$2)) -> Annual Volume Killed on the CFLB and Not Harvested as of 2019 -- ALL TSAs
A81: =A31 -> Year | B81: =B31 -> Douglas-fir Beetle | C81: =C31 -> Douglas-fir Tussock Moth | D81: =D31 -> Engraver Beetle (Ips species) | E81: =E31 -> Fir engraver Beetle | F81: =F31 -> Fire | G81: =G31 -> Flooding | H81: =H31 -> Lodgepole Pine Beetle | ... S81: =S31 -> 0 | AN81: Grand Total
A82: =A32 -> 1999 | B82: =B32 -> 46860 | C82: =C32 -> 0 | D82: =D32 -> 3869 | E82: =E32 -> 0 | F82: =F32 -> 321726 | G82: =G32 -> 15194 | H82: =H32 -> 0 | ... S82: =S32 -> 0 | AN82: =SUM(B82:Q82) -> 12774357
A83: =A33 -> 2000 | B83: =B33 -> 248107 | C83: =C33 -> 0 | D83: =D33 -> 74 | E83: =E33 -> 0 | F83: =F33 -> 73103 | G83: =G33 -> 16849 | H83: =H33 -> 0 | ... S83: =S33 -> 0 | AN83: =SUM(B83:Q83) -> 23861246
A84: =A34 -> 2001 | B84: =B34 -> 295123 | C84: =C34 -> 108 | D84: =D34 -> 1532 | E84: =E34 -> 0 | F84: =F34 -> 142165 | G84: =G34 -> 202921 | H84: =H34 -> 0 | ... S84: =S34 -> 0 | AN84: =SUM(B84:Q84) -> 30218568
A85: =A35 -> 2002 | B85: =B35 -> 133075 | C85: =C35 -> 0 | D85: =D35 -> 170 | E85: =E35 -> 0 | F85: =F35 -> 163336 | G85: =G35 -> 153651 | H85: =H35 -> 2173 | ... S85: =S35 -> 0 | AN85: =SUM(B85:Q85) -> 51611862
A86: =A36 -> 2003 | B86: =B36 -> 205902 | C86: =C36 -> 1233 | D86: =D36 -> 6794 | E86: =E36 -> 0 | F86: =F36 -> 686211 | G86: =G36 -> 147991 | H86: =H36 -> 56 | ... S86: =S36 -> 0 | AN86: =SUM(B86:Q86) -> 80156507
A87: =A37 -> 2004 | B87: =B37 -> 234077 | C87: =C37 -> 0 | D87: =D37 -> 0 | E87: =E37 -> 0 | F87: =F37 -> 7137925 | G87: =G37 -> 76219 | H87: =H37 -> 0 | ... S87: =S37 -> 0 | AN87: =SUM(B87:Q87) -> 93590855
A88: =A38 -> 2005 | B88: =B38 -> 252169 | C88: =C38 -> 86 | D88: =D38 -> 0 | E88: =E38 -> 4554 | F88: =F38 -> 813090 | G88: =G38 -> 58691 | H88: =H38 -> 0 | ... S88: =S38 -> 0 | AN88: =SUM(B88:Q88) -> 139510170
A89: =A39 -> 2006 | B89: =B39 -> 272479 | C89: =C39 -> 0 | D89: =D39 -> 0 | E89: =E39 -> 0 | F89: =F39 -> 4265795 | G89: =G39 -> 66730 | H89: =H39 -> 0 | ... S89: =S39 -> 0 | AN89: =SUM(B89:Q89) -> 122084580
A90: =A40 -> 2007 | B90: =B40 -> 292323 | C90: =C40 -> 617 | D90: =D40 -> 0 | E90: =E40 -> 0 | F90: =F40 -> 1317188 | G90: =G40 -> 67653 | H90: =H40 -> 0 | ... S90: =S40 -> 0 | AN90: =SUM(B90:Q90) -> 116812415
A91: =A41 -> 2008 | B91: =B41 -> 453978 | C91: =C41 -> 13098 | D91: =D41 -> 0 | E91: =E41 -> 0 | F91: =F41 -> 722506 | G91: =G41 -> 62221 | H91: =H41 -> 0 | ... S91: =S41 -> 0 | AN91: =SUM(B91:Q91) -> 75349978
A92: =A42 -> 2009 | B92: =B42 -> 431864 | C92: =C42 -> 146472 | D92: =D42 -> 649 | E92: =E42 -> 0 | F92: =F42 -> 8434337 | G92: =G42 -> 113969 | H92: =H42 -> 47 | ... S92: =S42 -> 0 | AN92: =SUM(B92:Q92) -> 80976745
A93: =A43 -> 2010 | B93: =B43 -> 168084 | C93: =C43 -> 256877 | D93: =D43 -> 0 | E93: =E43 -> 0 | F93: =F43 -> 6392080 | G93: =G43 -> 58132 | H93: =H43 -> 0 | ... S93: =S43 -> 0 | AN93: =SUM(B93:Q93) -> 71434635
... A102: =A52 -> 2019 | B102: =B52 -> 510273 | C102: =C52 -> 20893 | D102: =D52 -> 0 | E102: =E52 -> 0 | F102: =F52 -> 0 | G102: =G52 -> 162955 | H102: =H52 -> 0 | ... S102: =S52 -> 0 | AN102: =SUM(B102:Q102) -> 8180519
A103: Grand Total | B103: =SUM(B82:B102) -> 7532619 | C103: =SUM(C82:C102) -> 491074 | D103: =SUM(D82:D102) -> 13105 | E103: =SUM(E82:E102) -> 4554 | F103: =SUM(F82:F102) -> 105816571 | G103: =SUM(G82:G102) -> 4646633 | H103: =SUM(H82:H102) -> 18683 | I103: =SUM(I82:I102) -> 874681995 | ... S103: =SUM(S82:S102) -> 0 | AN103: =SUM(AN82:AN102) -> 1111391506
A106: =CONCATENATE("Annual Volume Killed on the CFLB and Harvested as of ",MAX(A1:A53)," -- ",IF($B$2 = "(ALL)","ALL TSAs",$B$2)) -> Annual Volume Killed on the CFLB and Harvested as of 2019 -- ALL TSAs
A107: =A81 -> Year | B107: =B81 -> Douglas-fir Beetle | C107: =C81 -> Douglas-fir Tussock Moth | D107: =D81 -> Engraver Beetle (Ips species) | E107: =E81 -> Fir engraver Beetle | F107: =F81 -> Fire | G107: =G81 -> Flooding | H107: =H81 -> Lodgepole Pine Beetle | ... S107: =S81 -> 0 | T107: =AP81 -> 0 | U107: =AQ81 -> 0 | V107: =AR81 -> 0 | W107: =AS81 -> 0 | X107: =AT81 -> 0 | Y107: =AU81 -> 0 | Z107: =AV81 -> 0 | AA107: =AW81 -> 0 | ... AN107: =BJ81 -> 0
A108: =A82 -> 1999 | B108: =B56-B82 -> 8106 | C108: =C56-C82 -> 0 | D108: =D56-D82 -> 485 | E108: =E56-E82 -> 0 | F108: =F56-F82 -> 73492 | G108: =G56-G82 -> 1641 | H108: =H56-H82 -> 0 | I108: =I56-I82 -> 2150002 | ... S108: =S56-S82 -> 0 | T108: =AP56-AP82 -> 0 | U108: =AQ56-AQ82 -> 0 | V108: =AR56-AR82 -> 0 | W108: =AS56-AS82 -> 0 | X108: =AT56-AT82 -> 0 | Y108: =AU56-AU82 -> 0 | Z108: =AV56-AV82 -> 0 | AA108: =AW56-AW82 -> 0 | ... AM108: =BI56-BI82 -> 0 | AN108: =SUM(B108:AM108) -> 2603366
A109: =A83 -> 2000 | B109: =B57-B83 -> 39011 | C109: =C57-C83 -> 0 | D109: =D57-D83 -> 0 | E109: =E57-E83 -> 0 | F109: =F57-F83 -> 6372 | G109: =G57-G83 -> 908 | H109: =H57-H83 -> 0 | I109: =I57-I83 -> 2631703 | ... S109: =S57-S83 -> 0 | T109: =AP57-AP83 -> 0 | U109: =AQ57-AQ83 -> 0 | V109: =AR57-AR83 -> 0 | W109: =AS57-AS83 -> 0 | X109: =AT57-AT83 -> 0 | Y109: =AU57-AU83 -> 0 | Z109: =AV57-AV83 -> 0 | AA109: =AW57-AW83 -> 0 | ... AM109: =BI57-BI83 -> 0 | AN109: =SUM(B109:AM109) -> 3552267
A110: =A84 -> 2001 | B110: =B58-B84 -> 30956 | C110: =C58-C84 -> 0 | D110: =D58-D84 -> 1344 | E110: =E58-E84 -> 0 | F110: =F58-F84 -> 11264 | G110: =G58-G84 -> 16602 | H110: =H58-H84 -> 0 | I110: =I58-I84 -> 4641138 | ... S110: =S58-S84 -> 0 | T110: =AP58-AP84 -> 0 | U110: =AQ58-AQ84 -> 0 | V110: =AR58-AR84 -> 0 | W110: =AS58-AS84 -> 0 | X110: =AT58-AT84 -> 0 | Y110: =AU58-AU84 -> 0 | Z110: =AV58-AV84 -> 0 | AA110: =AW58-AW84 -> 0 | ... AM110: =BI58-BI84 -> 0 | AN110: =SUM(B110:AM110) -> 5127408
A111: =A85 -> 2002 | B111: =B59-B85 -> 12850 | C111: =C59-C85 -> 0 | D111: =D59-D85 -> 0 | E111: =E59-E85 -> 0 | F111: =F59-F85 -> 7897 | G111: =G59-G85 -> 23096 | H111: =H59-H85 -> 0 | I111: =I59-I85 -> 10406705 | ... S111: =S59-S85 -> 0 | T111: =AP59-AP85 -> 0 | U111: =AQ59-AQ85 -> 0 | V111: =AR59-AR85 -> 0 | W111: =AS59-AS85 -> 0 | X111: =AT59-AT85 -> 0 | Y111: =AU59-AU85 -> 0 | Z111: =AV59-AV85 -> 0 | AA111: =AW59-AW85 -> 0 | ... AM111: =BI59-BI85 -> 0 | AN111: =SUM(B111:AM111) -> 11420423
A112: =A86 -> 2003 | B112: =B60-B86 -> 20903 | C112: =C60-C86 -> 0 | D112: =D60-D86 -> 59 | E112: =E60-E86 -> 0 | F112: =F60-F86 -> 10614 | G112: =G60-G86 -> 3697 | H112: =H60-H86 -> 0 | I112: =I60-I86 -> 20041850 | ... S112: =S60-S86 -> 0 | T112: =AP60-AP86 -> 0 | U112: =AQ60-AQ86 -> 0 | V112: =AR60-AR86 -> 0 | W112: =AS60-AS86 -> 0 | X112: =AT60-AT86 -> 0 | Y112: =AU60-AU86 -> 0 | Z112: =AV60-AV86 -> 0 | AA112: =AW60-AW86 -> 0 | ... AM112: =BI60-BI86 -> 0 | AN112: =SUM(B112:AM112) -> 20724545
A113: =A87 -> 2004 | B113: =B61-B87 -> 10894 | C113: =C61-C87 -> 0 | D113: =D61-D87 -> 0 | E113: =E61-E87 -> 0 | F113: =F61-F87 -> 87760 | G113: =G61-G87 -> 2414 | H113: =H61-H87 -> 0 | I113: =I61-I87 -> 30939368 | ... S113: =S61-S87 -> 0 | T113: =AP61-AP87 -> 0 | U113: =AQ61-AQ87 -> 0 | V113: =AR61-AR87 -> 0 | W113: =AS61-AS87 -> 0 | X113: =AT61-AT87 -> 0 | Y113: =AU61-AU87 -> 0 | Z113: =AV61-AV87 -> 0 | AA113: =AW61-AW87 -> 0 | ... AM113: =BI61-BI87 -> 0 | AN113: =SUM(B113:AM113) -> 31650441
A114: =A88 -> 2005 | B114: =B62-B88 -> 20747 | C114: =C62-C88 -> 0 | D114: =D62-D88 -> 0 | E114: =E62-E88 -> 543 | F114: =F62-F88 -> 17150 | G114: =G62-G88 -> 2031 | H114: =H62-H88 -> 0 | I114: =I62-I88 -> 57828375 | ... S114: =S62-S88 -> 0 | T114: =AP62-AP88 -> 0 | U114: =AQ62-AQ88 -> 0 | V114: =AR62-AR88 -> 0 | W114: =AS62-AS88 -> 0 | X114: =AT62-AT88 -> 0 | Y114: =AU62-AU88 -> 0 | Z114: =AV62-AV88 -> 0 | AA114: =AW62-AW88 -> 0 | ... AM114: =BI62-BI88 -> 0 | AN114: =SUM(B114:AM114) -> 58152243
A115: =A89 -> 2006 | B115: =B63-B89 -> 29952 | C115: =C63-C89 -> 0 | D115: =D63-D89 -> 0 | E115: =E63-E89 -> 0 | F115: =F63-F89 -> 170117 | G115: =G63-G89 -> 838 | H115: =H63-H89 -> 0 | I115: =I63-I89 -> 43278767 | ... S115: =S63-S89 -> 0 | T115: =AP63-AP89 -> 0 | U115: =AQ63-AQ89 -> 0 | V115: =AR63-AR89 -> 0 | W115: =AS63-AS89 -> 0 | X115: =AT63-AT89 -> 0 | Y115: =AU63-AU89 -> 0 | Z115: =AV63-AV89 -> 0 | AA115: =AW63-AW89 -> 0 | ... AM115: =BI63-BI89 -> 0 | AN115: =SUM(B115:AM115) -> 43637245
A116: =A90 -> 2007 | B116: =B64-B90 -> 14417 | C116: =C64-C90 -> 0 | D116: =D64-D90 -> 0 | E116: =E64-E90 -> 0 | F116: =F64-F90 -> 27696 | G116: =G64-G90 -> 1224 | H116: =H64-H90 -> 0 | I116: =I64-I90 -> 35909632 | ... S116: =S64-S90 -> 0 | T116: =AP64-AP90 -> 0 | U116: =AQ64-AQ90 -> 0 | V116: =AR64-AR90 -> 0 | W116: =AS64-AS90 -> 0 | X116: =AT64-AT90 -> 0 | Y116: =AU64-AU90 -> 0 | Z116: =AV64-AV90 -> 0 | AA116: =AW64-AW90 -> 0 | ... AM116: =BI64-BI90 -> 0 | AN116: =SUM(B116:AM116) -> 36135048
A117: =A91 -> 2008 | B117: =B65-B91 -> 18104 | C117: =C65-C91 -> 942 | D117: =D65-D91 -> 0 | E117: =E65-E91 -> 0 | F117: =F65-F91 -> 67090 | G117: =G65-G91 -> 236 | H117: =H65-H91 -> 0 | I117: =I65-I91 -> 16441070 | ... S117: =S65-S91 -> 0 | T117: =AP65-AP91 -> 0 | U117: =AQ65-AQ91 -> 0 | V117: =AR65-AR91 -> 0 | W117: =AS65-AS91 -> 0 | X117: =AT65-AT91 -> 0 | Y117: =AU65-AU91 -> 0 | Z117: =AV65-AV91 -> 0 | AA117: =AW65-AW91 -> 0 | ... AM117: =BI65-BI91 -> 0 | AN117: =SUM(B117:AM117) -> 16610063
A118: =A92 -> 2009 | B118: =B66-B92 -> 15526 | C118: =C66-C92 -> 1807 | D118: =D66-D92 -> 56 | E118: =E66-E92 -> 0 | F118: =F66-F92 -> 139191 | G118: =G66-G92 -> 664 | H118: =H66-H92 -> 0 | I118: =I66-I92 -> 9215225 | ... S118: =S66-S92 -> 0 | T118: =AP66-AP92 -> 0 | U118: =AQ66-AQ92 -> 0 | V118: =AR66-AR92 -> 0 | W118: =AS66-AS92 -> 0 | X118: =AT66-AT92 -> 0 | Y118: =AU66-AU92 -> 0 | Z118: =AV66-AV92 -> 0 | AA118: =AW66-AW92 -> 0 | ... AM118: =BI66-BI92 -> 0 | AN118: =SUM(B118:AM118) -> 9560876
A119: =A93 -> 2010 | B119: =B67-B93 -> 14690 | C119: =C67-C93 -> 429 | D119: =D67-D93 -> 0 | E119: =E67-E93 -> 0 | F119: =F67-F93 -> 64933 | G119: =G67-G93 -> 624 | H119: =H67-H93 -> 0 | I119: =I67-I93 -> 5379364 | ... S119: =S67-S93 -> 0 | T119: =AP67-AP93 -> 0 | U119: =AQ67-AQ93 -> 0 | V119: =AR67-AR93 -> 0 | W119: =AS67-AS93 -> 0 | X119: =AT67-AT93 -> 0 | Y119: =AU67-AU93 -> 0 | Z119: =AV67-AV93 -> 0 | AA119: =AW67-AW93 -> 0 | ... AM119: =BI67-BI93 -> 0 | AN119: =SUM(B119:AM119) -> 5575711
... A128: =A102 -> 2019 | B128: =B76-B102 -> 0 | C128: =C76-C102 -> 0 | D128: =D76-D102 -> 0 | E128: =E76-E102 -> 0 | F128: =F76-F102 -> 0 | G128: =G76-G102 -> 0 | H128: =H76-H102 -> 0 | I128: =I76-I102 -> 0 | ... S128: =S76-S102 -> 0 | T128: =AP76-AP102 -> 0 | U128: =AQ76-AQ102 -> 0 | V128: =AR76-AR102 -> 0 | W128: =AS76-AS102 -> 0 | X128: =AT76-AT102 -> 0 | Y128: =AU76-AU102 -> 0 | Z128: =AV76-AV102 -> 0 | AA128: =AW76-AW102 -> 0 | ... AM128: =BI76-BI102 -> 0 | AN128: =SUM(B128:AM128) -> 0
A129: Grand Total | B129: =SUM(B108:B128) -> 347534 | C129: =SUM(C108:C128) -> 3234 | D129: =SUM(D108:D128) -> 1944 | E129: =SUM(E108:E128) -> 543 | F129: =SUM(F108:F128) -> 2154335 | G129: =SUM(G108:G128) -> 62659 | H129: =SUM(H108:H128) -> 0 | I129: =SUM(I108:I128) -> 243255605 | ... AN129: =SUM(AN108:AN128) -> 252234111
A132: =CONCATENATE("Cumulative Volume Killed on the CFLB as of ",MAX(A1:A53)," -- ",IF($B$2 = "(ALL)","ALL TSAs",$B$2)) -> Cumulative Volume Killed on the CFLB as of 2019 -- ALL TSAs
A133: =A31 -> Year | B133: =B31 -> Douglas-fir Beetle | C133: =C31 -> Douglas-fir Tussock Moth | D133: =D31 -> Engraver Beetle (Ips species) | E133: =E31 -> Fir engraver Beetle | F133: =F31 -> Fire | G133: =G31 -> Flooding | H133: =H31 -> Lodgepole Pine Beetle | ... AM133: =AM31 -> 0 | AN133: Grand Total
A134: =A32 -> 1999 | B134: =B32 -> 46860 | C134: =C32 -> 0 | D134: =D32 -> 3869 | E134: =E32 -> 0 | F134: =F32 -> 321726 | G134: =G32 -> 15194 | H134: =H32 -> 0 | ... AM134: =AM32 -> 0 | AN134: =SUM(B134:AM134) -> 12839384
A135: =A33 -> 2000 | B135: =B134+B7 -> 333978 | C135: =C134+C7 -> 0 | D135: =D134+D7 -> 3943 | E135: =E134+E7 -> 0 | F135: =F134+F7 -> 401201 | G135: =G134+G7 -> 32951 | H135: =H134+H7 -> 0 | I135: =I134+I7 -> 23022578 | ... AM135: =AM134+AM7 -> 0 | AN135: =SUM(B135:AM135) -> 40267373
...

Sheet FHF Comparison Graphs

Sheet FHF LUT
A1: Damage Type | B1: M = Mortality; G = Growth Loss; B = both
A2: Timber Supply Significance | B2: L=Low, M=Medium; H=High - relating to impact on volume
A4: Disturbance Code | B4: Disturbance Description | C4: Disturbance Class | D4: Code from AOS Summary Spreadsheet | E4: Hosts | F4: Damage Type | G4: Timber Supply Significance | H4: Volume Losses Calculated in this Analysis? (Yes/No) | I4: Comments
A5: =TRIM(LEFT(D5,FIND("=",D5)-1)) -> A | B5: =TRIM(MID(D5,FIND("=",D5)+1,100)) -> Animal | C5: Animals | D5: A=Animal | E5: All | F5: M | G5: L | H5: No | I5: Better data capture through silviculture surveys and SDM
A6: =TRIM(LEFT(D6,FIND("=",D6)-1)) -> AB | B6: =TRIM(MID(D6,FIND("=",D6)+1,100)) -> Bear | C6: Animals | D6: AB=Bear | E6: All | F6: M | G6: L | H6: No | I6: Better data capture through silviculture surveys and SDM
A7: =TRIM(LEFT(D7,FIND("=",D7)-1)) -> AD | B7: =TRIM(MID(D7,FIND("=",D7)+1,100)) -> Deer | C7: Animals | D7: AD=Deer | E7: All | F7: M | G7: L | H7: No | I7: Better data capture through silviculture surveys and SDM
A8: =TRIM(LEFT(D8,FIND("=",D8)-1)) -> AH | B8: =TRIM(MID(D8,FIND("=",D8)+1,100)) -> Hare/Rabbits | C8: Animals | D8: AH=Hare/Rabbits | E8: All | F8: M | G8: L | H8: No | I8: Better data capture through silviculture surveys and SDM
A9: =TRIM(LEFT(D9,FIND("=",D9)-1)) -> AP | B9: =TRIM(MID(D9,FIND("=",D9)+1,100)) -> Porcupine | C9: Animals | D9: AP=Porcupine | E9: All | F9: M | G9: L | H9: No | I9: Better data capture through silviculture surveys and SDM
A10: =TRIM(LEFT(D10,FIND("=",D10)-1)) -> DF | B10: =TRIM(MID(D10,FIND("=",D10)+1,100)) -> Unknown Disease | C10: Diseases | D10: DF= Unknown Disease | E10: All | F10: G | G10: L | H10: No | I10: Better data capture through silviculture surveys and SDM
A11: =TRIM(LEFT(D11,FIND("=",D11)-1)) -> DFB | B11: =TRIM(MID(D11,FIND("=",D11)+1,100)) -> Delphinella needle cast | C11: Diseases | D11: DFB=Delphinella needle cast | E11: Bl | F11: G | G11: L | H11: No | I11: Better data capture through silviculture surveys and SDM
A12: =TRIM(LEFT(D12,FIND("=",D12)-1)) -> DFC | B12: =TRIM(MID(D12,FIND("=",D12)+1,100)) -> Large-spored Spruce-labrador Tea Rust | C12: Diseases | D12: DFC=Large-spored Spruce-labrador Tea Rust | E12: Sx | F12: G | G12: L | H12: No | I12: Better data capture through silviculture surveys and SDM
A13: =TRIM(LEFT(D13,FIND("=",D13)-1)) -> DFH | B13: =TRIM(MID(D13,FIND("=",D13)+1,100)) -> Larch Needle Blight | C13: Diseases | D13: DFH=Larch Needle Blight | E13: Lw | F13: G | G13: M | H13: No | I13: Better data capture through silviculture surveys and SDM
A14: =TRIM(LEFT(D14,FIND("=",D14)-1)) -> DFL | B14: =TRIM(MID(D14,FIND("=",D14)+1,100)) -> Lophodermella Needle Cast | C14: Diseases | D14: DFL=Lophodermella Needle Cast | E14: Pl | F14: G | G14: H | H14: No | I14: Better data capture through silviculture surveys and SDM
A15: =TRIM(LEFT(D15,FIND("=",D15)-1)) -> DFM | B15: =TRIM(MID(D15,FIND("=",D15)+1,100)) -> Larch Needle Cast | C15: Diseases | D15: DFM=Larch Needle Cast | E15: Lw | F15: G | G15: L | H15: No | I15: Better data capture through silviculture surveys and SDM
A16: =TRIM(LEFT(D16,FIND("=",D16)-1)) -> DFR | B16: =TRIM(MID(D16,FIND("=",D16)+1,100)) -> Douglas-fir Needle Cast | C16: Diseases | D16: DFR=Douglas-fir Needle Cast | E16: Fd | F16: G | G16: M | H16: No | I16: Better data capture through silviculture surveys and SDM
... A29: =TRIM(LEFT(D29,FIND("=",D29)-1)) -> IAS | B29: =TRIM(MID(D29,FIND("=",D29)+1,100)) -> Green Spruce Aphid | C29: Defoliators | D29: IAS=Green Spruce Aphid | E29: Ss | F29: G | G29: L | H29: No | I29: Limited to low elevations on Coast
A30: =TRIM(LEFT(D30,FIND("=",D30)-1)) -> IB | B30: =TRIM(MID(D30,FIND("=",D30)+1,100)) -> Unknown Beetle | C30: Bark Beetles | D30: IB=Unknown Beetle | E30: All conifers | F30: M | G30: L | H30: Yes
A31: =TRIM(LEFT(D31,FIND("=",D31)-1)) -> IBB | B31: =TRIM(MID(D31,FIND("=",D31)+1,100)) -> Western Balsam Bark Beetle | C31: Bark Beetles | D31: IBB=Western Balsam Bark Beetle | E31: Bl | F31: M | G31: M | H31: Yes | I31: Major Bark Beetle but damage chronic
A32: =TRIM(LEFT(D32,FIND("=",D32)-1)) -> IBD | B32: =TRIM(MID(D32,FIND("=",D32)+1,100)) -> Douglas-fir Beetle | C32: Bark Beetles | D32: IBD=Douglas-fir Beetle | E32: Fd | F32: M | G32: H | H32: Yes | I32: Major Bark Beetle
A33: =TRIM(LEFT(D33,FIND("=",D33)-1)) -> IBF | B33: =TRIM(MID(D33,FIND("=",D33)+1,100)) -> Fir engraver Beetle | C33: Bark Beetles | D33: IBF = Fir engraver Beetle | E33: Ba, Bl | F33: M | G33: L | H33: Yes | I33: Scattered mortality on Coast
A34: =TRIM(LEFT(D34,FIND("=",D34)-1)) -> IBI | B34: =TRIM(MID(D34,FIND("=",D34)+1,100)) -> Engraver Beetle (Ips species) | C34: Bark Beetles | D34: IBI=Engraver Beetle (Ips species) | E34: Pl | F34: M | G34: L | H34: Yes | I34: Secondary BB
A35: =TRIM(LEFT(D35,FIND("=",D35)-1)) -> IBL | B35: =TRIM(MID(D35,FIND("=",D35)+1,100)) -> Lodgepole Pine Beetle | C35: Bark Beetles | D35: IBL=Lodgepole Pine Beetle | E35: Pl | F35: M | G35: L | H35: Yes | I35: Scattered mortality in mature Pl
A36: =TRIM(LEFT(D36,FIND("=",D36)-1)) -> IBM | B36: =TRIM(MID(D36,FIND("=",D36)+1,100)) -> Mountain Pine Beetle | C36: Bark Beetles | D36: IBM=Mountain Pine Beetle | E36: Pl, Pw, Pa, Pf | F36: M | G36: H | H36: Yes | I36: Major Bark Beetle
A37: =TRIM(LEFT(D37,FIND("=",D37)-1)) -> IBP | B37: =TRIM(MID(D37,FIND("=",D37)+1,100)) -> Twig Beetle | C37: Bark Beetles | D37: IBP=Twig Beetle | E37: Pl | F37: M | G37: L | H37: Yes | I37: Secondary BB
A38: =TRIM(LEFT(D38,FIND("=",D38)-1)) -> IBS | B38: =TRIM(MID(D38,FIND("=",D38)+1,100)) -> Spruce Beetle | C38: Bark Beetles | D38: IBS=Spruce Beetle | E38: Sx | F38: M | G38: H | H38: Yes | I38: Major Bark Beetle
A39: =TRIM(LEFT(D39,FIND("=",D39)-1)) -> IBT | B39: =TRIM(MID(D39,FIND("=",D39)+1,100)) -> Red Turpentine Beetle | C39: Bark Beetles | D39: IBT=Red Turpentine Beetle | E39: Pl | F39: M | G39: L | H39: Yes | I39: Scattered mortality in mature Pl
A40: =TRIM(LEFT(D40,FIND("=",D40)-1)) -> IBW | B40: =TRIM(MID(D40,FIND("=",D40)+1,100)) -> Western Pine Beetle | C40: Bark Beetles | D40: IBW=Western Pine Beetle | E40: Py | F40: M | G40: L | H40: Yes | I40: Limited to Py often mixed with MPB
A41: =TRIM(LEFT(D41,FIND("=",D41)-1)) -> ID | B41: =TRIM(MID(D41,FIND("=",D41)+1,100)) -> Defoliators | C41: Defoliators | D41: ID=Defoliators | E41: All | F41: G | H41: No
A42: =TRIM(LEFT(D42,FIND("=",D42)-1)) -> ID2 | B42: =TRIM(MID(D42,FIND("=",D42)+1,100)) -> Bruce spanworm | C42: Defoliators | D42: ID2=Bruce spanworm | E42: At | F42: G | G42: L | H42: No | I42: Deciduous pest
A43: =TRIM(LEFT(D43,FIND("=",D43)-1)) -> ID6 | B43: =TRIM(MID(D43,FIND("=",D43)+1,100)) -> Aspen Leaf Miner | C43: Defoliators | D43: ID6=Aspen Leaf Miner | E43: At | F43: G | G43: L | H43: No | I43: Deciduous pest
A44: =TRIM(LEFT(D44,FIND("=",D44)-1)) -> IDA | B44: =TRIM(MID(D44,FIND("=",D44)+1,100)) -> Black Army Cutworm | C44: Defoliators | D44: IDA=Black Army Cutworm | E44: All | F44: M | G44: L | H44: No | I44: Seedling pest
A45: =TRIM(LEFT(D45,FIND("=",D45)-1)) -> IDB | B45: =TRIM(MID(D45,FIND("=",D45)+1,100)) -> 2-Year Budworm | C45: Defoliators | D45: IDB=2-Year Budworm | E45: Sx, Bl | F45: B | G45: M | H45: No | I45: Impacts need quantifying
A46: =TRIM(LEFT(D46,FIND("=",D46)-1)) -> IDC | B46: =TRIM(MID(D46,FIND("=",D46)+1,100)) -> Larch casebearer | C46: Defoliators | D46: IDC=Larch casebearer | E46: Lw | F46: G | G46: L | H46: No | I46: Infrequent outbreaks
A47: =TRIM(LEFT(D47,FIND("=",D47)-1)) -> IDE | B47: =TRIM(MID(D47,FIND("=",D47)+1,100)) -> Spruce Budworm | C47: Defoliators | D47: IDE=Spruce Budworm | E47: Sx, Bl | F47: G | G47: M | H47: No | I47: Mainly in NE
A48: =TRIM(LEFT(D48,FIND("=",D48)-1)) -> IDF | B48: =TRIM(MID(D48,FIND("=",D48)+1,100)) -> Forest Tent Caterpillar | C48: Defoliators | D48: IDF=Forest Tent Caterpillar | E48: A | F48: B | G48: M | H48: No | I48: Deciduous pest
A49: =TRIM(LEFT(D49,FIND("=",D49)-1)) -> IDH | B49: =TRIM(MID(D49,FIND("=",D49)+1,100)) -> Western Blackheaded Budworm | C49: Defoliators | D49: IDH=Western Blackheaded Budworm | E49: Hw, Cw | F49: B | G49: H | H49: No | I49: Mainly coastal
A50: =TRIM(LEFT(D50,FIND("=",D50)-1)) -> IDI | B50: =TRIM(MID(D50,FIND("=",D50)+1,100)) -> Pine needle sheathminer | C50: Defoliators | D50: IDI=Pine needle sheathminer | E50: Pl | F50: G | G50: L | H50: No | I50: Infrequent outbreaks
A51: =TRIM(LEFT(D51,FIND("=",D51)-1)) -> IDK | B51: =TRIM(MID(D51,FIND("=",D51)+1,100)) -> Northern Tent Caterpillar | C51: Defoliators | D51: IDK=Northern Tent Caterpillar | E51: A, W | F51: G | G51: L | H51: No | I51: Deciduous pest
A52: =TRIM(LEFT(D52,FIND("=",D52)-1)) -> IDL | B52: =TRIM(MID(D52,FIND("=",D52)+1,100)) -> Western Hemlock Looper | C52: Defoliators | D52: IDL=Western Hemlock Looper | E52: Hw, Cw, Fd | F52: B | G52: H | H52: No | I52: Impacts need quantifying
A53: =TRIM(LEFT(D53,FIND("=",D53)-1)) -> IDN | B53: =TRIM(MID(D53,FIND("=",D53)+1,100)) -> Birch Leaf Miner | C53: Defoliators | D53: IDN=Birch Leaf Miner | E53: Ep | F53: G | G53: L | H53: No | I53: Deciduous pest
... A63: =TRIM(LEFT(D63,FIND("=",D63)-1)) -> IWW | B63: =TRIM(MID(D63,FIND("=",D63)+1,100)) -> Warrens Root Collar Weevil | C63: Bark Beetles | D63: IWW=Warrens Root Collar Weevil | E63: Pl, Sx | F63: M | G63: L | H63: No | I63: Better data capture through silviculture surveys and SDM
A64: N | B64: Other | C64: Other | D64: N | H64: No
A65: =TRIM(LEFT(D65,FIND("=",D65)-1)) -> NAV | B65: =TRIM(MID(D65,FIND("=",D65)+1,100)) -> Avalanche or snow slide | C65: Other | D65: NAV=Avalanche or snow slide | E65: All | F65: M | G65: L | H65: No
A66: =TRIM(LEFT(D66,FIND("=",D66)-1)) -> NB | B66: =TRIM(MID(D66,FIND("=",D66)+1,100)) -> Fire | C66: Other | D66: NB=Fire | E66: All | F66: M | G66: H | H66: Yes
A67: =TRIM(LEFT(D67,FIND("=",D67)-1)) -> NCA | B67: =TRIM(MID(D67,FIND("=",D67)+1,100)) -> Aspen decline | C67: Other | D67: NCA=Aspen decline | E67: At | F67: B | G67: ? | H67: No | I67: Impacts need quantifying
A68: =TRIM(LEFT(D68,FIND("=",D68)-1)) -> NCB | B68: =TRIM(MID(D68,FIND("=",D68)+1,100)) -> Birch decline | C68: Other | D68: NCB=Birch decline | E68: Ep | F68: B | G68: ? | H68: No | I68: Impacts need quantifying
A69: =TRIM(LEFT(D69,FIND("=",D69)-1)) -> NCY | B69: =TRIM(MID(D69,FIND("=",D69)+1,100)) -> Yellow cedar decline | C69: Other | D69: NCY=Yellow cedar decline | E69: Yc | F69: B | G69: M | H69: Yes | I69: Significant impacts on Yc on the coast
A70: =TRIM(LEFT(D70,FIND("=",D70)-1)) -> ND | B70: =TRIM(MID(D70,FIND("=",D70)+1,100)) -> Drought | C70: Other | D70: ND=Drought | E70: All | F70: M | G70: L | H70: Yes | I70: Lumped in with Drought-caused Mortality (NDM)
A71: NDM | B71: Drought-caused Mortality | C71: Other | D71: NDM=Drought | E71: All | F71: M | G71: L | H71: Yes
A72: =TRIM(LEFT(D72,FIND("=",D72)-1)) -> NF | B72: =TRIM(MID(D72,FIND("=",D72)+1,100)) -> Flooding | C72: Other | D72: NF=Flooding | E72: All | F72: M | G72: L | H72: Yes
A73: =TRIM(LEFT(D73,FIND("=",D73)-1)) -> NGK | B73: =TRIM(MID(D73,FIND("=",D73)+1,100)) -> Shoot/Bud Frost Kill | C73: Other | D73: NGK=Shoot/Bud Frost Kill | E73: All | F73: G | G73: L | H73: No
A74: =TRIM(LEFT(D74,FIND("=",D74)-1)) -> NH | B74: =TRIM(MID(D74,FIND("=",D74)+1,100)) -> Hail | C74: Other | D74: NH=Hail | E74: All | F74: G | G74: L | H74: No
A75: =TRIM(LEFT(D75,FIND("=",D75)-1)) -> NN | B75: =TRIM(MID(D75,FIND("=",D75)+1,100)) -> Road Salt | C75: Other | D75: NN=Road Salt | E75: All | F75: M | G75: L | H75: No
A76: =TRIM(LEFT(D76,FIND("=",D76)-1)) -> NR | B76: =TRIM(MID(D76,FIND("=",D76)+1,100)) -> Redbelt | C76: Other | D76: NR=Redbelt | E76: All | F76: G | G76: L | H76: No
A77: =TRIM(LEFT(D77,FIND("=",D77)-1)) -> NS | B77: =TRIM(MID(D77,FIND("=",D77)+1,100)) -> Slide | C77: Other | D77: NS=Slide | E77: All | F77: G | G77: L | H77: No
A78: =TRIM(LEFT(D78,FIND("=",D78)-1)) -> NW | B78: =TRIM(MID(D78,FIND("=",D78)+1,100)) -> Windthrow | C78: Other | D78: NW=Windthrow | E78: All | F78: G | G78: M | H78: Yes
A79: =TRIM(LEFT(D79,FIND("=",D79)-1)) -> NY | B79: =TRIM(MID(D79,FIND("=",D79)+1,100)) -> Snow/Ice | C79: Other | D79: NY=Snow/Ice | E79: All | F79: B | G79: L | H79: No
A80: =TRIM(LEFT(D80,FIND("=",D80)-1)) -> PDT | B80: =TRIM(MID(D80,FIND("=",D80)+1,100)) -> Cedar Leaf Blight | C80: Diseases | D80: PDT=Cedar Leaf Blight | E80: Cw | F80: G | G80: L: | H80: No
A81: TL | B81: Logging | C81: Other | D81: TL=Logging | E81: All | F81: M | G81: H | H81: No
B85: Disturbance Description | C85: Disturbance Code | D85: Affected Tree Species Code
B86: Fire | C86: NB | D86: All Species
B87: Drought-caused Mortality | C87: NDM (and ND) | D87: All Species
B88: Flooding | C88: NF | D88: All Species
B89: Windthrow | C89: NW | D89: All Species
B90: Mountain Pine Beetle | C90: IBM | D90: Pl, Pw, Pa, Pf
B91: Western Balsam Bark Beetle | C91: IBB | D91: Bl
B92: Spruce Beetle | C92: IBS | D92: Sx
B93: Douglas-fir Beetle | C93: IBD | D93: Fd
B94: Fir engraver Beetle | C94: IBF | D94: Ba, Bl
B95: Engraver Beetle (Ips species) | C95: IBI | D95: Pl
B96: Lodgepole Pine Beetle | C96: IBL | D96: Pl
... B102: Unknown Beetle | C102: IB | D102: All conifers

Sheet CFLB Definition
A1: Category | B1: CFLB (Y/N) | C1: Ownership Code | D1: Schedule | E1: Description
A2: Private lands (Crown Grants – Private Administration) | B2: N | C2: 40 | D2: N | E2: Private
B3: N | C3: 41 | D3: N | E3: Private - Land Claim Settlement Area
A4: Federal Lands (Federal Administration) | B4: N | C4: 50 | D4: N | E4: Federal - Federal Reserve
B5: N | C5: 51 | D5: N | E5: Federal - National Park
B6: N | C6: 52 | D6: N | E6: Federal - Indian Reserve
B7: N | C7: 53 | D7: N | E7: Federal - Military Reserve
B8: N | C8: 54 | D8: N | E8: Federal - Dominion government Block/Federal Parcels
A9: Crown Lands (Provincial Administration) | B9: Y | C9: 60 | D9: N | E9: Crown - Conservancy Area, Ecological Reserve, Protected Area, Provincial Park
B10: Y | C10: 61 | D10: C | E10: Crown - UREP (Use, Recreation and Enjoyment of the Public Reserve)
B11: Y | C11: 62 | D11: C | E11: Crown - Forest Management Unit
B12: Y | C12: 63 | D12: N | E12: Crown - Biodiversity, Mining, Tourism Area
B13: Y | C13: 64 | D13: N | E13: Crown - Special Forest Management Area
B14: Y | C14: 65 | D14: U | E14: Crown - Wildlife Management Area
B15: Y | C15: 66 | D15: N | E15: Crown - Recreation Area
B16: Y | C16: 67 | D16: N | E16: Crown - Heritage Site
B17: Y | C17: 68 | D17: U | E17: Crown - Forest Recreation Reserves
B18: Y | C18: 69 | D18: C | E18: Crown - Community Watershed
B19: Y | C19: 69 | D19: U | E19: Crown - Misc. Reserves, Watershed Reserve/ Crown - Misc. Reserves Caribou
A20: Crown Tenure | B20: Y | C20: 70 | D20: U | E20: Crown Tenure - Timber Licence
B21: N | C21: 72 | D21: A | E21: Crown Tenure - Tree Farm Licence, Schedule A
B22: N | C22: 72 | D22: B | E22: Crown Tenure - Tree Farm Licence, Schedule B
B23: Y | C23: 74 | D23: N | E23: Crown - Timber Alienated in Watershed
B24: Y | C24: 75 | D24: N | E24: Crown Tenure - Christmas Tree Licence
B25: Y | C25: 77 | D25: A | E25: Crown Tenure - Woodlot Licence, Schedule A
B26: Y | C26: 77 | D26: B | E26: Crown Tenure - Woodlot Licence, Schedule B
B27: Y | C27: 78 | D27: B | E27: Crown Tenure - First Nations Woodland Licence
B28: Y | C28: 79 | D28: A | E28: Crown Tenure - Community Forest Agreement, Schedule A
B29: Y | C29: 79 | D29: B | E29: Crown Tenure - Community Forest Agreement, Schedule B
A30: Crown Lands (Municipal Administration) | B30: N | C30: 80 | D30: N | E30: Crown - Municipal Parcels
B31: N | C31: 81 | D31: U | E31: Crown - Local/Regional Park
A32: Crown Leases | B32: N | C32: 99 | D32: N | E32: Crown Lease – Misc. lease
A33: Exceptions | B33: N | C33: 91 | D33: U | E33: Unknown Ownership/Exceptions

Sheet Data Creation Methodology
A1: 1. Creation of a somewhat seamless forest cover layer for the province:
A2: · Most of the data came from 2002 VRI data supplied by James Wang
A3: · TFL data came from the timber reallocation project
A4: · Vegetation information from the State of the Forest (circa 2001 and supplied by Stephen Sutherland) was used to fill gaps in the TFL data and the VRI supplied by James Wang
A5: · Unfortunately the TFL data did not have volumes for each of the typical 6 levels recorded in VRI forest cover. It did, however, have total volume and the percents for each of the 6 levels. So I apportioned the total volume amongst the 6 species levels depending on the percent coverage.
A6: · The resulting “seamless” forest cover polygon layers was converted to separate rasters for each of the 6 species, percent and volume levels (a total of 18 raster layers) all with a raster cell size of 100m x 100m ( 1 ha). Separate rasters were also created for age and site index –also with a 1 ha cell size.
A8: 2. Creation of a provincial timber harvesting land base layer:
A9: · I didn’t want to handle THLB Inclusion/Contribution Factors so a cell was considered THLB if the contribution (a value between 0 and 1, where 0 means not included in the THLB and 1 means fully included in the) was less than a random number between 0 and 1. So for example, a cell with a THLB inclusion factor of 0.8 had a 80% chance of becoming fully included in the THLB.
A10: · For the analysis that used the historical THLB a “somewhat" seamless layer was created from data used for the the timber reallocation project. THLB information was missing from some small TFLs.
A12: 3. Create Aerial Overview Forest Health Factor layers:
A13: · Aerial Overview polygon data and spot data were processed differently before being combined into a single raster of severity for each Forest Health Factor for each year.
A14: · Each year of the Aerial Overview polygon data was simply converted to a separate raster of severity for each forest health factor.
... A22: · Based on the advice of Tim Ebata, a decision was made to only assess the non recovered losses caused by the forest health factors listed in the table below because they represented the largest impacts on timber supply. Also included in the list below is the tree species impacted by each forest health factor.
B23: Disturbance Description (forest health factor) | C23: Disturbance Code | D23: Affected Tree Species Code
B24: Fire | C24: NB | D24: All Species
B25: Drought | C25: ND | D25: All Species
B26: Flooding | C26: NF | D26: All Species
B27: Mountain Pine Beetle | C27: IBM | D27: Pl, Pw, Pa, Pf
B28: Western Balsam Bark Beetle | C28: IBB | D28: Bl
B29: Spruce Beetle | C29: IBS | D29: Sx
B30: Douglas-fir Beetle | C30: IBD | D30: Fd
B31: Fir engraver Beetle | C31: IBF | D31: Ba, Bl
B32: Engraver Beetle (Ips species) | C32: IBI | D32: Pl
B33: Lodgepole Pine Beetle | C33: IBL | D33: Pl
B34: Twig Beetle | C34: IBP | D34: Pl
... B39: Unknown Beetle | C39: IB | D39: All conifers
A40: · Estimating the volume killed by each forest health factor was done iteratively for each year of the Aerial Overview.
A41: · Starting in 1999:
A42: o The vegetation volumes were first reduced to zero in areas overlapping with forest harvesting that occurred in, or prior to, the year being processed.
A43: o Starting with the volume layers created in the prior step, each forest health factor (FHF) listed in the above table was in turn overlaid (in the order listed in the table) with the vegetation volume, species, and percent information to:
A44: 1. Reduce the volume of the affected tree species depending on the mapped FHF severity rating (see table below).
A45: 2. Adjust the percent-cover for each species level to reflect the volume loss attributed to a particular FHF.
A46: 3. Create a raster of volume loss (volume killed) attributed to a particular FHF in a particular year.
B47: Severity Rating | C47: Percent Volume Reduction
B48: Very Severe | C48: 75
B49: Severe | C49: 30
B50: Moderate | C50: 15
B51: Low | C51: 5
B52: Endemic | C52: 0.5
A53: o The updated species volume and percent raster layers were subsequently used as input when processing the next FHF.
A54: o Once all FHF were processed for a particular year, the resulting vegetation volume, species, and percent raster layers (adjusted for volume loss) were used as the input vegetation information for the subsequent year to be processed.
A55: · The resulting volume loss/kill rasters for each FHF and year were subsequently overlaid with the TSA boundaries and summarized by year, FHF, TSA and volume loss.
A56: · To estimate the NRL, the areas harvested were removed from the volume loss/kill rasters to create a separate set of NRL volume rasters. These NRL volume rasters were overlaid with the TSA boundaries and summarized by year, FHF, TSA and NRL volume loss.
A57: · The NRL estimates for mountain pine beetle (disturbance code IBM) come from the Provincial Mountain Pine Beetle Spread Model (aka BCMPB; www.for.gov.bc.ca/hre/bcmpb).

Sheet inCFLBdata
A1: YEAR | B1: FHF | C1: Forest Health Factor | D1: TSA_NUMBER | E1: TSA_NUMBER_DESCR | F1: VOLUMEKILLED | G1: NRLVOLUME | H1: Link | I1: THLBVOLKILLED | J1: THLBNRLVOL
A2: 1999 | B2: IBB | C2: =VLOOKUP(B2,'FHF LUT'!$A$5:$H$81,2,FALSE) -> Western Balsam Bark Beetle | D2: 1 | E2: Arrow TSA | F2: 15255 | G2: 10343 | H2: =CONCATENATE(A2,"_",B2,"_",D2) -> 1999_IBB_1 | I2: =VLOOKUP(H2,inTHLBdata!A:H,7,FALSE) -> 8087 | J2: =VLOOKUP(H2,inTHLBdata!A:H,8,FALSE) -> 4483
A3: 1999 | B3: IBB | C3: =VLOOKUP(B3,'FHF LUT'!$A$5:$H$81,2,FALSE) -> Western Balsam Bark Beetle | D3: 2 | E3: Boundary TSA | F3: 1832 | G3: 1433 | H3: =CONCATENATE(A3,"_",B3,"_",D3) -> 1999_IBB_2 | I3: =VLOOKUP(H3,inTHLBdata!A:H,7,FALSE) -> 5996 | J3: =VLOOKUP(H3,inTHLBdata!A:H,8,FALSE) -> 3956
A4: 1999 | B4: IBB | C4: =VLOOKUP(B4,'FHF LUT'!$A$5:$H$81,2,FALSE) -> Western Balsam Bark Beetle | D4: 3 | E4: Bulkley TSA | F4: 61368 | G4: 59614 | H4: =CONCATENATE(A4,"_",B4,"_",D4) -> 1999_IBB_3 | I4: =VLOOKUP(H4,inTHLBdata!A:H,7,FALSE) -> 38495 | J4: =VLOOKUP(H4,inTHLBdata!A:H,8,FALSE) -> 36914
A5: 1999 | B5: IBB | C5: =VLOOKUP(B5,'FHF LUT'!$A$5:$H$81,2,FALSE) -> Western Balsam Bark Beetle | D5: 4 | E5: Cassiar TSA | F5: 0 | G5: 0 | H5: =CONCATENATE(A5,"_",B5,"_",D5) -> 1999_IBB_4 | I5: =VLOOKUP(H5,inTHLBdata!A:H,7,FALSE) -> 0 | J5: =VLOOKUP(H5,inTHLBdata!A:H,8,FALSE) -> 0
A6: 1999 | B6: IBB | C6: =VLOOKUP(B6,'FHF LUT'!$A$5:$H$81,2,FALSE) -> Western Balsam Bark Beetle | D6: 5 | E6: Cranbrook TSA | F6: 4786 | G6: 4104 | H6: =CONCATENATE(A6,"_",B6,"_",D6) -> 1999_IBB_5 | I6: =VLOOKUP(H6,inTHLBdata!A:H,7,FALSE) -> 1033 | J6: =VLOOKUP(H6,inTHLBdata!A:H,8,FALSE) -> 770
A7: 1999 | B7: IBB | C7: =VLOOKUP(B7,'FHF LUT'!$A$5:$H$81,2,FALSE) -> Western Balsam Bark Beetle | D7: 7 | E7: Golden TSA | F7: 0 | G7: 0 | H7: =CONCATENATE(A7,"_",B7,"_",D7) -> 1999_IBB_7 | I7: =VLOOKUP(H7,inTHLBdata!A:H,7,FALSE) -> 0 | J7: =VLOOKUP(H7,inTHLBdata!A:H,8,FALSE) -> 0
A8: 1999 | B8: IBB | C8: =VLOOKUP(B8,'FHF LUT'!$A$5:$H$81,2,FALSE) -> Western Balsam Bark Beetle | D8: 8 | E8: Fort Nelson TSA | F8: 0 | G8: 0 | H8: =CONCATENATE(A8,"_",B8,"_",D8) -> 1999_IBB_8 | I8: =VLOOKUP(H8,inTHLBdata!A:H,7,FALSE) -> 0 | J8: =VLOOKUP(H8,inTHLBdata!A:H,8,FALSE) -> 0
A9: 1999 | B9: IBB | C9: =VLOOKUP(B9,'FHF LUT'!$A$5:$H$81,2,FALSE) -> Western Balsam Bark Beetle | D9: 9 | E9: Invermere TSA | F9: 0 | G9: 0 | H9: =CONCATENATE(A9,"_",B9,"_",D9) -> 1999_IBB_9 | I9: =VLOOKUP(H9,inTHLBdata!A:H,7,FALSE) -> 0 | J9: =VLOOKUP(H9,inTHLBdata!A:H,8,FALSE) -> 0
A10: 1999 | B10: IBB | C10: =VLOOKUP(B10,'FHF LUT'!$A$5:$H$81,2,FALSE) -> Western Balsam Bark Beetle | D10: 10 | E10: Kalum TSA | F10: 0 | G10: 0 | H10: =CONCATENATE(A10,"_",B10,"_",D10) -> 1999_IBB_10 | I10: =VLOOKUP(H10,inTHLBdata!A:H,7,FALSE) -> 0 | J10: =VLOOKUP(H10,inTHLBdata!A:H,8,FALSE) -> 0
A11: 1999 | B11: IBB | C11: =VLOOKUP(B11,'FHF LUT'!$A$5:$H$81,2,FALSE) -> Western Balsam Bark Beetle | D11: 11 | E11: Kamloops TSA | F11: 16955 | G11: 12404 | H11: =CONCATENATE(A11,"_",B11,"_",D11) -> 1999_IBB_11 | I11: =VLOOKUP(H11,inTHLBdata!A:H,7,FALSE) -> 8380 | J11: =VLOOKUP(H11,inTHLBdata!A:H,8,FALSE) -> 4984
A12: 1999 | B12: IBB | C12: =VLOOKUP(B12,'FHF LUT'!$A$5:$H$81,2,FALSE) -> Western Balsam Bark Beetle | D12: 12 | E12: Kispiox TSA | F12: 598177 | G12: 596831 | H12: =CONCATENATE(A12,"_",B12,"_",D12) -> 1999_IBB_12 | I12: =VLOOKUP(H12,inTHLBdata!A:H,7,FALSE) -> 280742 | J12: =VLOOKUP(H12,inTHLBdata!A:H,8,FALSE) -> 279685
A13: 1999 | B13: IBB | C13: =VLOOKUP(B13,'FHF LUT'!$A$5:$H$81,2,FALSE) -> Western Balsam Bark Beetle | D13: 13 | E13: Kootenay Lake TSA | F13: 211 | G13: 211 | H13: =CONCATENATE(A13,"_",B13,"_",D13) -> 1999_IBB_13 | I13: =VLOOKUP(H13,inTHLBdata!A:H,7,FALSE) -> 0 | J13: =VLOOKUP(H13,inTHLBdata!A:H,8,FALSE) -> 0
... A8844: 2019 | B8844: NW | C8844: =VLOOKUP(B8844,'FHF LUT'!$A$5:$H$81,2,FALSE) -> Windthrow | D8844: 48 | E8844: North Island TSA | F8844: 24694 | G8844: 24694 | H8844: =CONCATENATE(A8844,"_",B8844,"_",D8844) -> 2019_NW_48 | I8844: =VLOOKUP(H8844,inTHLBdata!A:H,7,FALSE) -> 0 | J8844: =VLOOKUP(H8844,inTHLBdata!A:H,8,FALSE) -> 0

Sheet inTHLBdata
A1: Link | B1: YEAR | C1: FHF | D1: Forest Health Factor | E1: TSA_NUMBER | F1: TSA | G1: VOLUMEKILLED | H1: NRLVOLUME
A2: =CONCATENATE(B2,"_",C2,"_",E2) -> 1999_IBB_1 | B2: 1999 | C2: IBB | D2: =VLOOKUP(C2,'FHF LUT'!$A$5:$H$81,2,FALSE) -> Western Balsam Bark Beetle | E2: 1 | F2: Arrow TSA | G2: 8087 | H2: 4483
A3: =CONCATENATE(B3,"_",C3,"_",E3) -> 1999_IBB_2 | B3: 1999 | C3: IBB | D3: =VLOOKUP(C3,'FHF LUT'!$A$5:$H$81,2,FALSE) -> Western Balsam Bark Beetle | E3: 2 | F3: Boundary TSA | G3: 5996 | H3: 3956
A4: =CONCATENATE(B4,"_",C4,"_",E4) -> 1999_IBB_3 | B4: 1999 | C4: IBB | D4: =VLOOKUP(C4,'FHF LUT'!$A$5:$H$81,2,FALSE) -> Western Balsam Bark Beetle | E4: 3 | F4: Bulkley TSA | G4: 38495 | H4: 36914
A5: =CONCATENATE(B5,"_",C5,"_",E5) -> 1999_IBB_4 | B5: 1999 | C5: IBB | D5: =VLOOKUP(C5,'FHF LUT'!$A$5:$H$81,2,FALSE) -> Western Balsam Bark Beetle | E5: 4 | F5: Cassiar TSA | G5: 0 | H5: 0
A6: =CONCATENATE(B6,"_",C6,"_",E6) -> 1999_IBB_5 | B6: 1999 | C6: IBB | D6: =VLOOKUP(C6,'FHF LUT'!$A$5:$H$81,2,FALSE) -> Western Balsam Bark Beetle | E6: 5 | F6: Cranbrook TSA | G6: 1033 | H6: 770
A7: =CONCATENATE(B7,"_",C7,"_",E7) -> 1999_IBB_7 | B7: 1999 | C7: IBB | D7: =VLOOKUP(C7,'FHF LUT'!$A$5:$H$81,2,FALSE) -> Western Balsam Bark Beetle | E7: 7 | F7: Golden TSA | G7: 0 | H7: 0
A8: =CONCATENATE(B8,"_",C8,"_",E8) -> 1999_IBB_8 | B8: 1999 | C8: IBB | D8: =VLOOKUP(C8,'FHF LUT'!$A$5:$H$81,2,FALSE) -> Western Balsam Bark Beetle | E8: 8 | F8: Fort Nelson TSA | G8: 0 | H8: 0
A9: =CONCATENATE(B9,"_",C9,"_",E9) -> 1999_IBB_9 | B9: 1999 | C9: IBB | D9: =VLOOKUP(C9,'FHF LUT'!$A$5:$H$81,2,FALSE) -> Western Balsam Bark Beetle | E9: 9 | F9: Invermere TSA | G9: 0 | H9: 0
A10: =CONCATENATE(B10,"_",C10,"_",E10) -> 1999_IBB_10 | B10: 1999 | C10: IBB | D10: =VLOOKUP(C10,'FHF LUT'!$A$5:$H$81,2,FALSE) -> Western Balsam Bark Beetle | E10: 10 | F10: Kalum TSA | G10: 0 | H10: 0
A11: =CONCATENATE(B11,"_",C11,"_",E11) -> 1999_IBB_11 | B11: 1999 | C11: IBB | D11: =VLOOKUP(C11,'FHF LUT'!$A$5:$H$81,2,FALSE) -> Western Balsam Bark Beetle | E11: 11 | F11: Kamloops TSA | G11: 8380 | H11: 4984
A12: =CONCATENATE(B12,"_",C12,"_",E12) -> 1999_IBB_12 | B12: 1999 | C12: IBB | D12: =VLOOKUP(C12,'FHF LUT'!$A$5:$H$81,2,FALSE) -> Western Balsam Bark Beetle | E12: 12 | F12: Kispiox TSA | G12: 280742 | H12: 279685
A13: =CONCATENATE(B13,"_",C13,"_",E13) -> 1999_IBB_13 | B13: 1999 | C13: IBB | D13: =VLOOKUP(C13,'FHF LUT'!$A$5:$H$81,2,FALSE) -> Western Balsam Bark Beetle | E13: 13 | F13: Kootenay Lake TSA | G13: 0 | H13: 0
... A8844: =CONCATENATE(B8844,"_",C8844,"_",E8844) -> 2019_NW_48 | B8844: 2019 | C8844: NW | D8844: =VLOOKUP(C8844,'FHF LUT'!$A$5:$H$81,2,FALSE) -> Windthrow | E8844: 48 | F8844: North Island TSA | G8844: 0 | H8844: 0
