Workbook

Sheet Submission
E3: FFT Project Plan Approval Checklist
K5: PINES Project #:
I6: Review Date/s:
A7: Complete one Checklist for each Project Plan | I7: Acceptable (Initial) | J7: N/A | K7: Follow-up Required | L7: Follow-up Performed | M7: Comments:
A8: 1) | B8: Review completed FFT performance and financial audits. Ensure all outstanding action plans are being addressed. Review "FFT Comments" under investment Schedule header for any special conditions and follow up as necessary.
A9: 2) | B9: Verify that the operation is registered (or in the application process) as a SAFE company with the BC Forest Safety Council.
A10: 3) | B10: Verify the recipient has submitted their Safety Plan.
A11: 4) | B11: Verify that the "site location" field contains the required information (e.g. Mapsheet opening number, road number, watershed, etc.)
A12: 5) | B12: Check the Component - Activity Area and Eligible Activities boxes to ensure these are appropriate for the project description.
A13: 6) | B13: Ensure the project is included in the approved workplan.
A14: 7) | B14: Assure that the entered key work is adequately descriptive and relevant.
A16: Expenditure per Output: | F16: Budget or Additional Project Rationale and/or Review Discussion:
A17: Total (cost w/Admin)
A18: Project Administration
A19: Units (Ha., Trees, etc.)
A20: $/Unit w/ Admin | C20: =C17/C19 -> #DIV/0!
A21: $/Unit w/o Admin | C21: =(C17-C18)/C19 -> #DIV/0!
A23: FFT Project Cost Benchmarks:
A26: Budget Discussion and Recommendation Rationale: | I26: % Tendered: | K26: 0 | L26: First Nations Involvement: | O26: 0 | P26: % Supervision: | R26: 0
I30: Acceptable (Initial) | J30: N/A | K30: Follow-up Required | L30: Follow-up Performed | M30: Comments:
A31: 8) | B31: Complete the "Amount of Advance Requested" and "Date Advance Requested to be Paid" boxes at the bottom of the "outputs/Funding" Table within the Project Plan.
A32: 9) | B32: Ensure the number of person-days of employment created by this project been entered.
A33: 10) | B33: Ensure it states that the District Manager or designate has accepted the level of Information Sharing completed.
A34: 11) | B34: Review the standards and verify the version and/or date. Ensure the referenced standards are sufficient for the work proposed. Consider the need for a workplan to clarify the methodology if the project includes aspect of several standards.
A35: 12) | B35: Where there is an amendment to the standards (Box #4) ensure that technical approval has been received. Keep a copy of the amendment and approval on file.
A36: 13) | B36: Ensure an acceptable Quality Assurance Plan has been received for the Activity specified.
A37: 14) | B37: Verify that Worksafe BC has been notified of the project start date. If not ensure a date to notify is referenced.
A38: 15) | B38: For Planting and Machine Site Prep Projects Only: Verify that the Recipient has forwarded the Road use Exemption letter signed by the District Manager for use of Non-Status roads or a Road Use Permit for Status roads.
A39: 16) | B39: Verify the repository for the deliverables (including any data warehousing) has been identified (e.g. MFR District, RESULTS)
A40: 17) | B40: Review the description of work, does it fully describe the activities? (E.g., for a site prep project it should clearly state treatment methodology). If, after discussion with the recipient, the Project is ineligible, document the reasons for rejection in the "FFT Comments" field of the Project Plan and send rejection email to recipient under PINES, the file.
A41: 18) | B41: Ensure R0I is above 2% (Note: Recipient may tick "Planned ROI" box in Project Plan). If less than 2%, is there a rationale and MoFR approval?
A42: 19) | B42: Assess the project risk based on past performance of the Recipient and the nature of the proposed work. | M42: Project Risk Rating: | P42: Note: IM to notify Branch of any project rated Very High.
A43: 20) | B43: Document eligibility and funding resolution in the "FFT Comments" section of the Project Plan. Project recommended for Approval.
A44: Senior Investment Manager Task | I44: Approved (Initial) | J44: N/A | K44: Follow-up Required | L44: Follow-up Performed | M44: Comments:
A45: 1) | B45: Review the project and associated Risk Analysis/Profile for reasonableness, and for the amount of advance requested.
A46: 2) | B46: Review the "Funding Details" section of the Investment schedule to double check funding.
A47: 3) | B47: PDF the approved project plan and the project plan checklist. Send email to District Manager, Recipient and Accounting (for project advance payment)
A49: Project Risk Evaluation Criteria | I49: Risk Rating (1-5) | J49: Weighting | K49: Weighted Risk Rating | L49: Rating Justification:
A50: Technical complexity of the Project (E.g. Planting = Low, FLtC = High). IM to consider: seasonality, linkages to other projects, access, etc. | J50: 5 | K50: =I50 -> 0
A51: Project Reasonableness and Proposed Costs (Variances +/- from the Benchmarks costs). IM to consider: Project budget, cost rationale, etc. | J51: 5 | K51: =I51 -> 0
...

Sheet Amendment
E2: FFT Project Plan Amendment Checklist
I4: PINES Project #:
I5: Review Date/s:
I6: Amendment #:
A7: Complete One Checklist for each Amended Project Plan | I7: Acceptable (Initial) | J7: N/A | K7: Follow-up Required | L7: Follow-up Performed | M7: Comments:
A8: 1) | B8: Review reason for amendment.
A9: 2) | B9: Review box #3 (Standards) to determine if there were any changes to the project's standards. If so, follow up to ensure the changes are acceptable.
A10: 3) | B10: Redo the calculation for $/output to ensure that the same investment decision is met (complete the information lines below).
A11: 4) | B11: Analyze the project and Amendment to ensure all necessary information is provided.
A12: 5) | B12: Complete the "Amount of Advance Requested" and "Date Advance Requested to be Paid" boxes at the bottom of the "Outputs/Funding" Table within the Project Plan (adjusting payment to meet the amended total).
A13: 6) | B13: For IM-If the amendment results in changing a qued payment amount in any quarter, please highlight the entire row in yellow.
A14: 7) | B14: Update the Risk Profile for the project, if necessary. | M14: Project Risk Rating: | P14: Provide comments below. Note: IM to notify Branch of any project updated to Very High.
A15: 8) | B15: Project amendment recommended for Approval.
A16: Senior Investment Manager Task | I16: Approved (Initial) | J16: N/A | K16: Follow-up Required | L16: Follow-up Performed | M16: Comments:
A17: 1) | B17: Review analysis and ensure that the recommended payment is correct considering all previous advanced payments.
A18: 2) | B18: Approve Amendment; pdf checklist and amended project plan; and send email to Recipient and Accounting (if Recipient owes any amount, advise Accounting
A20: Original | F20: AMD # | G20: $/Unit w Admin | H20: $/Unit w/o Admin | I20: Tendered % | K20: Amendment Rationale or Review Discussion:
A21: Total (cost w/Admin) | C21: =Submission!C17 -> 0 | F21: Original | G21: =C24 -> #DIV/0! | H21: =C25 -> #DIV/0! | I21: =Submission!K26 -> 0
A22: Project Administration | C22: =Submission!C18 -> 0 | F22: 1 | G22: =C33 -> #DIV/0! | H22: =C34 -> #DIV/0!
A23: Units (Ha., Trees, etc.) | C23: =Submission!C19 -> 0 | F23: 2 | G23: =H33 -> #DIV/0! | H23: =H34 -> #DIV/0!
A24: $/Unit w/ Admin | C24: =Submission!C20 -> #DIV/0! | F24: 3 | G24: =M33 -> #DIV/0! | H24: =M34 -> #DIV/0!
A25: $/Unit w/o Admin | C25: =Submission!C21 -> #DIV/0!
A29: Amendment 1 | F29: Amendment 2 | K29: Amendment 3
A30: Total (cost w/Admin) | F30: Total (cost w/Admin) | K30: Total (cost w/Admin)
A31: Project Administration | F31: Project Administration | K31: Project Administration
A32: Units (Ha., Trees, etc.) | F32: Units (Ha., Trees, etc.) | K32: Units (Ha., Trees, etc.)
A33: $/Unit w/ Admin | C33: =C30/C32 -> #DIV/0! | F33: $/Unit w/ Admin | H33: =H30/H32 -> #DIV/0! | K33: $/Unit w/ Admin | M33: =M30/M32 -> #DIV/0!
A34: $/Unit w/o Admin | C34: =(C30-C31)/C32 -> #DIV/0! | F34: $/Unit w/o Admin | H34: =(H30-H31)/H32 -> #DIV/0! | K34: $/Unit w/o Admin | M34: =(M30-M31)/M32 -> #DIV/0!

Sheet Completion
E3: FFT Project Plan Completion Checklist
I5: PINES Project #:
I6: Review Date/s:
A7: Complete One Checklist for each Project Completion Report | I7: Acceptable (Initial) | J7: N/A | K7: Follow-up Required | L7: Follow-up Performed | M7: Comments:
A8: 1) | B8: Has the MoFR received the Certificate of Completion? Check to see that the "Certifying Professionals" have the necessary designation: Financial - CA, CMA, or CGA; Technical - P.Eng., P.Geo., RPF, RPBio. Note: RFT are not eligible.
A9: 2) | B9: Review the project's final average cost/output versus the currently approved submission. | F9: Total Cost w/ Admin | G9: Units | H9: $/Unit w/ Admin
B10: Planned (last approved amendment): | H10: =F10/G10 -> #DIV/0!
B11: Actual: | H11: =F11/G11 -> #DIV/0!
A12: 3) | B12: Calculate and enter the completion payment.
A13: 4) | B13: Ensure the Project Deliverable Section states that the deliverable has been forwarded to the repository identified in the standards (including all data files) and the FTT website.
A14: 5) | B14: Review "Issues Encountered and Resolutions of issues". Were issues acceptably resolved?
A15: 6) | B15: Review "Recipient Comments". Deal with any outstanding issues.
A16: 7) | B16: Review "Suggestions for FTT Program". Forward suggestions to Branch.
A17: 8) | B17: Update the Risk Profile for the project, if necessary. | M17: Project Risk Rating: | P17: Provide comments below. Note: IM to notify Branch of any project updated to Very High.
A18: 9) | B18: Project recommended for Completion.
A19: Senior Investment Manager Task | I19: Approved (Initial) | J19: N/A | K19: Follow-up Required | L19: Follow-up Performed | M19: Comments:
A20: 1) | B20: Review to ensure that Steps 1 - 6 are competed and review Certificate of Completion.
A21: 2) | B21: Confirm outputs, expenditures, deliverables and completion payment (including date).
A22: 3) | B22: Review Comment Section.
A23: 4) | B23: Approve the project by clicking on the "Approved" button if there are no problems with the Completion Report or outstanding issues on the Completion Report Checklist. Pdf Project plan and Completion Checklist.
A24: 5) | B24: Email Completion email to District Manager, Recipient and Accounting.
A25: 6) | B25: Note any risk priority and/or audit consideration for project.
