Workbook

Sheet Survey Field Checklist
A1: File: FFT Survey Inspection Template 09-11-01.xls | F1: Page 1/3
A2: FFT Ministry Survey Standard March 4, 2009 (SD FS925A)
A3: FFT Survey Inspection Forms
A4: Field Checklist
B6: Investment Schedule/s: | C6: 1111001 | D6: Project/s #: | E6: 1111001-1
B7: Survey Contractor: | C7: ABC Forestry Consulting | D7: Survey Date/s: | E7: 09/10/07
B8: Recipient: | C8: ABC Forestry Consulting | D8: RAH Inspection Date/s: | E8: 09/10/08
B9: Inspector: | C9: Doug Fir | D9: Inspection Date/s: | E9: 09/10/08 | F9: Y/N,
F10: N/I or N/A
A11: 1 | B11: Did each Survey Crew include at least one Accredited Silviculture Surveyor on the ground who has been to every Opening being surveyed greater than 5 ha.? Were all personnel performing the Work familiar with the Treatment Prescription options that are appropriate and generally considered acceptable for the area?
A12: =A11+1 -> 2 | B12: For both GPS and manual chaining methods, was i) the point of commencement (P.O.C.) marked with flagging tape showing the Opening number in waterproof ink; ii) flagging tape affixed at a height of approximately 1.3 meters above each plot centre, showing in waterproof ink the plot number, surveyors initials (if not included with the plot number); and iii) flagging tape affixed to the ground at all plot centers?
A13: =A12+1 -> 3 | B13: Were survey lines and plots established using either Global Positioning System (GPS) units (preferred), or by manual chaining methods? If a GPS was used, were plot centre UTM Coordinates provided? If a manual chaining method was used, was: i) a survey baseline (if established) and all strip lines marked with flagging tape showing the baseline and strip line number in waterproof ink; ii) all plot centres flagged with tape affixed at 1.3 meters and have the bearing and distance to the next plot written in waterproof ink?
A14: =A13+1 -> 4 | B14: Were all trees (conifer and deciduous) tallied that are greater than 5 cm in height at the time of survey in the TT count, including germinants and were all WS and FG crop trees of preferred and acceptable species will be tallied that are greater than 10cm in height?
A15: =A14+1 -> 5 | B15: In a free growing survey, were preferred and acceptable trees in a plot assessed for free growing in accordance with Appendix 9 of the Establishment to Free Growing Guidebook for the forest region?
A16: =A15+1 -> 6 | B16: If a stocking, free growing or recce survey indicated that a Stratum was not satisfactorily restocked (NSR), was a plantability assessment conducted on the Stratum while performing the stocking or free growing survey? Was plantability assessed at 1400 targeted plantable utilizing the minimum inter tree distance (from the Stocking Standards and /or preparable spots per ha. in order to determine the amount of seedlings required?
A17: =A16+1 -> 7 | B17: For each Stratum, was brush hazard assessed using the following codes: • HIGH - brush has encroached on some of the crop trees (control will be necessary); • MED - brush will encroach on some of the crop trees (control may be necessary in the future); • LOW - some brush present but no anticipated problem; or • NIL - no brush hazard present? (8 - 3.12) Was all HIGH and MED brush hazard Strata, the species, percent cover and height of competing vegetation recorded at every plot and for all LOW and NIL, at the first and every fourth sample plot thereafter?
A18: =A17+1 -> 8 | B18: Did the survey produce a complete forest cover inventory label and silviculture label for each Stratum?
A19: =A18+1 -> 9 | B19: Did the non-plot measurements/observations collected during the Recce and in-between plots (if established) include: a) BEC classification from the subzone to the site series level; b) mountain pine beetle (MPB) attack levels, distribution and age of attack(where applicable); c) forest health factors/damage agents (where applicable); d) dead tree total tally and (optional) if Danger Tree Assessment is required (where applicable); e) Overstorey stems per hectare (live and dead/dying) and live Overstorey stocking (well spaced and free growing)?
A20: =A19+1 -> 10 | B20: Did the non-plot measurements/observations collected during the Recce and in-between plots (if established) include: f) Understorey conifers – species % and density, distribution, stocking (well spaced and free growing), age and height; g) competing (or potentially competing) vegetation and distribution; h) site index via the hierarchy methods and protocol as outlined in Article 5.9 to 5.10; and, i) delineation of stratum boundaries?
A21: =A20+1 -> 11 | B21: For a Recce Survey, were the number of plots required established at: a) a minimum of 1 plot for every 10 hectares, with a minimum of 3 plots in total and b) were a minimum of 5plots for any Stratum which was recommended for a Treatment Prescription, and any Stratum where a change to the inventory label was recommended (for example a Stratum with heavy mortality in the overstorey but good understorey stocking which will now create the new inventory label)?
A22: =A21+1 -> 12 | B22: Upon completion of the Recce and/or Recce sample plot establishment, and the compilation of the data collected, was there a recommended next course of action (re-asses, leave-as-is, conduct a full survey, develop a treatment prescription) included in the survey summary?
A23: =A22+1 -> 13 | B23: For Full Silviculture Survey Sampling Plot Intensity, was the sampling design and intensity driven by the degree of variability and complexity found in the Stratum (increased Stratum variability and complexity typically will require more sampling)? Did the Plot intensity range from 1 plot/ha to 1 plot/5 ha with a minimum of 5 plots/Stratum? Regardless of the plot intensity, did the surveyor ensure that the plot locations provided uniform coverage of the Stratum?
... A27: =A26+1 -> 17 | B27: Was the traversing of treatment units, roads and spur roads done using GPS technology only? Were all non-GPS traverses (not preferred and only permitted if GPS failure) aerial-photo tied and ground-tied to a mappable unit? Were all treatment unit boundaries flagged using winter weight ribbon of the colour and format as defined by the FFT Regional Staff and TSA standard and was all flagging inter-visible at a glance (i.e. two consecutive ribbons are visible in one direction). and attached as high as possible, to residual stems?
A28: =A27+1 -> 18 | B28: Is the Survey satisfactory, in that: a). the Opening was correctly stratified according to the Stratification Criteria; b). the Survey correctly identified for a Stratum: i. the Biogeoclimatic zone, sub-zone, and site series, ii. the preferred or acceptable tree species as permitted under the Stocking Standards, iii. the order of the leading and secondary species in the inventory label, and iv. the stocking status? | F28: Page 2/3
A30: =A28+1 -> 19 | B30: Is the Survey satisfactory, in that the: c. the Survey correctly reported: i. a brush hazard, and ii. any pest, pest damage, disease, disease damage or other physical damage?
A31: =A30+1 -> 20 | B31: Is the Survey satisfactory, in that the: e. field check found a difference of no more than 10% between the Survey and the Inspector’s tally in any one of the following total counts of: i. well-spaced trees by species, ii. free-growing trees, iii. plantable spots, and iv. preparable spots and f. there is a difference of no more than 20% between the Survey and the Inspector’s assessment in the total trees from the results of actual plots established in a Stratum?
A32: =A31+1 -> 21 | B32: Is the Survey satisfactory, h. in that the field cards, reports, maps or summaries are legible, and are completed in accordance with the FFT Standards?
A33: =A32+1 -> 22 | B33: For all Stratum with proposed treatments (treatment areas), was a financial analysis carried out to determine if the proposed treatments will meet the minimum required return on investment (ROI) of 2%?
A34: =A33+1 -> 23 | B34: Do the Treatment Prescriptions include all treatments and Surveys which will lead to a free growing stand and include and/or address: a) a schedule of treatments including options / alternatives, preference rationale, and follow-up surveys; b) appropriate Stocking Standards for the site series of the treatment unit; c) danger tree assessment recommendation where applicable; d) site preparation prescription if applicable, with the planned year and season?
A35: =A34+1 -> 24 | B35: Do the Treatment Prescriptions include) numbers of seedlings to be planted by species, including recommended stock type, planting year and season; f) a statement addressing the use of genetically improved seedlings and greater species diversity; g) proposed brush control treatments with the planned year and season where applicable; h) a Treatment Map; i) total hectares of the prescribed treatment unit as determined by a GPS traverse; and j) access notes including information on accessibility and any required improvements (e.g. 4WD, quad access only)?
B37: Survey Inspection Statistics:
B38: List of Opening/s Inspected:
B39: Location/s:
B41: Note: Inspector to inspect a minimum of 5% of the plots and 20% of the project area. Monitoring and inspections to be recorded on the applicable Survey Plot & Field Cards and FS 242 "MFR Instruction Pads".
B43: Total # of Survey Plots: | C43: 0 | D43: Total Survey Area (ha.): | E43: 0
B44: Total # of Inspection Plots: | C44: 0 | D44: Total Inspected Area (ha.): | E44: 0
B45: % of Inspection Plots: | C45: =C44/C43 -> #DIV/0! | D45: % of Inspected Area: | E45: =E44/E43 -> #DIV/0!
B47: N/A = Not Applicable. When used, please describe how this standard was not applicable to this particular project.
B48: N/I = Not Inspected. When used, please describe why this standard was not inspected and if it will be inspected at a later date.
B49: Note: Where "No" is used to answer a question, an explanation of the finding and objective evidence must be provided.
A50: ?# | B50: Inspection Comments:
F71: Page 3/3
A72: Inspector Observations & Recommendations:
A93: Recipient Agreement Holder Comments:
B94: Note: If you disagree with the Inspection results, respond below within three business days.
A110: An Inspection Contractor Company Name | D110: Recipient Agreement Holder Name:
A111: 123 St.
A112: Somewhere, BC, V1V 1V1
A113: 250-555-5555 | D113: Recipient Representative Name | E113: Date:
A114: inspectioncontractor@telus.net
A117: Inspector Signature & Seal | C117: Date: | D117: Recipient Rep Signature | E117: (signing does not imply agreement with findings)

Sheet Survey Field Checklist (2)
A1: File: FFT Survey Inspection Template 09-11-01.xls | F1: Page 1/4
A2: FFT Ministry Survey Standard March 4, 2009 (SD FS925A)
A3: FFT Survey Inspection Forms
A4: Field Checklist
B6: Investment Schedule/s: | C6: 1111001 | D6: Project/s #: | E6: 1111001-1
B7: Survey Contractor: | C7: ABC Forestry Consulting | D7: Survey Date/s: | E7: 09/10/07
B8: Recipient: | C8: ABC Forestry Consulting | D8: RAH Inspection Date/s: | E8: 09/10/08
B9: Inspector: | C9: Doug Fir | D9: Inspection Date/s: | E9: 09/10/08 | F9: Y/N,
F10: N/I or N/A
A11: 1 | B11: Did each Survey Crew include at least one Accredited Silviculture Surveyor on the ground who has been to every Opening being surveyed greater than 5 ha.?
A12: =A11+1 -> 2 | B12: Were all personnel performing the Work familiar with the Treatment Prescription options that are appropriate and generally considered acceptable for the area?
A13: =A12+1 -> 3 | B13: For both GPS and manual chaining methods, was the point of commencement (P.O.C.) marked with flagging tape showing the Opening number in waterproof ink?
A14: =A13+1 -> 4 | B14: Was flagging tape affixed at a height of approximately 1.3 meters above each plot centre, showing in waterproof ink the plot number, surveyors initials (if not included with the plot number?
A15: =A14+1 -> 5 | B15: Was flagging tape affixed to the ground at all plot centers?
A16: =A15+1 -> 6 | B16: Were all trees (conifer and deciduous) tallied that are greater than 5 cm in height at the time of survey in the TT count, including germinants and were all WS and FG crop trees of preferred and acceptable species will be tallied that are greater than 10cm in height?
A17: =A16+1 -> 7 | B17: In a free growing survey, were preferred and acceptable trees in a plot assessed for free growing in accordance with Appendix 9 of the Establishment to Free Growing Guidebook for the forest region?
A18: =A17+1 -> 8 | B18: If a stocking, free growing or recce survey indicated that a Stratum was not satisfactorily restocked (NSR), was a plantability assessment conducted on the Stratum while performing the stocking or free growing survey?
A19: =A18+1 -> 9 | B19: Was plantability assessed at 1400 targeted plantable utilizing the minimum inter tree distance (from the Stocking Standards and /or preparable spots per ha. in order to determine the amount of seedlings required?
A20: =A19+1 -> 10 | B20: For each Stratum, was brush hazard assessed using the following codes: • HIGH - brush has encroached on some of the crop trees (control will be necessary); • MED - brush will encroach on some of the crop trees (control may be necessary in the future); • LOW - some brush present but no anticipated problem; or • NIL - no brush hazard present?
A21: =A20+1 -> 11 | B21: Was all HIGH and MED brush hazard Strata, the species, percent cover and height of competing vegetation recorded at every plot and for all LOW and NIL, at the first and every fourth sample plot thereafter?
A22: =A21+1 -> 12 | B22: Did the survey produce a complete forest cover inventory label and silviculture label for each Stratum?
A23: =A22+1 -> 13 | B23: Did the non-plot measurements/observations collected during the Recce and in-between plots (if established) include BEC classification from the subzone to the site series level?
... A36: =A35+1 -> 26 | B36: Regardless of the plot intensity, did the surveyor ensure that the plot locations provided uniform coverage of the Stratum?
A37: =A36+1 -> 27 | B37: For Layered Even-aged stand structure or Uneven-aged stand structure were these Strata surveyed by tallying TT, TC, WS and FG stems by all 4 layers (Layer 1 >= 12.5 cm dbh; Layer 2 >7.5 cm dbh and <12.5 cm dbh; Layer 3 >1.3 m ht and <7.5 cm dbh; and Layer 4 <=1.3 m ht and >=10cm including germinants) and will be totaled by adding all layers (without nesting)? | F37: Page 2/4
A39: =A37+1 -> 28 | B39: For MPB Specific Tallies of Pl stems (TT and TC Count) were only Live Pl (no MPB infected stems) and all other live species included in these counts and the inventory label?
A40: =A39+1 -> 29 | B40: For MPB Specific Tallies of Pl stems (WS and FG Count) were only Live Pl by layer (no MPB infected stems) and all other live preferred and acceptable species contribute to the stocking status and included in the silviculture label?
A41: =A40+1 -> 30 | B41: For MPB Infected Pl (IBM - forest health code) Stratum: Were all infected Pl tallied separately by layer (in the Forest Health Column of the FS 658 if used) and identified as live (green attack) or dead (red or grey attack)?
A42: =A41+1 -> 31 | B42: Was the traversing of treatment units, roads and spur roads done using GPS technology only?
A43: =A42+1 -> 32 | B43: Were all non-GPS traverses (not preferred and only permitted if GPS failure) aerial-photo tied and ground-tied to a mappable unit?
A44: =A43+1 -> 33 | B44: Were all treatment unit boundaries flagged using winter weight ribbon of the colour and format as defined by the FFT Regional Staff and TSA standard and was all flagging inter-visible at a glance (i.e. two consecutive ribbons are visible in one direction). and attached as high as possible, to residual stems?
A45: =A44+1 -> 34 | B45: Is the Survey satisfactory, in that the Opening was correctly stratified according to the Stratification Criteria?
A46: =A45+1 -> 35 | B46: Is the Survey satisfactory, in that the Survey correctly identified for a Stratum the Biogeoclimatic zone, sub-zone, and site series?
A47: =A46+1 -> 36 | B47: Is the Survey satisfactory, in that the Survey correctly identified for a Stratum the preferred or acceptable tree species as permitted under the Stocking Standards?
A48: =A47+1 -> 37 | B48: Is the Survey satisfactory, in that the Survey correctly identified for a Stratum the order of the leading and secondary species in the inventory label, and iv. the stocking status?
A49: =A48+1 -> 38 | B49: Is the Survey satisfactory, in that the Survey correctly identified for a Stratum the stocking status?
A50: =A49+1 -> 39 | B50: Is the Survey satisfactory, in that the field check found a difference of no more than 10% between the Survey and the Inspector’s tally in the total counts of well-spaced trees by species?
A51: =A50+1 -> 40 | B51: Is the Survey satisfactory, in that the field check found a difference of no more than 10% between the Survey and the Inspector’s tally in the total counts of free-growing trees?
... A65: =A64+1 -> 54 | B65: Do the Treatment Prescriptions include access notes including information on accessibility and any required improvements (e.g. 4WD, quad access only)?
F66: Page 3/4
B67: Survey Inspection Statistics:
B68: List of Opening/s Inspected:
B69: Location/s:
B71: Note: Inspector to inspect a minimum of 5% of the plots and 20% of the project area. Monitoring and inspections to be recorded on the applicable Survey Plot & Field Cards and FS 242 "MFR Instruction Pads".
B73: Total # of Survey Plots: | C73: 0 | D73: Total Survey Area (ha.): | E73: 0
B74: Total # of Inspection Plots: | C74: 0 | D74: Total Inspected Area (ha.): | E74: 0
B75: % of Inspection Plots: | C75: =C74/C73 -> #DIV/0! | D75: % of Inspected Area: | E75: =E74/E73 -> #DIV/0!
B77: N/A = Not Applicable. When used, please describe how this standard was not applicable to this particular project.
B78: N/I = Not Inspected. When used, please describe why this standard was not inspected and if it will be inspected at a later date.
B79: Note: Where "No" is used to answer a question, an explanation of the finding and objective evidence must be provided.
A80: ?# | B80: Inspection Comments:
F115: Page 4/4
A116: Inspector Observations & Recommendations:
A137: Recipient Agreement Holder Comments:
B138: Note: If you disagree with the Inspection results, respond below within three business days.
A156: An Inspection Contractor Company Name | D156: Recipient Agreement Holder Name:
A157: 123 St.
A158: Somewhere, BC, V1V 1V1
A159: 250-555-5555 | D159: Recipient Representative Name | E159: Date:
A160: inspectioncontractor@telus.net
A163: Inspector Signature & Seal | C163: Date: | D163: Recipient Rep Signature | E163: (signing does not imply agreement with findings)

Sheet Field Checklist Guidance Doc
A1: File: FFT Survey Inspection Template 09-10-09.xls | F1: Page 1/3
A2: FFT Ministry Survey Standard March 4, 2009 (SD FS925A) | H2: Note: Where a Field Inspection has been undertaken, the Field Checklist must always be completed.
A3: FFT Survey Inspection Forms
A4: Field Checklist | H4: Article 9.6: Field Reconnaissance - the Strata Inspection Form is also required.
B5: Project #: | C5: 1111001 | D5: Opening #: | E5: 100-1 | H5: Article 9.6: Field Check of Established Plots or Independent Survey of Selected Strata - the Strata Inspection Form and Plot Tally Inspection Forms are both also required.
B6: Contract #: | C6: 1111001-1 | D6: Location: | E6: Stream Ck
B7: Survey Contractor: | C7: ABC Forestry Consulting | D7: Survey Date/s: | E7: 09/10/07
D8: Inspection Date/s: | E8: 09/10/08 | H8: These two sets of info will populate onto the Stratum and Plot Tally Inspection Forms.
B9: Inspector: | C9: Doug Fir | D9: Report Date: | E9: 09/10/09 | F9: Y/N or
F10: N/A
A11: 1 | B11: Did each Survey Crew include at least one Accredited Silviculture Surveyor on the ground who has been to every Opening being surveyed greater than 5 ha.? Were all personnel performing the Work familiar with the Treatment Prescription options that are appropriate and generally considered acceptable for the area? | H11: All questions are articles from the FFT Ministry Survey Standard March 4, 2009 (SD FS925A). The articles are rephrased in the form of a "positive" question and written in the past tense.
A12: =A11+1 -> 2 | B12: For both GPS and manual chaining methods, was i) the point of commencement (P.O.C.) marked with flagging tape showing the Opening number in waterproof ink; ii) flagging tape affixed at a height of approximately 1.3 meters above each plot centre, showing in waterproof ink the plot number, surveyors initials (if not included with the plot number); and iii) flagging tape affixed to the ground at all plot centers? | H12: All questions must be answered with a "yes, no, or not applicable". If the Contractor achieved the standard the answer will always be "yes" and if not "no." Not all articles are applicable to all projects. Where a questions has been answered, "no" additional comments are required to describe the non-conformance to the standard.
A13: =A12+1 -> 3 | B13: Were survey lines and plots established using either Global Positioning System (GPS) units (preferred), or by manual chaining methods? If a GPS was used, were plot centre UTM Coordinates provided? If a manual chaining method was used, was: i) a survey baseline (if established) and all strip lines marked with flagging tape showing the baseline and strip line number in waterproof ink; ii) all plot centres flagged with tape affixed at 1.3 meters and have the bearing and distance to the next plot written in waterproof ink? | H13: Note: The Strata and Plot Tally Inspection Forms have been supplied in multiple formats to account for the size and complexity of the inspected opening and the intensity of the inspection. Select the applicable worksheet for the nos. of strata or plots inspected.
A14: =A13+1 -> 4 | B14: Were all trees (conifer and deciduous) tallied that are greater than 5 cm in height at the time of survey in the TT count, including germinants and were all WS and FG crop trees of preferred and acceptable species will be tallied that are greater than 10cm in height?
A15: =A14+1 -> 5 | B15: In a free growing survey, were preferred and acceptable trees in a plot assessed for free growing in accordance with Appendix 9 of the Establishment to Free Growing Guidebook for the forest region?
A16: =A15+1 -> 6 | B16: If a stocking, free growing or recce survey indicated that a Stratum was not satisfactorily restocked (NSR), was a plantability assessment conducted on the Stratum while performing the stocking or free growing survey? Was plantability assessed at 1400 targeted plantable utilizing the minimum inter tree distance (from the Stocking Standards and /or preparable spots per ha. in order to determine the amount of seedlings required?
A17: =A16+1 -> 7 | B17: For each Stratum, was brush hazard assessed using the following codes: • HIGH - brush has encroached on some of the crop trees (control will be necessary); • MED - brush will encroach on some of the crop trees (control may be necessary in the future); • LOW - some brush present but no anticipated problem; or • NIL - no brush hazard present? (8 - 3.12) Was all HIGH and MED brush hazard Strata, the species, percent cover and height of competing vegetation recorded at every plot and for all LOW and NIL, at the first and every fourth sample plot thereafter?
A18: =A17+1 -> 8 | B18: Did the survey produce a complete forest cover inventory label and silviculture label for each Stratum?
A19: =A18+1 -> 9 | B19: Did the non-plot measurements/observations collected during the Recce and in-between plots (if established) include: a) BEC classification from the subzone to the site series level; b) mountain pine beetle (MPB) attack levels, distribution and age of attack(where applicable); c) forest health factors/damage agents (where applicable); d) dead tree total tally and (optional) if Danger Tree Assessment is required (where applicable); e) Overstorey stems per hectare (live and dead/dying) and live Overstorey stocking (well spaced and free growing)?
A20: =A19+1 -> 10 | B20: Did the non-plot measurements/observations collected during the Recce and in-between plots (if established) include: f) Understorey conifers – species % and density, distribution, stocking (well spaced and free growing), age and height; g) competing (or potentially competing) vegetation and distribution; h) site index via the hierarchy methods and protocol as outlined in Article 5.9 to 5.10; and, i) delineation of stratum boundaries?
A21: =A20+1 -> 11 | B21: For a Recce Survey, were the number of plots required established at: a) a minimum of 1 plot for every 10 hectares, with a minimum of 3 plots in total and b) were a minimum of 5plots for any Stratum which was recommended for a Treatment Prescription, and any Stratum where a change to the inventory label was recommended (for example a Stratum with heavy mortality in the overstorey but good understorey stocking which will now create the new inventory label)?
A22: =A21+1 -> 12 | B22: Upon completion of the Recce and/or Recce sample plot establishment, and the compilation of the data collected, was there a recommended next course of action (re-asses, leave-as-is, conduct a full survey, develop a treatment prescription) included in the survey summary?
A23: =A22+1 -> 13 | B23: For Full Silviculture Survey Sampling Plot Intensity, was the sampling design and intensity driven by the degree of variability and complexity found in the Stratum (increased Stratum variability and complexity typically will require more sampling)? Did the Plot intensity range from 1 plot/ha to 1 plot/5 ha with a minimum of 5 plots/Stratum? Regardless of the plot intensity, did the surveyor ensure that the plot locations provided uniform coverage of the Stratum?
A24: =A23+1 -> 14 | B24: For Layered Even-aged stand structure or Uneven-aged stand structure were these Strata surveyed by tallying TT, TC, WS and FG stems by all 4 layers (Layer 1 >= 12.5 cm dbh; Layer 2 >7.5 cm dbh and <12.5 cm dbh; Layer 3 >1.3 m ht and <7.5 cm dbh; and Layer 4 <=1.3 m ht and >=10cm including germinants) and will be totaled by adding all layers (without nesting)?
A25: =A24+1 -> 15 | B25: For MPB Specific Tallies of Pl stems were a) TT and TC Count: Were only Live Pl (no MPB infected stems) and all other live species included in these counts and the inventory label; and b) WS and FG Count: Did only Live Pl by layer (no MPB infected stems) and all other live preferred and acceptable species contribute to the stocking status and included in the silviculture label?
... A31: =A30+1 -> 21 | B31: Is the Survey satisfactory, h. in that the field cards, reports, maps or summaries are legible, and are completed in accordance with the FFT Standards?
A32: An Inspection Contractor Company Name | D32: Note: Inspector to inspect a minimum of 5% of the plots and 20% of the project area. Monitoring and inspections to be recorded on the applicable Survey Plot/Field Cards and FS 242 "MFR Instruction Pads".
A33: 123 St.
A34: Somewhere, BC, V1V 1V1 | H34: This set of info will populate onto the Strata and Plot Tally Inspection Forms.
A35: 250-555-5555
A36: inspectioncontractor@telus.net
A39: Inspector Signature | H39: Must be signed by the Inspector.

Sheet Strata Guidance Doc
A1: File: FFT Survey Inspection Template 09-10-09.xls | E1: Page 2/3
A2: FFT Ministry Survey Standard March 4, 2009 (SD FS925A) | G2: Note: The Stratum Inspection Forms allow for up to 6 strata. If you require more, please just add lines and add in the additional strata. It will not affect any formatting.
A3: FFT Survey Inspection Forms
A4: Stratum Inspection
A5: Project #: | B5: ='Survey Field Checklist'!#REF! -> #REF! | D5: Opening #: | E5: ='Survey Field Checklist'!#REF! -> #REF!
A6: Contract #: | B6: ='Survey Field Checklist'!#REF! -> #REF! | D6: Location: | E6: ='Survey Field Checklist'!E6 -> 1111001-1
A7: Survey Contractor: | B7: ='Survey Field Checklist'!C7 -> ABC Forestry Consulting | D7: Survey Date/s: | E7: ='Survey Field Checklist'!E7 -> 09/10/07 | G7: These two sets of info will populate from the Field Checklist Form.
D8: Inspection Date/s: | E8: ='Survey Field Checklist'!E8 -> 09/10/08
A9: Inspector: | B9: ='Survey Field Checklist'!C9 -> Doug Fir | D9: Report Date: | E9: ='Survey Field Checklist'!E10 -> 0
A11: Stratum Characteristics: | B11: Inspector | C11: Contractor | D11: Inspector | E11: Contractor
A12: Stratum: | B12: A | C12: A | D12: B | E12: B
A13: BGC Zone:
A14: Subzone & Variant:
A15: Site Series:
A16: Moisture/Nutrient Grid: | G16: Note: Satisfactory Work Quality Defined 9.10 The Inspector must generally examine the data to the extent necessary to determine that the Survey has been undertaken and reported in accordance with FFT Standards, and specifically may determine a Survey to be satisfactory when, as appropriate to the Survey type and the chosen inspection method: a. an Opening is correctly stratified according to the Stratification Criteria; b. the Survey correctly identifies for a Stratum: i. the Biogeoclimatic zone, sub-zone, and site series, ii. the preferred or acceptable tree species as permitted under the Stocking Standards, iii. the order of the leading and secondary species in the inventory label, and iv. the stocking status (e.g., satisfactorily restocked [SR] vs. not satisfactorily restocked [NSR]); c. the Survey correctly reports: i. a brush hazard, and ii. any pest, pest damage, disease, disease damage or other physical damage; Where the above is not satisfactory, within the survey report/s, the Ministry Representative must be notified and the determination of the materiality of the finding noted in the Inspection report.
A17: Drainage:
A18: Soil Texture:
A19: Soil Depth:
A20: Humus Form:
A21: LFH Depth:
A22: Machine Trafficability:
A23: Slash %:
A24: Slash Coverage:
A25: Slope %:
A26: Slope Position:
A27: Surface Shape:
A28: Aspect:
... A36: Treatment Recces - Alternative:
A40: Inspector Comments: | G40: The Comments Section is to be used by the Inspector to provide additional information as to the quality of the survey, site assessment, stratification, and treatment recommendations. Deficiencies must be noted. A comment as to whether the work quality is satisfactory is required.
A46: ='Survey Field Checklist'!A110 -> An Inspection Contractor Company Name
A47: ='Survey Field Checklist'!A111 -> 123 St.
A48: ='Survey Field Checklist'!A112 -> Somewhere, BC, V1V 1V1 | G48: This set of info will populate from the Field Checklist Form.
A49: ='Survey Field Checklist'!A113 -> 250-555-5555
A50: ='Survey Field Checklist'!A114 -> inspectioncontractor@telus.net
A53: Inspector Signature | G53: Must be signed by the Inspector.

Sheet Survey Strata 2
A1: File: FFT Survey Inspection Template 09-10-09.xls | E1: Page 2/3
A2: FFT Ministry Survey Standard March 4, 2009 (SD FS925A)
A3: FFT Survey Inspection Forms
A4: Stratum Inspection
A5: Project #: | B5: ='Survey Field Checklist'!#REF! -> #REF! | D5: Opening #: | E5: ='Survey Field Checklist'!#REF! -> #REF!
A6: Contract #: | B6: ='Survey Field Checklist'!#REF! -> #REF! | D6: Location: | E6: ='Survey Field Checklist'!E6 -> 1111001-1
A7: Survey Contractor: | B7: ='Survey Field Checklist'!C7 -> ABC Forestry Consulting | D7: Survey Date/s: | E7: ='Survey Field Checklist'!E7 -> 09/10/07
D8: Inspection Date/s: | E8: ='Survey Field Checklist'!E8 -> 09/10/08
A9: Inspector: | B9: ='Survey Field Checklist'!C9 -> Doug Fir | D9: Report Date: | E9: ='Survey Field Checklist'!E10 -> 0
A11: Stratum Characteristics: | B11: Inspector | C11: Contractor | D11: Inspector | E11: Contractor
A12: Stratum: | B12: A | C12: A | D12: B | E12: B
A13: BGC Zone:
A14: Subzone & Variant:
A15: Site Series:
A16: Moisture/Nutrient Grid:
A17: Drainage:
A18: Soil Texture:
A19: Soil Depth:
A20: Humus Form:
A21: LFH Depth:
A22: Machine Trafficability:
A23: Slash %:
A24: Slash Coverage:
... A40: Inspector Comments:
A46: ='Survey Field Checklist'!A110 -> An Inspection Contractor Company Name
A47: ='Survey Field Checklist'!A111 -> 123 St.
A48: ='Survey Field Checklist'!A112 -> Somewhere, BC, V1V 1V1
A49: ='Survey Field Checklist'!A113 -> 250-555-5555
A50: ='Survey Field Checklist'!A114 -> inspectioncontractor@telus.net
A53: Inspector Signature

Sheet Strata 4
A1: File: FFT Survey Inspection Template 09-10-09.xls | E1: Page 2/3
A2: FFT Ministry Survey Standard March 4, 2009 (SD FS925A)
A3: FFT Survey Inspection Forms
A4: Stratum Inspection
A5: Project #: | B5: ='Survey Field Checklist'!#REF! -> #REF! | D5: Opening #: | E5: ='Survey Field Checklist'!#REF! -> #REF!
A6: Contract #: | B6: ='Survey Field Checklist'!#REF! -> #REF! | D6: Location: | E6: ='Survey Field Checklist'!E6 -> 1111001-1
A7: Survey Contractor: | B7: ='Survey Field Checklist'!C7 -> ABC Forestry Consulting | D7: Survey Date/s: | E7: ='Survey Field Checklist'!E7 -> 09/10/07
D8: Inspection Date/s: | E8: ='Survey Field Checklist'!E8 -> 09/10/08
A9: Inspector: | B9: ='Survey Field Checklist'!C9 -> Doug Fir | D9: Report Date: | E9: ='Survey Field Checklist'!E10 -> 0
A11: Stratum Characteristics: | B11: Inspector | C11: Contractor | D11: Inspector | E11: Contractor
A12: Stratum: | B12: A | C12: A | D12: B | E12: B
A13: BGC Zone:
A14: Subzone & Variant:
A15: Site Series:
A16: Moisture/Nutrient Grid:
A17: Drainage:
A18: Soil Texture:
A19: Soil Depth:
A20: Humus Form:
A21: LFH Depth:
A22: Machine Trafficability:
A23: Slash %:
A24: Slash Coverage:
... A40: Inspector Comments:
A46: Stratum: | B46: C | C46: C | D46: D | E46: D
A47: BGC Zone:
A48: Subzone & Variant:
A49: Site Series:
A50: Moisture/Nutrient Grid:
A51: Drainage:
A52: Soil Texture:
A53: Soil Depth:
A54: Humus Form:
A55: LFH Depth:
A56: Machine Trafficability:
A57: Slash %:
A58: Slash Coverage:
... A74: Inspector Comments:
A80: ='Survey Field Checklist'!A110 -> An Inspection Contractor Company Name
A81: ='Survey Field Checklist'!A111 -> 123 St.
A82: ='Survey Field Checklist'!A112 -> Somewhere, BC, V1V 1V1
A83: ='Survey Field Checklist'!A113 -> 250-555-5555
A84: ='Survey Field Checklist'!A114 -> inspectioncontractor@telus.net
A87: Inspector Signature

Sheet Strata 6
A1: File: FFT Survey Inspection Template 09-10-09.xls | E1: Page 2/3
A2: FFT Ministry Survey Standard March 4, 2009 (SD FS925A)
A3: FFT Survey Inspection Forms
A4: Stratum Inspection
A5: Project #: | B5: ='Survey Field Checklist'!#REF! -> #REF! | D5: Opening #: | E5: ='Survey Field Checklist'!#REF! -> #REF!
A6: Contract #: | B6: ='Survey Field Checklist'!#REF! -> #REF! | D6: Location: | E6: ='Survey Field Checklist'!E6 -> 1111001-1
A7: Survey Contractor: | B7: ='Survey Field Checklist'!C7 -> ABC Forestry Consulting | D7: Survey Date/s: | E7: ='Survey Field Checklist'!E7 -> 09/10/07
D8: Inspection Date/s: | E8: ='Survey Field Checklist'!E8 -> 09/10/08
A9: Inspector: | B9: ='Survey Field Checklist'!C9 -> Doug Fir | D9: Report Date: | E9: ='Survey Field Checklist'!E10 -> 0
A11: Stratum Characteristics: | B11: Inspector | C11: Contractor | D11: Inspector | E11: Contractor
A12: Stratum: | B12: A | C12: A | D12: B | E12: B
A13: BGC Zone:
A14: Subzone & Variant:
A15: Site Series:
A16: Moisture/Nutrient Grid:
A17: Drainage:
A18: Soil Texture:
A19: Soil Depth:
A20: Humus Form:
A21: LFH Depth:
A22: Machine Trafficability:
A23: Slash %:
A24: Slash Coverage:
... A40: Inspector Comments:
A46: Stratum: | B46: C | C46: C | D46: D | E46: D
A47: BGC Zone:
A48: Subzone & Variant:
A49: Site Series:
A50: Moisture/Nutrient Grid:
A51: Drainage:
A52: Soil Texture:
A53: Soil Depth:
A54: Humus Form:
A55: LFH Depth:
A56: Machine Trafficability:
A57: Slash %:
A58: Slash Coverage:
... A74: Inspector Comments:
A80: Stratum: | B80: E | C80: E | D80: F | E80: F
A81: BGC Zone:
A82: Subzone & Variant:
A83: Site Series:
A84: Moisture/Nutrient Grid:
A85: Drainage:
A86: Soil Texture:
A87: Soil Depth:
A88: Humus Form:
A89: LFH Depth:
A90: Machine Trafficability:
A91: Slash %:
A92: Slash Coverage:
... A108: Inspector Comments:
A114: ='Survey Field Checklist'!A110 -> An Inspection Contractor Company Name
A115: ='Survey Field Checklist'!A111 -> 123 St.
A116: ='Survey Field Checklist'!A112 -> Somewhere, BC, V1V 1V1
A117: ='Survey Field Checklist'!A113 -> 250-555-5555
A118: ='Survey Field Checklist'!A114 -> inspectioncontractor@telus.net
A121: Inspector Signature

Sheet Plot Tally Guidance Doc
A1: File: FFT Survey Inspection Template 09-10-09.xls | Z1: Page 3/3
A2: FFT Ministry Survey Standard March 4, 2009 (SD FS925A) | AB2: Note: The Plot Tally Inspection Forms allow for up to 35 inspection plots. Note: If you require >35 plots, once you add in the additional plots you will have to correct the formulas at the bottom of the table for the additional plots.
A3: FFT Survey Inspection Forms
A4: Plot Tally Inspection
C5: Project #: | F5: ='Survey Field Checklist'!#REF! -> #REF! | O5: Opening #: | R5: ='Survey Field Checklist'!#REF! -> #REF! | AB5: Note: Do not delete "unnecessary" plots (i.e., if 5 inspection plots performed, do not delete plots 6-10) as this will cause an error in all of the formulas.
C6: Contract #: | F6: ='Survey Field Checklist'!#REF! -> #REF! | O6: Location: | R6: ='Survey Field Checklist'!E6 -> 1111001-1
C7: Survey Contractor: | F7: ='Survey Field Checklist'!C7 -> ABC Forestry Consulting | O7: Survey Date/s: | R7: ='Survey Field Checklist'!E7 -> 09/10/07
O8: Inspection Date/s: | R8: ='Survey Field Checklist'!E8 -> 09/10/08 | AB8: These two sets of info will populate from the Field Checklist Form.
C9: Inspector: | F9: ='Survey Field Checklist'!C9 -> Doug Fir | O9: Report Date: | R9: ='Survey Field Checklist'!E10 -> 0
B11: Plot | D11: Total | E11: Total | F11: Total | J11: Total Trees | O11: Pref. & Acc. Sp. | Q11: Tot | S11: Pref. & Acc. Sp. | U11: Tot | V11: Plant. | W11: Prep.
A12: # | B12: # | C12: Stratum | D12: Trees | E12: Conifer | F12: Decid | G12: Germ | H12: Sx | I12: Pli | J12: Bl | K12: At | L12: Ac | M12: Ep | N12: =H12 -> Sx | O12: =I12 -> Pli | P12: =J12 -> Bl | Q12: WS | R12: =H12 -> Sx | S12: =I12 -> Pli | T12: =J12 -> Bl | U12: FG | V12: Spots | W12: Spots | X12: Pest | Y12: Live | Z12: Dead | AB12: Note: The Preferred and Acceptable Species have to be corrected for your area.
A13: 1 | D13: =E13+F13 -> 0 | E13: =H13+I13+J13 -> 0 | F13: =K13+L13+M13 -> 0 | Q13: =N13+O13+P13 -> 0 | U13: =R13+S13+T13 -> 0 | AB13: Enter the Contract Surveyors plot number here.
B14: Insp. | D14: =E14+F14 -> 0 | E14: =H14+I14+J14 -> 0 | F14: =K14+L14+M14 -> 0 | Q14: =N14+O14+P14 -> 0 | U14: =R14+S14+T14 -> 0
A15: 2 | D15: =E15+F15 -> 0 | E15: =H15+I15+J15 -> 0 | F15: =K15+L15+M15 -> 0 | Q15: =N15+O15+P15 -> 0 | U15: =R15+S15+T15 -> 0 | AB15: Contract Surveyor's plot data.
B16: Insp. | D16: =E16+F16 -> 0 | E16: =H16+I16+J16 -> 0 | F16: =K16+L16+M16 -> 0 | Q16: =N16+O16+P16 -> 0 | U16: =R16+S16+T16 -> 0 | AB16: Inspector's plot data.
A17: 3 | D17: =E17+F17 -> 0 | E17: =H17+I17+J17 -> 0 | F17: =K17+L17+M17 -> 0 | Q17: =N17+O17+P17 -> 0 | U17: =R17+S17+T17 -> 0
B18: Insp. | D18: =E18+F18 -> 0 | E18: =H18+I18+J18 -> 0 | F18: =K18+L18+M18 -> 0 | Q18: =N18+O18+P18 -> 0 | U18: =R18+S18+T18 -> 0
A19: 4 | D19: =E19+F19 -> 0 | E19: =H19+I19+J19 -> 0 | F19: =K19+L19+M19 -> 0 | Q19: =N19+O19+P19 -> 0 | U19: =R19+S19+T19 -> 0
B20: Insp. | D20: =E20+F20 -> 0 | E20: =H20+I20+J20 -> 0 | F20: =K20+L20+M20 -> 0 | Q20: =N20+O20+P20 -> 0 | U20: =R20+S20+T20 -> 0
A21: 5 | D21: =E21+F21 -> 0 | E21: =H21+I21+J21 -> 0 | F21: =K21+L21+M21 -> 0 | Q21: =N21+O21+P21 -> 0 | U21: =R21+S21+T21 -> 0 | AB21: Total Trees, Conifers, and Deciduous will sum automatically from the individual preferred and acceptable species tallies.
B22: Insp. | D22: =E22+F22 -> 0 | E22: =H22+I22+J22 -> 0 | F22: =K22+L22+M22 -> 0 | Q22: =N22+O22+P22 -> 0 | U22: =R22+S22+T22 -> 0
A23: 6 | D23: =E23+F23 -> 0 | E23: =H23+I23+J23 -> 0 | F23: =K23+L23+M23 -> 0 | Q23: =N23+O23+P23 -> 0 | U23: =R23+S23+T23 -> 0
B24: Insp. | D24: =E24+F24 -> 0 | E24: =H24+I24+J24 -> 0 | F24: =K24+L24+M24 -> 0 | Q24: =N24+O24+P24 -> 0 | U24: =R24+S24+T24 -> 0 | AB24: Well-Spaced and Free Growing tallies will automatically sum.
A25: 7 | D25: =E25+F25 -> 0 | E25: =H25+I25+J25 -> 0 | F25: =K25+L25+M25 -> 0 | Q25: =N25+O25+P25 -> 0 | U25: =R25+S25+T25 -> 0
B26: Insp. | D26: =E26+F26 -> 0 | E26: =H26+I26+J26 -> 0 | F26: =K26+L26+M26 -> 0 | Q26: =N26+O26+P26 -> 0 | U26: =R26+S26+T26 -> 0
A27: 8 | D27: =E27+F27 -> 0 | E27: =H27+I27+J27 -> 0 | F27: =K27+L27+M27 -> 0 | Q27: =N27+O27+P27 -> 0 | U27: =R27+S27+T27 -> 0
B28: Insp. | D28: =E28+F28 -> 0 | E28: =H28+I28+J28 -> 0 | F28: =K28+L28+M28 -> 0 | Q28: =N28+O28+P28 -> 0 | U28: =R28+S28+T28 -> 0
A29: 9 | D29: =E29+F29 -> 0 | E29: =H29+I29+J29 -> 0 | F29: =K29+L29+M29 -> 0 | Q29: =N29+O29+P29 -> 0 | U29: =R29+S29+T29 -> 0
B30: Insp. | D30: =E30+F30 -> 0 | E30: =H30+I30+J30 -> 0 | F30: =K30+L30+M30 -> 0 | Q30: =N30+O30+P30 -> 0 | U30: =R30+S30+T30 -> 0
A31: 10 | D31: =E31+F31 -> 0 | E31: =H31+I31+J31 -> 0 | F31: =K31+L31+M31 -> 0 | Q31: =N31+O31+P31 -> 0 | U31: =R31+S31+T31 -> 0
B32: Insp. | D32: =E32+F32 -> 0 | E32: =H32+I32+J32 -> 0 | F32: =K32+L32+M32 -> 0 | Q32: =N32+O32+P32 -> 0 | U32: =R32+S32+T32 -> 0
C33: Contractor Totals: | D33: =D13+D15+D17+D19+D21+D23+D25+D27+D29+D31 -> 0 | E33: =E13+E15+E17+E19+E21+E23+E25+E27+E29+E31 -> 0 | F33: =F13+F15+F17+F19+F21+F23+F25+F27+F29+F31 -> 0 | G33: =G13+G15+G17+G19+G21+G23+G25+G27+G29+G31 -> 0 | H33: =H13+H15+H17+H19+H21+H23+H25+H27+H29+H31 -> 0 | I33: =I13+I15+I17+I19+I21+I23+I25+I27+I29+I31 -> 0 | J33: =J13+J15+J17+J19+J21+J23+J25+J27+J29+J31 -> 0 | K33: =K13+K15+K17+K19+K21+K23+K25+K27+K29+K31 -> 0 | ... Z33: =Z13+Z15+Z17+Z19+Z21+Z23+Z25+Z27+Z29+Z31 -> 0 | AB33: The data for the Survey Contractor and the Inspector will sum automatically.
C34: Inspector Totals: | D34: =D14+D16+D18+D20+D22+D24+D26+D28+D30+D32 -> 0 | E34: =E14+E16+E18+E20+E22+E24+E26+E28+E30+E32 -> 0 | F34: =F14+F16+F18+F20+F22+F24+F26+F28+F30+F32 -> 0 | G34: =G14+G16+G18+G20+G22+G24+G26+G28+G30+G32 -> 0 | H34: =H14+H16+H18+H20+H22+H24+H26+H28+H30+H32 -> 0 | I34: =I14+I16+I18+I20+I22+I24+I26+I28+I30+I32 -> 0 | J34: =J14+J16+J18+J20+J22+J24+J26+J28+J30+J32 -> 0 | K34: =K14+K16+K18+K20+K22+K24+K26+K28+K30+K32 -> 0 | ... Z34: =Z14+Z16+Z18+Z20+Z22+Z24+Z26+Z28+Z30+Z32 -> 0 | AB34: The percent difference between the Survey Contractor and Inspector will be automatically calculated. Note: 9.10 e, f, g - The Tolerance for Total Trees = +/-20% and for Well-Spaced, Free Growing, and Plantable/Preparable Spots is +/-10%.
C35: % Difference: | D35: =(D33-D34)/D33*100 -> #DIV/0! | Q35: =(Q33-Q34)/Q33*100 -> #DIV/0! | U35: =(U33-U34)/U33*100 -> #DIV/0! | V35: =(V33-V34)/V33*100 -> #DIV/0! | W35: =(W33-W34)/W33*100 -> #DIV/0! | Y35: =(Y33-Y34)/Y33*100 -> #DIV/0! | Z35: =(Z33-Z34)/Z33*100 -> #DIV/0!
C36: Allowable % Tolerance: | D36: +/-20 | Q36: +/-10 | U36: +/-10 | V36: +/-10 | W36: +/-10 | X36: (if NSR)
A37: ='Survey Field Checklist'!A110 -> An Inspection Contractor Company Name
A38: ='Survey Field Checklist'!A111 -> 123 St. | AB38: Note: Satisfactory Work Quality Defined 9.10 a Survey is satisfactory when there are no errors in measurement that exceed allowable errors (Article 9.10 e, f, and g) or, if errors in measurement are found, such errors are not material to the results of the Survey; Where a tolerance is exceeded the Ministry Representative must be notified and the determination of the materiality of the finding noted in the Inspection report.
A39: ='Survey Field Checklist'!A112 -> Somewhere, BC, V1V 1V1
A40: ='Survey Field Checklist'!A113 -> 250-555-5555
A41: ='Survey Field Checklist'!A114 -> inspectioncontractor@telus.net
AB43: This set of info will populate from the Field Checklist Form.
A44: Inspector Signature | AB44: Must be signed by the Inspector.

Sheet Survey Plot Tally 10plots
A1: File: FFT Survey Inspection Template 09-10-09.xls | Z1: Page 3/3
A2: FFT Ministry Survey Standard March 4, 2009 (SD FS925A)
A3: FFT Survey Inspection Forms
A4: Plot Tally Inspection
C5: Project #: | F5: ='Survey Field Checklist'!#REF! -> #REF! | O5: Opening #: | R5: ='Survey Field Checklist'!#REF! -> #REF!
C6: Contract #: | F6: ='Survey Field Checklist'!#REF! -> #REF! | O6: Location: | R6: ='Survey Field Checklist'!E6 -> 1111001-1
C7: Survey Contractor: | F7: ='Survey Field Checklist'!C7 -> ABC Forestry Consulting | O7: Survey Date/s: | R7: ='Survey Field Checklist'!E7 -> 09/10/07
O8: Inspection Date/s: | R8: ='Survey Field Checklist'!E8 -> 09/10/08
C9: Inspector: | F9: ='Survey Field Checklist'!C9 -> Doug Fir | O9: Report Date: | R9: ='Survey Field Checklist'!E10 -> 0
B11: Plot | D11: Total | E11: Total | F11: Total | J11: Total Trees | O11: Pref. & Acc. Sp. | Q11: Tot | S11: Pref. & Acc. Sp. | U11: Tot | V11: Plant. | W11: Prep.
A12: # | B12: # | C12: Stratum | D12: Trees | E12: Conifer | F12: Decid | G12: Germ | H12: Sx | I12: Pli | J12: Bl | K12: At | L12: Ac | M12: Ep | N12: =H12 -> Sx | O12: =I12 -> Pli | P12: =J12 -> Bl | Q12: WS | R12: =H12 -> Sx | S12: =I12 -> Pli | T12: =J12 -> Bl | U12: FG | V12: Spots | W12: Spots | X12: Pest | Y12: Live | Z12: Dead
A13: 1 | D13: =E13+F13 -> 0 | E13: =H13+I13+J13 -> 0 | F13: =K13+L13+M13 -> 0 | Q13: =N13+O13+P13 -> 0 | U13: =R13+S13+T13 -> 0
B14: Insp. | D14: =E14+F14 -> 0 | E14: =H14+I14+J14 -> 0 | F14: =K14+L14+M14 -> 0 | Q14: =N14+O14+P14 -> 0 | U14: =R14+S14+T14 -> 0
A15: 2 | D15: =E15+F15 -> 0 | E15: =H15+I15+J15 -> 0 | F15: =K15+L15+M15 -> 0 | Q15: =N15+O15+P15 -> 0 | U15: =R15+S15+T15 -> 0
B16: Insp. | D16: =E16+F16 -> 0 | E16: =H16+I16+J16 -> 0 | F16: =K16+L16+M16 -> 0 | Q16: =N16+O16+P16 -> 0 | U16: =R16+S16+T16 -> 0
A17: 3 | D17: =E17+F17 -> 0 | E17: =H17+I17+J17 -> 0 | F17: =K17+L17+M17 -> 0 | Q17: =N17+O17+P17 -> 0 | U17: =R17+S17+T17 -> 0
B18: Insp. | D18: =E18+F18 -> 0 | E18: =H18+I18+J18 -> 0 | F18: =K18+L18+M18 -> 0 | Q18: =N18+O18+P18 -> 0 | U18: =R18+S18+T18 -> 0
A19: 4 | D19: =E19+F19 -> 0 | E19: =H19+I19+J19 -> 0 | F19: =K19+L19+M19 -> 0 | Q19: =N19+O19+P19 -> 0 | U19: =R19+S19+T19 -> 0
B20: Insp. | D20: =E20+F20 -> 0 | E20: =H20+I20+J20 -> 0 | F20: =K20+L20+M20 -> 0 | Q20: =N20+O20+P20 -> 0 | U20: =R20+S20+T20 -> 0
A21: 5 | D21: =E21+F21 -> 0 | E21: =H21+I21+J21 -> 0 | F21: =K21+L21+M21 -> 0 | Q21: =N21+O21+P21 -> 0 | U21: =R21+S21+T21 -> 0
B22: Insp. | D22: =E22+F22 -> 0 | E22: =H22+I22+J22 -> 0 | F22: =K22+L22+M22 -> 0 | Q22: =N22+O22+P22 -> 0 | U22: =R22+S22+T22 -> 0
A23: 6 | D23: =E23+F23 -> 0 | E23: =H23+I23+J23 -> 0 | F23: =K23+L23+M23 -> 0 | Q23: =N23+O23+P23 -> 0 | U23: =R23+S23+T23 -> 0
B24: Insp. | D24: =E24+F24 -> 0 | E24: =H24+I24+J24 -> 0 | F24: =K24+L24+M24 -> 0 | Q24: =N24+O24+P24 -> 0 | U24: =R24+S24+T24 -> 0
A25: 7 | D25: =E25+F25 -> 0 | E25: =H25+I25+J25 -> 0 | F25: =K25+L25+M25 -> 0 | Q25: =N25+O25+P25 -> 0 | U25: =R25+S25+T25 -> 0
B26: Insp. | D26: =E26+F26 -> 0 | E26: =H26+I26+J26 -> 0 | F26: =K26+L26+M26 -> 0 | Q26: =N26+O26+P26 -> 0 | U26: =R26+S26+T26 -> 0
A27: 8 | D27: =E27+F27 -> 0 | E27: =H27+I27+J27 -> 0 | F27: =K27+L27+M27 -> 0 | Q27: =N27+O27+P27 -> 0 | U27: =R27+S27+T27 -> 0
B28: Insp. | D28: =E28+F28 -> 0 | E28: =H28+I28+J28 -> 0 | F28: =K28+L28+M28 -> 0 | Q28: =N28+O28+P28 -> 0 | U28: =R28+S28+T28 -> 0
A29: 9 | D29: =E29+F29 -> 0 | E29: =H29+I29+J29 -> 0 | F29: =K29+L29+M29 -> 0 | Q29: =N29+O29+P29 -> 0 | U29: =R29+S29+T29 -> 0
B30: Insp. | D30: =E30+F30 -> 0 | E30: =H30+I30+J30 -> 0 | F30: =K30+L30+M30 -> 0 | Q30: =N30+O30+P30 -> 0 | U30: =R30+S30+T30 -> 0
A31: 10 | D31: =E31+F31 -> 0 | E31: =H31+I31+J31 -> 0 | F31: =K31+L31+M31 -> 0 | Q31: =N31+O31+P31 -> 0 | U31: =R31+S31+T31 -> 0
B32: Insp. | D32: =E32+F32 -> 0 | E32: =H32+I32+J32 -> 0 | F32: =K32+L32+M32 -> 0 | Q32: =N32+O32+P32 -> 0 | U32: =R32+S32+T32 -> 0
C33: Contractor Totals: | D33: =D13+D15+D17+D19+D21+D23+D25+D27+D29+D31 -> 0 | E33: =E13+E15+E17+E19+E21+E23+E25+E27+E29+E31 -> 0 | F33: =F13+F15+F17+F19+F21+F23+F25+F27+F29+F31 -> 0 | G33: =G13+G15+G17+G19+G21+G23+G25+G27+G29+G31 -> 0 | H33: =H13+H15+H17+H19+H21+H23+H25+H27+H29+H31 -> 0 | I33: =I13+I15+I17+I19+I21+I23+I25+I27+I29+I31 -> 0 | J33: =J13+J15+J17+J19+J21+J23+J25+J27+J29+J31 -> 0 | K33: =K13+K15+K17+K19+K21+K23+K25+K27+K29+K31 -> 0 | ... Z33: =Z13+Z15+Z17+Z19+Z21+Z23+Z25+Z27+Z29+Z31 -> 0
C34: Inspector Totals: | D34: =D14+D16+D18+D20+D22+D24+D26+D28+D30+D32 -> 0 | E34: =E14+E16+E18+E20+E22+E24+E26+E28+E30+E32 -> 0 | F34: =F14+F16+F18+F20+F22+F24+F26+F28+F30+F32 -> 0 | G34: =G14+G16+G18+G20+G22+G24+G26+G28+G30+G32 -> 0 | H34: =H14+H16+H18+H20+H22+H24+H26+H28+H30+H32 -> 0 | I34: =I14+I16+I18+I20+I22+I24+I26+I28+I30+I32 -> 0 | J34: =J14+J16+J18+J20+J22+J24+J26+J28+J30+J32 -> 0 | K34: =K14+K16+K18+K20+K22+K24+K26+K28+K30+K32 -> 0 | ... Z34: =Z14+Z16+Z18+Z20+Z22+Z24+Z26+Z28+Z30+Z32 -> 0
C35: % Difference: | D35: =(D33-D34)/D33*100 -> #DIV/0! | Q35: =(Q33-Q34)/Q33*100 -> #DIV/0! | U35: =(U33-U34)/U33*100 -> #DIV/0! | V35: =(V33-V34)/V33*100 -> #DIV/0! | W35: =(W33-W34)/W33*100 -> #DIV/0! | Y35: =(Y33-Y34)/Y33*100 -> #DIV/0! | Z35: =(Z33-Z34)/Z33*100 -> #DIV/0!
C36: Allowable % Tolerance: | D36: +/-20 | Q36: +/-10 | U36: +/-10 | V36: +/-10 | W36: +/-10 | X36: (if NSR)
A37: ='Survey Field Checklist'!A110 -> An Inspection Contractor Company Name
A38: ='Survey Field Checklist'!A111 -> 123 St.
A39: ='Survey Field Checklist'!A112 -> Somewhere, BC, V1V 1V1
A40: ='Survey Field Checklist'!A113 -> 250-555-5555
A41: ='Survey Field Checklist'!A114 -> inspectioncontractor@telus.net
A44: Inspector Signature

Sheet Plot Tally 20plots
A1: File: FFT Survey Inspection Template 09-10-09.xls | Z1: Page 3/3
A2: FFT Ministry Survey Standard March 4, 2009 (SD FS925A)
A3: FFT Survey Inspection Forms
A4: Plot Tally Inspection
C5: Project #: | F5: ='Survey Field Checklist'!#REF! -> #REF! | O5: Opening #: | R5: ='Survey Field Checklist'!#REF! -> #REF!
C6: Contract #: | F6: ='Survey Field Checklist'!#REF! -> #REF! | O6: Location: | R6: ='Survey Field Checklist'!E6 -> 1111001-1
C7: Survey Contractor: | F7: ='Survey Field Checklist'!C7 -> ABC Forestry Consulting | O7: Survey Date/s: | R7: ='Survey Field Checklist'!E7 -> 09/10/07
O8: Inspection Date/s: | R8: ='Survey Field Checklist'!E8 -> 09/10/08
C9: Inspector: | F9: ='Survey Field Checklist'!C9 -> Doug Fir | O9: Report Date: | R9: ='Survey Field Checklist'!E10 -> 0
B11: Plot | D11: Total | E11: Total | F11: Total | J11: Total Trees | O11: Pref. & Acc. Sp. | Q11: Tot | S11: Pref. & Acc. Sp. | U11: Tot | V11: Plant. | W11: Prep.
A12: # | B12: # | C12: Stratum | D12: Trees | E12: Conifer | F12: Decid | G12: Germ | H12: Sx | I12: Pli | J12: Bl | K12: At | L12: Ac | M12: Ep | N12: =H12 -> Sx | O12: =I12 -> Pli | P12: =J12 -> Bl | Q12: WS | R12: =H12 -> Sx | S12: =I12 -> Pli | T12: =J12 -> Bl | U12: FG | V12: Spots | W12: Spots | X12: Pest | Y12: Live | Z12: Dead
A13: 1 | D13: =E13+F13 -> 0 | E13: =H13+I13+J13 -> 0 | F13: =K13+L13+M13 -> 0 | Q13: =N13+O13+P13 -> 0 | U13: =R13+S13+T13 -> 0
B14: Insp. | D14: =E14+F14 -> 0 | E14: =H14+I14+J14 -> 0 | F14: =K14+L14+M14 -> 0 | Q14: =N14+O14+P14 -> 0 | U14: =R14+S14+T14 -> 0
A15: 2 | D15: =E15+F15 -> 0 | E15: =H15+I15+J15 -> 0 | F15: =K15+L15+M15 -> 0 | Q15: =N15+O15+P15 -> 0 | U15: =R15+S15+T15 -> 0
B16: Insp. | D16: =E16+F16 -> 0 | E16: =H16+I16+J16 -> 0 | F16: =K16+L16+M16 -> 0 | Q16: =N16+O16+P16 -> 0 | U16: =R16+S16+T16 -> 0
A17: 3 | D17: =E17+F17 -> 0 | E17: =H17+I17+J17 -> 0 | F17: =K17+L17+M17 -> 0 | Q17: =N17+O17+P17 -> 0 | U17: =R17+S17+T17 -> 0
B18: Insp. | D18: =E18+F18 -> 0 | E18: =H18+I18+J18 -> 0 | F18: =K18+L18+M18 -> 0 | Q18: =N18+O18+P18 -> 0 | U18: =R18+S18+T18 -> 0
A19: 4 | D19: =E19+F19 -> 0 | E19: =H19+I19+J19 -> 0 | F19: =K19+L19+M19 -> 0 | Q19: =N19+O19+P19 -> 0 | U19: =R19+S19+T19 -> 0
B20: Insp. | D20: =E20+F20 -> 0 | E20: =H20+I20+J20 -> 0 | F20: =K20+L20+M20 -> 0 | Q20: =N20+O20+P20 -> 0 | U20: =R20+S20+T20 -> 0
A21: 5 | D21: =E21+F21 -> 0 | E21: =H21+I21+J21 -> 0 | F21: =K21+L21+M21 -> 0 | Q21: =N21+O21+P21 -> 0 | U21: =R21+S21+T21 -> 0
B22: Insp. | D22: =E22+F22 -> 0 | E22: =H22+I22+J22 -> 0 | F22: =K22+L22+M22 -> 0 | Q22: =N22+O22+P22 -> 0 | U22: =R22+S22+T22 -> 0
A23: 6 | D23: =E23+F23 -> 0 | E23: =H23+I23+J23 -> 0 | F23: =K23+L23+M23 -> 0 | Q23: =N23+O23+P23 -> 0 | U23: =R23+S23+T23 -> 0
B24: Insp. | D24: =E24+F24 -> 0 | E24: =H24+I24+J24 -> 0 | F24: =K24+L24+M24 -> 0 | Q24: =N24+O24+P24 -> 0 | U24: =R24+S24+T24 -> 0
A25: 7 | D25: =E25+F25 -> 0 | E25: =H25+I25+J25 -> 0 | F25: =K25+L25+M25 -> 0 | Q25: =N25+O25+P25 -> 0 | U25: =R25+S25+T25 -> 0
B26: Insp. | D26: =E26+F26 -> 0 | E26: =H26+I26+J26 -> 0 | F26: =K26+L26+M26 -> 0 | Q26: =N26+O26+P26 -> 0 | U26: =R26+S26+T26 -> 0
A27: 8 | D27: =E27+F27 -> 0 | E27: =H27+I27+J27 -> 0 | F27: =K27+L27+M27 -> 0 | Q27: =N27+O27+P27 -> 0 | U27: =R27+S27+T27 -> 0
B28: Insp. | D28: =E28+F28 -> 0 | E28: =H28+I28+J28 -> 0 | F28: =K28+L28+M28 -> 0 | Q28: =N28+O28+P28 -> 0 | U28: =R28+S28+T28 -> 0
A29: 9 | D29: =E29+F29 -> 0 | E29: =H29+I29+J29 -> 0 | F29: =K29+L29+M29 -> 0 | Q29: =N29+O29+P29 -> 0 | U29: =R29+S29+T29 -> 0
B30: Insp. | D30: =E30+F30 -> 0 | E30: =H30+I30+J30 -> 0 | F30: =K30+L30+M30 -> 0 | Q30: =N30+O30+P30 -> 0 | U30: =R30+S30+T30 -> 0
A31: 10 | D31: =E31+F31 -> 0 | E31: =H31+I31+J31 -> 0 | F31: =K31+L31+M31 -> 0 | Q31: =N31+O31+P31 -> 0 | U31: =R31+S31+T31 -> 0
B32: Insp. | D32: =E32+F32 -> 0 | E32: =H32+I32+J32 -> 0 | F32: =K32+L32+M32 -> 0 | Q32: =N32+O32+P32 -> 0 | U32: =R32+S32+T32 -> 0
A33: 11 | D33: =E33+F33 -> 0 | E33: =H33+I33+J33 -> 0 | F33: =K33+L33+M33 -> 0 | Q33: =N33+O33+P33 -> 0 | U33: =R33+S33+T33 -> 0
B34: Insp. | D34: =E34+F34 -> 0 | E34: =H34+I34+J34 -> 0 | F34: =K34+L34+M34 -> 0 | Q34: =N34+O34+P34 -> 0 | U34: =R34+S34+T34 -> 0
A35: 12 | D35: =E35+F35 -> 0 | E35: =H35+I35+J35 -> 0 | F35: =K35+L35+M35 -> 0 | Q35: =N35+O35+P35 -> 0 | U35: =R35+S35+T35 -> 0
B36: Insp. | D36: =E36+F36 -> 0 | E36: =H36+I36+J36 -> 0 | F36: =K36+L36+M36 -> 0 | Q36: =N36+O36+P36 -> 0 | U36: =R36+S36+T36 -> 0
A37: 13 | D37: =E37+F37 -> 0 | E37: =H37+I37+J37 -> 0 | F37: =K37+L37+M37 -> 0 | Q37: =N37+O37+P37 -> 0 | U37: =R37+S37+T37 -> 0
B38: Insp. | D38: =E38+F38 -> 0 | E38: =H38+I38+J38 -> 0 | F38: =K38+L38+M38 -> 0 | Q38: =N38+O38+P38 -> 0 | U38: =R38+S38+T38 -> 0
A39: 14 | D39: =E39+F39 -> 0 | E39: =H39+I39+J39 -> 0 | F39: =K39+L39+M39 -> 0 | Q39: =N39+O39+P39 -> 0 | U39: =R39+S39+T39 -> 0
B40: Insp. | D40: =E40+F40 -> 0 | E40: =H40+I40+J40 -> 0 | F40: =K40+L40+M40 -> 0 | Q40: =N40+O40+P40 -> 0 | U40: =R40+S40+T40 -> 0
A41: 15 | D41: =E41+F41 -> 0 | E41: =H41+I41+J41 -> 0 | F41: =K41+L41+M41 -> 0 | Q41: =N41+O41+P41 -> 0 | U41: =R41+S41+T41 -> 0
B42: Insp. | D42: =E42+F42 -> 0 | E42: =H42+I42+J42 -> 0 | F42: =K42+L42+M42 -> 0 | Q42: =N42+O42+P42 -> 0 | U42: =R42+S42+T42 -> 0
A43: 16 | D43: =E43+F43 -> 0 | E43: =H43+I43+J43 -> 0 | F43: =K43+L43+M43 -> 0 | Q43: =N43+O43+P43 -> 0 | U43: =R43+S43+T43 -> 0
B44: Insp. | D44: =E44+F44 -> 0 | E44: =H44+I44+J44 -> 0 | F44: =K44+L44+M44 -> 0 | Q44: =N44+O44+P44 -> 0 | U44: =R44+S44+T44 -> 0
A45: 17 | D45: =E45+F45 -> 0 | E45: =H45+I45+J45 -> 0 | F45: =K45+L45+M45 -> 0 | Q45: =N45+O45+P45 -> 0 | U45: =R45+S45+T45 -> 0
B46: Insp. | D46: =E46+F46 -> 0 | E46: =H46+I46+J46 -> 0 | F46: =K46+L46+M46 -> 0 | Q46: =N46+O46+P46 -> 0 | U46: =R46+S46+T46 -> 0
A47: 18 | D47: =E47+F47 -> 0 | E47: =H47+I47+J47 -> 0 | F47: =K47+L47+M47 -> 0 | Q47: =N47+O47+P47 -> 0 | U47: =R47+S47+T47 -> 0
B48: Insp. | D48: =E48+F48 -> 0 | E48: =H48+I48+J48 -> 0 | F48: =K48+L48+M48 -> 0 | Q48: =N48+O48+P48 -> 0 | U48: =R48+S48+T48 -> 0
A49: 19 | D49: =E49+F49 -> 0 | E49: =H49+I49+J49 -> 0 | F49: =K49+L49+M49 -> 0 | Q49: =N49+O49+P49 -> 0 | U49: =R49+S49+T49 -> 0
B50: Insp. | D50: =E50+F50 -> 0 | E50: =H50+I50+J50 -> 0 | F50: =K50+L50+M50 -> 0 | Q50: =N50+O50+P50 -> 0 | U50: =R50+S50+T50 -> 0
A51: 20 | D51: =E51+F51 -> 0 | E51: =H51+I51+J51 -> 0 | F51: =K51+L51+M51 -> 0 | Q51: =N51+O51+P51 -> 0 | U51: =R51+S51+T51 -> 0
B52: Insp. | D52: =E52+F52 -> 0 | E52: =H52+I52+J52 -> 0 | F52: =K52+L52+M52 -> 0 | Q52: =N52+O52+P52 -> 0 | U52: =R52+S52+T52 -> 0
C53: Contractor Totals: | D53: =D13+D15+D17+D19+D21+D23+D25+D27+D29+D31+D33+D35+D37+D39+D41+D43+D45+D47+D49+D51 -> 0 | E53: =E13+E15+E17+E19+E21+E23+E25+E27+E29+E31+E33+E35+E37+E39+E41+E43+E45+E47+E49+E51 -> 0 | F53: =F13+F15+F17+F19+F21+F23+F25+F27+F29+F31+F33+F35+F37+F39+F41+F43+F45+F47+F49+F51 -> 0 | G53: =G13+G15+G17+G19+G21+G23+G25+G27+G29+G31+G33+G35+G37+G39+G41+G43+G45+G47+G49+G51 -> 0 | H53: =H13+H15+H17+H19+H21+H23+H25+H27+H29+H31+H33+H35+H37+H39+H41+H43+H45+H47+H49+H51 -> 0 | I53: =I13+I15+I17+I19+I21+I23+I25+I27+I29+I31+I33+I35+I37+I39+I41+I43+I45+I47+I49+I51 -> 0 | J53: =J13+J15+J17+J19+J21+J23+J25+J27+J29+J31+J33+J35+J37+J39+J41+J43+J45+J47+J49+J51 -> 0 | K53: =K13+K15+K17+K19+K21+K23+K25+K27+K29+K31+K33+K35+K37+K39+K41+K43+K45+K47+K49+K51 -> 0 | ... Z53: =Z13+Z15+Z17+Z19+Z21+Z23+Z25+Z27+Z29+Z31+Z33+Z35+Z37+Z39+Z41+Z43+Z45+Z47+Z49+Z51 -> 0
C54: Inspector Totals: | D54: =D14+D16+D18+D20+D22+D24+D26+D28+D30+D32+D34+D36+D38+D40+D42+D44+D46+D48+D50+D52 -> 0 | E54: =E14+E16+E18+E20+E22+E24+E26+E28+E30+E32+E34+E36+E38+E40+E42+E44+E46+E48+E50+E52 -> 0 | F54: =F14+F16+F18+F20+F22+F24+F26+F28+F30+F32+F34+F36+F38+F40+F42+F44+F46+F48+F50+F52 -> 0 | G54: =G14+G16+G18+G20+G22+G24+G26+G28+G30+G32+G34+G36+G38+G40+G42+G44+G46+G48+G50+G52 -> 0 | H54: =H14+H16+H18+H20+H22+H24+H26+H28+H30+H32+H34+H36+H38+H40+H42+H44+H46+H48+H50+H52 -> 0 | I54: =I14+I16+I18+I20+I22+I24+I26+I28+I30+I32+I34+I36+I38+I40+I42+I44+I46+I48+I50+I52 -> 0 | J54: =J14+J16+J18+J20+J22+J24+J26+J28+J30+J32+J34+J36+J38+J40+J42+J44+J46+J48+J50+J52 -> 0 | K54: =K14+K16+K18+K20+K22+K24+K26+K28+K30+K32+K34+K36+K38+K40+K42+K44+K46+K48+K50+K52 -> 0 | ... Z54: =Z14+Z16+Z18+Z20+Z22+Z24+Z26+Z28+Z30+Z32+Z34+Z36+Z38+Z40+Z42+Z44+Z46+Z48+Z50+Z52 -> 0
C55: % Difference: | D55: =(D53-D54)/D53*100 -> #DIV/0! | Q55: =(Q53-Q54)/Q53*100 -> #DIV/0! | U55: =(U53-U54)/U53*100 -> #DIV/0! | V55: =(V53-V54)/V53*100 -> #DIV/0! | W55: =(W53-W54)/W53*100 -> #DIV/0! | Y55: =(Y53-Y54)/Y53*100 -> #DIV/0! | Z55: =(Z53-Z54)/Z53*100 -> #DIV/0!
C56: Allowable % Tolerance: | D56: +/-20 | Q56: +/-10 | U56: +/-10 | V56: +/-10 | W56: +/-10 | X56: (if NSR)
A57: ='Survey Field Checklist'!A110 -> An Inspection Contractor Company Name
A58: ='Survey Field Checklist'!A111 -> 123 St.
A59: ='Survey Field Checklist'!A112 -> Somewhere, BC, V1V 1V1
A60: ='Survey Field Checklist'!A113 -> 250-555-5555
A61: ='Survey Field Checklist'!A114 -> inspectioncontractor@telus.net
A64: Inspector Signature

Sheet Plot Tally 25plots
A1: File: FFT Survey Inspection Template 09-10-09.xls | Z1: Page 3/3
A2: FFT Ministry Survey Standard March 4, 2009 (SD FS925A)
A3: FFT Survey Inspection Forms
A4: Plot Tally Inspection
C5: Project #: | F5: ='Survey Field Checklist'!#REF! -> #REF! | O5: Opening #: | R5: ='Survey Field Checklist'!#REF! -> #REF!
C6: Contract #: | F6: ='Survey Field Checklist'!#REF! -> #REF! | O6: Location: | R6: ='Survey Field Checklist'!E6 -> 1111001-1
C7: Survey Contractor: | F7: ='Survey Field Checklist'!C7 -> ABC Forestry Consulting | O7: Survey Date/s: | R7: ='Survey Field Checklist'!E7 -> 09/10/07
O8: Inspection Date/s: | R8: ='Survey Field Checklist'!E8 -> 09/10/08
C9: Inspector: | F9: ='Survey Field Checklist'!C9 -> Doug Fir | O9: Report Date: | R9: ='Survey Field Checklist'!E10 -> 0
B11: Plot | D11: Total | E11: Total | F11: Total | J11: Total Trees | O11: Pref. & Acc. Sp. | Q11: Tot | S11: Pref. & Acc. Sp. | U11: Tot | V11: Plant. | W11: Prep.
A12: # | B12: # | C12: Stratum | D12: Trees | E12: Conifer | F12: Decid | G12: Germ | H12: Sx | I12: Pli | J12: Bl | K12: At | L12: Ac | M12: Ep | N12: =H12 -> Sx | O12: =I12 -> Pli | P12: =J12 -> Bl | Q12: WS | R12: =H12 -> Sx | S12: =I12 -> Pli | T12: =J12 -> Bl | U12: FG | V12: Spots | W12: Spots | X12: Pest | Y12: Live | Z12: Dead
A13: 1 | D13: =E13+F13 -> 0 | E13: =H13+I13+J13 -> 0 | F13: =K13+L13+M13 -> 0 | Q13: =N13+O13+P13 -> 0 | U13: =R13+S13+T13 -> 0
B14: Insp. | D14: =E14+F14 -> 0 | E14: =H14+I14+J14 -> 0 | F14: =K14+L14+M14 -> 0 | Q14: =N14+O14+P14 -> 0 | U14: =R14+S14+T14 -> 0
A15: 2 | D15: =E15+F15 -> 0 | E15: =H15+I15+J15 -> 0 | F15: =K15+L15+M15 -> 0 | Q15: =N15+O15+P15 -> 0 | U15: =R15+S15+T15 -> 0
B16: Insp. | D16: =E16+F16 -> 0 | E16: =H16+I16+J16 -> 0 | F16: =K16+L16+M16 -> 0 | Q16: =N16+O16+P16 -> 0 | U16: =R16+S16+T16 -> 0
A17: 3 | D17: =E17+F17 -> 0 | E17: =H17+I17+J17 -> 0 | F17: =K17+L17+M17 -> 0 | Q17: =N17+O17+P17 -> 0 | U17: =R17+S17+T17 -> 0
B18: Insp. | D18: =E18+F18 -> 0 | E18: =H18+I18+J18 -> 0 | F18: =K18+L18+M18 -> 0 | Q18: =N18+O18+P18 -> 0 | U18: =R18+S18+T18 -> 0
A19: 4 | D19: =E19+F19 -> 0 | E19: =H19+I19+J19 -> 0 | F19: =K19+L19+M19 -> 0 | Q19: =N19+O19+P19 -> 0 | U19: =R19+S19+T19 -> 0
B20: Insp. | D20: =E20+F20 -> 0 | E20: =H20+I20+J20 -> 0 | F20: =K20+L20+M20 -> 0 | Q20: =N20+O20+P20 -> 0 | U20: =R20+S20+T20 -> 0
A21: 5 | D21: =E21+F21 -> 0 | E21: =H21+I21+J21 -> 0 | F21: =K21+L21+M21 -> 0 | Q21: =N21+O21+P21 -> 0 | U21: =R21+S21+T21 -> 0
B22: Insp. | D22: =E22+F22 -> 0 | E22: =H22+I22+J22 -> 0 | F22: =K22+L22+M22 -> 0 | Q22: =N22+O22+P22 -> 0 | U22: =R22+S22+T22 -> 0
A23: 6 | D23: =E23+F23 -> 0 | E23: =H23+I23+J23 -> 0 | F23: =K23+L23+M23 -> 0 | Q23: =N23+O23+P23 -> 0 | U23: =R23+S23+T23 -> 0
B24: Insp. | D24: =E24+F24 -> 0 | E24: =H24+I24+J24 -> 0 | F24: =K24+L24+M24 -> 0 | Q24: =N24+O24+P24 -> 0 | U24: =R24+S24+T24 -> 0
A25: 7 | D25: =E25+F25 -> 0 | E25: =H25+I25+J25 -> 0 | F25: =K25+L25+M25 -> 0 | Q25: =N25+O25+P25 -> 0 | U25: =R25+S25+T25 -> 0
B26: Insp. | D26: =E26+F26 -> 0 | E26: =H26+I26+J26 -> 0 | F26: =K26+L26+M26 -> 0 | Q26: =N26+O26+P26 -> 0 | U26: =R26+S26+T26 -> 0
A27: 8 | D27: =E27+F27 -> 0 | E27: =H27+I27+J27 -> 0 | F27: =K27+L27+M27 -> 0 | Q27: =N27+O27+P27 -> 0 | U27: =R27+S27+T27 -> 0
B28: Insp. | D28: =E28+F28 -> 0 | E28: =H28+I28+J28 -> 0 | F28: =K28+L28+M28 -> 0 | Q28: =N28+O28+P28 -> 0 | U28: =R28+S28+T28 -> 0
A29: 9 | D29: =E29+F29 -> 0 | E29: =H29+I29+J29 -> 0 | F29: =K29+L29+M29 -> 0 | Q29: =N29+O29+P29 -> 0 | U29: =R29+S29+T29 -> 0
B30: Insp. | D30: =E30+F30 -> 0 | E30: =H30+I30+J30 -> 0 | F30: =K30+L30+M30 -> 0 | Q30: =N30+O30+P30 -> 0 | U30: =R30+S30+T30 -> 0
A31: 10 | D31: =E31+F31 -> 0 | E31: =H31+I31+J31 -> 0 | F31: =K31+L31+M31 -> 0 | Q31: =N31+O31+P31 -> 0 | U31: =R31+S31+T31 -> 0
B32: Insp. | D32: =E32+F32 -> 0 | E32: =H32+I32+J32 -> 0 | F32: =K32+L32+M32 -> 0 | Q32: =N32+O32+P32 -> 0 | U32: =R32+S32+T32 -> 0
A33: 11 | D33: =E33+F33 -> 0 | E33: =H33+I33+J33 -> 0 | F33: =K33+L33+M33 -> 0 | Q33: =N33+O33+P33 -> 0 | U33: =R33+S33+T33 -> 0
B34: Insp. | D34: =E34+F34 -> 0 | E34: =H34+I34+J34 -> 0 | F34: =K34+L34+M34 -> 0 | Q34: =N34+O34+P34 -> 0 | U34: =R34+S34+T34 -> 0
A35: 12 | D35: =E35+F35 -> 0 | E35: =H35+I35+J35 -> 0 | F35: =K35+L35+M35 -> 0 | Q35: =N35+O35+P35 -> 0 | U35: =R35+S35+T35 -> 0
B36: Insp. | D36: =E36+F36 -> 0 | E36: =H36+I36+J36 -> 0 | F36: =K36+L36+M36 -> 0 | Q36: =N36+O36+P36 -> 0 | U36: =R36+S36+T36 -> 0
A37: 13 | D37: =E37+F37 -> 0 | E37: =H37+I37+J37 -> 0 | F37: =K37+L37+M37 -> 0 | Q37: =N37+O37+P37 -> 0 | U37: =R37+S37+T37 -> 0
B38: Insp. | D38: =E38+F38 -> 0 | E38: =H38+I38+J38 -> 0 | F38: =K38+L38+M38 -> 0 | Q38: =N38+O38+P38 -> 0 | U38: =R38+S38+T38 -> 0
A39: 14 | D39: =E39+F39 -> 0 | E39: =H39+I39+J39 -> 0 | F39: =K39+L39+M39 -> 0 | Q39: =N39+O39+P39 -> 0 | U39: =R39+S39+T39 -> 0
B40: Insp. | D40: =E40+F40 -> 0 | E40: =H40+I40+J40 -> 0 | F40: =K40+L40+M40 -> 0 | Q40: =N40+O40+P40 -> 0 | U40: =R40+S40+T40 -> 0
A41: 15 | D41: =E41+F41 -> 0 | E41: =H41+I41+J41 -> 0 | F41: =K41+L41+M41 -> 0 | Q41: =N41+O41+P41 -> 0 | U41: =R41+S41+T41 -> 0
B42: Insp. | D42: =E42+F42 -> 0 | E42: =H42+I42+J42 -> 0 | F42: =K42+L42+M42 -> 0 | Q42: =N42+O42+P42 -> 0 | U42: =R42+S42+T42 -> 0
A43: 16 | D43: =E43+F43 -> 0 | E43: =H43+I43+J43 -> 0 | F43: =K43+L43+M43 -> 0 | Q43: =N43+O43+P43 -> 0 | U43: =R43+S43+T43 -> 0
B44: Insp. | D44: =E44+F44 -> 0 | E44: =H44+I44+J44 -> 0 | F44: =K44+L44+M44 -> 0 | Q44: =N44+O44+P44 -> 0 | U44: =R44+S44+T44 -> 0
A45: 17 | D45: =E45+F45 -> 0 | E45: =H45+I45+J45 -> 0 | F45: =K45+L45+M45 -> 0 | Q45: =N45+O45+P45 -> 0 | U45: =R45+S45+T45 -> 0
B46: Insp. | D46: =E46+F46 -> 0 | E46: =H46+I46+J46 -> 0 | F46: =K46+L46+M46 -> 0 | Q46: =N46+O46+P46 -> 0 | U46: =R46+S46+T46 -> 0
A47: 18 | D47: =E47+F47 -> 0 | E47: =H47+I47+J47 -> 0 | F47: =K47+L47+M47 -> 0 | Q47: =N47+O47+P47 -> 0 | U47: =R47+S47+T47 -> 0
B48: Insp. | D48: =E48+F48 -> 0 | E48: =H48+I48+J48 -> 0 | F48: =K48+L48+M48 -> 0 | Q48: =N48+O48+P48 -> 0 | U48: =R48+S48+T48 -> 0
A49: 19 | D49: =E49+F49 -> 0 | E49: =H49+I49+J49 -> 0 | F49: =K49+L49+M49 -> 0 | Q49: =N49+O49+P49 -> 0 | U49: =R49+S49+T49 -> 0
B50: Insp. | D50: =E50+F50 -> 0 | E50: =H50+I50+J50 -> 0 | F50: =K50+L50+M50 -> 0 | Q50: =N50+O50+P50 -> 0 | U50: =R50+S50+T50 -> 0
A51: 20 | D51: =E51+F51 -> 0 | E51: =H51+I51+J51 -> 0 | F51: =K51+L51+M51 -> 0 | Q51: =N51+O51+P51 -> 0 | U51: =R51+S51+T51 -> 0
B52: Insp. | D52: =E52+F52 -> 0 | E52: =H52+I52+J52 -> 0 | F52: =K52+L52+M52 -> 0 | Q52: =N52+O52+P52 -> 0 | U52: =R52+S52+T52 -> 0
A53: 21 | D53: =E53+F53 -> 0 | E53: =H53+I53+J53 -> 0 | F53: =K53+L53+M53 -> 0 | Q53: =N53+O53+P53 -> 0 | U53: =R53+S53+T53 -> 0
B54: Insp. | D54: =E54+F54 -> 0 | E54: =H54+I54+J54 -> 0 | F54: =K54+L54+M54 -> 0 | Q54: =N54+O54+P54 -> 0 | U54: =R54+S54+T54 -> 0
A55: 22 | D55: =E55+F55 -> 0 | E55: =H55+I55+J55 -> 0 | F55: =K55+L55+M55 -> 0 | Q55: =N55+O55+P55 -> 0 | U55: =R55+S55+T55 -> 0
B56: Insp. | D56: =E56+F56 -> 0 | E56: =H56+I56+J56 -> 0 | F56: =K56+L56+M56 -> 0 | Q56: =N56+O56+P56 -> 0 | U56: =R56+S56+T56 -> 0
A57: 23 | D57: =E57+F57 -> 0 | E57: =H57+I57+J57 -> 0 | F57: =K57+L57+M57 -> 0 | Q57: =N57+O57+P57 -> 0 | U57: =R57+S57+T57 -> 0
B58: Insp. | D58: =E58+F58 -> 0 | E58: =H58+I58+J58 -> 0 | F58: =K58+L58+M58 -> 0 | Q58: =N58+O58+P58 -> 0 | U58: =R58+S58+T58 -> 0
A59: 24 | D59: =E59+F59 -> 0 | E59: =H59+I59+J59 -> 0 | F59: =K59+L59+M59 -> 0 | Q59: =N59+O59+P59 -> 0 | U59: =R59+S59+T59 -> 0
B60: Insp. | D60: =E60+F60 -> 0 | E60: =H60+I60+J60 -> 0 | F60: =K60+L60+M60 -> 0 | Q60: =N60+O60+P60 -> 0 | U60: =R60+S60+T60 -> 0
A61: 25 | D61: =E61+F61 -> 0 | E61: =H61+I61+J61 -> 0 | F61: =K61+L61+M61 -> 0 | Q61: =N61+O61+P61 -> 0 | U61: =R61+S61+T61 -> 0
B62: Insp. | D62: =E62+F62 -> 0 | E62: =H62+I62+J62 -> 0 | F62: =K62+L62+M62 -> 0 | Q62: =N62+O62+P62 -> 0 | U62: =R62+S62+T62 -> 0
C63: Contractor Totals: | D63: =D13+D15+D17+D19+D21+D23+D25+D27+D29+D31+D33+D35+D37+D39+D41+D43+D45+D47+D49+D51+D53+D55+D57+D59+D61 -> 0 | E63: =E13+E15+E17+E19+E21+E23+E25+E27+E29+E31+E33+E35+E37+E39+E41+E43+E45+E47+E49+E51+E53+E55+E57+E59+E61 -> 0 | F63: =F13+F15+F17+F19+F21+F23+F25+F27+F29+F31+F33+F35+F37+F39+F41+F43+F45+F47+F49+F51+F53+F55+F57+F59+F61 -> 0 | G63: =G13+G15+G17+G19+G21+G23+G25+G27+G29+G31+G33+G35+G37+G39+G41+G43+G45+G47+G49+G51+G53+G55+G57+G59+G61 -> 0 | H63: =H13+H15+H17+H19+H21+H23+H25+H27+H29+H31+H33+H35+H37+H39+H41+H43+H45+H47+H49+H51+H53+H55+H57+H59+H61 -> 0 | I63: =I13+I15+I17+I19+I21+I23+I25+I27+I29+I31+I33+I35+I37+I39+I41+I43+I45+I47+I49+I51+I53+I55+I57+I59+I61 -> 0 | J63: =J13+J15+J17+J19+J21+J23+J25+J27+J29+J31+J33+J35+J37+J39+J41+J43+J45+J47+J49+J51+J53+J55+J57+J59+J61 -> 0 | K63: =K13+K15+K17+K19+K21+K23+K25+K27+K29+K31+K33+K35+K37+K39+K41+K43+K45+K47+K49+K51+K53+K55+K57+K59+K61 -> 0 | ... Z63: =Z13+Z15+Z17+Z19+Z21+Z23+Z25+Z27+Z29+Z31+Z33+Z35+Z37+Z39+Z41+Z43+Z45+Z47+Z49+Z51+Z53+Z55+Z57+Z59+Z61 -> 0
C64: Inspector Totals: | D64: =D14+D16+D18+D20+D22+D24+D26+D28+D30+D32+D34+D36+D38+D40+D42+D44+D46+D48+D50+D52+D54+D56+D58+D60+D62 -> 0 | E64: =E14+E16+E18+E20+E22+E24+E26+E28+E30+E32+E34+E36+E38+E40+E42+E44+E46+E48+E50+E52+E54+E56+E58+E60+E62 -> 0 | F64: =F14+F16+F18+F20+F22+F24+F26+F28+F30+F32+F34+F36+F38+F40+F42+F44+F46+F48+F50+F52+F54+F56+F58+F60+F62 -> 0 | G64: =G14+G16+G18+G20+G22+G24+G26+G28+G30+G32+G34+G36+G38+G40+G42+G44+G46+G48+G50+G52+G54+G56+G58+G60+G62 -> 0 | H64: =H14+H16+H18+H20+H22+H24+H26+H28+H30+H32+H34+H36+H38+H40+H42+H44+H46+H48+H50+H52+H54+H56+H58+H60+H62 -> 0 | I64: =I14+I16+I18+I20+I22+I24+I26+I28+I30+I32+I34+I36+I38+I40+I42+I44+I46+I48+I50+I52+I54+I56+I58+I60+I62 -> 0 | J64: =J14+J16+J18+J20+J22+J24+J26+J28+J30+J32+J34+J36+J38+J40+J42+J44+J46+J48+J50+J52+J54+J56+J58+J60+J62 -> 0 | K64: =K14+K16+K18+K20+K22+K24+K26+K28+K30+K32+K34+K36+K38+K40+K42+K44+K46+K48+K50+K52+K54+K56+K58+K60+K62 -> 0 | ... Z64: =Z14+Z16+Z18+Z20+Z22+Z24+Z26+Z28+Z30+Z32+Z34+Z36+Z38+Z40+Z42+Z44+Z46+Z48+Z50+Z52+Z54+Z56+Z58+Z60+Z62 -> 0
C65: % Difference: | D65: =(D63-D64)/D63*100 -> #DIV/0! | Q65: =(Q63-Q64)/Q63*100 -> #DIV/0! | U65: =(U63-U64)/U63*100 -> #DIV/0! | V65: =(V63-V64)/V63*100 -> #DIV/0! | W65: =(W63-W64)/W63*100 -> #DIV/0! | Y65: =(Y63-Y64)/Y63*100 -> #DIV/0! | Z65: =(Z63-Z64)/Z63*100 -> #DIV/0!
C66: Allowable % Tolerance: | D66: +/-20 | Q66: +/-10 | U66: +/-10 | V66: +/-10 | W66: +/-10 | X66: (if NSR)
A67: ='Survey Field Checklist'!A110 -> An Inspection Contractor Company Name
A68: ='Survey Field Checklist'!A111 -> 123 St.
A69: ='Survey Field Checklist'!A112 -> Somewhere, BC, V1V 1V1
A70: ='Survey Field Checklist'!A113 -> 250-555-5555
A71: ='Survey Field Checklist'!A114 -> inspectioncontractor@telus.net
A74: Inspector Signature

Sheet Plot Tally 35plots
A1: File: FFT Survey Inspection Template 09-10-09.xls | Z1: Page 3/3
A2: FFT Ministry Survey Standard March 4, 2009 (SD FS925A)
A3: FFT Survey Inspection Forms
A4: Plot Tally Inspection
C5: Project #: | F5: ='Survey Field Checklist'!#REF! -> #REF! | O5: Opening #: | R5: ='Survey Field Checklist'!#REF! -> #REF!
C6: Contract #: | F6: ='Survey Field Checklist'!#REF! -> #REF! | O6: Location: | R6: ='Survey Field Checklist'!E6 -> 1111001-1
C7: Survey Contractor: | F7: ='Survey Field Checklist'!C7 -> ABC Forestry Consulting | O7: Survey Date/s: | R7: ='Survey Field Checklist'!E7 -> 09/10/07
O8: Inspection Date/s: | R8: ='Survey Field Checklist'!E8 -> 09/10/08
C9: Inspector: | F9: ='Survey Field Checklist'!C9 -> Doug Fir | O9: Report Date: | R9: ='Survey Field Checklist'!E10 -> 0
B11: Plot | D11: Total | E11: Total | F11: Total | J11: Total Trees | O11: Pref. & Acc. Sp. | Q11: Tot | S11: Pref. & Acc. Sp. | U11: Tot | V11: Plant. | W11: Prep.
A12: # | B12: # | C12: Stratum | D12: Trees | E12: Conifer | F12: Decid | G12: Germ | H12: Sx | I12: Pli | J12: Bl | K12: At | L12: Ac | M12: Ep | N12: =H12 -> Sx | O12: =I12 -> Pli | P12: =J12 -> Bl | Q12: WS | R12: =H12 -> Sx | S12: =I12 -> Pli | T12: =J12 -> Bl | U12: FG | V12: Spots | W12: Spots | X12: Pest | Y12: Live | Z12: Dead
A13: 1 | D13: =E13+F13 -> 0 | E13: =H13+I13+J13 -> 0 | F13: =K13+L13+M13 -> 0 | Q13: =N13+O13+P13 -> 0 | U13: =R13+S13+T13 -> 0
B14: Insp. | D14: =E14+F14 -> 0 | E14: =H14+I14+J14 -> 0 | F14: =K14+L14+M14 -> 0 | Q14: =N14+O14+P14 -> 0 | U14: =R14+S14+T14 -> 0
A15: 2 | D15: =E15+F15 -> 0 | E15: =H15+I15+J15 -> 0 | F15: =K15+L15+M15 -> 0 | Q15: =N15+O15+P15 -> 0 | U15: =R15+S15+T15 -> 0
B16: Insp. | D16: =E16+F16 -> 0 | E16: =H16+I16+J16 -> 0 | F16: =K16+L16+M16 -> 0 | Q16: =N16+O16+P16 -> 0 | U16: =R16+S16+T16 -> 0
A17: 3 | D17: =E17+F17 -> 0 | E17: =H17+I17+J17 -> 0 | F17: =K17+L17+M17 -> 0 | Q17: =N17+O17+P17 -> 0 | U17: =R17+S17+T17 -> 0
B18: Insp. | D18: =E18+F18 -> 0 | E18: =H18+I18+J18 -> 0 | F18: =K18+L18+M18 -> 0 | Q18: =N18+O18+P18 -> 0 | U18: =R18+S18+T18 -> 0
A19: 4 | D19: =E19+F19 -> 0 | E19: =H19+I19+J19 -> 0 | F19: =K19+L19+M19 -> 0 | Q19: =N19+O19+P19 -> 0 | U19: =R19+S19+T19 -> 0
B20: Insp. | D20: =E20+F20 -> 0 | E20: =H20+I20+J20 -> 0 | F20: =K20+L20+M20 -> 0 | Q20: =N20+O20+P20 -> 0 | U20: =R20+S20+T20 -> 0
A21: 5 | D21: =E21+F21 -> 0 | E21: =H21+I21+J21 -> 0 | F21: =K21+L21+M21 -> 0 | Q21: =N21+O21+P21 -> 0 | U21: =R21+S21+T21 -> 0
B22: Insp. | D22: =E22+F22 -> 0 | E22: =H22+I22+J22 -> 0 | F22: =K22+L22+M22 -> 0 | Q22: =N22+O22+P22 -> 0 | U22: =R22+S22+T22 -> 0
A23: 6 | D23: =E23+F23 -> 0 | E23: =H23+I23+J23 -> 0 | F23: =K23+L23+M23 -> 0 | Q23: =N23+O23+P23 -> 0 | U23: =R23+S23+T23 -> 0
B24: Insp. | D24: =E24+F24 -> 0 | E24: =H24+I24+J24 -> 0 | F24: =K24+L24+M24 -> 0 | Q24: =N24+O24+P24 -> 0 | U24: =R24+S24+T24 -> 0
A25: 7 | D25: =E25+F25 -> 0 | E25: =H25+I25+J25 -> 0 | F25: =K25+L25+M25 -> 0 | Q25: =N25+O25+P25 -> 0 | U25: =R25+S25+T25 -> 0
B26: Insp. | D26: =E26+F26 -> 0 | E26: =H26+I26+J26 -> 0 | F26: =K26+L26+M26 -> 0 | Q26: =N26+O26+P26 -> 0 | U26: =R26+S26+T26 -> 0
A27: 8 | D27: =E27+F27 -> 0 | E27: =H27+I27+J27 -> 0 | F27: =K27+L27+M27 -> 0 | Q27: =N27+O27+P27 -> 0 | U27: =R27+S27+T27 -> 0
B28: Insp. | D28: =E28+F28 -> 0 | E28: =H28+I28+J28 -> 0 | F28: =K28+L28+M28 -> 0 | Q28: =N28+O28+P28 -> 0 | U28: =R28+S28+T28 -> 0
A29: 9 | D29: =E29+F29 -> 0 | E29: =H29+I29+J29 -> 0 | F29: =K29+L29+M29 -> 0 | Q29: =N29+O29+P29 -> 0 | U29: =R29+S29+T29 -> 0
B30: Insp. | D30: =E30+F30 -> 0 | E30: =H30+I30+J30 -> 0 | F30: =K30+L30+M30 -> 0 | Q30: =N30+O30+P30 -> 0 | U30: =R30+S30+T30 -> 0
A31: 10 | D31: =E31+F31 -> 0 | E31: =H31+I31+J31 -> 0 | F31: =K31+L31+M31 -> 0 | Q31: =N31+O31+P31 -> 0 | U31: =R31+S31+T31 -> 0
B32: Insp. | D32: =E32+F32 -> 0 | E32: =H32+I32+J32 -> 0 | F32: =K32+L32+M32 -> 0 | Q32: =N32+O32+P32 -> 0 | U32: =R32+S32+T32 -> 0
A33: 11 | D33: =E33+F33 -> 0 | E33: =H33+I33+J33 -> 0 | F33: =K33+L33+M33 -> 0 | Q33: =N33+O33+P33 -> 0 | U33: =R33+S33+T33 -> 0
B34: Insp. | D34: =E34+F34 -> 0 | E34: =H34+I34+J34 -> 0 | F34: =K34+L34+M34 -> 0 | Q34: =N34+O34+P34 -> 0 | U34: =R34+S34+T34 -> 0
A35: 12 | D35: =E35+F35 -> 0 | E35: =H35+I35+J35 -> 0 | F35: =K35+L35+M35 -> 0 | Q35: =N35+O35+P35 -> 0 | U35: =R35+S35+T35 -> 0
B36: Insp. | D36: =E36+F36 -> 0 | E36: =H36+I36+J36 -> 0 | F36: =K36+L36+M36 -> 0 | Q36: =N36+O36+P36 -> 0 | U36: =R36+S36+T36 -> 0
A37: 13 | D37: =E37+F37 -> 0 | E37: =H37+I37+J37 -> 0 | F37: =K37+L37+M37 -> 0 | Q37: =N37+O37+P37 -> 0 | U37: =R37+S37+T37 -> 0
B38: Insp. | D38: =E38+F38 -> 0 | E38: =H38+I38+J38 -> 0 | F38: =K38+L38+M38 -> 0 | Q38: =N38+O38+P38 -> 0 | U38: =R38+S38+T38 -> 0
A39: 14 | D39: =E39+F39 -> 0 | E39: =H39+I39+J39 -> 0 | F39: =K39+L39+M39 -> 0 | Q39: =N39+O39+P39 -> 0 | U39: =R39+S39+T39 -> 0
B40: Insp. | D40: =E40+F40 -> 0 | E40: =H40+I40+J40 -> 0 | F40: =K40+L40+M40 -> 0 | Q40: =N40+O40+P40 -> 0 | U40: =R40+S40+T40 -> 0
A41: 15 | D41: =E41+F41 -> 0 | E41: =H41+I41+J41 -> 0 | F41: =K41+L41+M41 -> 0 | Q41: =N41+O41+P41 -> 0 | U41: =R41+S41+T41 -> 0
B42: Insp. | D42: =E42+F42 -> 0 | E42: =H42+I42+J42 -> 0 | F42: =K42+L42+M42 -> 0 | Q42: =N42+O42+P42 -> 0 | U42: =R42+S42+T42 -> 0
A43: 16 | D43: =E43+F43 -> 0 | E43: =H43+I43+J43 -> 0 | F43: =K43+L43+M43 -> 0 | Q43: =N43+O43+P43 -> 0 | U43: =R43+S43+T43 -> 0
B44: Insp. | D44: =E44+F44 -> 0 | E44: =H44+I44+J44 -> 0 | F44: =K44+L44+M44 -> 0 | Q44: =N44+O44+P44 -> 0 | U44: =R44+S44+T44 -> 0
A45: 17 | D45: =E45+F45 -> 0 | E45: =H45+I45+J45 -> 0 | F45: =K45+L45+M45 -> 0 | Q45: =N45+O45+P45 -> 0 | U45: =R45+S45+T45 -> 0
B46: Insp. | D46: =E46+F46 -> 0 | E46: =H46+I46+J46 -> 0 | F46: =K46+L46+M46 -> 0 | Q46: =N46+O46+P46 -> 0 | U46: =R46+S46+T46 -> 0
A47: 18 | D47: =E47+F47 -> 0 | E47: =H47+I47+J47 -> 0 | F47: =K47+L47+M47 -> 0 | Q47: =N47+O47+P47 -> 0 | U47: =R47+S47+T47 -> 0
B48: Insp. | D48: =E48+F48 -> 0 | E48: =H48+I48+J48 -> 0 | F48: =K48+L48+M48 -> 0 | Q48: =N48+O48+P48 -> 0 | U48: =R48+S48+T48 -> 0
A49: 19 | D49: =E49+F49 -> 0 | E49: =H49+I49+J49 -> 0 | F49: =K49+L49+M49 -> 0 | Q49: =N49+O49+P49 -> 0 | U49: =R49+S49+T49 -> 0
B50: Insp. | D50: =E50+F50 -> 0 | E50: =H50+I50+J50 -> 0 | F50: =K50+L50+M50 -> 0 | Q50: =N50+O50+P50 -> 0 | U50: =R50+S50+T50 -> 0
A51: 20 | D51: =E51+F51 -> 0 | E51: =H51+I51+J51 -> 0 | F51: =K51+L51+M51 -> 0 | Q51: =N51+O51+P51 -> 0 | U51: =R51+S51+T51 -> 0
B52: Insp. | D52: =E52+F52 -> 0 | E52: =H52+I52+J52 -> 0 | F52: =K52+L52+M52 -> 0 | Q52: =N52+O52+P52 -> 0 | U52: =R52+S52+T52 -> 0
A53: 21 | D53: =E53+F53 -> 0 | E53: =H53+I53+J53 -> 0 | F53: =K53+L53+M53 -> 0 | Q53: =N53+O53+P53 -> 0 | U53: =R53+S53+T53 -> 0
B54: Insp. | D54: =E54+F54 -> 0 | E54: =H54+I54+J54 -> 0 | F54: =K54+L54+M54 -> 0 | Q54: =N54+O54+P54 -> 0 | U54: =R54+S54+T54 -> 0
A55: 22 | D55: =E55+F55 -> 0 | E55: =H55+I55+J55 -> 0 | F55: =K55+L55+M55 -> 0 | Q55: =N55+O55+P55 -> 0 | U55: =R55+S55+T55 -> 0
B56: Insp. | D56: =E56+F56 -> 0 | E56: =H56+I56+J56 -> 0 | F56: =K56+L56+M56 -> 0 | Q56: =N56+O56+P56 -> 0 | U56: =R56+S56+T56 -> 0
A57: 23 | D57: =E57+F57 -> 0 | E57: =H57+I57+J57 -> 0 | F57: =K57+L57+M57 -> 0 | Q57: =N57+O57+P57 -> 0 | U57: =R57+S57+T57 -> 0
B58: Insp. | D58: =E58+F58 -> 0 | E58: =H58+I58+J58 -> 0 | F58: =K58+L58+M58 -> 0 | Q58: =N58+O58+P58 -> 0 | U58: =R58+S58+T58 -> 0
A59: 24 | D59: =E59+F59 -> 0 | E59: =H59+I59+J59 -> 0 | F59: =K59+L59+M59 -> 0 | Q59: =N59+O59+P59 -> 0 | U59: =R59+S59+T59 -> 0
B60: Insp. | D60: =E60+F60 -> 0 | E60: =H60+I60+J60 -> 0 | F60: =K60+L60+M60 -> 0 | Q60: =N60+O60+P60 -> 0 | U60: =R60+S60+T60 -> 0
A61: 25 | D61: =E61+F61 -> 0 | E61: =H61+I61+J61 -> 0 | F61: =K61+L61+M61 -> 0 | Q61: =N61+O61+P61 -> 0 | U61: =R61+S61+T61 -> 0
B62: Insp. | D62: =E62+F62 -> 0 | E62: =H62+I62+J62 -> 0 | F62: =K62+L62+M62 -> 0 | Q62: =N62+O62+P62 -> 0 | U62: =R62+S62+T62 -> 0
A63: 26 | D63: =E63+F63 -> 0 | E63: =H63+I63+J63 -> 0 | F63: =K63+L63+M63 -> 0 | Q63: =N63+O63+P63 -> 0 | U63: =R63+S63+T63 -> 0
B64: Insp. | D64: =E64+F64 -> 0 | E64: =H64+I64+J64 -> 0 | F64: =K64+L64+M64 -> 0 | Q64: =N64+O64+P64 -> 0 | U64: =R64+S64+T64 -> 0
A65: 27 | D65: =E65+F65 -> 0 | E65: =H65+I65+J65 -> 0 | F65: =K65+L65+M65 -> 0 | Q65: =N65+O65+P65 -> 0 | U65: =R65+S65+T65 -> 0
B66: Insp. | D66: =E66+F66 -> 0 | E66: =H66+I66+J66 -> 0 | F66: =K66+L66+M66 -> 0 | Q66: =N66+O66+P66 -> 0 | U66: =R66+S66+T66 -> 0
A67: 28 | D67: =E67+F67 -> 0 | E67: =H67+I67+J67 -> 0 | F67: =K67+L67+M67 -> 0 | Q67: =N67+O67+P67 -> 0 | U67: =R67+S67+T67 -> 0
B68: Insp. | D68: =E68+F68 -> 0 | E68: =H68+I68+J68 -> 0 | F68: =K68+L68+M68 -> 0 | Q68: =N68+O68+P68 -> 0 | U68: =R68+S68+T68 -> 0
A69: 29 | D69: =E69+F69 -> 0 | E69: =H69+I69+J69 -> 0 | F69: =K69+L69+M69 -> 0 | Q69: =N69+O69+P69 -> 0 | U69: =R69+S69+T69 -> 0
B70: Insp. | D70: =E70+F70 -> 0 | E70: =H70+I70+J70 -> 0 | F70: =K70+L70+M70 -> 0 | Q70: =N70+O70+P70 -> 0 | U70: =R70+S70+T70 -> 0
A71: 30 | D71: =E71+F71 -> 0 | E71: =H71+I71+J71 -> 0 | F71: =K71+L71+M71 -> 0 | Q71: =N71+O71+P71 -> 0 | U71: =R71+S71+T71 -> 0
B72: Insp. | D72: =E72+F72 -> 0 | E72: =H72+I72+J72 -> 0 | F72: =K72+L72+M72 -> 0 | Q72: =N72+O72+P72 -> 0 | U72: =R72+S72+T72 -> 0
A73: 31 | D73: =E73+F73 -> 0 | E73: =H73+I73+J73 -> 0 | F73: =K73+L73+M73 -> 0 | Q73: =N73+O73+P73 -> 0 | U73: =R73+S73+T73 -> 0
B74: Insp. | D74: =E74+F74 -> 0 | E74: =H74+I74+J74 -> 0 | F74: =K74+L74+M74 -> 0 | Q74: =N74+O74+P74 -> 0 | U74: =R74+S74+T74 -> 0
A75: 32 | D75: =E75+F75 -> 0 | E75: =H75+I75+J75 -> 0 | F75: =K75+L75+M75 -> 0 | Q75: =N75+O75+P75 -> 0 | U75: =R75+S75+T75 -> 0
B76: Insp. | D76: =E76+F76 -> 0 | E76: =H76+I76+J76 -> 0 | F76: =K76+L76+M76 -> 0 | Q76: =N76+O76+P76 -> 0 | U76: =R76+S76+T76 -> 0
A77: 33 | D77: =E77+F77 -> 0 | E77: =H77+I77+J77 -> 0 | F77: =K77+L77+M77 -> 0 | Q77: =N77+O77+P77 -> 0 | U77: =R77+S77+T77 -> 0
B78: Insp. | D78: =E78+F78 -> 0 | E78: =H78+I78+J78 -> 0 | F78: =K78+L78+M78 -> 0 | Q78: =N78+O78+P78 -> 0 | U78: =R78+S78+T78 -> 0
A79: 34 | D79: =E79+F79 -> 0 | E79: =H79+I79+J79 -> 0 | F79: =K79+L79+M79 -> 0 | Q79: =N79+O79+P79 -> 0 | U79: =R79+S79+T79 -> 0
B80: Insp. | D80: =E80+F80 -> 0 | E80: =H80+I80+J80 -> 0 | F80: =K80+L80+M80 -> 0 | Q80: =N80+O80+P80 -> 0 | U80: =R80+S80+T80 -> 0
A81: 35 | D81: =E81+F81 -> 0 | E81: =H81+I81+J81 -> 0 | F81: =K81+L81+M81 -> 0 | Q81: =N81+O81+P81 -> 0 | U81: =R81+S81+T81 -> 0
B82: Insp. | D82: =E82+F82 -> 0 | E82: =H82+I82+J82 -> 0 | F82: =K82+L82+M82 -> 0 | Q82: =N82+O82+P82 -> 0 | U82: =R82+S82+T82 -> 0
C83: Contractor Totals: | D83: =D13+D15+D17+D19+D21+D23+D25+D27+D29+D31+D33+D35+D37+D39+D41+D43+D45+D47+D49+D51+D53+D55+D57+D59+D61+D63+D65+D67+D69+D71+D73+D75+D77+D79+D81 -> 0 | E83: =E13+E15+E17+E19+E21+E23+E25+E27+E29+E31+E33+E35+E37+E39+E41+E43+E45+E47+E49+E51+E53+E55+E57+E59+E61+E63+E65+E67+E69+E71+E73+E75+E77+E79+E81 -> 0 | F83: =F13+F15+F17+F19+F21+F23+F25+F27+F29+F31+F33+F35+F37+F39+F41+F43+F45+F47+F49+F51+F53+F55+F57+F59+F61+F63+F65+F67+F69+F71+F73+F75+F77+F79+F81 -> 0 | G83: =G13+G15+G17+G19+G21+G23+G25+G27+G29+G31+G33+G35+G37+G39+G41+G43+G45+G47+G49+G51+G53+G55+G57+G59+G61+G63+G65+G67+G69+G71+G73+G75+G77+G79+G81 -> 0 | H83: =H13+H15+H17+H19+H21+H23+H25+H27+H29+H31+H33+H35+H37+H39+H41+H43+H45+H47+H49+H51+H53+H55+H57+H59+H61+H63+H65+H67+H69+H71+H73+H75+H77+H79+H81 -> 0 | I83: =I13+I15+I17+I19+I21+I23+I25+I27+I29+I31+I33+I35+I37+I39+I41+I43+I45+I47+I49+I51+I53+I55+I57+I59+I61+I63+I65+I67+I69+I71+I73+I75+I77+I79+I81 -> 0 | J83: =J13+J15+J17+J19+J21+J23+J25+J27+J29+J31+J33+J35+J37+J39+J41+J43+J45+J47+J49+J51+J53+J55+J57+J59+J61+J63+J65+J67+J69+J71+J73+J75+J77+J79+J81 -> 0 | K83: =K13+K15+K17+K19+K21+K23+K25+K27+K29+K31+K33+K35+K37+K39+K41+K43+K45+K47+K49+K51+K53+K55+K57+K59+K61+K63+K65+K67+K69+K71+K73+K75+K77+K79+K81 -> 0 | ... Z83: =Z13+Z15+Z17+Z19+Z21+Z23+Z25+Z27+Z29+Z31+Z33+Z35+Z37+Z39+Z41+Z43+Z45+Z47+Z49+Z51+Z53+Z55+Z57+Z59+Z61+Z63+Z65+Z67+Z69+Z71+Z73+Z75+Z77+Z79+Z81 -> 0
C84: Inspector Totals: | D84: =D14+D16+D18+D20+D22+D24+D26+D28+D30+D32+D34+D36+D38+D40+D42+D44+D46+D48+D50+D52+D54+D56+D58+D60+D62+D64+D66+D68+D70+D72+D74+D76+D78+D80+D82 -> 0 | E84: =E14+E16+E18+E20+E22+E24+E26+E28+E30+E32+E34+E36+E38+E40+E42+E44+E46+E48+E50+E52+E54+E56+E58+E60+E62+E64+E66+E68+E70+E72+E74+E76+E78+E80+E82 -> 0 | F84: =F14+F16+F18+F20+F22+F24+F26+F28+F30+F32+F34+F36+F38+F40+F42+F44+F46+F48+F50+F52+F54+F56+F58+F60+F62+F64+F66+F68+F70+F72+F74+F76+F78+F80+F82 -> 0 | G84: =G14+G16+G18+G20+G22+G24+G26+G28+G30+G32+G34+G36+G38+G40+G42+G44+G46+G48+G50+G52+G54+G56+G58+G60+G62+G64+G66+G68+G70+G72+G74+G76+G78+G80+G82 -> 0 | H84: =H14+H16+H18+H20+H22+H24+H26+H28+H30+H32+H34+H36+H38+H40+H42+H44+H46+H48+H50+H52+H54+H56+H58+H60+H62+H64+H66+H68+H70+H72+H74+H76+H78+H80+H82 -> 0 | I84: =I14+I16+I18+I20+I22+I24+I26+I28+I30+I32+I34+I36+I38+I40+I42+I44+I46+I48+I50+I52+I54+I56+I58+I60+I62+I64+I66+I68+I70+I72+I74+I76+I78+I80+I82 -> 0 | J84: =J14+J16+J18+J20+J22+J24+J26+J28+J30+J32+J34+J36+J38+J40+J42+J44+J46+J48+J50+J52+J54+J56+J58+J60+J62+J64+J66+J68+J70+J72+J74+J76+J78+J80+J82 -> 0 | K84: =K14+K16+K18+K20+K22+K24+K26+K28+K30+K32+K34+K36+K38+K40+K42+K44+K46+K48+K50+K52+K54+K56+K58+K60+K62+K64+K66+K68+K70+K72+K74+K76+K78+K80+K82 -> 0 | ... Z84: =Z14+Z16+Z18+Z20+Z22+Z24+Z26+Z28+Z30+Z32+Z34+Z36+Z38+Z40+Z42+Z44+Z46+Z48+Z50+Z52+Z54+Z56+Z58+Z60+Z62+Z64+Z66+Z68+Z70+Z72+Z74+Z76+Z78+Z80+Z82 -> 0
C85: % Difference: | D85: =(D83-D84)/D83*100 -> #DIV/0! | Q85: =(Q83-Q84)/Q83*100 -> #DIV/0! | U85: =(U83-U84)/U83*100 -> #DIV/0! | V85: =(V83-V84)/V83*100 -> #DIV/0! | W85: =(W83-W84)/W83*100 -> #DIV/0! | Y85: =(Y83-Y84)/Y83*100 -> #DIV/0! | Z85: =(Z83-Z84)/Z83*100 -> #DIV/0!
C86: Allowable % Tolerance: | D86: +/-20 | Q86: +/-10 | U86: +/-10 | V86: +/-10 | W86: +/-10 | X86: (if NSR)
A87: ='Survey Field Checklist'!A110 -> An Inspection Contractor Company Name
A88: ='Survey Field Checklist'!A111 -> 123 St.
A89: ='Survey Field Checklist'!A112 -> Somewhere, BC, V1V 1V1
A90: ='Survey Field Checklist'!A113 -> 250-555-5555
A91: ='Survey Field Checklist'!A114 -> inspectioncontractor@telus.net
A94: Inspector Signature
