Workbook

Sheet Survey Field Checklist
A1: File: FFT Survey Inspection Template 09-11-01.xls | F1: Page 1/3
A2: FFT Ministry Survey Standard March 4, 2009 (SD FS925A)
A3: FFT Survey Inspection Forms
A4: Field Checklist
B6: Investment Schedule/s: | C6: 1111001 | D6: Project/s #: | E6: 1111001-1
B7: Survey Contractor: | C7: ABC Forestry Consulting | D7: Survey Date/s: | E7: 09/10/07
B8: Recipient: | C8: ABC Forestry Consulting | D8: RAH Inspection Date/s: | E8: 09/10/08
B9: Inspector: | C9: Doug Fir | D9: Inspection Date/s: | E9: 09/10/08 | F9: Y/N,
F10: N/I or N/A
A11: 1 | B11: Did each Survey Crew include at least one Accredited Silviculture Surveyor on the ground who has been to every Opening being surveyed greater than 5 ha.? Were all personnel performing the Work familiar with the Treatment Prescription options that are appropriate and generally considered acceptable for the area?
A12: =A11+1 -> 2 | B12: For both GPS and manual chaining methods, was i) the point of commencement (P.O.C.) marked with flagging tape showing the Opening number in waterproof ink; ii) flagging tape affixed at a height of approximately 1.3 meters above each plot centre, showing in waterproof ink the plot number, surveyors initials (if not included with the plot number); and iii) flagging tape affixed to the ground at all plot centers?
A13: =A12+1 -> 3 | B13: Were survey lines and plots established using either Global Positioning System (GPS) units (preferred), or by manual chaining methods? If a GPS was used, were plot centre UTM Coordinates provided? If a manual chaining method was used, was: i) a survey baseline (if established) and all strip lines marked with flagging tape showing the baseline and strip line number in waterproof ink; ii) all plot centres flagged with tape affixed at 1.3 meters and have the bearing and distance to the next plot written in waterproof ink?
A14: =A13+1 -> 4 | B14: Were all trees (conifer and deciduous) tallied that are greater than 5 cm in height at the time of survey in the TT count, including germinants and were all WS and FG crop trees of preferred and acceptable species will be tallied that are greater than 10cm in height?
A15: =A14+1 -> 5 | B15: In a free growing survey, were preferred and acceptable trees in a plot assessed for free growing in accordance with Appendix 9 of the Establishment to Free Growing Guidebook for the forest region?
A16: =A15+1 -> 6 | B16: If a stocking, free growing or recce survey indicated that a Stratum was not satisfactorily restocked (NSR), was a plantability assessment conducted on the Stratum while performing the stocking or free growing survey? Was plantability assessed at 1400 targeted plantable utilizing the minimum inter tree distance (from the Stocking Standards and /or preparable spots per ha. in order to determine the amount of seedlings required?
A17: =A16+1 -> 7 | B17: For each Stratum, was brush hazard assessed using the following codes: • HIGH - brush has encroached on some of the crop trees (control will be necessary); • MED - brush will encroach on some of the crop trees (control may be necessary in the future); • LOW - some brush present but no anticipated problem; or • NIL - no brush hazard present? (8 - 3.12) Was all HIGH and MED brush hazard Strata, the species, percent cover and height of competing vegetation recorded at every plot and for all LOW and NIL, at the first and every fourth sample plot thereafter?
A18: =A17+1 -> 8 | B18: Did the survey produce a complete forest cover inventory label and silviculture label for each Stratum?
A19: =A18+1 -> 9 | B19: Did the non-plot measurements/observations collected during the Recce and in-between plots (if established) include: a) BEC classification from the subzone to the site series level; b) mountain pine beetle (MPB) attack levels, distribution and age of attack(where applicable); c) forest health factors/damage agents (where applicable); d) dead tree total tally and (optional) if Danger Tree Assessment is required (where applicable); e) Overstorey stems per hectare (live and dead/dying) and live Overstorey stocking (well spaced and free growing)?
A20: =A19+1 -> 10 | B20: Did the non-plot measurements/observations collected during the Recce and in-between plots (if established) include: f) Understorey conifers – species % and density, distribution, stocking (well spaced and free growing), age and height; g) competing (or potentially competing) vegetation and distribution; h) site index via the hierarchy methods and protocol as outlined in Article 5.9 to 5.10; and, i) delineation of stratum boundaries?
A21: =A20+1 -> 11 | B21: For a Recce Survey, were the number of plots required established at: a) a minimum of 1 plot for every 10 hectares, with a minimum of 3 plots in total and b) were a minimum of 5plots for any Stratum which was recommended for a Treatment Prescription, and any Stratum where a change to the inventory label was recommended (for example a Stratum with heavy mortality in the overstorey but good understorey stocking which will now create the new inventory label)?
A22: =A21+1 -> 12 | B22: Upon completion of the Recce and/or Recce sample plot establishment, and the compilation of the data collected, was there a recommended next course of action (re-asses, leave-as-is, conduct a full survey, develop a treatment prescription) included in the survey summary?
A23: =A22+1 -> 13 | B23: For Full Silviculture Survey Sampling Plot Intensity, was the sampling design and intensity driven by the degree of variability and complexity found in the Stratum (increased Stratum variability and complexity typically will require more sampling)? Did the Plot intensity range from 1 plot/ha to 1 plot/5 ha with a minimum of 5 plots/Stratum? Regardless of the plot intensity, did the surveyor ensure that the plot locations provided uniform coverage of the Stratum?
... A27: =A26+1 -> 17 | B27: Was the traversing of treatment units, roads and spur roads done using GPS technology only? Were all non-GPS traverses (not preferred and only permitted if GPS failure) aerial-photo tied and ground-tied to a mappable unit? Were all treatment unit boundaries flagged using winter weight ribbon of the colour and format as defined by the FFT Regional Staff and TSA standard and was all flagging inter-visible at a glance (i.e. two consecutive ribbons are visible in one direction). and attached as high as possible, to residual stems?
A28: =A27+1 -> 18 | B28: Is the Survey satisfactory, in that: a). the Opening was correctly stratified according to the Stratification Criteria; b). the Survey correctly identified for a Stratum: i. the Biogeoclimatic zone, sub-zone, and site series, ii. the preferred or acceptable tree species as permitted under the Stocking Standards, iii. the order of the leading and secondary species in the inventory label, and iv. the stocking status? | F28: Page 2/3
A30: =A28+1 -> 19 | B30: Is the Survey satisfactory, in that the: c. the Survey correctly reported: i. a brush hazard, and ii. any pest, pest damage, disease, disease damage or other physical damage?
A31: =A30+1 -> 20 | B31: Is the Survey satisfactory, in that the: e. field check found a difference of no more than 10% between the Survey and the Inspector’s tally in any one of the following total counts of: i. well-spaced trees by species, ii. free-growing trees, iii. plantable spots, and iv. preparable spots and f. there is a difference of no more than 20% between the Survey and the Inspector’s assessment in the total trees from the results of actual plots established in a Stratum?
A32: =A31+1 -> 21 | B32: Is the Survey satisfactory, h. in that the field cards, reports, maps or summaries are legible, and are completed in accordance with the FFT Standards?
A33: =A32+1 -> 22 | B33: For all Stratum with proposed treatments (treatment areas), was a financial analysis carried out to determine if the proposed treatments will meet the minimum required return on investment (ROI) of 2%?
A34: =A33+1 -> 23 | B34: Do the Treatment Prescriptions include all treatments and Surveys which will lead to a free growing stand and include and/or address: a) a schedule of treatments including options / alternatives, preference rationale, and follow-up surveys; b) appropriate Stocking Standards for the site series of the treatment unit; c) danger tree assessment recommendation where applicable; d) site preparation prescription if applicable, with the planned year and season?
A35: =A34+1 -> 24 | B35: Do the Treatment Prescriptions include) numbers of seedlings to be planted by species, including recommended stock type, planting year and season; f) a statement addressing the use of genetically improved seedlings and greater species diversity; g) proposed brush control treatments with the planned year and season where applicable; h) a Treatment Map; i) total hectares of the prescribed treatment unit as determined by a GPS traverse; and j) access notes including information on accessibility and any required improvements (e.g. 4WD, quad access only)?
B37: Survey Inspection Statistics:
B38: List of Opening/s Inspected:
B39: Location/s:
B41: Note: Inspector to inspect a minimum of 5% of the plots and 20% of the project area. Monitoring and inspections to be recorded on the applicable Survey Plot & Field Cards and FS 242 "MFR Instruction Pads".
B43: Total # of Survey Plots: | C43: 0 | D43: Total Survey Area (ha.): | E43: 0
B44: Total # of Inspection Plots: | C44: 0 | D44: Total Inspected Area (ha.): | E44: 0
B45: % of Inspection Plots: | C45: =C44/C43 -> #DIV/0! | D45: % of Inspected Area: | E45: =E44/E43 -> #DIV/0!
B47: N/A = Not Applicable. When used, please describe how this standard was not applicable to this particular project.
B48: N/I = Not Inspected. When used, please describe why this standard was not inspected and if it will be inspected at a later date.
B49: Note: Where "No" is used to answer a question, an explanation of the finding and objective evidence must be provided.
...

Sheet Survey Field Checklist (2)
A1: File: FFT Survey Inspection Template 09-11-01.xls | F1: Page 1/4
A2: FFT Ministry Survey Standard March 4, 2009 (SD FS925A)
A3: FFT Survey Inspection Forms
A4: Field Checklist
B6: Investment Schedule/s: | C6: 1111001 | D6: Project/s #: | E6: 1111001-1
B7: Survey Contractor: | C7: ABC Forestry Consulting | D7: Survey Date/s: | E7: 09/10/07
B8: Recipient: | C8: ABC Forestry Consulting | D8: RAH Inspection Date/s: | E8: 09/10/08
B9: Inspector: | C9: Doug Fir | D9: Inspection Date/s: | E9: 09/10/08 | F9: Y/N,
F10: N/I or N/A
A11: 1 | B11: Did each Survey Crew include at least one Accredited Silviculture Surveyor on the ground who has been to every Opening being surveyed greater than 5 ha.?
A12: =A11+1 -> 2 | B12: Were all personnel performing the Work familiar with the Treatment Prescription options that are appropriate and generally considered acceptable for the area?
A13: =A12+1 -> 3 | B13: For both GPS and manual chaining methods, was the point of commencement (P.O.C.) marked with flagging tape showing the Opening number in waterproof ink?
A14: =A13+1 -> 4 | B14: Was flagging tape affixed at a height of approximately 1.3 meters above each plot centre, showing in waterproof ink the plot number, surveyors initials (if not included with the plot number?
A15: =A14+1 -> 5 | B15: Was flagging tape affixed to the ground at all plot centers?
A16: =A15+1 -> 6 | B16: Were all trees (conifer and deciduous) tallied that are greater than 5 cm in height at the time of survey in the TT count, including germinants and were all WS and FG crop trees of preferred and acceptable species will be tallied that are greater than 10cm in height?
A17: =A16+1 -> 7 | B17: In a free growing survey, were preferred and acceptable trees in a plot assessed for free growing in accordance with Appendix 9 of the Establishment to Free Growing Guidebook for the forest region?
A18: =A17+1 -> 8 | B18: If a stocking, free growing or recce survey indicated that a Stratum was not satisfactorily restocked (NSR), was a plantability assessment conducted on the Stratum while performing the stocking or free growing survey?
A19: =A18+1 -> 9 | B19: Was plantability assessed at 1400 targeted plantable utilizing the minimum inter tree distance (from the Stocking Standards and /or preparable spots per ha. in order to determine the amount of seedlings required?
A20: =A19+1 -> 10 | B20: For each Stratum, was brush hazard assessed using the following codes: • HIGH - brush has encroached on some of the crop trees (control will be necessary); • MED - brush will encroach on some of the crop trees (control may be necessary in the future); • LOW - some brush present but no anticipated problem; or • NIL - no brush hazard present?
A21: =A20+1 -> 11 | B21: Was all HIGH and MED brush hazard Strata, the species, percent cover and height of competing vegetation recorded at every plot and for all LOW and NIL, at the first and every fourth sample plot thereafter?
A22: =A21+1 -> 12 | B22: Did the survey produce a complete forest cover inventory label and silviculture label for each Stratum?
A23: =A22+1 -> 13 | B23: Did the non-plot measurements/observations collected during the Recce and in-between plots (if established) include BEC classification from the subzone to the site series level?
... A36: =A35+1 -> 26 | B36: Regardless of the plot intensity, did the surveyor ensure that the plot locations provided uniform coverage of the Stratum?
A37: =A36+1 -> 27 | B37: For Layered Even-aged stand structure or Uneven-aged stand structure were these Strata surveyed by tallying TT, TC, WS and FG stems by all 4 layers (Layer 1 >= 12.5 cm dbh; Layer 2 >7.5 cm dbh and <12.5 cm dbh; Layer 3 >1.3 m ht and <7.5 cm dbh; and Layer 4 <=1.3 m ht and >=10cm including germinants) and will be totaled by adding all layers (without nesting)? | F37: Page 2/4
A39: =A37+1 -> 28 | B39: For MPB Specific Tallies of Pl stems (TT and TC Count) were only Live Pl (no MPB infected stems) and all other live species included in these counts and the inventory label?
A40: =A39+1 -> 29 | B40: For MPB Specific Tallies of Pl stems (WS and FG Count) were only Live Pl by layer (no MPB infected stems) and all other live preferred and acceptable species contribute to the stocking status and included in the silviculture label?
A41: =A40+1 -> 30 | B41: For MPB Infected Pl (IBM - forest health code) Stratum: Were all infected Pl tallied separately by layer (in the Forest Health Column of the FS 658 if used) and identified as live (green attack) or dead (red or grey attack)?
A42: =A41+1 -> 31 | B42: Was the traversing of treatment units, roads and spur roads done using GPS technology only?
A43: =A42+1 -> 32 | B43: Were all non-GPS traverses (not preferred and only permitted if GPS failure) aerial-photo tied and ground-tied to a mappable unit?
A44: =A43+1 -> 33 | B44: Were all treatment unit boundaries flagged using winter weight ribbon of the colour and format as defined by the FFT Regional Staff and TSA standard and was all flagging inter-visible at a glance (i.e. two consecutive ribbons are visible in one direction). and attached as high as possible, to residual stems?
A45: =A44+1 -> 34 | B45: Is the Survey satisfactory, in that the Opening was correctly stratified according to the Stratification Criteria?
A46: =A45+1 -> 35 | B46: Is the Survey satisfactory, in that the Survey correctly identified for a Stratum the Biogeoclimatic zone, sub-zone, and site series?
A47: =A46+1 -> 36 | B47: Is the Survey satisfactory, in that the Survey correctly identified for a Stratum the preferred or acceptable tree species as permitted under the Stocking Standards?
A48: =A47+1 -> 37 | B48: Is the Survey satisfactory, in that the Survey correctly identified for a Stratum the order of the leading and secondary species in the inventory label, and iv. the stocking status?
A49: =A48+1 -> 38 | B49: Is the Survey satisfactory, in that the Survey correctly identified for a Stratum the stocking status?
A50: =A49+1 -> 39 | B50: Is the Survey satisfactory, in that the field check found a difference of no more than 10% between the Survey and the Inspector’s tally in the total counts of well-spaced trees by species?
A51: =A50+1 -> 40 | B51: Is the Survey satisfactory, in that the field check found a difference of no more than 10% between the Survey and the Inspector’s tally in the total counts of free-growing trees?
... A65: =A64+1 -> 54 | B65: Do the Treatment Prescriptions include access notes including information on accessibility and any required improvements (e.g. 4WD, quad access only)?
F66: Page 3/4
B67: Survey Inspection Statistics:
...

Sheet Field Checklist Guidance Doc
A1: File: FFT Survey Inspection Template 09-10-09.xls | F1: Page 1/3
A2: FFT Ministry Survey Standard March 4, 2009 (SD FS925A) | H2: Note: Where a Field Inspection has been undertaken, the Field Checklist must always be completed.
A3: FFT Survey Inspection Forms
A4: Field Checklist | H4: Article 9.6: Field Reconnaissance - the Strata Inspection Form is also required.
B5: Project #: | C5: 1111001 | D5: Opening #: | E5: 100-1 | H5: Article 9.6: Field Check of Established Plots or Independent Survey of Selected Strata - the Strata Inspection Form and Plot Tally Inspection Forms are both also required.
B6: Contract #: | C6: 1111001-1 | D6: Location: | E6: Stream Ck
B7: Survey Contractor: | C7: ABC Forestry Consulting | D7: Survey Date/s: | E7: 09/10/07
D8: Inspection Date/s: | E8: 09/10/08 | H8: These two sets of info will populate onto the Stratum and Plot Tally Inspection Forms.
B9: Inspector: | C9: Doug Fir | D9: Report Date: | E9: 09/10/09 | F9: Y/N or
F10: N/A
A11: 1 | B11: Did each Survey Crew include at least one Accredited Silviculture Surveyor on the ground who has been to every Opening being surveyed greater than 5 ha.? Were all personnel performing the Work familiar with the Treatment Prescription options that are appropriate and generally considered acceptable for the area? | H11: All questions are articles from the FFT Ministry Survey Standard March 4, 2009 (SD FS925A). The articles are rephrased in the form of a "positive" question and written in the past tense.
A12: =A11+1 -> 2 | B12: For both GPS and manual chaining methods, was i) the point of commencement (P.O.C.) marked with flagging tape showing the Opening number in waterproof ink; ii) flagging tape affixed at a height of approximately 1.3 meters above each plot centre, showing in waterproof ink the plot number, surveyors initials (if not included with the plot number); and iii) flagging tape affixed to the ground at all plot centers? | H12: All questions must be answered with a "yes, no, or not applicable". If the Contractor achieved the standard the answer will always be "yes" and if not "no." Not all articles are applicable to all projects. Where a questions has been answered, "no" additional comments are required to describe the non-conformance to the standard.
A13: =A12+1 -> 3 | B13: Were survey lines and plots established using either Global Positioning System (GPS) units (preferred), or by manual chaining methods? If a GPS was used, were plot centre UTM Coordinates provided? If a manual chaining method was used, was: i) a survey baseline (if established) and all strip lines marked with flagging tape showing the baseline and strip line number in waterproof ink; ii) all plot centres flagged with tape affixed at 1.3 meters and have the bearing and distance to the next plot written in waterproof ink? | H13: Note: The Strata and Plot Tally Inspection Forms have been supplied in multiple formats to account for the size and complexity of the inspected opening and the intensity of the inspection. Select the applicable worksheet for the nos. of strata or plots inspected.
A14: =A13+1 -> 4 | B14: Were all trees (conifer and deciduous) tallied that are greater than 5 cm in height at the time of survey in the TT count, including germinants and were all WS and FG crop trees of preferred and acceptable species will be tallied that are greater than 10cm in height?
A15: =A14+1 -> 5 | B15: In a free growing survey, were preferred and acceptable trees in a plot assessed for free growing in accordance with Appendix 9 of the Establishment to Free Growing Guidebook for the forest region?
A16: =A15+1 -> 6 | B16: If a stocking, free growing or recce survey indicated that a Stratum was not satisfactorily restocked (NSR), was a plantability assessment conducted on the Stratum while performing the stocking or free growing survey? Was plantability assessed at 1400 targeted plantable utilizing the minimum inter tree distance (from the Stocking Standards and /or preparable spots per ha. in order to determine the amount of seedlings required?
A17: =A16+1 -> 7 | B17: For each Stratum, was brush hazard assessed using the following codes: • HIGH - brush has encroached on some of the crop trees (control will be necessary); • MED - brush will encroach on some of the crop trees (control may be necessary in the future); • LOW - some brush present but no anticipated problem; or • NIL - no brush hazard present? (8 - 3.12) Was all HIGH and MED brush hazard Strata, the species, percent cover and height of competing vegetation recorded at every plot and for all LOW and NIL, at the first and every fourth sample plot thereafter?
A18: =A17+1 -> 8 | B18: Did the survey produce a complete forest cover inventory label and silviculture label for each Stratum?
A19: =A18+1 -> 9 | B19: Did the non-plot measurements/observations collected during the Recce and in-between plots (if established) include: a) BEC classification from the subzone to the site series level; b) mountain pine beetle (MPB) attack levels, distribution and age of attack(where applicable); c) forest health factors/damage agents (where applicable); d) dead tree total tally and (optional) if Danger Tree Assessment is required (where applicable); e) Overstorey stems per hectare (live and dead/dying) and live Overstorey stocking (well spaced and free growing)?
A20: =A19+1 -> 10 | B20: Did the non-plot measurements/observations collected during the Recce and in-between plots (if established) include: f) Understorey conifers – species % and density, distribution, stocking (well spaced and free growing), age and height; g) competing (or potentially competing) vegetation and distribution; h) site index via the hierarchy methods and protocol as outlined in Article 5.9 to 5.10; and, i) delineation of stratum boundaries?
A21: =A20+1 -> 11 | B21: For a Recce Survey, were the number of plots required established at: a) a minimum of 1 plot for every 10 hectares, with a minimum of 3 plots in total and b) were a minimum of 5plots for any Stratum which was recommended for a Treatment Prescription, and any Stratum where a change to the inventory label was recommended (for example a Stratum with heavy mortality in the overstorey but good understorey stocking which will now create the new inventory label)?
A22: =A21+1 -> 12 | B22: Upon completion of the Recce and/or Recce sample plot establishment, and the compilation of the data collected, was there a recommended next course of action (re-asses, leave-as-is, conduct a full survey, develop a treatment prescription) included in the survey summary?
A23: =A22+1 -> 13 | B23: For Full Silviculture Survey Sampling Plot Intensity, was the sampling design and intensity driven by the degree of variability and complexity found in the Stratum (increased Stratum variability and complexity typically will require more sampling)? Did the Plot intensity range from 1 plot/ha to 1 plot/5 ha with a minimum of 5 plots/Stratum? Regardless of the plot intensity, did the surveyor ensure that the plot locations provided uniform coverage of the Stratum?
A24: =A23+1 -> 14 | B24: For Layered Even-aged stand structure or Uneven-aged stand structure were these Strata surveyed by tallying TT, TC, WS and FG stems by all 4 layers (Layer 1 >= 12.5 cm dbh; Layer 2 >7.5 cm dbh and <12.5 cm dbh; Layer 3 >1.3 m ht and <7.5 cm dbh; and Layer 4 <=1.3 m ht and >=10cm including germinants) and will be totaled by adding all layers (without nesting)?
A25: =A24+1 -> 15 | B25: For MPB Specific Tallies of Pl stems were a) TT and TC Count: Were only Live Pl (no MPB infected stems) and all other live species included in these counts and the inventory label; and b) WS and FG Count: Did only Live Pl by layer (no MPB infected stems) and all other live preferred and acceptable species contribute to the stocking status and included in the silviculture label?
... A31: =A30+1 -> 21 | B31: Is the Survey satisfactory, h. in that the field cards, reports, maps or summaries are legible, and are completed in accordance with the FFT Standards?
A32: An Inspection Contractor Company Name | D32: Note: Inspector to inspect a minimum of 5% of the plots and 20% of the project area. Monitoring and inspections to be recorded on the applicable Survey Plot/Field Cards and FS 242 "MFR Instruction Pads".
A33: 123 St.
A34: Somewhere, BC, V1V 1V1 | H34: This set of info will populate onto the Strata and Plot Tally Inspection Forms.
A35: 250-555-5555
A36: inspectioncontractor@telus.net
A39: Inspector Signature | H39: Must be signed by the Inspector.

Sheet Strata Guidance Doc
A1: File: FFT Survey Inspection Template 09-10-09.xls | E1: Page 2/3
A2: FFT Ministry Survey Standard March 4, 2009 (SD FS925A) | G2: Note: The Stratum Inspection Forms allow for up to 6 strata. If you require more, please just add lines and add in the additional strata. It will not affect any formatting.
A3: FFT Survey Inspection Forms
A4: Stratum Inspection
A5: Project #: | B5: ='Survey Field Checklist'!#REF! -> #REF! | D5: Opening #: | E5: ='Survey Field Checklist'!#REF! -> #REF!
A6: Contract #: | B6: ='Survey Field Checklist'!#REF! -> #REF! | D6: Location: | E6: ='Survey Field Checklist'!E6 -> 1111001-1
A7: Survey Contractor: | B7: ='Survey Field Checklist'!C7 -> ABC Forestry Consulting | D7: Survey Date/s: | E7: ='Survey Field Checklist'!E7 -> 09/10/07 | G7: These two sets of info will populate from the Field Checklist Form.
D8: Inspection Date/s: | E8: ='Survey Field Checklist'!E8 -> 09/10/08
A9: Inspector: | B9: ='Survey Field Checklist'!C9 -> Doug Fir | D9: Report Date: | E9: ='Survey Field Checklist'!E10 -> 0
A11: Stratum Characteristics: | B11: Inspector | C11: Contractor | D11: Inspector | E11: Contractor
A12: Stratum: | B12: A | C12: A | D12: B | E12: B
A13: BGC Zone:
A14: Subzone & Variant:
A15: Site Series:
A16: Moisture/Nutrient Grid: | G16: Note: Satisfactory Work Quality Defined 9.10 The Inspector must generally examine the data to the extent necessary to determine that the Survey has been undertaken and reported in accordance with FFT Standards, and specifically may determine a Survey to be satisfactory when, as appropriate to the Survey type and the chosen inspection method: a. an Opening is correctly stratified according to the Stratification Criteria; b. the Survey correctly identifies for a Stratum: i. the Biogeoclimatic zone, sub-zone, and site series, ii. the preferred or acceptable tree species as permitted under the Stocking Standards, iii. the order of the leading and secondary species in the inventory label, and iv. the stocking status (e.g., satisfactorily restocked [SR] vs. not satisfactorily restocked [NSR]); c. the Survey correctly reports: i. a brush hazard, and ii. any pest, pest damage, disease, disease damage or other physical damage; Where the above is not satisfactory, within the survey report/s, the Ministry Representative must be notified and the determination of the materiality of the finding noted in the Inspection report.
A17: Drainage:
A18: Soil Texture:
A19: Soil Depth:
A20: Humus Form:
A21: LFH Depth:
A22: Machine Trafficability:
A23: Slash %:
A24: Slash Coverage:
A25: Slope %:
A26: Slope Position:
A27: Surface Shape:
A28: Aspect:
... A36: Treatment Recces - Alternative:
A40: Inspector Comments: | G40: The Comments Section is to be used by the Inspector to provide additional information as to the quality of the survey, site assessment, stratification, and treatment recommendations. Deficiencies must be noted. A comment as to whether the work quality is satisfactory is required.
A46: ='Survey Field Checklist'!A110 -> An Inspection Contractor Company Name
A47: ='Survey Field Checklist'!A111 -> 123 St.
A48: ='Survey Field Checklist'!A112 -> Somewhere, BC, V1V 1V1 | G48: This set of info will populate from the Field Checklist Form.
A49: ='Survey Field Checklist'!A113 -> 250-555-5555
A50: ='Survey Field Checklist'!A114 -> inspectioncontractor@telus.net
A53: Inspector Signature | G53: Must be signed by the Inspector.

Sheet Survey Strata 2
A1: File: FFT Survey Inspection Template 09-10-09.xls | E1: Page 2/3
A2: FFT Ministry Survey Standard March 4, 2009 (SD FS925A)
A3: FFT Survey Inspection Forms
A4: Stratum Inspection
A5: Project #: | B5: ='Survey Field Checklist'!#REF! -> #REF! | D5: Opening #: | E5: ='Survey Field Checklist'!#REF! -> #REF!
A6: Contract #: | B6: ='Survey Field Checklist'!#REF! -> #REF! | D6: Location: | E6: ='Survey Field Checklist'!E6 -> 1111001-1
A7: Survey Contractor: | B7: ='Survey Field Checklist'!C7 -> ABC Forestry Consulting | D7: Survey Date/s: | E7: ='Survey Field Checklist'!E7 -> 09/10/07
D8: Inspection Date/s: | E8: ='Survey Field Checklist'!E8 -> 09/10/08
A9: Inspector: | B9: ='Survey Field Checklist'!C9 -> Doug Fir | D9: Report Date: | E9: ='Survey Field Checklist'!E10 -> 0
A11: Stratum Characteristics: | B11: Inspector | C11: Contractor | D11: Inspector | E11: Contractor
A12: Stratum: | B12: A | C12: A | D12: B | E12: B
A13: BGC Zone:
A14: Subzone & Variant:
A15: Site Series:
A16: Moisture/Nutrient Grid:
A17: Drainage:
A18: Soil Texture:
A19: Soil Depth:
A20: Humus Form:
A21: LFH Depth:
A22: Machine Trafficability:
A23: Slash %:
A24: Slash Coverage:
... A40: Inspector Comments:
A46: ='Survey Field Checklist'!A110 -> An Inspection Contractor Company Name
A47: ='Survey Field Checklist'!A111 -> 123 St.
A48: ='Survey Field Checklist'!A112 -> Somewhere, BC, V1V 1V1
A49: ='Survey Field Checklist'!A113 -> 250-555-5555
A50: ='Survey Field Checklist'!A114 -> inspectioncontractor@telus.net
A53: Inspector Signature

Sheet Strata 4
A1: File: FFT Survey Inspection Template 09-10-09.xls | E1: Page 2/3
A2: FFT Ministry Survey Standard March 4, 2009 (SD FS925A)
A3: FFT Survey Inspection Forms
A4: Stratum Inspection
A5: Project #: | B5: ='Survey Field Checklist'!#REF! -> #REF! | D5: Opening #: | E5: ='Survey Field Checklist'!#REF! -> #REF!
A6: Contract #: | B6: ='Survey Field Checklist'!#REF! -> #REF! | D6: Location: | E6: ='Survey Field Checklist'!E6 -> 1111001-1
A7: Survey Contractor: | B7: ='Survey Field Checklist'!C7 -> ABC Forestry Consulting | D7: Survey Date/s: | E7: ='Survey Field Checklist'!E7 -> 09/10/07
D8: Inspection Date/s: | E8: ='Survey Field Checklist'!E8 -> 09/10/08
A9: Inspector: | B9: ='Survey Field Checklist'!C9 -> Doug Fir | D9: Report Date: | E9: ='Survey Field Checklist'!E10 -> 0
A11: Stratum Characteristics: | B11: Inspector | C11: Contractor | D11: Inspector | E11: Contractor
A12: Stratum: | B12: A | C12: A | D12: B | E12: B
A13: BGC Zone:
A14: Subzone & Variant:
A15: Site Series:
A16: Moisture/Nutrient Grid:
A17: Drainage:
A18: Soil Texture:
A19: Soil Depth:
A20: Humus Form:
A21: LFH Depth:
A22: Machine Trafficability:
A23: Slash %:
A24: Slash Coverage:
... A40: Inspector Comments:
A46: Stratum: | B46: C | C46: C | D46: D | E46: D
A47: BGC Zone:
A48: Subzone & Variant:
A49: Site Series:
A50: Moisture/Nutrient Grid:
A51: Drainage:
A52: Soil Texture:
A53: Soil Depth:
A54: Humus Form:
A55: LFH Depth:
A56: Machine Trafficability:
A57: Slash %:
A58: Slash Coverage:
... A74: Inspector Comments:
A80: ='Survey Field Checklist'!A110 -> An Inspection Contractor Company Name
A81: ='Survey Field Checklist'!A111 -> 123 St.
...

Sheet Strata 6
A1: File: FFT Survey Inspection Template 09-10-09.xls | E1: Page 2/3
A2: FFT Ministry Survey Standard March 4, 2009 (SD FS925A)
A3: FFT Survey Inspection Forms
A4: Stratum Inspection
A5: Project #: | B5: ='Survey Field Checklist'!#REF! -> #REF! | D5: Opening #: | E5: ='Survey Field Checklist'!#REF! -> #REF!
A6: Contract #: | B6: ='Survey Field Checklist'!#REF! -> #REF! | D6: Location: | E6: ='Survey Field Checklist'!E6 -> 1111001-1
A7: Survey Contractor: | B7: ='Survey Field Checklist'!C7 -> ABC Forestry Consulting | D7: Survey Date/s: | E7: ='Survey Field Checklist'!E7 -> 09/10/07
D8: Inspection Date/s: | E8: ='Survey Field Checklist'!E8 -> 09/10/08
A9: Inspector: | B9: ='Survey Field Checklist'!C9 -> Doug Fir | D9: Report Date: | E9: ='Survey Field Checklist'!E10 -> 0
A11: Stratum Characteristics: | B11: Inspector | C11: Contractor | D11: Inspector | E11: Contractor
A12: Stratum: | B12: A | C12: A | D12: B | E12: B
A13: BGC Zone:
A14: Subzone & Variant:
A15: Site Series:
A16: Moisture/Nutrient Grid:
A17: Drainage:
A18: Soil Texture:
A19: Soil Depth:
A20: Humus Form:
A21: LFH Depth:
A22: Machine Trafficability:
A23: Slash %:
A24: Slash Coverage:
... A40: Inspector Comments:
A46: Stratum: | B46: C | C46: C | D46: D | E46: D
A47: BGC Zone:
A48: Subzone & Variant:
A49: Site Series:
A50: Moisture/Nutrient Grid:
A51: Drainage:
A52: Soil Texture:
A53: Soil Depth:
A54: Humus Form:
A55: LFH Depth:
A56: Machine Trafficability:
A57: Slash %:
A58: Slash Coverage:
... A74: Inspector Comments:
A80: Stratum: | B80: E | C80: E | D80: F | E80: F
A81: BGC Zone:
...

Sheet Plot Tally Guidance Doc
A1: File: FFT Survey Inspection Template 09-10-09.xls | Z1: Page 3/3
A2: FFT Ministry Survey Standard March 4, 2009 (SD FS925A) | AB2: Note: The Plot Tally Inspection Forms allow for up to 35 inspection plots. Note: If you require >35 plots, once you add in the additional plots you will have to correct the formulas at the bottom of the table for the additional plots.
A3: FFT Survey Inspection Forms
A4: Plot Tally Inspection
C5: Project #: | F5: ='Survey Field Checklist'!#REF! -> #REF! | O5: Opening #: | R5: ='Survey Field Checklist'!#REF! -> #REF! | AB5: Note: Do not delete "unnecessary" plots (i.e., if 5 inspection plots performed, do not delete plots 6-10) as this will cause an error in all of the formulas.
C6: Contract #: | F6: ='Survey Field Checklist'!#REF! -> #REF! | O6: Location: | R6: ='Survey Field Checklist'!E6 -> 1111001-1
C7: Survey Contractor: | F7: ='Survey Field Checklist'!C7 -> ABC Forestry Consulting | O7: Survey Date/s: | R7: ='Survey Field Checklist'!E7 -> 09/10/07
O8: Inspection Date/s: | R8: ='Survey Field Checklist'!E8 -> 09/10/08 | AB8: These two sets of info will populate from the Field Checklist Form.
C9: Inspector: | F9: ='Survey Field Checklist'!C9 -> Doug Fir | O9: Report Date: | R9: ='Survey Field Checklist'!E10 -> 0
B11: Plot | D11: Total | E11: Total | F11: Total | J11: Total Trees | O11: Pref. & Acc. Sp. | Q11: Tot | S11: Pref. & Acc. Sp. | U11: Tot | V11: Plant. | W11: Prep.
A12: # | B12: # | C12: Stratum | D12: Trees | E12: Conifer | F12: Decid | G12: Germ | H12: Sx | I12: Pli | J12: Bl | K12: At | L12: Ac | M12: Ep | N12: =H12 -> Sx | O12: =I12 -> Pli | P12: =J12 -> Bl | Q12: WS | R12: =H12 -> Sx | S12: =I12 -> Pli | T12: =J12 -> Bl | U12: FG | V12: Spots | W12: Spots | X12: Pest | Y12: Live | Z12: Dead | AB12: Note: The Preferred and Acceptable Species have to be corrected for your area.
A13: 1 | D13: =E13+F13 -> 0 | E13: =H13+I13+J13 -> 0 | F13: =K13+L13+M13 -> 0 | Q13: =N13+O13+P13 -> 0 | U13: =R13+S13+T13 -> 0 | AB13: Enter the Contract Surveyors plot number here.
B14: Insp. | D14: =E14+F14 -> 0 | E14: =H14+I14+J14 -> 0 | F14: =K14+L14+M14 -> 0 | Q14: =N14+O14+P14 -> 0 | U14: =R14+S14+T14 -> 0
A15: 2 | D15: =E15+F15 -> 0 | E15: =H15+I15+J15 -> 0 | F15: =K15+L15+M15 -> 0 | Q15: =N15+O15+P15 -> 0 | U15: =R15+S15+T15 -> 0 | AB15: Contract Surveyor's plot data.
B16: Insp. | D16: =E16+F16 -> 0 | E16: =H16+I16+J16 -> 0 | F16: =K16+L16+M16 -> 0 | Q16: =N16+O16+P16 -> 0 | U16: =R16+S16+T16 -> 0 | AB16: Inspector's plot data.
A17: 3 | D17: =E17+F17 -> 0 | E17: =H17+I17+J17 -> 0 | F17: =K17+L17+M17 -> 0 | Q17: =N17+O17+P17 -> 0 | U17: =R17+S17+T17 -> 0
B18: Insp. | D18: =E18+F18 -> 0 | E18: =H18+I18+J18 -> 0 | F18: =K18+L18+M18 -> 0 | Q18: =N18+O18+P18 -> 0 | U18: =R18+S18+T18 -> 0
A19: 4 | D19: =E19+F19 -> 0 | E19: =H19+I19+J19 -> 0 | F19: =K19+L19+M19 -> 0 | Q19: =N19+O19+P19 -> 0 | U19: =R19+S19+T19 -> 0
B20: Insp. | D20: =E20+F20 -> 0 | E20: =H20+I20+J20 -> 0 | F20: =K20+L20+M20 -> 0 | Q20: =N20+O20+P20 -> 0 | U20: =R20+S20+T20 -> 0
A21: 5 | D21: =E21+F21 -> 0 | E21: =H21+I21+J21 -> 0 | F21: =K21+L21+M21 -> 0 | Q21: =N21+O21+P21 -> 0 | U21: =R21+S21+T21 -> 0 | AB21: Total Trees, Conifers, and Deciduous will sum automatically from the individual preferred and acceptable species tallies.
B22: Insp. | D22: =E22+F22 -> 0 | E22: =H22+I22+J22 -> 0 | F22: =K22+L22+M22 -> 0 | Q22: =N22+O22+P22 -> 0 | U22: =R22+S22+T22 -> 0
A23: 6 | D23: =E23+F23 -> 0 | E23: =H23+I23+J23 -> 0 | F23: =K23+L23+M23 -> 0 | Q23: =N23+O23+P23 -> 0 | U23: =R23+S23+T23 -> 0
B24: Insp. | D24: =E24+F24 -> 0 | E24: =H24+I24+J24 -> 0 | F24: =K24+L24+M24 -> 0 | Q24: =N24+O24+P24 -> 0 | U24: =R24+S24+T24 -> 0 | AB24: Well-Spaced and Free Growing tallies will automatically sum.
A25: 7 | D25: =E25+F25 -> 0 | E25: =H25+I25+J25 -> 0 | F25: =K25+L25+M25 -> 0 | Q25: =N25+O25+P25 -> 0 | U25: =R25+S25+T25 -> 0
B26: Insp. | D26: =E26+F26 -> 0 | E26: =H26+I26+J26 -> 0 | F26: =K26+L26+M26 -> 0 | Q26: =N26+O26+P26 -> 0 | U26: =R26+S26+T26 -> 0
A27: 8 | D27: =E27+F27 -> 0 | E27: =H27+I27+J27 -> 0 | F27: =K27+L27+M27 -> 0 | Q27: =N27+O27+P27 -> 0 | U27: =R27+S27+T27 -> 0
B28: Insp. | D28: =E28+F28 -> 0 | E28: =H28+I28+J28 -> 0 | F28: =K28+L28+M28 -> 0 | Q28: =N28+O28+P28 -> 0 | U28: =R28+S28+T28 -> 0
A29: 9 | D29: =E29+F29 -> 0 | E29: =H29+I29+J29 -> 0 | F29: =K29+L29+M29 -> 0 | Q29: =N29+O29+P29 -> 0 | U29: =R29+S29+T29 -> 0
B30: Insp. | D30: =E30+F30 -> 0 | E30: =H30+I30+J30 -> 0 | F30: =K30+L30+M30 -> 0 | Q30: =N30+O30+P30 -> 0 | U30: =R30+S30+T30 -> 0
A31: 10 | D31: =E31+F31 -> 0 | E31: =H31+I31+J31 -> 0 | F31: =K31+L31+M31 -> 0 | Q31: =N31+O31+P31 -> 0 | U31: =R31+S31+T31 -> 0
B32: Insp. | D32: =E32+F32 -> 0 | E32: =H32+I32+J32 -> 0 | F32: =K32+L32+M32 -> 0 | Q32: =N32+O32+P32 -> 0 | U32: =R32+S32+T32 -> 0
C33: Contractor Totals: | D33: =D13+D15+D17+D19+D21+D23+D25+D27+D29+D31 -> 0 | E33: =E13+E15+E17+E19+E21+E23+E25+E27+E29+E31 -> 0 | F33: =F13+F15+F17+F19+F21+F23+F25+F27+F29+F31 -> 0 | G33: =G13+G15+G17+G19+G21+G23+G25+G27+G29+G31 -> 0 | H33: =H13+H15+H17+H19+H21+H23+H25+H27+H29+H31 -> 0 | I33: =I13+I15+I17+I19+I21+I23+I25+I27+I29+I31 -> 0 | J33: =J13+J15+J17+J19+J21+J23+J25+J27+J29+J31 -> 0 | K33: =K13+K15+K17+K19+K21+K23+K25+K27+K29+K31 -> 0 | ... Z33: =Z13+Z15+Z17+Z19+Z21+Z23+Z25+Z27+Z29+Z31 -> 0 | AB33: The data for the Survey Contractor and the Inspector will sum automatically.
C34: Inspector Totals: | D34: =D14+D16+D18+D20+D22+D24+D26+D28+D30+D32 -> 0 | E34: =E14+E16+E18+E20+E22+E24+E26+E28+E30+E32 -> 0 | F34: =F14+F16+F18+F20+F22+F24+F26+F28+F30+F32 -> 0 | G34: =G14+G16+G18+G20+G22+G24+G26+G28+G30+G32 -> 0 | H34: =H14+H16+H18+H20+H22+H24+H26+H28+H30+H32 -> 0 | I34: =I14+I16+I18+I20+I22+I24+I26+I28+I30+I32 -> 0 | J34: =J14+J16+J18+J20+J22+J24+J26+J28+J30+J32 -> 0 | K34: =K14+K16+K18+K20+K22+K24+K26+K28+K30+K32 -> 0 | ... Z34: =Z14+Z16+Z18+Z20+Z22+Z24+Z26+Z28+Z30+Z32 -> 0 | AB34: The percent difference between the Survey Contractor and Inspector will be automatically calculated. Note: 9.10 e, f, g - The Tolerance for Total Trees = +/-20% and for Well-Spaced, Free Growing, and Plantable/Preparable Spots is +/-10%.
C35: % Difference: | D35: =(D33-D34)/D33*100 -> #DIV/0! | Q35: =(Q33-Q34)/Q33*100 -> #DIV/0! | U35: =(U33-U34)/U33*100 -> #DIV/0! | V35: =(V33-V34)/V33*100 -> #DIV/0! | W35: =(W33-W34)/W33*100 -> #DIV/0! | Y35: =(Y33-Y34)/Y33*100 -> #DIV/0! | Z35: =(Z33-Z34)/Z33*100 -> #DIV/0!
C36: Allowable % Tolerance: | D36: +/-20 | Q36: +/-10 | U36: +/-10 | V36: +/-10 | W36: +/-10 | X36: (if NSR)
A37: ='Survey Field Checklist'!A110 -> An Inspection Contractor Company Name
A38: ='Survey Field Checklist'!A111 -> 123 St. | AB38: Note: Satisfactory Work Quality Defined 9.10 a Survey is satisfactory when there are no errors in measurement that exceed allowable errors (Article 9.10 e, f, and g) or, if errors in measurement are found, such errors are not material to the results of the Survey; Where a tolerance is exceeded the Ministry Representative must be notified and the determination of the materiality of the finding noted in the Inspection report.
A39: ='Survey Field Checklist'!A112 -> Somewhere, BC, V1V 1V1
A40: ='Survey Field Checklist'!A113 -> 250-555-5555
A41: ='Survey Field Checklist'!A114 -> inspectioncontractor@telus.net
...

Sheet Survey Plot Tally 10plots
A1: File: FFT Survey Inspection Template 09-10-09.xls | Z1: Page 3/3
A2: FFT Ministry Survey Standard March 4, 2009 (SD FS925A)
A3: FFT Survey Inspection Forms
A4: Plot Tally Inspection
C5: Project #: | F5: ='Survey Field Checklist'!#REF! -> #REF! | O5: Opening #: | R5: ='Survey Field Checklist'!#REF! -> #REF!
C6: Contract #: | F6: ='Survey Field Checklist'!#REF! -> #REF! | O6: Location: | R6: ='Survey Field Checklist'!E6 -> 1111001-1
C7: Survey Contractor: | F7: ='Survey Field Checklist'!C7 -> ABC Forestry Consulting | O7: Survey Date/s: | R7: ='Survey Field Checklist'!E7 -> 09/10/07
O8: Inspection Date/s: | R8: ='Survey Field Checklist'!E8 -> 09/10/08
C9: Inspector: | F9: ='Survey Field Checklist'!C9 -> Doug Fir | O9: Report Date: | R9: ='Survey Field Checklist'!E10 -> 0
B11: Plot | D11: Total | E11: Total | F11: Total | J11: Total Trees | O11: Pref. & Acc. Sp. | Q11: Tot | S11: Pref. & Acc. Sp. | U11: Tot | V11: Plant. | W11: Prep.
A12: # | B12: # | C12: Stratum | D12: Trees | E12: Conifer | F12: Decid | G12: Germ | H12: Sx | I12: Pli | J12: Bl | K12: At | L12: Ac | M12: Ep | N12: =H12 -> Sx | O12: =I12 -> Pli | P12: =J12 -> Bl | Q12: WS | R12: =H12 -> Sx | S12: =I12 -> Pli | T12: =J12 -> Bl | U12: FG | V12: Spots | W12: Spots | X12: Pest | Y12: Live | Z12: Dead
A13: 1 | D13: =E13+F13 -> 0 | E13: =H13+I13+J13 -> 0 | F13: =K13+L13+M13 -> 0 | Q13: =N13+O13+P13 -> 0 | U13: =R13+S13+T13 -> 0
B14: Insp. | D14: =E14+F14 -> 0 | E14: =H14+I14+J14 -> 0 | F14: =K14+L14+M14 -> 0 | Q14: =N14+O14+P14 -> 0 | U14: =R14+S14+T14 -> 0
A15: 2 | D15: =E15+F15 -> 0 | E15: =H15+I15+J15 -> 0 | F15: =K15+L15+M15 -> 0 | Q15: =N15+O15+P15 -> 0 | U15: =R15+S15+T15 -> 0
B16: Insp. | D16: =E16+F16 -> 0 | E16: =H16+I16+J16 -> 0 | F16: =K16+L16+M16 -> 0 | Q16: =N16+O16+P16 -> 0 | U16: =R16+S16+T16 -> 0
A17: 3 | D17: =E17+F17 -> 0 | E17: =H17+I17+J17 -> 0 | F17: =K17+L17+M17 -> 0 | Q17: =N17+O17+P17 -> 0 | U17: =R17+S17+T17 -> 0
B18: Insp. | D18: =E18+F18 -> 0 | E18: =H18+I18+J18 -> 0 | F18: =K18+L18+M18 -> 0 | Q18: =N18+O18+P18 -> 0 | U18: =R18+S18+T18 -> 0
A19: 4 | D19: =E19+F19 -> 0 | E19: =H19+I19+J19 -> 0 | F19: =K19+L19+M19 -> 0 | Q19: =N19+O19+P19 -> 0 | U19: =R19+S19+T19 -> 0
B20: Insp. | D20: =E20+F20 -> 0 | E20: =H20+I20+J20 -> 0 | F20: =K20+L20+M20 -> 0 | Q20: =N20+O20+P20 -> 0 | U20: =R20+S20+T20 -> 0
A21: 5 | D21: =E21+F21 -> 0 | E21: =H21+I21+J21 -> 0 | F21: =K21+L21+M21 -> 0 | Q21: =N21+O21+P21 -> 0 | U21: =R21+S21+T21 -> 0
B22: Insp. | D22: =E22+F22 -> 0 | E22: =H22+I22+J22 -> 0 | F22: =K22+L22+M22 -> 0 | Q22: =N22+O22+P22 -> 0 | U22: =R22+S22+T22 -> 0
A23: 6 | D23: =E23+F23 -> 0 | E23: =H23+I23+J23 -> 0 | F23: =K23+L23+M23 -> 0 | Q23: =N23+O23+P23 -> 0 | U23: =R23+S23+T23 -> 0
B24: Insp. | D24: =E24+F24 -> 0 | E24: =H24+I24+J24 -> 0 | F24: =K24+L24+M24 -> 0 | Q24: =N24+O24+P24 -> 0 | U24: =R24+S24+T24 -> 0
A25: 7 | D25: =E25+F25 -> 0 | E25: =H25+I25+J25 -> 0 | F25: =K25+L25+M25 -> 0 | Q25: =N25+O25+P25 -> 0 | U25: =R25+S25+T25 -> 0
B26: Insp. | D26: =E26+F26 -> 0 | E26: =H26+I26+J26 -> 0 | F26: =K26+L26+M26 -> 0 | Q26: =N26+O26+P26 -> 0 | U26: =R26+S26+T26 -> 0
A27: 8 | D27: =E27+F27 -> 0 | E27: =H27+I27+J27 -> 0 | F27: =K27+L27+M27 -> 0 | Q27: =N27+O27+P27 -> 0 | U27: =R27+S27+T27 -> 0
B28: Insp. | D28: =E28+F28 -> 0 | E28: =H28+I28+J28 -> 0 | F28: =K28+L28+M28 -> 0 | Q28: =N28+O28+P28 -> 0 | U28: =R28+S28+T28 -> 0
A29: 9 | D29: =E29+F29 -> 0 | E29: =H29+I29+J29 -> 0 | F29: =K29+L29+M29 -> 0 | Q29: =N29+O29+P29 -> 0 | U29: =R29+S29+T29 -> 0
B30: Insp. | D30: =E30+F30 -> 0 | E30: =H30+I30+J30 -> 0 | F30: =K30+L30+M30 -> 0 | Q30: =N30+O30+P30 -> 0 | U30: =R30+S30+T30 -> 0
A31: 10 | D31: =E31+F31 -> 0 | E31: =H31+I31+J31 -> 0 | F31: =K31+L31+M31 -> 0 | Q31: =N31+O31+P31 -> 0 | U31: =R31+S31+T31 -> 0
B32: Insp. | D32: =E32+F32 -> 0 | E32: =H32+I32+J32 -> 0 | F32: =K32+L32+M32 -> 0 | Q32: =N32+O32+P32 -> 0 | U32: =R32+S32+T32 -> 0
C33: Contractor Totals: | D33: =D13+D15+D17+D19+D21+D23+D25+D27+D29+D31 -> 0 | E33: =E13+E15+E17+E19+E21+E23+E25+E27+E29+E31 -> 0 | F33: =F13+F15+F17+F19+F21+F23+F25+F27+F29+F31 -> 0 | G33: =G13+G15+G17+G19+G21+G23+G25+G27+G29+G31 -> 0 | H33: =H13+H15+H17+H19+H21+H23+H25+H27+H29+H31 -> 0 | I33: =I13+I15+I17+I19+I21+I23+I25+I27+I29+I31 -> 0 | J33: =J13+J15+J17+J19+J21+J23+J25+J27+J29+J31 -> 0 | K33: =K13+K15+K17+K19+K21+K23+K25+K27+K29+K31 -> 0 | ... Z33: =Z13+Z15+Z17+Z19+Z21+Z23+Z25+Z27+Z29+Z31 -> 0
C34: Inspector Totals: | D34: =D14+D16+D18+D20+D22+D24+D26+D28+D30+D32 -> 0 | E34: =E14+E16+E18+E20+E22+E24+E26+E28+E30+E32 -> 0 | F34: =F14+F16+F18+F20+F22+F24+F26+F28+F30+F32 -> 0 | G34: =G14+G16+G18+G20+G22+G24+G26+G28+G30+G32 -> 0 | H34: =H14+H16+H18+H20+H22+H24+H26+H28+H30+H32 -> 0 | I34: =I14+I16+I18+I20+I22+I24+I26+I28+I30+I32 -> 0 | J34: =J14+J16+J18+J20+J22+J24+J26+J28+J30+J32 -> 0 | K34: =K14+K16+K18+K20+K22+K24+K26+K28+K30+K32 -> 0 | ... Z34: =Z14+Z16+Z18+Z20+Z22+Z24+Z26+Z28+Z30+Z32 -> 0
C35: % Difference: | D35: =(D33-D34)/D33*100 -> #DIV/0! | Q35: =(Q33-Q34)/Q33*100 -> #DIV/0! | U35: =(U33-U34)/U33*100 -> #DIV/0! | V35: =(V33-V34)/V33*100 -> #DIV/0! | W35: =(W33-W34)/W33*100 -> #DIV/0! | Y35: =(Y33-Y34)/Y33*100 -> #DIV/0! | Z35: =(Z33-Z34)/Z33*100 -> #DIV/0!
C36: Allowable % Tolerance: | D36: +/-20 | Q36: +/-10 | U36: +/-10 | V36: +/-10 | W36: +/-10 | X36: (if NSR)
A37: ='Survey Field Checklist'!A110 -> An Inspection Contractor Company Name
A38: ='Survey Field Checklist'!A111 -> 123 St.
A39: ='Survey Field Checklist'!A112 -> Somewhere, BC, V1V 1V1
A40: ='Survey Field Checklist'!A113 -> 250-555-5555
A41: ='Survey Field Checklist'!A114 -> inspectioncontractor@telus.net
...

Sheet Plot Tally 20plots
A1: File: FFT Survey Inspection Template 09-10-09.xls | Z1: Page 3/3
A2: FFT Ministry Survey Standard March 4, 2009 (SD FS925A)
A3: FFT Survey Inspection Forms
A4: Plot Tally Inspection
C5: Project #: | F5: ='Survey Field Checklist'!#REF! -> #REF! | O5: Opening #: | R5: ='Survey Field Checklist'!#REF! -> #REF!
C6: Contract #: | F6: ='Survey Field Checklist'!#REF! -> #REF! | O6: Location: | R6: ='Survey Field Checklist'!E6 -> 1111001-1
C7: Survey Contractor: | F7: ='Survey Field Checklist'!C7 -> ABC Forestry Consulting | O7: Survey Date/s: | R7: ='Survey Field Checklist'!E7 -> 09/10/07
O8: Inspection Date/s: | R8: ='Survey Field Checklist'!E8 -> 09/10/08
C9: Inspector: | F9: ='Survey Field Checklist'!C9 -> Doug Fir | O9: Report Date: | R9: ='Survey Field Checklist'!E10 -> 0
B11: Plot | D11: Total | E11: Total | F11: Total | J11: Total Trees | O11: Pref. & Acc. Sp. | Q11: Tot | S11: Pref. & Acc. Sp. | U11: Tot | V11: Plant. | W11: Prep.
A12: # | B12: # | C12: Stratum | D12: Trees | E12: Conifer | F12: Decid | G12: Germ | H12: Sx | I12: Pli | J12: Bl | K12: At | L12: Ac | M12: Ep | N12: =H12 -> Sx | O12: =I12 -> Pli | P12: =J12 -> Bl | Q12: WS | R12: =H12 -> Sx | S12: =I12 -> Pli | T12: =J12 -> Bl | U12: FG | V12: Spots | W12: Spots | X12: Pest | Y12: Live | Z12: Dead
A13: 1 | D13: =E13+F13 -> 0 | E13: =H13+I13+J13 -> 0 | F13: =K13+L13+M13 -> 0 | Q13: =N13+O13+P13 -> 0 | U13: =R13+S13+T13 -> 0
B14: Insp. | D14: =E14+F14 -> 0 | E14: =H14+I14+J14 -> 0 | F14: =K14+L14+M14 -> 0 | Q14: =N14+O14+P14 -> 0 | U14: =R14+S14+T14 -> 0
A15: 2 | D15: =E15+F15 -> 0 | E15: =H15+I15+J15 -> 0 | F15: =K15+L15+M15 -> 0 | Q15: =N15+O15+P15 -> 0 | U15: =R15+S15+T15 -> 0
B16: Insp. | D16: =E16+F16 -> 0 | E16: =H16+I16+J16 -> 0 | F16: =K16+L16+M16 -> 0 | Q16: =N16+O16+P16 -> 0 | U16: =R16+S16+T16 -> 0
A17: 3 | D17: =E17+F17 -> 0 | E17: =H17+I17+J17 -> 0 | F17: =K17+L17+M17 -> 0 | Q17: =N17+O17+P17 -> 0 | U17: =R17+S17+T17 -> 0
B18: Insp. | D18: =E18+F18 -> 0 | E18: =H18+I18+J18 -> 0 | F18: =K18+L18+M18 -> 0 | Q18: =N18+O18+P18 -> 0 | U18: =R18+S18+T18 -> 0
A19: 4 | D19: =E19+F19 -> 0 | E19: =H19+I19+J19 -> 0 | F19: =K19+L19+M19 -> 0 | Q19: =N19+O19+P19 -> 0 | U19: =R19+S19+T19 -> 0
B20: Insp. | D20: =E20+F20 -> 0 | E20: =H20+I20+J20 -> 0 | F20: =K20+L20+M20 -> 0 | Q20: =N20+O20+P20 -> 0 | U20: =R20+S20+T20 -> 0
A21: 5 | D21: =E21+F21 -> 0 | E21: =H21+I21+J21 -> 0 | F21: =K21+L21+M21 -> 0 | Q21: =N21+O21+P21 -> 0 | U21: =R21+S21+T21 -> 0
B22: Insp. | D22: =E22+F22 -> 0 | E22: =H22+I22+J22 -> 0 | F22: =K22+L22+M22 -> 0 | Q22: =N22+O22+P22 -> 0 | U22: =R22+S22+T22 -> 0
A23: 6 | D23: =E23+F23 -> 0 | E23: =H23+I23+J23 -> 0 | F23: =K23+L23+M23 -> 0 | Q23: =N23+O23+P23 -> 0 | U23: =R23+S23+T23 -> 0
B24: Insp. | D24: =E24+F24 -> 0 | E24: =H24+I24+J24 -> 0 | F24: =K24+L24+M24 -> 0 | Q24: =N24+O24+P24 -> 0 | U24: =R24+S24+T24 -> 0
A25: 7 | D25: =E25+F25 -> 0 | E25: =H25+I25+J25 -> 0 | F25: =K25+L25+M25 -> 0 | Q25: =N25+O25+P25 -> 0 | U25: =R25+S25+T25 -> 0
B26: Insp. | D26: =E26+F26 -> 0 | E26: =H26+I26+J26 -> 0 | F26: =K26+L26+M26 -> 0 | Q26: =N26+O26+P26 -> 0 | U26: =R26+S26+T26 -> 0
A27: 8 | D27: =E27+F27 -> 0 | E27: =H27+I27+J27 -> 0 | F27: =K27+L27+M27 -> 0 | Q27: =N27+O27+P27 -> 0 | U27: =R27+S27+T27 -> 0
B28: Insp. | D28: =E28+F28 -> 0 | E28: =H28+I28+J28 -> 0 | F28: =K28+L28+M28 -> 0 | Q28: =N28+O28+P28 -> 0 | U28: =R28+S28+T28 -> 0
A29: 9 | D29: =E29+F29 -> 0 | E29: =H29+I29+J29 -> 0 | F29: =K29+L29+M29 -> 0 | Q29: =N29+O29+P29 -> 0 | U29: =R29+S29+T29 -> 0
B30: Insp. | D30: =E30+F30 -> 0 | E30: =H30+I30+J30 -> 0 | F30: =K30+L30+M30 -> 0 | Q30: =N30+O30+P30 -> 0 | U30: =R30+S30+T30 -> 0
A31: 10 | D31: =E31+F31 -> 0 | E31: =H31+I31+J31 -> 0 | F31: =K31+L31+M31 -> 0 | Q31: =N31+O31+P31 -> 0 | U31: =R31+S31+T31 -> 0
B32: Insp. | D32: =E32+F32 -> 0 | E32: =H32+I32+J32 -> 0 | F32: =K32+L32+M32 -> 0 | Q32: =N32+O32+P32 -> 0 | U32: =R32+S32+T32 -> 0
A33: 11 | D33: =E33+F33 -> 0 | E33: =H33+I33+J33 -> 0 | F33: =K33+L33+M33 -> 0 | Q33: =N33+O33+P33 -> 0 | U33: =R33+S33+T33 -> 0
B34: Insp. | D34: =E34+F34 -> 0 | E34: =H34+I34+J34 -> 0 | F34: =K34+L34+M34 -> 0 | Q34: =N34+O34+P34 -> 0 | U34: =R34+S34+T34 -> 0
A35: 12 | D35: =E35+F35 -> 0 | E35: =H35+I35+J35 -> 0 | F35: =K35+L35+M35 -> 0 | Q35: =N35+O35+P35 -> 0 | U35: =R35+S35+T35 -> 0
B36: Insp. | D36: =E36+F36 -> 0 | E36: =H36+I36+J36 -> 0 | F36: =K36+L36+M36 -> 0 | Q36: =N36+O36+P36 -> 0 | U36: =R36+S36+T36 -> 0
A37: 13 | D37: =E37+F37 -> 0 | E37: =H37+I37+J37 -> 0 | F37: =K37+L37+M37 -> 0 | Q37: =N37+O37+P37 -> 0 | U37: =R37+S37+T37 -> 0
B38: Insp. | D38: =E38+F38 -> 0 | E38: =H38+I38+J38 -> 0 | F38: =K38+L38+M38 -> 0 | Q38: =N38+O38+P38 -> 0 | U38: =R38+S38+T38 -> 0
A39: 14 | D39: =E39+F39 -> 0 | E39: =H39+I39+J39 -> 0 | F39: =K39+L39+M39 -> 0 | Q39: =N39+O39+P39 -> 0 | U39: =R39+S39+T39 -> 0
B40: Insp. | D40: =E40+F40 -> 0 | E40: =H40+I40+J40 -> 0 | F40: =K40+L40+M40 -> 0 | Q40: =N40+O40+P40 -> 0 | U40: =R40+S40+T40 -> 0
A41: 15 | D41: =E41+F41 -> 0 | E41: =H41+I41+J41 -> 0 | F41: =K41+L41+M41 -> 0 | Q41: =N41+O41+P41 -> 0 | U41: =R41+S41+T41 -> 0
...

Sheet Plot Tally 25plots
A1: File: FFT Survey Inspection Template 09-10-09.xls | Z1: Page 3/3
A2: FFT Ministry Survey Standard March 4, 2009 (SD FS925A)
A3: FFT Survey Inspection Forms
A4: Plot Tally Inspection
C5: Project #: | F5: ='Survey Field Checklist'!#REF! -> #REF! | O5: Opening #: | R5: ='Survey Field Checklist'!#REF! -> #REF!
C6: Contract #: | F6: ='Survey Field Checklist'!#REF! -> #REF! | O6: Location: | R6: ='Survey Field Checklist'!E6 -> 1111001-1
C7: Survey Contractor: | F7: ='Survey Field Checklist'!C7 -> ABC Forestry Consulting | O7: Survey Date/s: | R7: ='Survey Field Checklist'!E7 -> 09/10/07
O8: Inspection Date/s: | R8: ='Survey Field Checklist'!E8 -> 09/10/08
C9: Inspector: | F9: ='Survey Field Checklist'!C9 -> Doug Fir | O9: Report Date: | R9: ='Survey Field Checklist'!E10 -> 0
B11: Plot | D11: Total | E11: Total | F11: Total | J11: Total Trees | O11: Pref. & Acc. Sp. | Q11: Tot | S11: Pref. & Acc. Sp. | U11: Tot | V11: Plant. | W11: Prep.
A12: # | B12: # | C12: Stratum | D12: Trees | E12: Conifer | F12: Decid | G12: Germ | H12: Sx | I12: Pli | J12: Bl | K12: At | L12: Ac | M12: Ep | N12: =H12 -> Sx | O12: =I12 -> Pli | P12: =J12 -> Bl | Q12: WS | R12: =H12 -> Sx | S12: =I12 -> Pli | T12: =J12 -> Bl | U12: FG | V12: Spots | W12: Spots | X12: Pest | Y12: Live | Z12: Dead
A13: 1 | D13: =E13+F13 -> 0 | E13: =H13+I13+J13 -> 0 | F13: =K13+L13+M13 -> 0 | Q13: =N13+O13+P13 -> 0 | U13: =R13+S13+T13 -> 0
B14: Insp. | D14: =E14+F14 -> 0 | E14: =H14+I14+J14 -> 0 | F14: =K14+L14+M14 -> 0 | Q14: =N14+O14+P14 -> 0 | U14: =R14+S14+T14 -> 0
A15: 2 | D15: =E15+F15 -> 0 | E15: =H15+I15+J15 -> 0 | F15: =K15+L15+M15 -> 0 | Q15: =N15+O15+P15 -> 0 | U15: =R15+S15+T15 -> 0
B16: Insp. | D16: =E16+F16 -> 0 | E16: =H16+I16+J16 -> 0 | F16: =K16+L16+M16 -> 0 | Q16: =N16+O16+P16 -> 0 | U16: =R16+S16+T16 -> 0
A17: 3 | D17: =E17+F17 -> 0 | E17: =H17+I17+J17 -> 0 | F17: =K17+L17+M17 -> 0 | Q17: =N17+O17+P17 -> 0 | U17: =R17+S17+T17 -> 0
B18: Insp. | D18: =E18+F18 -> 0 | E18: =H18+I18+J18 -> 0 | F18: =K18+L18+M18 -> 0 | Q18: =N18+O18+P18 -> 0 | U18: =R18+S18+T18 -> 0
A19: 4 | D19: =E19+F19 -> 0 | E19: =H19+I19+J19 -> 0 | F19: =K19+L19+M19 -> 0 | Q19: =N19+O19+P19 -> 0 | U19: =R19+S19+T19 -> 0
B20: Insp. | D20: =E20+F20 -> 0 | E20: =H20+I20+J20 -> 0 | F20: =K20+L20+M20 -> 0 | Q20: =N20+O20+P20 -> 0 | U20: =R20+S20+T20 -> 0
A21: 5 | D21: =E21+F21 -> 0 | E21: =H21+I21+J21 -> 0 | F21: =K21+L21+M21 -> 0 | Q21: =N21+O21+P21 -> 0 | U21: =R21+S21+T21 -> 0
B22: Insp. | D22: =E22+F22 -> 0 | E22: =H22+I22+J22 -> 0 | F22: =K22+L22+M22 -> 0 | Q22: =N22+O22+P22 -> 0 | U22: =R22+S22+T22 -> 0
A23: 6 | D23: =E23+F23 -> 0 | E23: =H23+I23+J23 -> 0 | F23: =K23+L23+M23 -> 0 | Q23: =N23+O23+P23 -> 0 | U23: =R23+S23+T23 -> 0
B24: Insp. | D24: =E24+F24 -> 0 | E24: =H24+I24+J24 -> 0 | F24: =K24+L24+M24 -> 0 | Q24: =N24+O24+P24 -> 0 | U24: =R24+S24+T24 -> 0
A25: 7 | D25: =E25+F25 -> 0 | E25: =H25+I25+J25 -> 0 | F25: =K25+L25+M25 -> 0 | Q25: =N25+O25+P25 -> 0 | U25: =R25+S25+T25 -> 0
B26: Insp. | D26: =E26+F26 -> 0 | E26: =H26+I26+J26 -> 0 | F26: =K26+L26+M26 -> 0 | Q26: =N26+O26+P26 -> 0 | U26: =R26+S26+T26 -> 0
A27: 8 | D27: =E27+F27 -> 0 | E27: =H27+I27+J27 -> 0 | F27: =K27+L27+M27 -> 0 | Q27: =N27+O27+P27 -> 0 | U27: =R27+S27+T27 -> 0
B28: Insp. | D28: =E28+F28 -> 0 | E28: =H28+I28+J28 -> 0 | F28: =K28+L28+M28 -> 0 | Q28: =N28+O28+P28 -> 0 | U28: =R28+S28+T28 -> 0
A29: 9 | D29: =E29+F29 -> 0 | E29: =H29+I29+J29 -> 0 | F29: =K29+L29+M29 -> 0 | Q29: =N29+O29+P29 -> 0 | U29: =R29+S29+T29 -> 0
B30: Insp. | D30: =E30+F30 -> 0 | E30: =H30+I30+J30 -> 0 | F30: =K30+L30+M30 -> 0 | Q30: =N30+O30+P30 -> 0 | U30: =R30+S30+T30 -> 0
A31: 10 | D31: =E31+F31 -> 0 | E31: =H31+I31+J31 -> 0 | F31: =K31+L31+M31 -> 0 | Q31: =N31+O31+P31 -> 0 | U31: =R31+S31+T31 -> 0
B32: Insp. | D32: =E32+F32 -> 0 | E32: =H32+I32+J32 -> 0 | F32: =K32+L32+M32 -> 0 | Q32: =N32+O32+P32 -> 0 | U32: =R32+S32+T32 -> 0
A33: 11 | D33: =E33+F33 -> 0 | E33: =H33+I33+J33 -> 0 | F33: =K33+L33+M33 -> 0 | Q33: =N33+O33+P33 -> 0 | U33: =R33+S33+T33 -> 0
B34: Insp. | D34: =E34+F34 -> 0 | E34: =H34+I34+J34 -> 0 | F34: =K34+L34+M34 -> 0 | Q34: =N34+O34+P34 -> 0 | U34: =R34+S34+T34 -> 0
A35: 12 | D35: =E35+F35 -> 0 | E35: =H35+I35+J35 -> 0 | F35: =K35+L35+M35 -> 0 | Q35: =N35+O35+P35 -> 0 | U35: =R35+S35+T35 -> 0
B36: Insp. | D36: =E36+F36 -> 0 | E36: =H36+I36+J36 -> 0 | F36: =K36+L36+M36 -> 0 | Q36: =N36+O36+P36 -> 0 | U36: =R36+S36+T36 -> 0
A37: 13 | D37: =E37+F37 -> 0 | E37: =H37+I37+J37 -> 0 | F37: =K37+L37+M37 -> 0 | Q37: =N37+O37+P37 -> 0 | U37: =R37+S37+T37 -> 0
B38: Insp. | D38: =E38+F38 -> 0 | E38: =H38+I38+J38 -> 0 | F38: =K38+L38+M38 -> 0 | Q38: =N38+O38+P38 -> 0 | U38: =R38+S38+T38 -> 0
A39: 14 | D39: =E39+F39 -> 0 | E39: =H39+I39+J39 -> 0 | F39: =K39+L39+M39 -> 0 | Q39: =N39+O39+P39 -> 0 | U39: =R39+S39+T39 -> 0
B40: Insp. | D40: =E40+F40 -> 0 | E40: =H40+I40+J40 -> 0 | F40: =K40+L40+M40 -> 0 | Q40: =N40+O40+P40 -> 0 | U40: =R40+S40+T40 -> 0
A41: 15 | D41: =E41+F41 -> 0 | E41: =H41+I41+J41 -> 0 | F41: =K41+L41+M41 -> 0 | Q41: =N41+O41+P41 -> 0 | U41: =R41+S41+T41 -> 0
...

Sheet Plot Tally 35plots
A1: File: FFT Survey Inspection Template 09-10-09.xls | Z1: Page 3/3
A2: FFT Ministry Survey Standard March 4, 2009 (SD FS925A)
A3: FFT Survey Inspection Forms
A4: Plot Tally Inspection
C5: Project #: | F5: ='Survey Field Checklist'!#REF! -> #REF! | O5: Opening #: | R5: ='Survey Field Checklist'!#REF! -> #REF!
C6: Contract #: | F6: ='Survey Field Checklist'!#REF! -> #REF! | O6: Location: | R6: ='Survey Field Checklist'!E6 -> 1111001-1
C7: Survey Contractor: | F7: ='Survey Field Checklist'!C7 -> ABC Forestry Consulting | O7: Survey Date/s: | R7: ='Survey Field Checklist'!E7 -> 09/10/07
O8: Inspection Date/s: | R8: ='Survey Field Checklist'!E8 -> 09/10/08
C9: Inspector: | F9: ='Survey Field Checklist'!C9 -> Doug Fir | O9: Report Date: | R9: ='Survey Field Checklist'!E10 -> 0
B11: Plot | D11: Total | E11: Total | F11: Total | J11: Total Trees | O11: Pref. & Acc. Sp. | Q11: Tot | S11: Pref. & Acc. Sp. | U11: Tot | V11: Plant. | W11: Prep.
A12: # | B12: # | C12: Stratum | D12: Trees | E12: Conifer | F12: Decid | G12: Germ | H12: Sx | I12: Pli | J12: Bl | K12: At | L12: Ac | M12: Ep | N12: =H12 -> Sx | O12: =I12 -> Pli | P12: =J12 -> Bl | Q12: WS | R12: =H12 -> Sx | S12: =I12 -> Pli | T12: =J12 -> Bl | U12: FG | V12: Spots | W12: Spots | X12: Pest | Y12: Live | Z12: Dead
A13: 1 | D13: =E13+F13 -> 0 | E13: =H13+I13+J13 -> 0 | F13: =K13+L13+M13 -> 0 | Q13: =N13+O13+P13 -> 0 | U13: =R13+S13+T13 -> 0
B14: Insp. | D14: =E14+F14 -> 0 | E14: =H14+I14+J14 -> 0 | F14: =K14+L14+M14 -> 0 | Q14: =N14+O14+P14 -> 0 | U14: =R14+S14+T14 -> 0
A15: 2 | D15: =E15+F15 -> 0 | E15: =H15+I15+J15 -> 0 | F15: =K15+L15+M15 -> 0 | Q15: =N15+O15+P15 -> 0 | U15: =R15+S15+T15 -> 0
B16: Insp. | D16: =E16+F16 -> 0 | E16: =H16+I16+J16 -> 0 | F16: =K16+L16+M16 -> 0 | Q16: =N16+O16+P16 -> 0 | U16: =R16+S16+T16 -> 0
A17: 3 | D17: =E17+F17 -> 0 | E17: =H17+I17+J17 -> 0 | F17: =K17+L17+M17 -> 0 | Q17: =N17+O17+P17 -> 0 | U17: =R17+S17+T17 -> 0
B18: Insp. | D18: =E18+F18 -> 0 | E18: =H18+I18+J18 -> 0 | F18: =K18+L18+M18 -> 0 | Q18: =N18+O18+P18 -> 0 | U18: =R18+S18+T18 -> 0
A19: 4 | D19: =E19+F19 -> 0 | E19: =H19+I19+J19 -> 0 | F19: =K19+L19+M19 -> 0 | Q19: =N19+O19+P19 -> 0 | U19: =R19+S19+T19 -> 0
B20: Insp. | D20: =E20+F20 -> 0 | E20: =H20+I20+J20 -> 0 | F20: =K20+L20+M20 -> 0 | Q20: =N20+O20+P20 -> 0 | U20: =R20+S20+T20 -> 0
A21: 5 | D21: =E21+F21 -> 0 | E21: =H21+I21+J21 -> 0 | F21: =K21+L21+M21 -> 0 | Q21: =N21+O21+P21 -> 0 | U21: =R21+S21+T21 -> 0
B22: Insp. | D22: =E22+F22 -> 0 | E22: =H22+I22+J22 -> 0 | F22: =K22+L22+M22 -> 0 | Q22: =N22+O22+P22 -> 0 | U22: =R22+S22+T22 -> 0
A23: 6 | D23: =E23+F23 -> 0 | E23: =H23+I23+J23 -> 0 | F23: =K23+L23+M23 -> 0 | Q23: =N23+O23+P23 -> 0 | U23: =R23+S23+T23 -> 0
B24: Insp. | D24: =E24+F24 -> 0 | E24: =H24+I24+J24 -> 0 | F24: =K24+L24+M24 -> 0 | Q24: =N24+O24+P24 -> 0 | U24: =R24+S24+T24 -> 0
A25: 7 | D25: =E25+F25 -> 0 | E25: =H25+I25+J25 -> 0 | F25: =K25+L25+M25 -> 0 | Q25: =N25+O25+P25 -> 0 | U25: =R25+S25+T25 -> 0
B26: Insp. | D26: =E26+F26 -> 0 | E26: =H26+I26+J26 -> 0 | F26: =K26+L26+M26 -> 0 | Q26: =N26+O26+P26 -> 0 | U26: =R26+S26+T26 -> 0
A27: 8 | D27: =E27+F27 -> 0 | E27: =H27+I27+J27 -> 0 | F27: =K27+L27+M27 -> 0 | Q27: =N27+O27+P27 -> 0 | U27: =R27+S27+T27 -> 0
B28: Insp. | D28: =E28+F28 -> 0 | E28: =H28+I28+J28 -> 0 | F28: =K28+L28+M28 -> 0 | Q28: =N28+O28+P28 -> 0 | U28: =R28+S28+T28 -> 0
