Workbook
Name bottomRep: [1]NotesAndParameters!$C$7
Name maxMuRank: [1]NotesAndParameters!$D$6
Name minMuRank: [1]NotesAndParameters!$C$6
Name percentType: [1]NotesAndParameters!$B$18
Name Scale: SummaryByUnit!$B$1
Name topRep: [1]NotesAndParameters!$D$7
Name varSelect: [1]NotesAndParameters!$C$5

Sheet MUNames&Summary
A1: Metadata
A2: Description | B2: Comparison of the Provincial Projection of the Current Mountain Pine Beetle Infestation Model (BCMPB), which is derived in part from the Provincial Aerial Overview Surveys of Forest Health.
A3: Model Version | B3: BCMPB.v9 (and years 1999 through 2011 of the Aerial Overview Surveys of Forest Health)
A4: Scenario | B4: No Management, i.e. no future forest harvesting or beetle suppression activities occur. This is the projection of the infestation alone
A5: Data Values | B5: Cubic meters (m3) of pine observed to have been killed (red- and grey-attack only) on the timber harvesting land base (THLB).
A6: Caution | B6: The Prince George Timber Supply Area (TSA) is modelled as 3 separate management units (each forest district).
A7: Reference | B7: www.for.gov.bc.ca/hre/bcmpb
A8: Contact | B8: adrian.walton@gov.bc.ca
A10: Run date | B10: 40947
A12: Instructions
A13: Select one or more management units (or "All") from the dropdown box in cell B3 on the "SummaryByUnit" worksheet. Values and charts on the various worksheets will automatically update to reflect estimates of annual and/or cumulative pine volume killed by the mountain pine beetle within the selected management unit(s).
A15: MuName | B15: Management Unit ID | C15: THLB Total Volume (m3) in 1999 | D15: THLB Pine Volume (m3) in 1999 | E15: Percent Pine | F15: Coast - Interior | G15: Coast THLB Total Volume (m3) in 1999 | H15: Coast THLB Pine Volume (m3) in 1999 | I15: Interior THLB Total Volume (m3) in 1999 | J15: Interior THLB Pine Volume (m3) in 1999
A16: =VLOOKUP(B16,Data!$AO$2:$AV$42,3) -> Vanderhoof Forest District | B16: 38 | C16: =VLOOKUP(B16,Data!$AO$2:$AV$42,7) -> 133279904 | D16: =VLOOKUP(B16,Data!$AO$2:$AV$42,8) -> 97637744 | E16: =IF(C16>0,D16/C16,0) -> 0.73257664 | F16: =VLOOKUP(B16,Data!$AO$2:$AX$42,10) -> I | G16: =IF($F16="C",C16,"") | H16: =IF($F16="C",D16,"") | I16: =IF($F16="I",C16,"") -> 133279904 | J16: =IF($F16="I",D16,"") -> 97637744
A17: =VLOOKUP(B17,Data!$AO$2:$AV$42,3) -> Quesnel TSA | B17: 32 | C17: =VLOOKUP(B17,Data!$AO$2:$AV$42,7) -> 164736944 | D17: =VLOOKUP(B17,Data!$AO$2:$AV$42,8) -> 110969680 | E17: =IF(C17>0,D17/C17,0) -> 0.67361745 | F17: =VLOOKUP(B17,Data!$AO$2:$AX$42,10) -> I | G17: =IF($F17="C",C17,"") | H17: =IF($F17="C",D17,"") | I17: =IF($F17="I",C17,"") -> 164736944 | J17: =IF($F17="I",D17,"") -> 110969680
A18: =VLOOKUP(B18,Data!$AO$2:$AV$42,3) -> Lakes TSA | B18: 21 | C18: =VLOOKUP(B18,Data!$AO$2:$AV$42,7) -> 110554240 | D18: =VLOOKUP(B18,Data!$AO$2:$AV$42,8) -> 71046736 | E18: =IF(C18>0,D18/C18,0) -> 0.64264144 | F18: =VLOOKUP(B18,Data!$AO$2:$AX$42,10) -> I | G18: =IF($F18="C",C18,"") | H18: =IF($F18="C",D18,"") | I18: =IF($F18="I",C18,"") -> 110554240 | J18: =IF($F18="I",D18,"") -> 71046736
A19: =VLOOKUP(B19,Data!$AO$2:$AV$42,3) -> Williams Lake TSA | B19: 39 | C19: =VLOOKUP(B19,Data!$AO$2:$AV$42,7) -> 264548400 | D19: =VLOOKUP(B19,Data!$AO$2:$AV$42,8) -> 143621136 | E19: =IF(C19>0,D19/C19,0) -> 0.54289172 | F19: =VLOOKUP(B19,Data!$AO$2:$AX$42,10) -> I | G19: =IF($F19="C",C19,"") | H19: =IF($F19="C",D19,"") | I19: =IF($F19="I",C19,"") -> 264548400 | J19: =IF($F19="I",D19,"") -> 143621136
A20: =VLOOKUP(B20,Data!$AO$2:$AV$42,3) -> 100 Mile House TSA | B20: 1 | C20: =VLOOKUP(B20,Data!$AO$2:$AV$42,7) -> 110436352 | D20: =VLOOKUP(B20,Data!$AO$2:$AV$42,8) -> 57597952 | E20: =IF(C20>0,D20/C20,0) -> 0.52154885 | F20: =VLOOKUP(B20,Data!$AO$2:$AX$42,10) -> I | G20: =IF($F20="C",C20,"") | H20: =IF($F20="C",D20,"") | I20: =IF($F20="I",C20,"") -> 110436352 | J20: =IF($F20="I",D20,"") -> 57597952
A21: =VLOOKUP(B21,Data!$AO$2:$AV$42,3) -> Merritt TSA | B21: 24 | C21: =VLOOKUP(B21,Data!$AO$2:$AV$42,7) -> 130833856 | D21: =VLOOKUP(B21,Data!$AO$2:$AV$42,8) -> 66165184 | E21: =IF(C21>0,D21/C21,0) -> 0.50571913 | F21: =VLOOKUP(B21,Data!$AO$2:$AX$42,10) -> I | G21: =IF($F21="C",C21,"") | H21: =IF($F21="C",D21,"") | I21: =IF($F21="I",C21,"") -> 130833856 | J21: =IF($F21="I",D21,"") -> 66165184
A22: =VLOOKUP(B22,Data!$AO$2:$AV$42,3) -> Cranbrook TSA | B22: 8 | C22: =VLOOKUP(B22,Data!$AO$2:$AV$42,7) -> 65829904 | D22: =VLOOKUP(B22,Data!$AO$2:$AV$42,8) -> 30875856 | E22: =IF(C22>0,D22/C22,0) -> 0.46902478 | F22: =VLOOKUP(B22,Data!$AO$2:$AX$42,10) -> I | G22: =IF($F22="C",C22,"") | H22: =IF($F22="C",D22,"") | I22: =IF($F22="I",C22,"") -> 65829904 | J22: =IF($F22="I",D22,"") -> 30875856
A23: =VLOOKUP(B23,Data!$AO$2:$AV$42,3) -> Morice TSA | B23: 26 | C23: =VLOOKUP(B23,Data!$AO$2:$AV$42,7) -> 132865936 | D23: =VLOOKUP(B23,Data!$AO$2:$AV$42,8) -> 57078896 | E23: =IF(C23>0,D23/C23,0) -> 0.42959767 | F23: =VLOOKUP(B23,Data!$AO$2:$AX$42,10) -> I | G23: =IF($F23="C",C23,"") | H23: =IF($F23="C",D23,"") | I23: =IF($F23="I",C23,"") -> 132865936 | J23: =IF($F23="I",D23,"") -> 57078896
A24: =VLOOKUP(B24,Data!$AO$2:$AV$42,3) -> Mackenzie TSA | B24: 23 | C24: =VLOOKUP(B24,Data!$AO$2:$AV$42,7) -> 287531712 | D24: =VLOOKUP(B24,Data!$AO$2:$AV$42,8) -> 116827456 | E24: =IF(C24>0,D24/C24,0) -> 0.40631155 | F24: =VLOOKUP(B24,Data!$AO$2:$AX$42,10) -> I | G24: =IF($F24="C",C24,"") | H24: =IF($F24="C",D24,"") | I24: =IF($F24="I",C24,"") -> 287531712 | J24: =IF($F24="I",D24,"") -> 116827456
A25: =VLOOKUP(B25,Data!$AO$2:$AV$42,3) -> Lillooet TSA | B25: 22 | C25: =VLOOKUP(B25,Data!$AO$2:$AV$42,7) -> 49789440 | D25: =VLOOKUP(B25,Data!$AO$2:$AV$42,8) -> 19483744 | E25: =IF(C25>0,D25/C25,0) -> 0.39132282 | F25: =VLOOKUP(B25,Data!$AO$2:$AX$42,10) -> I | G25: =IF($F25="C",C25,"") | H25: =IF($F25="C",D25,"") | I25: =IF($F25="I",C25,"") -> 49789440 | J25: =IF($F25="I",D25,"") -> 19483744
A26: =VLOOKUP(B26,Data!$AO$2:$AV$42,3) -> Ft. St. James Forest District | B26: 12 | C26: =VLOOKUP(B26,Data!$AO$2:$AV$42,7) -> 285258608 | D26: =VLOOKUP(B26,Data!$AO$2:$AV$42,8) -> 109503152 | E26: =IF(C26>0,D26/C26,0) -> 0.38387326 | F26: =VLOOKUP(B26,Data!$AO$2:$AX$42,10) -> I | G26: =IF($F26="C",C26,"") | H26: =IF($F26="C",D26,"") | I26: =IF($F26="I",C26,"") -> 285258608 | J26: =IF($F26="I",D26,"") -> 109503152
A27: =VLOOKUP(B27,Data!$AO$2:$AV$42,3) -> Invermere TSA | B27: 15 | C27: =VLOOKUP(B27,Data!$AO$2:$AV$42,7) -> 31709760 | D27: =VLOOKUP(B27,Data!$AO$2:$AV$42,8) -> 11740752 | E27: =IF(C27>0,D27/C27,0) -> 0.37025673 | F27: =VLOOKUP(B27,Data!$AO$2:$AX$42,10) -> I | G27: =IF($F27="C",C27,"") | H27: =IF($F27="C",D27,"") | I27: =IF($F27="I",C27,"") -> 31709760 | J27: =IF($F27="I",D27,"") -> 11740752
... A54: =VLOOKUP(B54,Data!$AO$2:$AV$42,3) -> North Coast TSA | B54: 28 | C54: =VLOOKUP(B54,Data!$AO$2:$AV$42,7) -> 51647072 | D54: =VLOOKUP(B54,Data!$AO$2:$AV$42,8) -> 168208 | E54: =IF(C54>0,D54/C54,0) -> 0.0032568739 | F54: =VLOOKUP(B54,Data!$AO$2:$AX$42,10) -> C | G54: =IF($F54="C",C54,"") -> 51647072 | H54: =IF($F54="C",D54,"") -> 168208 | I54: =IF($F54="I",C54,"") | J54: =IF($F54="I",D54,"")
A55: =VLOOKUP(B55,[2]Data!$AL$2:$AS$42,3) -> Coast TFLs | B55: 41 | C55: =VLOOKUP(B55,[2]Data!$AL$2:$AS$42,7) -> 422006432 | D55: =VLOOKUP(B55,[2]Data!$AL$2:$AS$42,8) -> 2638912 | E55: =IF(C55>0,D55/C55,0) -> 0.0062532507 | F55: =VLOOKUP(B55,[2]Data!$AL$2:$AU$42,10) -> C | G55: =IF($F55="C",C55,"") -> 422006432 | H55: =IF($F55="C",D55,"") -> 2638912 | I55: =IF($F55="I",C55,"") | J55: =IF($F55="I",D55,"")
A56: =VLOOKUP(B56,[2]Data!$AL$2:$AS$42,3) -> Interior TFLs | B56: 40 | C56: =VLOOKUP(B56,[2]Data!$AL$2:$AS$42,7) -> 370075520 | D56: =VLOOKUP(B56,[2]Data!$AL$2:$AS$42,8) -> 91970448 | E56: =IF(C56>0,D56/C56,0) -> 0.24851805 | F56: =VLOOKUP(B56,[2]Data!$AL$2:$AU$42,10) -> I | G56: =IF($F56="C",C56,"") | H56: =IF($F56="C",D56,"") | I56: =IF($F56="I",C56,"") -> 370075520 | J56: =IF($F56="I",D56,"") -> 91970448
A57: 22 Pine Units | C57: =SUM(C16:C37) -> 2851632672 | D57: =SUM(D16:D37) -> 1177968368 | F57: Coast/Interior Total | G57: =SUM(G16:G56) -> 918624016 | H57: =SUM(H16:H56) -> 8858608 | I57: =SUM(I16:I56) -> 3678660032 | J57: =SUM(J16:J56) -> 1343016336
A58: Outside the 22 Pine Units | C58: =SUM(C55:C56,C38:C54) -> 1745651376 | D58: =SUM(D55:D56,D38:D54) -> 173906576
A59: Provincial Total | C59: =SUM(C16:C56) -> 4597284048 | D59: =SUM(D16:D56) -> 1351874944
B62: THLB Total Volume (billions m3) in 1999 | C62: THLB Pine Volume (billions m3) in 1999 | D62: % Pine | G62: THLB Total Volume (millions m3) in 1999 | H62: THLB Pine Volume (millions m3) in 1999 | I62: % Pine
A63: Interior | B63: =I57/1000000000 -> 3.67866 | C63: =J57/1000000000 -> 1.3430163 | D63: =C63/B63 -> 0.36508303 | F63: Coast TSA | G63: =SUM(G16:G54)/1000000 -> 496.61758 | H63: =SUM(H16:H54)/1000000 -> 6.219696 | I63: =H63/G63 -> 0.012524116
A64: Coast | B64: =G57/1000000000 -> 0.91862402 | C64: =H57/1000000000 -> 0.008858608 | D64: =C64/B64 -> 0.0096433447 | F64: Coast TFL | G64: =SUM(G55:G56)/1000000 -> 422.00643 | H64: =SUM(H55:H56)/1000000 -> 2.638912 | I64: =H64/G64 -> 0.0062532507
A65: Province | B65: =C59/1000000000 -> 4.597284 | C65: =D59/1000000000 -> 1.3518749 | D65: =C65/B65 -> 0.29405948 | F65: Interior TSA | G65: =SUM(I16:I54)/1000000 -> 3308.5845 | H65: =SUM(J16:J54)/1000000 -> 1251.0459 | I65: =H65/G65 -> 0.37812118
F66: Interior TFL | G66: =SUM(I55:I56)/1000000 -> 370.07552 | H66: =SUM(J55:J56)/1000000 -> 91.970448 | I66: =H66/G66 -> 0.24851805

Sheet SummaryByUnit
A1: Scale | B1: =IF(B89<80000,1000,IF(B89<8000000,100000,1000000)) -> 1000000 | C1: =IF(B89<80000,"Pine Volume Killed (1000's of cubic metres)",IF(B89<8000000,"Pine Volume Killed (100,000's of cubic metres)","Pine Volume Killed (millions of cubic metres)")) -> Pine Volume Killed (millions of cubic metres)
A3: Management Unit Full Name | B3: (All)
B5: Year
A6: Data | B6: 1999 | C6: 2000 | D6: 2001 | E6: 2002 | F6: 2003 | G6: 2004 | H6: 2005 | I6: 2006 | J6: 2007 | K6: 2008 | L6: 2009 | M6: 2010 | N6: 2011 | O6: 2012 | P6: 2013 | Q6: 2014 | R6: 2015 | S6: 2016 | T6: 2017 | U6: 2018 | V6: 2019 | W6: 2020 | X6: 2021 | Y6: 2022 | Z6: 2023 | AA6: 2024 | AB6: Grand Total
A7: Sum of 2004anKillData | B7: 4895168 | C7: 6055072 | D7: 11647792 | E7: 28180112 | F7: 52341296 | G7: 70063280 | AB7: 173182720
A8: Sum of 2004anKillProjection | H8: 82611296 | I8: 94221344 | J8: 98974816 | K8: 98801856 | L8: 94942384 | M8: 87882752 | N8: 77116032 | O8: 65588368 | P8: 53882576 | Q8: 43579984 | R8: 35075952 | S8: 28015808 | T8: 22222160 | U8: 17705200 | V8: 14486400 | W8: 11780544 | X8: 9758800 | Y8: 8080624 | Z8: 6795312 | AA8: 5735680 | AB8: 957257888
A9: Sum of 2005anKillData | B9: 5472800 | C9: 6846448 | D9: 12533664 | E9: 29067008 | F9: 56010256 | G9: 80421824 | H9: 139064688 | AB9: 329416688
A10: Sum of 2005anKillProjection | I10: 123087968 | J10: 122838176 | K10: 116663968 | L10: 105527056 | M10: 87654624 | N10: 66353952 | O10: 44054848 | P10: 26222336 | Q10: 14484480 | R10: 7781280 | S10: 4380816 | T10: 2601424 | U10: 1814496 | V10: 1399408 | W10: 1124352 | X10: 902464 | Y10: 772848 | Z10: 682672 | AA10: 634592 | AB10: 728981760
A11: Sum of 2006anKillData | B11: 5530272 | C11: 6893712 | D11: 12483712 | E11: 28472304 | F11: 54414320 | G11: 78753712 | H11: 139986016 | I11: 107718672 | AB11: 434252720
A12: Sum of 2006anKillProjection | J12: 95062400 | K12: 91529744 | L12: 88397088 | M12: 83386304 | N12: 71497680 | O12: 54667280 | P12: 37266784 | Q12: 23400960 | R12: 14004224 | S12: 8398416 | T12: 5234832 | U12: 3390768 | V12: 2503840 | W12: 1849600 | X12: 1522224 | Y12: 1274288 | Z12: 1092064 | AA12: 989168 | AB12: 585467664
A13: Sum of 2007anKillData | B13: 5645984 | C13: 7016016 | D13: 12453120 | E13: 28527552 | F13: 54672800 | G13: 79277664 | H13: 140616336 | I13: 114557520 | J13: 99028544 | AB13: 541795536
A14: Sum of 2007anKillProjection | K14: 77969632 | L14: 73611312 | M14: 72700320 | N14: 67896320 | O14: 55976576 | P14: 40089776 | Q14: 25914544 | R14: 16052928 | S14: 9756480 | T14: 6224928 | U14: 4347728 | V14: 3252816 | W14: 2506288 | X14: 2161264 | Y14: 1838208 | Z14: 1635328 | AA14: 1421184 | AB14: 463355632
A15: Sum of 2008anKillData | B15: 5580688 | C15: 6971456 | D15: 12424304 | E15: 28283296 | F15: 54419888 | G15: 78754544 | H15: 139734432 | I15: 113662304 | J15: 102905664 | K15: 35533296 | AB15: 578269872
A16: Sum of 2008anKillProjection | L16: 38202672 | M16: 48078560 | N16: 55983808 | O16: 56186656 | P16: 47550672 | Q16: 35085008 | R16: 24485296 | S16: 15929312 | T16: 10858432 | U16: 7597280 | V16: 5480096 | W16: 4138560 | X16: 3369536 | Y16: 2818112 | Z16: 2425984 | AA16: 2146896 | AB16: 360336880
A17: Sum of 2009anKillData | B17: 5602592 | C17: 7003888 | D17: 12385600 | E17: 28385648 | F17: 54533328 | G17: 78848064 | H17: 140176448 | I17: 113634192 | J17: 102600576 | K17: 41436976 | L17: 45401040 | AB17: 630008352
A18: Sum of 2009anKillProjection | M18: 44571184 | N18: 48702992 | O18: 46254400 | P18: 39332560 | Q18: 30754864 | R18: 22323520 | S18: 15484976 | T18: 10476224 | U18: 7346032 | V18: 5311088 | W18: 4215760 | X18: 3453632 | Y18: 2955088 | Z18: 2596544 | AA18: 2345696 | AB18: 286124560
A19: Sum of 2010anKillData | B19: 5617184 | C19: 6970880 | D19: 12431888 | E19: 28276496 | F19: 54464736 | G19: 78962832 | H19: 139994256 | I19: 113640544 | J19: 104620240 | K19: 60680656 | L19: 47678848 | M19: 38587248 | AB19: 691925808
A20: Sum of 2010anKillProjection | N20: 33747408 | O20: 25083168 | P20: 17586512 | Q20: 12911248 | R20: 9983776 | S20: 8570976 | T20: 7481216 | U20: 6864432 | V20: 6245056 | W20: 5690272 | X20: 5145888 | Y20: 4586032 | Z20: 4018928 | AA20: 3714896 | AB20: 151629808
A21: Sum of 2011anKillData | B21: 5607952 | C21: 7003168 | D21: 12324448 | E21: 28059552 | F21: 54161616 | G21: 78686784 | H21: 139811536 | I21: 112883136 | J21: 103893312 | K21: 60506000 | L21: 47311936 | M21: 39799376 | N21: 19914224 | AB21: 709963040
A22: Sum of 2011anKillProjection | O22: 18225216 | P22: 13223088 | Q22: 9177280 | R22: 6783632 | S22: 5296912 | T22: 4683792 | U22: 4372896 | V22: 4281488 | W22: 4156448 | X22: 3919984 | Y22: 3714256 | Z22: 3507888 | AA22: 3285296 | AB22: 84628176
A23: Sum of 2004cumKillData | B23: 4177040 | C23: 10232112 | D23: 21879904 | E23: 50060016 | F23: 102401312 | G23: 172464592 | AB23: 361214976
A24: Sum of 2004cumKillProjection | H24: 254872880 | I24: 349094224 | J24: 448069040 | K24: 546870896 | L24: 641813280 | M24: 729696032 | N24: 806812064 | O24: 872400432 | P24: 926283008 | Q24: 969862992 | R24: 1004938944 | S24: 1032954752 | T24: 1055176912 | U24: 1072882112 | V24: 1087368512 | W24: 1099149056 | X24: 1108907856 | Y24: 1116988480 | Z24: 1123783792 | AA24: 1129519472 | AB24: 17377444736
A25: Sum of 2005cumKillData | B25: 5472800 | C25: 12319248 | D25: 24852912 | E25: 53919920 | F25: 109930176 | G25: 190352000 | H25: 329416688 | AB25: 726263744
A26: Sum of 2005cumKillProjection | I26: 452504656 | J26: 575342832 | K26: 692006800 | L26: 797533856 | M26: 885188480 | N26: 951542432 | O26: 995597280 | P26: 1021819616 | Q26: 1036304096 | R26: 1044085376 | S26: 1048466192 | T26: 1051067616 | U26: 1052882112 | V26: 1054281520 | W26: 1055405872 | X26: 1056308336 | Y26: 1057081184 | Z26: 1057763856 | AA26: 1058398448 | AB26: 17943580560
A27: Sum of 2006cumKillData | B27: 5530272 | C27: 12423984 | D27: 24907696 | E27: 53380000 | F27: 107794320 | G27: 186548032 | H27: 326534048 | I27: 434252720 | AB27: 1151371072
A28: Sum of 2006cumKillProjection | J28: 529315120 | K28: 620844864 | L28: 709241952 | M28: 792628256 | N28: 864125936 | O28: 918793216 | P28: 956060000 | Q28: 979460960 | R28: 993465184 | S28: 1001863600 | T28: 1007098432 | U28: 1010489200 | V28: 1012993040 | W28: 1014842640 | X28: 1016364864 | Y28: 1017639152 | Z28: 1018731216 | AA28: 1019720384 | AB28: 16483678016
A29: Sum of 2007cumKillData | B29: 5645984 | C29: 12662000 | D29: 25115120 | E29: 53642672 | F29: 108315472 | G29: 187593136 | H29: 328209472 | I29: 442766992 | J29: 541795536 | AB29: 1705746384
A30: Sum of 2007cumKillProjection | K30: 619765168 | L30: 693376480 | M30: 766076800 | N30: 833973120 | O30: 889949696 | P30: 930039472 | Q30: 955954016 | R30: 972006944 | S30: 981763424 | T30: 987988352 | U30: 992336080 | V30: 995588896 | W30: 998095184 | X30: 1000256448 | Y30: 1002094656 | Z30: 1003729984 | AA30: 1005151168 | AB30: 15628145888
A31: Sum of 2008cumKillData | B31: 5580688 | C31: 12552144 | D31: 24976448 | E31: 53259744 | F31: 107679632 | G31: 186434176 | H31: 326168608 | I31: 439830912 | J31: 542736576 | K31: 578269872 | AB31: 2277488800
A32: Sum of 2008cumKillProjection | L32: 616472544 | M32: 664551104 | N32: 720534912 | O32: 776721568 | P32: 824272240 | Q32: 859357248 | R32: 883842544 | S32: 899771856 | T32: 910630288 | U32: 918227568 | V32: 923707664 | W32: 927846224 | X32: 931215760 | Y32: 934033872 | Z32: 936459856 | AA32: 938606752 | AB32: 13666252000
A33: Sum of 2009cumKillData | B33: 5602592 | C33: 12606480 | D33: 24992080 | E33: 53377728 | F33: 107911056 | G33: 186759120 | H33: 326935568 | I33: 440569760 | J33: 543170336 | K33: 584607312 | L33: 630008352 | AB33: 2916540384
A34: Sum of 2009cumKillProjection | M34: 674579536 | N34: 723282528 | O34: 769536928 | P34: 808869488 | Q34: 839624352 | R34: 861947872 | S34: 877432848 | T34: 887909072 | U34: 895255104 | V34: 900566192 | W34: 904781952 | X34: 908235584 | Y34: 911190672 | Z34: 913787216 | AA34: 916132912 | AB34: 12793132256
A35: Sum of 2010cumKillData | B35: 5617184 | C35: 12588064 | D35: 25019952 | E35: 53296448 | F35: 107761184 | G35: 186724016 | H35: 326718272 | I35: 440358816 | J35: 544979056 | K35: 605659712 | L35: 653338560 | M35: 691925808 | AB35: 3653987072
A36: Sum of 2010cumKillProjection | N36: 725673216 | O36: 750756384 | P36: 768342896 | Q36: 781254144 | R36: 791237920 | S36: 799808896 | T36: 807290112 | U36: 814154544 | V36: 820399600 | W36: 826089872 | X36: 831235760 | Y36: 835821792 | Z36: 839840720 | AA36: 843555616 | AB36: 11235461472
A37: Sum of 2011cumKillData | B37: 5607952 | C37: 12611120 | D37: 24935568 | E37: 52995120 | F37: 107156736 | G37: 185843520 | H37: 325655056 | I37: 438538192 | J37: 542431504 | K37: 602937504 | L37: 650249440 | M37: 690048816 | N37: 709963040 | AB37: 4348973568
A38: Sum of 2011cumKillProjection | O38: 728188256 | P38: 741411344 | Q38: 750588624 | R38: 757372256 | S38: 762669168 | T38: 767352960 | U38: 771725856 | V38: 776007344 | W38: 780163792 | X38: 784083776 | Y38: 787798032 | Z38: 791305920 | AA38: 794591216 | AB38: 9993258544
A40: =C1 -> Pine Volume Killed (millions of cubic metres) | B40: Cumulative Attack = red- and grey-attack
A42: =IF($B$3="(All)","Entire Province"&CHAR(10)&"Timber Harvesting Land Base",$B$3&CHAR(10)&"Timber Harvesting Land Base") -> Entire Province Timber Harvesting Land Base | B42: =B6 -> 1999 | C42: =C6 -> 2000 | D42: =D6 -> 2001 | E42: =E6 -> 2002 | F42: =F6 -> 2003 | G42: =G6 -> 2004 | H42: =H6 -> 2005 | I42: =I6 -> 2006 | ... AA42: =AA6 -> 2024
A43: Old Estimate of Observed Annual Red-Attack (published in 2005) | B43: =B7/Scale -> 4.895168 | C43: =C7/Scale -> 6.055072 | D43: =D7/Scale -> 11.647792 | E43: =E7/Scale -> 28.180112 | F43: =F7/Scale -> 52.341296 | G43: =G7/Scale -> 70.06328
A44: Old Estimate of Projected Annual Red-Attack (published in 2005) | G44: =G43 -> 70.06328 | H44: =H8/Scale -> 82.611296 | I44: =I8/Scale -> 94.221344 | J44: =J8/Scale -> 98.974816 | K44: =K8/Scale -> 98.801856 | L44: =L8/Scale -> 94.942384 | M44: =M8/Scale -> 87.882752 | N44: =N8/Scale -> 77.116032 | O44: =O8/Scale -> 65.588368 | ... AA44: =AA8/Scale -> 5.73568
A45: Old Estimate of Observed Annual Red-Attack (published in 2006) | B45: =B9/Scale -> 5.4728 | C45: =C9/Scale -> 6.846448 | D45: =D9/Scale -> 12.533664 | E45: =E9/Scale -> 29.067008 | F45: =F9/Scale -> 56.010256 | G45: =G9/Scale -> 80.421824 | H45: =H9/Scale -> 139.06469
A46: Old Estimate of Projected Annual Red-Attack (published in 2006) | H46: =H45 -> 139.06469 | I46: =I10/Scale -> 123.08797 | J46: =J10/Scale -> 122.83818 | K46: =K10/Scale -> 116.66397 | L46: =L10/Scale -> 105.52706 | M46: =M10/Scale -> 87.654624 | N46: =N10/Scale -> 66.353952 | O46: =O10/Scale -> 44.054848 | P46: =P10/Scale -> 26.222336 | ... AA46: =AA10/Scale -> 0.634592
A47: Old Estimate of Observed Annual Red-Attack (published in 2007) | B47: =B11/Scale -> 5.530272 | C47: =C11/Scale -> 6.893712 | D47: =D11/Scale -> 12.483712 | E47: =E11/Scale -> 28.472304 | F47: =F11/Scale -> 54.41432 | G47: =G11/Scale -> 78.753712 | H47: =H11/Scale -> 139.98602 | I47: =I11/Scale -> 107.71867
A48: Old Estimate of Projected Annual Red-Attack (published in 2007) | I48: =I47 -> 107.71867 | J48: =J12/Scale -> 95.0624 | K48: =K12/Scale -> 91.529744 | L48: =L12/Scale -> 88.397088 | M48: =M12/Scale -> 83.386304 | N48: =N12/Scale -> 71.49768 | O48: =O12/Scale -> 54.66728 | P48: =P12/Scale -> 37.266784 | Q48: =Q12/Scale -> 23.40096 | ... AA48: =AA12/Scale -> 0.989168
A49: Old Estimate of Observed Annual Red-Attack (published in 2008) | B49: =B13/Scale -> 5.645984 | C49: =C13/Scale -> 7.016016 | D49: =D13/Scale -> 12.45312 | E49: =E13/Scale -> 28.527552 | F49: =F13/Scale -> 54.6728 | G49: =G13/Scale -> 79.277664 | H49: =H13/Scale -> 140.61634 | I49: =I13/Scale -> 114.55752 | J49: =J13/Scale -> 99.028544
A50: Old Estimate of Projected Annual Red-Attack (published in 2008) | J50: =J49 -> 99.028544 | K50: =K14/Scale -> 77.969632 | L50: =L14/Scale -> 73.611312 | M50: =M14/Scale -> 72.70032 | N50: =N14/Scale -> 67.89632 | O50: =O14/Scale -> 55.976576 | P50: =P14/Scale -> 40.089776 | Q50: =Q14/Scale -> 25.914544 | R50: =R14/Scale -> 16.052928 | ... AA50: =AA14/Scale -> 1.421184
A51: Old Estimate of Observed Annual Red-Attack (published in 2009) | B51: =B15/Scale -> 5.580688 | C51: =C15/Scale -> 6.971456 | D51: =D15/Scale -> 12.424304 | E51: =E15/Scale -> 28.283296 | F51: =F15/Scale -> 54.419888 | G51: =G15/Scale -> 78.754544 | H51: =H15/Scale -> 139.73443 | I51: =I15/Scale -> 113.6623 | ... K51: =K15/Scale -> 35.533296
A52: Old Estimate of Projected Annual Red-Attack (published in 2009) | K52: =K51 -> 35.533296 | L52: =L16/Scale -> 38.202672 | M52: =M16/Scale -> 48.07856 | N52: =N16/Scale -> 55.983808 | O52: =O16/Scale -> 56.186656 | P52: =P16/Scale -> 47.550672 | Q52: =Q16/Scale -> 35.085008 | R52: =R16/Scale -> 24.485296 | S52: =S16/Scale -> 15.929312 | ... AA52: =AA16/Scale -> 2.146896
A53: Old Estimate of Observed Annual Red-Attack (published in 2010) | B53: =B17/Scale -> 5.602592 | C53: =C17/Scale -> 7.003888 | D53: =D17/Scale -> 12.3856 | E53: =E17/Scale -> 28.385648 | F53: =F17/Scale -> 54.533328 | G53: =G17/Scale -> 78.848064 | H53: =H17/Scale -> 140.17645 | I53: =I17/Scale -> 113.63419 | ... L53: =L17/Scale -> 45.40104
A54: Old Estimate of Projected Annual Red-Attack (published in 2010) | L54: =L53 -> 45.40104 | M54: =M18/Scale -> 44.571184 | N54: =N18/Scale -> 48.702992 | O54: =O18/Scale -> 46.2544 | P54: =P18/Scale -> 39.33256 | Q54: =Q18/Scale -> 30.754864 | R54: =R18/Scale -> 22.32352 | S54: =S18/Scale -> 15.484976 | T54: =T18/Scale -> 10.476224 | ... AA54: =AA18/Scale -> 2.345696
A55: Old Estimate of Observed Annual Red-Attack (published in 2011) | B55: =B19/Scale -> 5.617184 | C55: =C19/Scale -> 6.97088 | D55: =D19/Scale -> 12.431888 | E55: =E19/Scale -> 28.276496 | F55: =F19/Scale -> 54.464736 | G55: =G19/Scale -> 78.962832 | H55: =H19/Scale -> 139.99426 | I55: =I19/Scale -> 113.64054 | ... M55: =M19/Scale -> 38.587248
A56: Old Estimate of Projected Annual Red-Attack (published in 2011) | M56: =M55 -> 38.587248 | N56: =N20/Scale -> 33.747408 | O56: =O20/Scale -> 25.083168 | P56: =P20/Scale -> 17.586512 | Q56: =Q20/Scale -> 12.911248 | R56: =R20/Scale -> 9.983776 | S56: =S20/Scale -> 8.570976 | T56: =T20/Scale -> 7.481216 | U56: =U20/Scale -> 6.864432 | ... AA56: =AA20/Scale -> 3.714896
A57: Current Estimate of Observed Annual Red-Attack (2012*) | B57: =B21/Scale -> 5.607952 | C57: =C21/Scale -> 7.003168 | D57: =D21/Scale -> 12.324448 | E57: =E21/Scale -> 28.059552 | F57: =F21/Scale -> 54.161616 | G57: =G21/Scale -> 78.686784 | H57: =H21/Scale -> 139.81154 | I57: =I21/Scale -> 112.88314 | ... N57: =N21/Scale -> 19.914224
A58: Current Estimate of Projected Annual Red-Attack (2012*) | N58: =N57 -> 19.914224 | O58: =O22/Scale -> 18.225216 | P58: =P22/Scale -> 13.223088 | Q58: =Q22/Scale -> 9.17728 | R58: =R22/Scale -> 6.783632 | S58: =S22/Scale -> 5.296912 | T58: =T22/Scale -> 4.683792 | U58: =U22/Scale -> 4.372896 | V58: =V22/Scale -> 4.281488 | ... AA58: =AA22/Scale -> 3.285296
A59: Old Estimate of Observed Cumulative Attack (published in 2005) | B59: =B23/Scale -> 4.17704 | C59: =C23/Scale -> 10.232112 | D59: =D23/Scale -> 21.879904 | E59: =E23/Scale -> 50.060016 | F59: =F23/Scale -> 102.40131 | G59: =G23/Scale -> 172.46459
A60: Old Estimate of Projected Cumulative Attack (published in 2005) | G60: =G59 -> 172.46459 | H60: =H24/Scale -> 254.87288 | I60: =I24/Scale -> 349.09422 | J60: =J24/Scale -> 448.06904 | K60: =K24/Scale -> 546.8709 | L60: =L24/Scale -> 641.81328 | M60: =M24/Scale -> 729.69603 | N60: =N24/Scale -> 806.81206 | O60: =O24/Scale -> 872.40043 | ... AA60: =AA24/Scale -> 1129.5195
A61: Old Estimate of Observed Cumulative Attack (published in 2006) | B61: =B25/Scale -> 5.4728 | C61: =C25/Scale -> 12.319248 | D61: =D25/Scale -> 24.852912 | E61: =E25/Scale -> 53.91992 | F61: =F25/Scale -> 109.93018 | G61: =G25/Scale -> 190.352 | H61: =H25/Scale -> 329.41669
A62: Old Estimate of Projected Cumulative Attack (published in 2006) | H62: =H61 -> 329.41669 | I62: =I26/Scale -> 452.50466 | J62: =J26/Scale -> 575.34283 | K62: =K26/Scale -> 692.0068 | L62: =L26/Scale -> 797.53386 | M62: =M26/Scale -> 885.18848 | N62: =N26/Scale -> 951.54243 | O62: =O26/Scale -> 995.59728 | P62: =P26/Scale -> 1021.8196 | ... AA62: =AA26/Scale -> 1058.3984
A63: Old Estimate of Observed Cumulative Attack (published in 2007) | B63: =B27/Scale -> 5.530272 | C63: =C27/Scale -> 12.423984 | D63: =D27/Scale -> 24.907696 | E63: =E27/Scale -> 53.38 | F63: =F27/Scale -> 107.79432 | G63: =G27/Scale -> 186.54803 | H63: =H27/Scale -> 326.53405 | I63: =I27/Scale -> 434.25272
A64: Old Estimate of Projected Cumulative Attack (published in 2007) | I64: =I63 -> 434.25272 | J64: =J28/Scale -> 529.31512 | K64: =K28/Scale -> 620.84486 | L64: =L28/Scale -> 709.24195 | M64: =M28/Scale -> 792.62826 | N64: =N28/Scale -> 864.12594 | O64: =O28/Scale -> 918.79322 | P64: =P28/Scale -> 956.06 | Q64: =Q28/Scale -> 979.46096 | ... AA64: =AA28/Scale -> 1019.7204
A65: Old Estimate of Observed Cumulative Attack (published in 2008) | B65: =B29/Scale -> 5.645984 | C65: =C29/Scale -> 12.662 | D65: =D29/Scale -> 25.11512 | E65: =E29/Scale -> 53.642672 | F65: =F29/Scale -> 108.31547 | G65: =G29/Scale -> 187.59314 | H65: =H29/Scale -> 328.20947 | I65: =I29/Scale -> 442.76699 | J65: =J29/Scale -> 541.79554
A66: Old Estimate of Projected Cumulative Attack (published in 2008) | J66: =J65 -> 541.79554 | K66: =K30/Scale -> 619.76517 | L66: =L30/Scale -> 693.37648 | M66: =M30/Scale -> 766.0768 | N66: =N30/Scale -> 833.97312 | O66: =O30/Scale -> 889.9497 | P66: =P30/Scale -> 930.03947 | Q66: =Q30/Scale -> 955.95402 | R66: =R30/Scale -> 972.00694 | ... AA66: =AA30/Scale -> 1005.1512
A67: Old Estimate of Observed Cumulative Attack (published in 2009) | B67: =B31/Scale -> 5.580688 | C67: =C31/Scale -> 12.552144 | D67: =D31/Scale -> 24.976448 | E67: =E31/Scale -> 53.259744 | F67: =F31/Scale -> 107.67963 | G67: =G31/Scale -> 186.43418 | H67: =H31/Scale -> 326.16861 | I67: =I31/Scale -> 439.83091 | ... K67: =K31/Scale -> 578.26987
A68: Old Estimate of Projected Cumulative Attack (published in 2009) | K68: =K67 -> 578.26987 | L68: =L32/Scale -> 616.47254 | M68: =M32/Scale -> 664.5511 | N68: =N32/Scale -> 720.53491 | O68: =O32/Scale -> 776.72157 | P68: =P32/Scale -> 824.27224 | Q68: =Q32/Scale -> 859.35725 | R68: =R32/Scale -> 883.84254 | S68: =S32/Scale -> 899.77186 | ... AA68: =AA32/Scale -> 938.60675
A69: Old Estimate of Observed Cumulative Attack (published in 2010) | B69: =B33/Scale -> 5.602592 | C69: =C33/Scale -> 12.60648 | D69: =D33/Scale -> 24.99208 | E69: =E33/Scale -> 53.377728 | F69: =F33/Scale -> 107.91106 | G69: =G33/Scale -> 186.75912 | H69: =H33/Scale -> 326.93557 | I69: =I33/Scale -> 440.56976 | ... L69: =L33/Scale -> 630.00835
A70: Old Estimate of Projected Cumulative Attack (published in 2010) | L70: =L69 -> 630.00835 | M70: =M34/Scale -> 674.57954 | N70: =N34/Scale -> 723.28253 | O70: =O34/Scale -> 769.53693 | P70: =P34/Scale -> 808.86949 | Q70: =Q34/Scale -> 839.62435 | R70: =R34/Scale -> 861.94787 | S70: =S34/Scale -> 877.43285 | T70: =T34/Scale -> 887.90907 | ... AA70: =AA34/Scale -> 916.13291
A71: Old Estimate of Observed Cumulative Attack (published in 2011) | B71: =B35/Scale -> 5.617184 | C71: =C35/Scale -> 12.588064 | D71: =D35/Scale -> 25.019952 | E71: =E35/Scale -> 53.296448 | F71: =F35/Scale -> 107.76118 | G71: =G35/Scale -> 186.72402 | H71: =H35/Scale -> 326.71827 | I71: =I35/Scale -> 440.35882 | ... M71: =M35/Scale -> 691.92581
A72: Old Estimate of Projected Cumulative Attack (published in 2011) | M72: =M71 -> 691.92581 | N72: =N36/Scale -> 725.67322 | O72: =O36/Scale -> 750.75638 | P72: =P36/Scale -> 768.3429 | Q72: =Q36/Scale -> 781.25414 | R72: =R36/Scale -> 791.23792 | S72: =S36/Scale -> 799.8089 | T72: =T36/Scale -> 807.29011 | U72: =U36/Scale -> 814.15454 | ... AA72: =AA36/Scale -> 843.55562
A73: Current Estimate of Observed Cumulative Attack (2012*) | B73: =B37/Scale -> 5.607952 | C73: =C37/Scale -> 12.61112 | D73: =D37/Scale -> 24.935568 | E73: =E37/Scale -> 52.99512 | F73: =F37/Scale -> 107.15674 | G73: =G37/Scale -> 185.84352 | H73: =H37/Scale -> 325.65506 | I73: =I37/Scale -> 438.53819 | ... N73: =N37/Scale -> 709.96304
A74: Current Estimate of Projected Cumulative Attack (2012*) | N74: =N73 -> 709.96304 | O74: =O38/Scale -> 728.18826 | P74: =P38/Scale -> 741.41134 | Q74: =Q38/Scale -> 750.58862 | R74: =R38/Scale -> 757.37226 | S74: =S38/Scale -> 762.66917 | T74: =T38/Scale -> 767.35296 | U74: =U38/Scale -> 771.72586 | V74: =V38/Scale -> 776.00734 | ... AA74: =AA38/Scale -> 794.59122
A77: *2012 Publication: 1999-2011 Aerial Overview Surveys and BCMPB.v9
A78: 2011 Publication: 1999-2010 Aerial Overview Surveys and BCMPB.v8
A79: 2010 Publication: 1999-2009 Aerial Overview Surveys and BCMPB.v7
A80: 2009 Publication: 1999-2008 Aerial Overview Surveys and BCMPB.v6
A81: 2008 Publication: 1999-2007 Aerial Overview Surveys and BCMPB.v5
A82: 2007 Publication: 1999-2006 Aerial Overview Surveys and BCMPB.v4
A83: 2006 Publication: 1999-2005 Aerial Overview Surveys and BCMPB.v3
A84: 2005 Publication: 1999-2004 Aerial Overview Surveys and BCMPB.v2
A87: Min Annual Kill | B87: =MIN(B13:AA14) -> 1421184
A88: Max Annual Kill | B88: =MAX(B13:AA14) -> 140616336
A89: Diff | B89: =B88-B87 -> 139195152

Sheet AnnKillSummary
A3: Observed Annual Kill (red-attack) (m3) (sum of 2011anKillData) | C3: Year | P3: Projected Annual Kill (red-attack) (m3) (sum of 2011anKillProjection) | R3: Year
A4: Management Unit Class | B4: Management Unit Full Name | C4: 1999 | D4: 2000 | E4: 2001 | F4: 2002 | G4: 2003 | H4: 2004 | I4: 2005 | J4: 2006 | K4: 2007 | L4: 2008 | M4: 2009 | N4: 2010 | O4: 2011 | P4: Management Unit Class | Q4: Management Unit Full Name | R4: 2012 | S4: 2013 | T4: 2014 | U4: 2015 | V4: 2016 | W4: 2017 | X4: 2018 | Y4: 2019 | Z4: 2020 | AA4: 2021 | AB4: 2022 | AC4: 2023 | AD4: 2024 | AE4: =IF(A4<>0,A4,"") -> Management Unit Class | AF4: =B4 -> Management Unit Full Name | AG4: =IF(C4<>0,C4,"") -> 1999 | AH4: =D4 -> 2000 | AI4: =IF(E4<>0,E4,"") -> 2001 | AJ4: =F4 -> 2002 | AK4: =IF(G4<>0,G4,"") -> 2003 | AL4: =H4 -> 2004 | AM4: =IF(I4<>0,I4,"") -> 2005 | AN4: =J4 -> 2006 | AO4: =IF(K4<>0,K4,"") -> 2007 | AP4: =L4 -> 2008 | AQ4: =IF(M4<>0,M4,"") -> 2009 | AR4: =N4 -> 2010 | AS4: 2011 | AT4: 2012 | AU4: 2013 | AV4: 2014 | AW4: 2015 | AX4: 2016 | AY4: 2017 | AZ4: 2018 | BA4: 2019 | BB4: 2020 | BC4: 2021 | BD4: 2022 | BE4: 2023 | BF4: 2024 | BG4: MAX
A5: Pine Units | B5: 100 Mile House TSA | C5: 230192 | D5: 135456 | E5: 218112 | F5: 308944 | G5: 950208 | H5: 3743856 | I5: 8681072 | J5: 17794768 | K5: 7537568 | L5: 1846288 | M5: 72768 | N5: 10224 | O5: 32 | P5: Pine Units | Q5: 100 Mile House TSA | R5: 2096 | S5: 2528 | T5: 3536 | U5: 4416 | V5: 7456 | W5: 10064 | X5: 11248 | Y5: 10176 | Z5: 14208 | AA5: 15104 | AB5: 17472 | AC5: 17488 | AD5: 18656 | AE5: =IF(A5<>0,A5,"") -> Pine Units | AF5: =IF(B5<>0,B5,"") -> 100 Mile House TSA | AG5: =IF(C5<>0,C5,"") -> 230192 | AH5: =IF(D5<>0,D5,"") -> 135456 | AI5: =IF(E5<>0,E5,"") -> 218112 | AJ5: =IF(F5<>0,F5,"") -> 308944 | AK5: =IF(G5<>0,G5,"") -> 950208 | AL5: =IF(H5<>0,H5,"") -> 3743856 | ... AS5: =IF(O5<>0,O5,"") -> 32 | AT5: =IF(R5<>0,R5,"") -> 2096 | AU5: =IF(S5<>0,S5,"") -> 2528 | AV5: =IF(T5<>0,T5,"") -> 3536 | AW5: =IF(U5<>0,U5,"") -> 4416 | AX5: =IF(V5<>0,V5,"") -> 7456 | AY5: =IF(W5<>0,W5,"") -> 10064 | AZ5: =IF(X5<>0,X5,"") -> 11248 | BA5: =IF(Y5<>0,Y5,"") -> 10176 | ... BF5: =IF(AD5<>0,AD5,"") -> 18656 | BG5: =MAX(AG5:BF5) -> 17794768
B6: Arrow TSA | C6: 57520 | D6: 55616 | E6: 33024 | F6: 62368 | G6: 139776 | H6: 391456 | I6: 502960 | J6: 554176 | K6: 188016 | L6: 224432 | M6: 126336 | N6: 58160 | O6: 15920 | Q6: Arrow TSA | R6: 34544 | S6: 45552 | T6: 68560 | U6: 85728 | V6: 112464 | W6: 115568 | X6: 120432 | Y6: 106352 | Z6: 110736 | AA6: 102768 | AB6: 96432 | AC6: 91600 | AD6: 103488 | AE6: =IF(A6<>0,A6,"") | AF6: =IF(B6<>0,B6,"") -> Arrow TSA | AG6: =IF(C6<>0,C6,"") -> 57520 | AH6: =IF(D6<>0,D6,"") -> 55616 | AI6: =IF(E6<>0,E6,"") -> 33024 | AJ6: =IF(F6<>0,F6,"") -> 62368 | AK6: =IF(G6<>0,G6,"") -> 139776 | AL6: =IF(H6<>0,H6,"") -> 391456 | ... AS6: =IF(O6<>0,O6,"") -> 15920 | AT6: =IF(R6<>0,R6,"") -> 34544 | AU6: =IF(S6<>0,S6,"") -> 45552 | AV6: =IF(T6<>0,T6,"") -> 68560 | AW6: =IF(U6<>0,U6,"") -> 85728 | AX6: =IF(V6<>0,V6,"") -> 112464 | AY6: =IF(W6<>0,W6,"") -> 115568 | AZ6: =IF(X6<>0,X6,"") -> 120432 | BA6: =IF(Y6<>0,Y6,"") -> 106352 | ... BF6: =IF(AD6<>0,AD6,"") -> 103488 | BG6: =MAX(AG6:BF6) -> 554176
B7: Boundary TSA | C7: 8000 | D7: 6256 | E7: 5760 | F7: 4688 | G7: 12368 | H7: 62160 | I7: 111904 | J7: 183072 | K7: 93184 | L7: 97200 | M7: 99696 | N7: 70752 | O7: 70624 | Q7: Boundary TSA | R7: 95024 | S7: 108448 | T7: 130528 | U7: 166800 | V7: 192848 | W7: 234464 | X7: 267936 | Y7: 340224 | Z7: 394128 | AA7: 439408 | AB7: 425264 | AC7: 427856 | AD7: 390144 | AE7: =IF(A7<>0,A7,"") | AF7: =IF(B7<>0,B7,"") -> Boundary TSA | AG7: =IF(C7<>0,C7,"") -> 8000 | AH7: =IF(D7<>0,D7,"") -> 6256 | AI7: =IF(E7<>0,E7,"") -> 5760 | AJ7: =IF(F7<>0,F7,"") -> 4688 | AK7: =IF(G7<>0,G7,"") -> 12368 | AL7: =IF(H7<>0,H7,"") -> 62160 | ... AS7: =IF(O7<>0,O7,"") -> 70624 | AT7: =IF(R7<>0,R7,"") -> 95024 | AU7: =IF(S7<>0,S7,"") -> 108448 | AV7: =IF(T7<>0,T7,"") -> 130528 | AW7: =IF(U7<>0,U7,"") -> 166800 | AX7: =IF(V7<>0,V7,"") -> 192848 | AY7: =IF(W7<>0,W7,"") -> 234464 | AZ7: =IF(X7<>0,X7,"") -> 267936 | BA7: =IF(Y7<>0,Y7,"") -> 340224 | ... BF7: =IF(AD7<>0,AD7,"") -> 390144 | BG7: =MAX(AG7:BF7) -> 439408
B8: Bulkley TSA | C8: 74656 | D8: 59312 | E8: 47168 | F8: 21808 | G8: 36480 | H8: 47968 | I8: 100464 | J8: 64128 | K8: 244192 | L8: 563968 | M8: 550592 | N8: 959648 | O8: 1155248 | Q8: Bulkley TSA | R8: 1414512 | S8: 1134352 | T8: 781552 | U8: 384176 | V8: 234640 | W8: 168704 | X8: 116464 | Y8: 93488 | Z8: 60112 | AA8: 35088 | AB8: 23264 | AC8: 16464 | AD8: 11440 | AE8: =IF(A8<>0,A8,"") | AF8: =IF(B8<>0,B8,"") -> Bulkley TSA | AG8: =IF(C8<>0,C8,"") -> 74656 | AH8: =IF(D8<>0,D8,"") -> 59312 | AI8: =IF(E8<>0,E8,"") -> 47168 | AJ8: =IF(F8<>0,F8,"") -> 21808 | AK8: =IF(G8<>0,G8,"") -> 36480 | AL8: =IF(H8<>0,H8,"") -> 47968 | ... AS8: =IF(O8<>0,O8,"") -> 1155248 | AT8: =IF(R8<>0,R8,"") -> 1414512 | AU8: =IF(S8<>0,S8,"") -> 1134352 | AV8: =IF(T8<>0,T8,"") -> 781552 | AW8: =IF(U8<>0,U8,"") -> 384176 | AX8: =IF(V8<>0,V8,"") -> 234640 | AY8: =IF(W8<>0,W8,"") -> 168704 | AZ8: =IF(X8<>0,X8,"") -> 116464 | BA8: =IF(Y8<>0,Y8,"") -> 93488 | ... BF8: =IF(AD8<>0,AD8,"") -> 11440 | BG8: =MAX(AG8:BF8) -> 1414512
B9: Cranbrook TSA | C9: 123152 | D9: 73792 | E9: 56176 | F9: 114208 | G9: 168272 | H9: 337376 | I9: 560880 | J9: 505104 | K9: 269040 | L9: 590960 | M9: 342224 | N9: 340192 | O9: 126704 | Q9: Cranbrook TSA | R9: 141952 | S9: 189600 | T9: 236976 | U9: 296848 | V9: 326464 | W9: 350704 | X9: 389792 | Y9: 434256 | Z9: 451040 | AA9: 439088 | AB9: 453840 | AC9: 450912 | AD9: 413296 | AE9: =IF(A9<>0,A9,"") | AF9: =IF(B9<>0,B9,"") -> Cranbrook TSA | AG9: =IF(C9<>0,C9,"") -> 123152 | AH9: =IF(D9<>0,D9,"") -> 73792 | AI9: =IF(E9<>0,E9,"") -> 56176 | AJ9: =IF(F9<>0,F9,"") -> 114208 | AK9: =IF(G9<>0,G9,"") -> 168272 | AL9: =IF(H9<>0,H9,"") -> 337376 | ... AS9: =IF(O9<>0,O9,"") -> 126704 | AT9: =IF(R9<>0,R9,"") -> 141952 | AU9: =IF(S9<>0,S9,"") -> 189600 | AV9: =IF(T9<>0,T9,"") -> 236976 | AW9: =IF(U9<>0,U9,"") -> 296848 | AX9: =IF(V9<>0,V9,"") -> 326464 | AY9: =IF(W9<>0,W9,"") -> 350704 | AZ9: =IF(X9<>0,X9,"") -> 389792 | BA9: =IF(Y9<>0,Y9,"") -> 434256 | ... BF9: =IF(AD9<>0,AD9,"") -> 413296 | BG9: =MAX(AG9:BF9) -> 590960
B10: Dawson Creek TSA | C10: 0 | D10: 1600 | E10: 3664 | F10: 144 | G10: 0 | H10: 22704 | I10: 32128 | J10: 114416 | K10: 2690544 | L10: 3281920 | M10: 1862192 | N10: 3196752 | O10: 1058304 | Q10: Dawson Creek TSA | R10: 1207840 | S10: 1005312 | T10: 796576 | U10: 645888 | V10: 500160 | W10: 361712 | X10: 295424 | Y10: 230768 | Z10: 180688 | AA10: 133792 | AB10: 105120 | AC10: 78848 | AD10: 48576 | AE10: =IF(A10<>0,A10,"") | AF10: =IF(B10<>0,B10,"") -> Dawson Creek TSA | AG10: =IF(C10<>0,C10,"") | AH10: =IF(D10<>0,D10,"") -> 1600 | AI10: =IF(E10<>0,E10,"") -> 3664 | AJ10: =IF(F10<>0,F10,"") -> 144 | AK10: =IF(G10<>0,G10,"") | AL10: =IF(H10<>0,H10,"") -> 22704 | ... AS10: =IF(O10<>0,O10,"") -> 1058304 | AT10: =IF(R10<>0,R10,"") -> 1207840 | AU10: =IF(S10<>0,S10,"") -> 1005312 | AV10: =IF(T10<>0,T10,"") -> 796576 | AW10: =IF(U10<>0,U10,"") -> 645888 | AX10: =IF(V10<>0,V10,"") -> 500160 | AY10: =IF(W10<>0,W10,"") -> 361712 | AZ10: =IF(X10<>0,X10,"") -> 295424 | BA10: =IF(Y10<>0,Y10,"") -> 230768 | ... BF10: =IF(AD10<>0,AD10,"") -> 48576 | BG10: =MAX(AG10:BF10) -> 3281920
B11: Ft. St. James Forest District | C11: 940704 | D11: 1272496 | E11: 1188192 | F11: 1242032 | G11: 2273008 | H11: 3673968 | I11: 10772224 | J11: 8860384 | K11: 15233984 | L11: 9664896 | M11: 6181584 | N11: 5096784 | O11: 4136544 | Q11: Ft. St. James Forest District | R11: 3600544 | S11: 2180960 | T11: 1138256 | U11: 670832 | V11: 355008 | W11: 232496 | X11: 137888 | Y11: 84304 | Z11: 53696 | AA11: 30944 | AB11: 27792 | AC11: 14592 | AD11: 15072 | AE11: =IF(A11<>0,A11,"") | AF11: =IF(B11<>0,B11,"") -> Ft. St. James Forest District | AG11: =IF(C11<>0,C11,"") -> 940704 | AH11: =IF(D11<>0,D11,"") -> 1272496 | AI11: =IF(E11<>0,E11,"") -> 1188192 | AJ11: =IF(F11<>0,F11,"") -> 1242032 | AK11: =IF(G11<>0,G11,"") -> 2273008 | AL11: =IF(H11<>0,H11,"") -> 3673968 | ... AS11: =IF(O11<>0,O11,"") -> 4136544 | AT11: =IF(R11<>0,R11,"") -> 3600544 | AU11: =IF(S11<>0,S11,"") -> 2180960 | AV11: =IF(T11<>0,T11,"") -> 1138256 | AW11: =IF(U11<>0,U11,"") -> 670832 | AX11: =IF(V11<>0,V11,"") -> 355008 | AY11: =IF(W11<>0,W11,"") -> 232496 | AZ11: =IF(X11<>0,X11,"") -> 137888 | BA11: =IF(Y11<>0,Y11,"") -> 84304 | ... BF11: =IF(AD11<>0,AD11,"") -> 15072 | BG11: =MAX(AG11:BF11) -> 15233984
B12: Golden TSA | C12: 87632 | D12: 74992 | E12: 30560 | F12: 35792 | G12: 47232 | H12: 50816 | I12: 145744 | J12: 239664 | K12: 94624 | L12: 140432 | M12: 41280 | N12: 38640 | O12: 16624 | Q12: Golden TSA | R12: 21120 | S12: 26640 | T12: 26336 | U12: 36736 | V12: 42304 | W12: 52944 | X12: 58320 | Y12: 71248 | Z12: 60896 | AA12: 55664 | AB12: 61648 | AC12: 63968 | AD12: 63136 | AE12: =IF(A12<>0,A12,"") | AF12: =IF(B12<>0,B12,"") -> Golden TSA | AG12: =IF(C12<>0,C12,"") -> 87632 | AH12: =IF(D12<>0,D12,"") -> 74992 | AI12: =IF(E12<>0,E12,"") -> 30560 | AJ12: =IF(F12<>0,F12,"") -> 35792 | AK12: =IF(G12<>0,G12,"") -> 47232 | AL12: =IF(H12<>0,H12,"") -> 50816 | ... AS12: =IF(O12<>0,O12,"") -> 16624 | AT12: =IF(R12<>0,R12,"") -> 21120 | AU12: =IF(S12<>0,S12,"") -> 26640 | AV12: =IF(T12<>0,T12,"") -> 26336 | AW12: =IF(U12<>0,U12,"") -> 36736 | AX12: =IF(V12<>0,V12,"") -> 42304 | AY12: =IF(W12<>0,W12,"") -> 52944 | AZ12: =IF(X12<>0,X12,"") -> 58320 | BA12: =IF(Y12<>0,Y12,"") -> 71248 | ... BF12: =IF(AD12<>0,AD12,"") -> 63136 | BG12: =MAX(AG12:BF12) -> 239664
B13: Invermere TSA | C13: 38592 | D13: 54176 | E13: 23680 | F13: 43600 | G13: 67696 | H13: 145952 | I13: 216240 | J13: 266944 | K13: 220384 | L13: 303456 | M13: 220192 | N13: 220624 | O13: 76384 | Q13: Invermere TSA | R13: 95056 | S13: 130928 | T13: 151840 | U13: 156096 | V13: 171040 | W13: 168544 | X13: 176544 | Y13: 163024 | Z13: 155056 | AA13: 157696 | AB13: 163312 | AC13: 173344 | AD13: 157536 | AE13: =IF(A13<>0,A13,"") | AF13: =IF(B13<>0,B13,"") -> Invermere TSA | AG13: =IF(C13<>0,C13,"") -> 38592 | AH13: =IF(D13<>0,D13,"") -> 54176 | AI13: =IF(E13<>0,E13,"") -> 23680 | AJ13: =IF(F13<>0,F13,"") -> 43600 | AK13: =IF(G13<>0,G13,"") -> 67696 | AL13: =IF(H13<>0,H13,"") -> 145952 | ... AS13: =IF(O13<>0,O13,"") -> 76384 | AT13: =IF(R13<>0,R13,"") -> 95056 | AU13: =IF(S13<>0,S13,"") -> 130928 | AV13: =IF(T13<>0,T13,"") -> 151840 | AW13: =IF(U13<>0,U13,"") -> 156096 | AX13: =IF(V13<>0,V13,"") -> 171040 | AY13: =IF(W13<>0,W13,"") -> 168544 | AZ13: =IF(X13<>0,X13,"") -> 176544 | BA13: =IF(Y13<>0,Y13,"") -> 163024 | ... BF13: =IF(AD13<>0,AD13,"") -> 157536 | BG13: =MAX(AG13:BF13) -> 303456
B14: Kamloops TSA | C14: 206976 | D14: 116048 | E14: 272048 | F14: 471936 | G14: 833680 | H14: 2713200 | I14: 6207504 | J14: 8805024 | K14: 6753392 | L14: 2001808 | M14: 393312 | N14: 68032 | O14: 5440 | Q14: Kamloops TSA | R14: 17792 | S14: 24784 | T14: 44784 | U14: 52976 | V14: 59360 | W14: 76592 | X14: 92656 | Y14: 109728 | Z14: 130592 | AA14: 168096 | AB14: 171280 | AC14: 176368 | AD14: 160336 | AE14: =IF(A14<>0,A14,"") | AF14: =IF(B14<>0,B14,"") -> Kamloops TSA | AG14: =IF(C14<>0,C14,"") -> 206976 | AH14: =IF(D14<>0,D14,"") -> 116048 | AI14: =IF(E14<>0,E14,"") -> 272048 | AJ14: =IF(F14<>0,F14,"") -> 471936 | AK14: =IF(G14<>0,G14,"") -> 833680 | AL14: =IF(H14<>0,H14,"") -> 2713200 | ... AS14: =IF(O14<>0,O14,"") -> 5440 | AT14: =IF(R14<>0,R14,"") -> 17792 | AU14: =IF(S14<>0,S14,"") -> 24784 | AV14: =IF(T14<>0,T14,"") -> 44784 | AW14: =IF(U14<>0,U14,"") -> 52976 | AX14: =IF(V14<>0,V14,"") -> 59360 | AY14: =IF(W14<>0,W14,"") -> 76592 | AZ14: =IF(X14<>0,X14,"") -> 92656 | BA14: =IF(Y14<>0,Y14,"") -> 109728 | ... BF14: =IF(AD14<>0,AD14,"") -> 160336 | BG14: =MAX(AG14:BF14) -> 8805024
B15: Kootenay Lake TSA | C15: 10240 | D15: 14720 | E15: 36176 | F15: 51184 | G15: 77264 | H15: 162304 | I15: 301120 | J15: 462992 | K15: 286384 | L15: 475632 | M15: 247200 | N15: 160000 | O15: 46960 | Q15: Kootenay Lake TSA | R15: 67872 | S15: 73392 | T15: 85680 | U15: 94768 | V15: 107792 | W15: 124560 | X15: 133152 | Y15: 134192 | Z15: 164688 | AA15: 144160 | AB15: 143648 | AC15: 159840 | AD15: 149504 | AE15: =IF(A15<>0,A15,"") | AF15: =IF(B15<>0,B15,"") -> Kootenay Lake TSA | AG15: =IF(C15<>0,C15,"") -> 10240 | AH15: =IF(D15<>0,D15,"") -> 14720 | AI15: =IF(E15<>0,E15,"") -> 36176 | AJ15: =IF(F15<>0,F15,"") -> 51184 | AK15: =IF(G15<>0,G15,"") -> 77264 | AL15: =IF(H15<>0,H15,"") -> 162304 | ... AS15: =IF(O15<>0,O15,"") -> 46960 | AT15: =IF(R15<>0,R15,"") -> 67872 | AU15: =IF(S15<>0,S15,"") -> 73392 | AV15: =IF(T15<>0,T15,"") -> 85680 | AW15: =IF(U15<>0,U15,"") -> 94768 | AX15: =IF(V15<>0,V15,"") -> 107792 | AY15: =IF(W15<>0,W15,"") -> 124560 | AZ15: =IF(X15<>0,X15,"") -> 133152 | BA15: =IF(Y15<>0,Y15,"") -> 134192 | ... BF15: =IF(AD15<>0,AD15,"") -> 149504 | BG15: =MAX(AG15:BF15) -> 475632
B16: Lakes TSA | C16: 83440 | D16: 391728 | E16: 2491968 | F16: 5867440 | G16: 6113168 | H16: 4327136 | I16: 14991504 | J16: 9756064 | K16: 6427984 | L16: 2727600 | M16: 637008 | N16: 123792 | O16: 41152 | Q16: Lakes TSA | R16: 26000 | S16: 23152 | T16: 25024 | U16: 23440 | V16: 16384 | W16: 16720 | X16: 10160 | Y16: 8112 | Z16: 6128 | AA16: 4992 | AB16: 6368 | AC16: 4832 | AD16: 3632 | AE16: =IF(A16<>0,A16,"") | AF16: =IF(B16<>0,B16,"") -> Lakes TSA | AG16: =IF(C16<>0,C16,"") -> 83440 | AH16: =IF(D16<>0,D16,"") -> 391728 | AI16: =IF(E16<>0,E16,"") -> 2491968 | AJ16: =IF(F16<>0,F16,"") -> 5867440 | AK16: =IF(G16<>0,G16,"") -> 6113168 | AL16: =IF(H16<>0,H16,"") -> 4327136 | ... AS16: =IF(O16<>0,O16,"") -> 41152 | AT16: =IF(R16<>0,R16,"") -> 26000 | AU16: =IF(S16<>0,S16,"") -> 23152 | AV16: =IF(T16<>0,T16,"") -> 25024 | AW16: =IF(U16<>0,U16,"") -> 23440 | AX16: =IF(V16<>0,V16,"") -> 16384 | AY16: =IF(W16<>0,W16,"") -> 16720 | AZ16: =IF(X16<>0,X16,"") -> 10160 | BA16: =IF(Y16<>0,Y16,"") -> 8112 | ... BF16: =IF(AD16<>0,AD16,"") -> 3632 | BG16: =MAX(AG16:BF16) -> 14991504
B17: Lillooet TSA | C17: 16496 | D17: 14752 | E17: 29824 | F17: 45584 | G17: 52800 | H17: 104848 | I17: 398480 | J17: 874640 | K17: 1251280 | L17: 1071968 | M17: 763328 | N17: 298608 | O17: 105296 | Q17: Lillooet TSA | R17: 88368 | S17: 84976 | T17: 89472 | U17: 110400 | V17: 103568 | W17: 115936 | X17: 110320 | Y17: 116096 | Z17: 129760 | AA17: 116464 | AB17: 100320 | AC17: 86992 | AD17: 79248 | AE17: =IF(A17<>0,A17,"") | AF17: =IF(B17<>0,B17,"") -> Lillooet TSA | AG17: =IF(C17<>0,C17,"") -> 16496 | AH17: =IF(D17<>0,D17,"") -> 14752 | AI17: =IF(E17<>0,E17,"") -> 29824 | AJ17: =IF(F17<>0,F17,"") -> 45584 | AK17: =IF(G17<>0,G17,"") -> 52800 | AL17: =IF(H17<>0,H17,"") -> 104848 | ... AS17: =IF(O17<>0,O17,"") -> 105296 | AT17: =IF(R17<>0,R17,"") -> 88368 | AU17: =IF(S17<>0,S17,"") -> 84976 | AV17: =IF(T17<>0,T17,"") -> 89472 | AW17: =IF(U17<>0,U17,"") -> 110400 | AX17: =IF(V17<>0,V17,"") -> 103568 | AY17: =IF(W17<>0,W17,"") -> 115936 | AZ17: =IF(X17<>0,X17,"") -> 110320 | BA17: =IF(Y17<>0,Y17,"") -> 116096 | ... BF17: =IF(AD17<>0,AD17,"") -> 79248 | BG17: =MAX(AG17:BF17) -> 1251280
... B26: Williams Lake TSA | C26: 458512 | D26: 436816 | E26: 1072224 | F26: 2113568 | G26: 5830560 | H26: 12179776 | I26: 19328880 | J26: 20420416 | K26: 17602272 | L26: 4753856 | M26: 1998336 | N26: 174416 | O26: 40672 | Q26: Williams Lake TSA | R26: 24448 | S26: 25680 | T26: 28784 | U26: 33472 | V26: 43920 | W26: 62544 | X26: 82768 | Y26: 125232 | Z26: 155568 | AA26: 184256 | AB26: 182304 | AC26: 174384 | AD26: 181888 | AE26: =IF(A26<>0,A26,"") | AF26: =IF(B26<>0,B26,"") -> Williams Lake TSA | AG26: =IF(C26<>0,C26,"") -> 458512 | AH26: =IF(D26<>0,D26,"") -> 436816 | AI26: =IF(E26<>0,E26,"") -> 1072224 | AJ26: =IF(F26<>0,F26,"") -> 2113568 | AK26: =IF(G26<>0,G26,"") -> 5830560 | AL26: =IF(H26<>0,H26,"") -> 12179776 | ... AS26: =IF(O26<>0,O26,"") -> 40672 | AT26: =IF(R26<>0,R26,"") -> 24448 | AU26: =IF(S26<>0,S26,"") -> 25680 | AV26: =IF(T26<>0,T26,"") -> 28784 | AW26: =IF(U26<>0,U26,"") -> 33472 | AX26: =IF(V26<>0,V26,"") -> 43920 | AY26: =IF(W26<>0,W26,"") -> 62544 | AZ26: =IF(X26<>0,X26,"") -> 82768 | BA26: =IF(Y26<>0,Y26,"") -> 125232 | ... BF26: =IF(AD26<>0,AD26,"") -> 181888 | BG26: =MAX(AG26:BF26) -> 20420416
A27: Pine Units Total | C27: 5054176 | D27: 6405936 | E27: 11620976 | F27: 26646864 | G27: 50898896 | H27: 71750560 | I27: 130210256 | J27: 108247520 | K27: 95383936 | L27: 53903024 | M27: 42425040 | N27: 32405136 | O27: 15802896 | P27: Pine Units Total | R27: 14504912 | S27: 10279376 | T27: 6974352 | U27: 5032832 | V27: 3864176 | W27: 3399008 | X27: 3149936 | Y27: 3084656 | Z27: 3039120 | AA27: 2954608 | AB27: 2843392 | AC27: 2728640 | AD27: 2563184 | AE27: =IF(A27<>0,A27,"") -> Pine Units Total | AF27: =IF(B27<>0,B27,"") | AG27: =IF(C27<>0,C27,"") -> 5054176 | AH27: =IF(D27<>0,D27,"") -> 6405936 | AI27: =IF(E27<>0,E27,"") -> 11620976 | AJ27: =IF(F27<>0,F27,"") -> 26646864 | AK27: =IF(G27<>0,G27,"") -> 50898896 | AL27: =IF(H27<>0,H27,"") -> 71750560 | ... AS27: =IF(O27<>0,O27,"") -> 15802896 | AT27: =IF(R27<>0,R27,"") -> 14504912 | AU27: =IF(S27<>0,S27,"") -> 10279376 | AV27: =IF(T27<>0,T27,"") -> 6974352 | AW27: =IF(U27<>0,U27,"") -> 5032832 | AX27: =IF(V27<>0,V27,"") -> 3864176 | AY27: =IF(W27<>0,W27,"") -> 3399008 | AZ27: =IF(X27<>0,X27,"") -> 3149936 | BA27: =IF(Y27<>0,Y27,"") -> 3084656 | ... BF27: =IF(AD27<>0,AD27,"") -> 2563184 | BG27: =MAX(AG27:BF27) -> 130210256
A28: Non-pine Units | B28: Arrowsmith TSA | C28: 0 | D28: 0 | E28: 0 | F28: 0 | G28: 0 | H28: 0 | I28: 0 | J28: 0 | K28: 0 | L28: 0 | M28: 0 | N28: 0 | O28: 0 | P28: Non-pine Units | Q28: Arrowsmith TSA | R28: 0 | S28: 0 | T28: 0 | U28: 0 | V28: 0 | W28: 0 | X28: 0 | Y28: 0 | Z28: 0 | AA28: 0 | AB28: 0 | AC28: 0 | AD28: 0 | AE28: =IF(A28<>0,A28,"") -> Non-pine Units | AF28: =IF(B28<>0,B28,"") -> Arrowsmith TSA | AG28: =IF(C28<>0,C28,"") | AH28: =IF(D28<>0,D28,"") | AI28: =IF(E28<>0,E28,"") | AJ28: =IF(F28<>0,F28,"") | AK28: =IF(G28<>0,G28,"") | AL28: =IF(H28<>0,H28,"") | ... AS28: =IF(O28<>0,O28,"") | AT28: =IF(R28<>0,R28,"") | AU28: =IF(S28<>0,S28,"") | AV28: =IF(T28<>0,T28,"") | AW28: =IF(U28<>0,U28,"") | AX28: =IF(V28<>0,V28,"") | AY28: =IF(W28<>0,W28,"") | AZ28: =IF(X28<>0,X28,"") | BA28: =IF(Y28<>0,Y28,"") | ... BF28: =IF(AD28<>0,AD28,"") | BG28: =MAX(AG28:BF28) -> 0
B29: Cassiar TSA | C29: 0 | D29: 0 | E29: 352 | F29: 0 | G29: 0 | H29: 0 | I29: 0 | J29: 0 | K29: 0 | L29: 0 | M29: 1376 | N29: 832 | O29: 0 | Q29: Cassiar TSA | R29: 32 | S29: 4352 | T29: 8576 | U29: 15840 | V29: 43568 | W29: 87760 | X29: 135440 | Y29: 173984 | Z29: 175888 | AA29: 149968 | AB29: 119472 | AC29: 103760 | AD29: 64608 | AE29: =IF(A29<>0,A29,"") | AF29: =IF(B29<>0,B29,"") -> Cassiar TSA | AG29: =IF(C29<>0,C29,"") | AH29: =IF(D29<>0,D29,"") | AI29: =IF(E29<>0,E29,"") -> 352 | AJ29: =IF(F29<>0,F29,"") | AK29: =IF(G29<>0,G29,"") | AL29: =IF(H29<>0,H29,"") | ... AS29: =IF(O29<>0,O29,"") | AT29: =IF(R29<>0,R29,"") -> 32 | AU29: =IF(S29<>0,S29,"") -> 4352 | AV29: =IF(T29<>0,T29,"") -> 8576 | AW29: =IF(U29<>0,U29,"") -> 15840 | AX29: =IF(V29<>0,V29,"") -> 43568 | AY29: =IF(W29<>0,W29,"") -> 87760 | AZ29: =IF(X29<>0,X29,"") -> 135440 | BA29: =IF(Y29<>0,Y29,"") -> 173984 | ... BF29: =IF(AD29<>0,AD29,"") -> 64608 | BG29: =MAX(AG29:BF29) -> 175888
B30: Cranberry TSA | C30: 0 | D30: 0 | E30: 0 | F30: 0 | G30: 0 | H30: 0 | I30: 0 | J30: 0 | K30: 0 | L30: 1664 | M30: 0 | N30: 0 | O30: 1104 | Q30: Cranberry TSA | R30: 5888 | S30: 7152 | T30: 6976 | U30: 15840 | V30: 13760 | W30: 19568 | X30: 30352 | Y30: 31408 | Z30: 30656 | AA30: 33408 | AB30: 22848 | AC30: 20096 | AD30: 26000 | AE30: =IF(A30<>0,A30,"") | AF30: =IF(B30<>0,B30,"") -> Cranberry TSA | AG30: =IF(C30<>0,C30,"") | AH30: =IF(D30<>0,D30,"") | AI30: =IF(E30<>0,E30,"") | AJ30: =IF(F30<>0,F30,"") | AK30: =IF(G30<>0,G30,"") | AL30: =IF(H30<>0,H30,"") | ... AS30: =IF(O30<>0,O30,"") -> 1104 | AT30: =IF(R30<>0,R30,"") -> 5888 | AU30: =IF(S30<>0,S30,"") -> 7152 | AV30: =IF(T30<>0,T30,"") -> 6976 | AW30: =IF(U30<>0,U30,"") -> 15840 | AX30: =IF(V30<>0,V30,"") -> 13760 | AY30: =IF(W30<>0,W30,"") -> 19568 | AZ30: =IF(X30<>0,X30,"") -> 30352 | BA30: =IF(Y30<>0,Y30,"") -> 31408 | ... BF30: =IF(AD30<>0,AD30,"") -> 26000 | BG30: =MAX(AG30:BF30) -> 33408
B31: Fort Nelson TSA | C31: 0 | D31: 0 | E31: 0 | F31: 0 | G31: 0 | H31: 0 | I31: 0 | J31: 0 | K31: 0 | L31: 144 | M31: 5344 | N31: 816 | O31: 11472 | Q31: Fort Nelson TSA | R31: 48624 | S31: 108944 | T31: 137232 | U31: 169344 | V31: 165040 | W31: 146112 | X31: 134032 | Y31: 101328 | Z31: 74736 | AA31: 53104 | AB31: 33984 | AC31: 20816 | AD31: 11024 | AE31: =IF(A31<>0,A31,"") | AF31: =IF(B31<>0,B31,"") -> Fort Nelson TSA | AG31: =IF(C31<>0,C31,"") | AH31: =IF(D31<>0,D31,"") | AI31: =IF(E31<>0,E31,"") | AJ31: =IF(F31<>0,F31,"") | AK31: =IF(G31<>0,G31,"") | AL31: =IF(H31<>0,H31,"") | ... AS31: =IF(O31<>0,O31,"") -> 11472 | AT31: =IF(R31<>0,R31,"") -> 48624 | AU31: =IF(S31<>0,S31,"") -> 108944 | AV31: =IF(T31<>0,T31,"") -> 137232 | AW31: =IF(U31<>0,U31,"") -> 169344 | AX31: =IF(V31<>0,V31,"") -> 165040 | AY31: =IF(W31<>0,W31,"") -> 146112 | AZ31: =IF(X31<>0,X31,"") -> 134032 | BA31: =IF(Y31<>0,Y31,"") -> 101328 | ... BF31: =IF(AD31<>0,AD31,"") -> 11024 | BG31: =MAX(AG31:BF31) -> 169344
B32: Fraser TSA | C32: 352 | D32: 352 | E32: 1440 | F32: 4304 | G32: 1968 | H32: 5120 | I32: 2320 | J32: 21408 | K32: 58432 | L32: 63904 | M32: 27296 | N32: 18336 | O32: 8608 | Q32: Fraser TSA | R32: 8240 | S32: 10432 | T32: 5840 | U32: 4112 | V32: 4416 | W32: 3744 | X32: 4336 | Y32: 2832 | Z32: 2896 | AA32: 2304 | AB32: 3264 | AC32: 2576 | AD32: 1696 | AE32: =IF(A32<>0,A32,"") | AF32: =IF(B32<>0,B32,"") -> Fraser TSA | AG32: =IF(C32<>0,C32,"") -> 352 | AH32: =IF(D32<>0,D32,"") -> 352 | AI32: =IF(E32<>0,E32,"") -> 1440 | AJ32: =IF(F32<>0,F32,"") -> 4304 | AK32: =IF(G32<>0,G32,"") -> 1968 | AL32: =IF(H32<>0,H32,"") -> 5120 | ... AS32: =IF(O32<>0,O32,"") -> 8608 | AT32: =IF(R32<>0,R32,"") -> 8240 | AU32: =IF(S32<>0,S32,"") -> 10432 | AV32: =IF(T32<>0,T32,"") -> 5840 | AW32: =IF(U32<>0,U32,"") -> 4112 | AX32: =IF(V32<>0,V32,"") -> 4416 | AY32: =IF(W32<>0,W32,"") -> 3744 | AZ32: =IF(X32<>0,X32,"") -> 4336 | BA32: =IF(Y32<>0,Y32,"") -> 2832 | ... BF32: =IF(AD32<>0,AD32,"") -> 1696 | BG32: =MAX(AG32:BF32) -> 63904
B33: Ft. St. John TSA | C33: 0 | D33: 0 | E33: 128 | F33: 0 | G33: 80 | H33: 14432 | I33: 112 | J33: 0 | K33: 32784 | L33: 420880 | M33: 1223840 | N33: 3891888 | O33: 3484704 | Q33: Ft. St. John TSA | R33: 2978704 | S33: 2166704 | T33: 1439536 | U33: 987984 | V33: 691536 | W33: 522512 | X33: 418928 | Y33: 358720 | Z33: 298624 | AA33: 223760 | AB33: 157424 | AC33: 148144 | AD33: 148144 | AE33: =IF(A33<>0,A33,"") | AF33: =IF(B33<>0,B33,"") -> Ft. St. John TSA | AG33: =IF(C33<>0,C33,"") | AH33: =IF(D33<>0,D33,"") | AI33: =IF(E33<>0,E33,"") -> 128 | AJ33: =IF(F33<>0,F33,"") | AK33: =IF(G33<>0,G33,"") -> 80 | AL33: =IF(H33<>0,H33,"") -> 14432 | ... AS33: =IF(O33<>0,O33,"") -> 3484704 | AT33: =IF(R33<>0,R33,"") -> 2978704 | AU33: =IF(S33<>0,S33,"") -> 2166704 | AV33: =IF(T33<>0,T33,"") -> 1439536 | AW33: =IF(U33<>0,U33,"") -> 987984 | AX33: =IF(V33<>0,V33,"") -> 691536 | AY33: =IF(W33<>0,W33,"") -> 522512 | AZ33: =IF(X33<>0,X33,"") -> 418928 | BA33: =IF(Y33<>0,Y33,"") -> 358720 | ... BF33: =IF(AD33<>0,AD33,"") -> 148144 | BG33: =MAX(AG33:BF33) -> 3891888
B34: Kalum TSA | C34: 1168 | D34: 352 | E34: 0 | F34: 192 | G34: 0 | H34: 0 | I34: 0 | J34: 0 | K34: 0 | L34: 15952 | M34: 6080 | N34: 11344 | O34: 11232 | Q34: Kalum TSA | R34: 15104 | S34: 16432 | T34: 16976 | U34: 14544 | V34: 13936 | W34: 14640 | X34: 11472 | Y34: 8848 | Z34: 9680 | AA34: 9872 | AB34: 13216 | AC34: 7856 | AD34: 5632 | AE34: =IF(A34<>0,A34,"") | AF34: =IF(B34<>0,B34,"") -> Kalum TSA | AG34: =IF(C34<>0,C34,"") -> 1168 | AH34: =IF(D34<>0,D34,"") -> 352 | AI34: =IF(E34<>0,E34,"") | AJ34: =IF(F34<>0,F34,"") -> 192 | AK34: =IF(G34<>0,G34,"") | AL34: =IF(H34<>0,H34,"") | ... AS34: =IF(O34<>0,O34,"") -> 11232 | AT34: =IF(R34<>0,R34,"") -> 15104 | AU34: =IF(S34<>0,S34,"") -> 16432 | AV34: =IF(T34<>0,T34,"") -> 16976 | AW34: =IF(U34<>0,U34,"") -> 14544 | AX34: =IF(V34<>0,V34,"") -> 13936 | AY34: =IF(W34<>0,W34,"") -> 14640 | AZ34: =IF(X34<>0,X34,"") -> 11472 | BA34: =IF(Y34<>0,Y34,"") -> 8848 | ... BF34: =IF(AD34<>0,AD34,"") -> 5632 | BG34: =MAX(AG34:BF34) -> 16976
B35: Kingcome TSA | C35: 0 | D35: 0 | E35: 0 | F35: 0 | G35: 0 | H35: 0 | I35: 0 | J35: 0 | K35: 0 | L35: 0 | M35: 0 | N35: 0 | O35: 0 | Q35: Kingcome TSA | R35: 0 | S35: 0 | T35: 0 | U35: 0 | V35: 0 | W35: 0 | X35: 16 | Y35: 0 | Z35: 0 | AA35: 0 | AB35: 0 | AC35: 0 | AD35: 0 | AE35: =IF(A35<>0,A35,"") | AF35: =IF(B35<>0,B35,"") -> Kingcome TSA | AG35: =IF(C35<>0,C35,"") | AH35: =IF(D35<>0,D35,"") | AI35: =IF(E35<>0,E35,"") | AJ35: =IF(F35<>0,F35,"") | AK35: =IF(G35<>0,G35,"") | AL35: =IF(H35<>0,H35,"") | ... AS35: =IF(O35<>0,O35,"") | AT35: =IF(R35<>0,R35,"") | AU35: =IF(S35<>0,S35,"") | AV35: =IF(T35<>0,T35,"") | AW35: =IF(U35<>0,U35,"") | AX35: =IF(V35<>0,V35,"") | AY35: =IF(W35<>0,W35,"") | AZ35: =IF(X35<>0,X35,"") -> 16 | BA35: =IF(Y35<>0,Y35,"") | ... BF35: =IF(AD35<>0,AD35,"") | BG35: =MAX(AG35:BF35) -> 16
B36: Kispiox TSA | C36: 0 | D36: 0 | E36: 912 | F36: 288 | G36: 320 | H36: 1824 | I36: 160 | J36: 144 | K36: 7248 | L36: 82432 | M36: 29344 | N36: 47984 | O36: 82992 | Q36: Kispiox TSA | R36: 139728 | S36: 178672 | T36: 172400 | U36: 172928 | V36: 158624 | W36: 140192 | X36: 119312 | Y36: 91616 | Z36: 75136 | AA36: 74528 | AB36: 56816 | AC36: 45424 | AD36: 36496 | AE36: =IF(A36<>0,A36,"") | AF36: =IF(B36<>0,B36,"") -> Kispiox TSA | AG36: =IF(C36<>0,C36,"") | AH36: =IF(D36<>0,D36,"") | AI36: =IF(E36<>0,E36,"") -> 912 | AJ36: =IF(F36<>0,F36,"") -> 288 | AK36: =IF(G36<>0,G36,"") -> 320 | AL36: =IF(H36<>0,H36,"") -> 1824 | ... AS36: =IF(O36<>0,O36,"") -> 82992 | AT36: =IF(R36<>0,R36,"") -> 139728 | AU36: =IF(S36<>0,S36,"") -> 178672 | AV36: =IF(T36<>0,T36,"") -> 172400 | AW36: =IF(U36<>0,U36,"") -> 172928 | AX36: =IF(V36<>0,V36,"") -> 158624 | AY36: =IF(W36<>0,W36,"") -> 140192 | AZ36: =IF(X36<>0,X36,"") -> 119312 | BA36: =IF(Y36<>0,Y36,"") -> 91616 | ... BF36: =IF(AD36<>0,AD36,"") -> 36496 | BG36: =MAX(AG36:BF36) -> 178672
B37: Mid Coast TSA | C37: 688 | D37: 5936 | E37: 1568 | F37: 10800 | G37: 1584 | H37: 3808 | I37: 2672 | J37: 1568 | K37: 720 | L37: 0 | M37: 0 | N37: 0 | O37: 0 | Q37: Mid Coast TSA | R37: 0 | S37: 224 | T37: 80 | U37: 48 | V37: 32 | W37: 304 | X37: 400 | Y37: 1328 | Z37: 768 | AA37: 576 | AB37: 2144 | AC37: 2416 | AD37: 3216 | AE37: =IF(A37<>0,A37,"") | AF37: =IF(B37<>0,B37,"") -> Mid Coast TSA | AG37: =IF(C37<>0,C37,"") -> 688 | AH37: =IF(D37<>0,D37,"") -> 5936 | AI37: =IF(E37<>0,E37,"") -> 1568 | AJ37: =IF(F37<>0,F37,"") -> 10800 | AK37: =IF(G37<>0,G37,"") -> 1584 | AL37: =IF(H37<>0,H37,"") -> 3808 | ... AS37: =IF(O37<>0,O37,"") | AT37: =IF(R37<>0,R37,"") | AU37: =IF(S37<>0,S37,"") -> 224 | AV37: =IF(T37<>0,T37,"") -> 80 | AW37: =IF(U37<>0,U37,"") -> 48 | AX37: =IF(V37<>0,V37,"") -> 32 | AY37: =IF(W37<>0,W37,"") -> 304 | AZ37: =IF(X37<>0,X37,"") -> 400 | BA37: =IF(Y37<>0,Y37,"") -> 1328 | ... BF37: =IF(AD37<>0,AD37,"") -> 3216 | BG37: =MAX(AG37:BF37) -> 10800
B38: Nass TSA | C38: 0 | D38: 2208 | E38: 0 | F38: 512 | G38: 0 | H38: 0 | I38: 1232 | J38: 0 | K38: 304 | L38: 752 | M38: 0 | N38: 0 | O38: 0 | Q38: Nass TSA | R38: 1136 | S38: 3856 | T38: 8000 | U38: 10144 | V38: 16992 | W38: 27216 | X38: 38064 | Y38: 50736 | Z38: 50880 | AA38: 60224 | AB38: 50784 | AC38: 49104 | AD38: 43120 | AE38: =IF(A38<>0,A38,"") | AF38: =IF(B38<>0,B38,"") -> Nass TSA | AG38: =IF(C38<>0,C38,"") | AH38: =IF(D38<>0,D38,"") -> 2208 | AI38: =IF(E38<>0,E38,"") | AJ38: =IF(F38<>0,F38,"") -> 512 | AK38: =IF(G38<>0,G38,"") | AL38: =IF(H38<>0,H38,"") | ... AS38: =IF(O38<>0,O38,"") | AT38: =IF(R38<>0,R38,"") -> 1136 | AU38: =IF(S38<>0,S38,"") -> 3856 | AV38: =IF(T38<>0,T38,"") -> 8000 | AW38: =IF(U38<>0,U38,"") -> 10144 | AX38: =IF(V38<>0,V38,"") -> 16992 | AY38: =IF(W38<>0,W38,"") -> 27216 | AZ38: =IF(X38<>0,X38,"") -> 38064 | BA38: =IF(Y38<>0,Y38,"") -> 50736 | ... BF38: =IF(AD38<>0,AD38,"") -> 43120 | BG38: =MAX(AG38:BF38) -> 60224
B39: North Coast TSA | C39: 0 | D39: 0 | E39: 0 | F39: 0 | G39: 0 | H39: 0 | I39: 0 | J39: 0 | K39: 0 | L39: 0 | M39: 0 | N39: 0 | O39: 0 | Q39: North Coast TSA | R39: 0 | S39: 0 | T39: 0 | U39: 0 | V39: 0 | W39: 0 | X39: 0 | Y39: 0 | Z39: 0 | AA39: 0 | AB39: 0 | AC39: 0 | AD39: 0 | AE39: =IF(A39<>0,A39,"") | AF39: =IF(B39<>0,B39,"") -> North Coast TSA | AG39: =IF(C39<>0,C39,"") | AH39: =IF(D39<>0,D39,"") | AI39: =IF(E39<>0,E39,"") | AJ39: =IF(F39<>0,F39,"") | AK39: =IF(G39<>0,G39,"") | AL39: =IF(H39<>0,H39,"") | ... AS39: =IF(O39<>0,O39,"") | AT39: =IF(R39<>0,R39,"") | AU39: =IF(S39<>0,S39,"") | AV39: =IF(T39<>0,T39,"") | AW39: =IF(U39<>0,U39,"") | AX39: =IF(V39<>0,V39,"") | AY39: =IF(W39<>0,W39,"") | AZ39: =IF(X39<>0,X39,"") | BA39: =IF(Y39<>0,Y39,"") | ... BF39: =IF(AD39<>0,AD39,"") | BG39: =MAX(AG39:BF39) -> 0
B40: Queen Charlotte TSA | C40: 0 | D40: 0 | E40: 0 | F40: 0 | G40: 0 | H40: 0 | I40: 0 | J40: 0 | K40: 0 | L40: 0 | M40: 0 | N40: 0 | O40: 0 | Q40: Queen Charlotte TSA | R40: 0 | S40: 0 | T40: 0 | U40: 0 | V40: 0 | W40: 0 | X40: 0 | Y40: 0 | Z40: 0 | AA40: 0 | AB40: 0 | AC40: 0 | AD40: 0 | AE40: =IF(A40<>0,A40,"") | AF40: =IF(B40<>0,B40,"") -> Queen Charlotte TSA | AG40: =IF(C40<>0,C40,"") | AH40: =IF(D40<>0,D40,"") | AI40: =IF(E40<>0,E40,"") | AJ40: =IF(F40<>0,F40,"") | AK40: =IF(G40<>0,G40,"") | AL40: =IF(H40<>0,H40,"") | ... AS40: =IF(O40<>0,O40,"") | AT40: =IF(R40<>0,R40,"") | AU40: =IF(S40<>0,S40,"") | AV40: =IF(T40<>0,T40,"") | AW40: =IF(U40<>0,U40,"") | AX40: =IF(V40<>0,V40,"") | AY40: =IF(W40<>0,W40,"") | AZ40: =IF(X40<>0,X40,"") | BA40: =IF(Y40<>0,Y40,"") | ... BF40: =IF(AD40<>0,AD40,"") | BG40: =MAX(AG40:BF40) -> 0
... B44: Sunshine Coast TSA | C44: 0 | D44: 0 | E44: 0 | F44: 0 | G44: 0 | H44: 0 | I44: 0 | J44: 0 | K44: 176 | L44: 0 | M44: 0 | N44: 608 | O44: 32 | Q44: Sunshine Coast TSA | R44: 384 | S44: 1376 | T44: 1344 | U44: 2128 | V44: 2304 | W44: 3648 | X44: 6752 | Y44: 7568 | Z44: 13056 | AA44: 9584 | AB44: 13808 | AC44: 14192 | AD44: 15136 | AE44: =IF(A44<>0,A44,"") | AF44: =IF(B44<>0,B44,"") -> Sunshine Coast TSA | AG44: =IF(C44<>0,C44,"") | AH44: =IF(D44<>0,D44,"") | AI44: =IF(E44<>0,E44,"") | AJ44: =IF(F44<>0,F44,"") | AK44: =IF(G44<>0,G44,"") | AL44: =IF(H44<>0,H44,"") | ... AS44: =IF(O44<>0,O44,"") -> 32 | AT44: =IF(R44<>0,R44,"") -> 384 | AU44: =IF(S44<>0,S44,"") -> 1376 | AV44: =IF(T44<>0,T44,"") -> 1344 | AW44: =IF(U44<>0,U44,"") -> 2128 | AX44: =IF(V44<>0,V44,"") -> 2304 | AY44: =IF(W44<>0,W44,"") -> 3648 | AZ44: =IF(X44<>0,X44,"") -> 6752 | BA44: =IF(Y44<>0,Y44,"") -> 7568 | ... BF44: =IF(AD44<>0,AD44,"") -> 15136 | BG44: =MAX(AG44:BF44) -> 15136
A45: Non-pine Units Total | C45: 33632 | D45: 26208 | E45: 26080 | F45: 40032 | G45: 23824 | H45: 49152 | I45: 13664 | J45: 80112 | K45: 146112 | L45: 606624 | M45: 1302512 | N45: 3978848 | O45: 3607840 | P45: Non-pine Units Total | R45: 3206224 | S45: 2507408 | T45: 1805344 | U45: 1402384 | V45: 1120080 | W45: 973040 | X45: 906704 | Y45: 833856 | Z45: 738272 | AA45: 624432 | AB45: 480288 | AC45: 420048 | AD45: 359904 | AE45: =IF(A45<>0,A45,"") -> Non-pine Units Total | AF45: =IF(B45<>0,B45,"") | AG45: =IF(C45<>0,C45,"") -> 33632 | AH45: =IF(D45<>0,D45,"") -> 26208 | AI45: =IF(E45<>0,E45,"") -> 26080 | AJ45: =IF(F45<>0,F45,"") -> 40032 | AK45: =IF(G45<>0,G45,"") -> 23824 | AL45: =IF(H45<>0,H45,"") -> 49152 | ... AS45: =IF(O45<>0,O45,"") -> 3607840 | AT45: =IF(R45<>0,R45,"") -> 3206224 | AU45: =IF(S45<>0,S45,"") -> 2507408 | AV45: =IF(T45<>0,T45,"") -> 1805344 | AW45: =IF(U45<>0,U45,"") -> 1402384 | AX45: =IF(V45<>0,V45,"") -> 1120080 | AY45: =IF(W45<>0,W45,"") -> 973040 | AZ45: =IF(X45<>0,X45,"") -> 906704 | BA45: =IF(Y45<>0,Y45,"") -> 833856 | ... BF45: =IF(AD45<>0,AD45,"") -> 359904 | BG45: =MAX(AG45:BF45) -> 3978848
A46: Interior TFLs | C46: 520144 | D46: 571024 | E46: 677392 | F46: 1372656 | G46: 3238896 | H46: 6887072 | I46: 9587616 | J46: 4555504 | K46: 8363264 | L46: 5996352 | M46: 3584384 | N46: 3415392 | O46: 503488 | P46: Interior TFLs | R46: 514080 | S46: 436304 | T46: 397584 | U46: 348416 | V46: 312656 | W46: 311552 | X46: 316128 | Y46: 362848 | Z46: 379056 | AA46: 340928 | AB46: 390416 | AC46: 359200 | AD46: 362208 | AE46: =IF(A46<>0,A46,"") -> Interior TFLs | AF46: =IF(B46<>0,B46,"") | AG46: =IF(C46<>0,C46,"") -> 520144 | AH46: =IF(D46<>0,D46,"") -> 571024 | AI46: =IF(E46<>0,E46,"") -> 677392 | AJ46: =IF(F46<>0,F46,"") -> 1372656 | AK46: =IF(G46<>0,G46,"") -> 3238896 | AL46: =IF(H46<>0,H46,"") -> 6887072 | ... AS46: =IF(O46<>0,O46,"") -> 503488 | AT46: =IF(R46<>0,R46,"") -> 514080 | AU46: =IF(S46<>0,S46,"") -> 436304 | AV46: =IF(T46<>0,T46,"") -> 397584 | AW46: =IF(U46<>0,U46,"") -> 348416 | AX46: =IF(V46<>0,V46,"") -> 312656 | AY46: =IF(W46<>0,W46,"") -> 311552 | AZ46: =IF(X46<>0,X46,"") -> 316128 | BA46: =IF(Y46<>0,Y46,"") -> 362848 | ... BF46: =IF(AD46<>0,AD46,"") -> 362208 | BG46: =MAX(AG46:BF46) -> 9587616
A47: Coast TFLs | C47: 0 | D47: 0 | E47: 0 | F47: 0 | G47: 0 | H47: 0 | I47: 0 | J47: 0 | K47: 0 | L47: 0 | M47: 0 | N47: 0 | O47: 0 | P47: Coast TFLs | R47: 0 | S47: 0 | T47: 0 | U47: 0 | V47: 0 | W47: 192 | X47: 128 | Y47: 128 | Z47: 0 | AA47: 16 | AB47: 160 | AC47: 0 | AD47: 0 | AE47: =IF(A47<>0,A47,"") -> Coast TFLs | AF47: =IF(B47<>0,B47,"") | AG47: =IF(C47<>0,C47,"") | AH47: =IF(D47<>0,D47,"") | AI47: =IF(E47<>0,E47,"") | AJ47: =IF(F47<>0,F47,"") | AK47: =IF(G47<>0,G47,"") | AL47: =IF(H47<>0,H47,"") | ... AS47: =IF(O47<>0,O47,"") | AT47: =IF(R47<>0,R47,"") | AU47: =IF(S47<>0,S47,"") | AV47: =IF(T47<>0,T47,"") | AW47: =IF(U47<>0,U47,"") | AX47: =IF(V47<>0,V47,"") | AY47: =IF(W47<>0,W47,"") -> 192 | AZ47: =IF(X47<>0,X47,"") -> 128 | BA47: =IF(Y47<>0,Y47,"") -> 128 | ... BF47: =IF(AD47<>0,AD47,"") | BG47: =MAX(AG47:BF47) -> 192
A48: Grand Total | C48: 5607952 | D48: 7003168 | E48: 12324448 | F48: 28059552 | G48: 54161616 | H48: 78686784 | I48: 139811536 | J48: 112883136 | K48: 103893312 | L48: 60506000 | M48: 47311936 | N48: 39799376 | O48: 19914224 | P48: Grand Total | R48: 18225216 | S48: 13223088 | T48: 9177280 | U48: 6783632 | V48: 5296912 | W48: 4683792 | X48: 4372896 | Y48: 4281488 | Z48: 4156448 | AA48: 3919984 | AB48: 3714256 | AC48: 3507888 | AD48: 3285296 | AE48: =IF(A48<>0,A48,"") -> Grand Total | AF48: =IF(B48<>0,B48,"") | AG48: =IF(C48<>0,C48,"") -> 5607952 | AH48: =IF(D48<>0,D48,"") -> 7003168 | AI48: =IF(E48<>0,E48,"") -> 12324448 | AJ48: =IF(F48<>0,F48,"") -> 28059552 | AK48: =IF(G48<>0,G48,"") -> 54161616 | AL48: =IF(H48<>0,H48,"") -> 78686784 | ... AS48: =IF(O48<>0,O48,"") -> 19914224 | AT48: =IF(R48<>0,R48,"") -> 18225216 | AU48: =IF(S48<>0,S48,"") -> 13223088 | AV48: =IF(T48<>0,T48,"") -> 9177280 | AW48: =IF(U48<>0,U48,"") -> 6783632 | AX48: =IF(V48<>0,V48,"") -> 5296912 | AY48: =IF(W48<>0,W48,"") -> 4683792 | AZ48: =IF(X48<>0,X48,"") -> 4372896 | BA48: =IF(Y48<>0,Y48,"") -> 4281488 | ... BF48: =IF(AD48<>0,AD48,"") -> 3285296 | BG48: =MAX(AG48:BF48) -> 139811536
AE49: =IF(A49<>0,A49,"") | AF49: =IF(B49<>0,B49,"") | AG49: =IF(C49<>0,C49,"") | AH49: =IF(D49<>0,D49,"") | AI49: =IF(E49<>0,E49,"") | AJ49: =IF(F49<>0,F49,"") | AK49: =IF(G49<>0,G49,"") | AL49: =IF(H49<>0,H49,"") | ... AS49: =IF(O49<>0,O49,"") | AT49: =IF(R49<>0,R49,"") | AU49: =IF(S49<>0,S49,"") | AV49: =IF(T49<>0,T49,"") | AW49: =IF(U49<>0,U49,"") | AX49: =IF(V49<>0,V49,"") | AY49: =IF(W49<>0,W49,"") | AZ49: =IF(X49<>0,X49,"") | BA49: =IF(Y49<>0,Y49,"") | ... BF49: =IF(AD49<>0,AD49,"") | BG49: =MAX(AG49:BF49) -> 0
AE50: =IF(A50<>0,A50,"") | AF50: =IF(B50<>0,B50,"") | AG50: =IF(C50<>0,C50,"") | AH50: =IF(D50<>0,D50,"") | AI50: =IF(E50<>0,E50,"") | AJ50: =IF(F50<>0,F50,"") | AK50: =IF(G50<>0,G50,"") | AL50: =IF(H50<>0,H50,"") | ... AS50: =IF(O50<>0,O50,"") | AT50: =IF(R50<>0,R50,"") | AU50: =IF(S50<>0,S50,"") | AV50: =IF(T50<>0,T50,"") | AW50: =IF(U50<>0,U50,"") | AX50: =IF(V50<>0,V50,"") | AY50: =IF(W50<>0,W50,"") | AZ50: =IF(X50<>0,X50,"") | BA50: =IF(Y50<>0,Y50,"") | ... BF50: =IF(AD50<>0,AD50,"") | BG50: =MAX(AG50:BF50) -> 0
AE51: =IF(A51<>0,A51,"") | AF51: =IF(B51<>0,B51,"") | AG51: =IF(C51<>0,C51,"") | AH51: =IF(D51<>0,D51,"") | AI51: =IF(E51<>0,E51,"") | AJ51: =IF(F51<>0,F51,"") | AK51: =IF(G51<>0,G51,"") | AL51: =IF(H51<>0,H51,"") | ... AS51: =IF(O51<>0,O51,"") | AT51: =IF(R51<>0,R51,"") | AU51: =IF(S51<>0,S51,"") | AV51: =IF(T51<>0,T51,"") | AW51: =IF(U51<>0,U51,"") | AX51: =IF(V51<>0,V51,"") | AY51: =IF(W51<>0,W51,"") | AZ51: =IF(X51<>0,X51,"") | BA51: =IF(Y51<>0,Y51,"") | ... BF51: =IF(AD51<>0,AD51,"") | BG51: =MAX(AG51:BF51) -> 0
AE52: =IF(A52<>0,A52,"") | AF52: =IF(B52<>0,B52,"") | AG52: =IF(C52<>0,C52,"") | AH52: =IF(D52<>0,D52,"") | AI52: =IF(E52<>0,E52,"") | AJ52: =IF(F52<>0,F52,"") | AK52: =IF(G52<>0,G52,"") | AL52: =IF(H52<>0,H52,"") | ... AS52: =IF(O52<>0,O52,"") | AT52: =IF(R52<>0,R52,"") | AU52: =IF(S52<>0,S52,"") | AV52: =IF(T52<>0,T52,"") | AW52: =IF(U52<>0,U52,"") | AX52: =IF(V52<>0,V52,"") | AY52: =IF(W52<>0,W52,"") | AZ52: =IF(X52<>0,X52,"") | BA52: =IF(Y52<>0,Y52,"") | ... BF52: =IF(AD52<>0,AD52,"") | BG52: =MAX(AG52:BF52) -> 0
AE53: =IF(A53<>0,A53,"") | AF53: =IF(B53<>0,B53,"") | AG53: =IF(C53<>0,C53,"") | AH53: =IF(D53<>0,D53,"") | AI53: =IF(E53<>0,E53,"") | AJ53: =IF(F53<>0,F53,"") | AK53: =IF(G53<>0,G53,"") | AL53: =IF(H53<>0,H53,"") | ... AS53: =IF(O53<>0,O53,"") | AT53: =IF(R53<>0,R53,"") | AU53: =IF(S53<>0,S53,"") | AV53: =IF(T53<>0,T53,"") | AW53: =IF(U53<>0,U53,"") | AX53: =IF(V53<>0,V53,"") | AY53: =IF(W53<>0,W53,"") | AZ53: =IF(X53<>0,X53,"") | BA53: =IF(Y53<>0,Y53,"") | ... BF53: =IF(AD53<>0,AD53,"") | BG53: =MAX(AG53:BF53) -> 0
AE54: =IF(A54<>0,A54,"") | AF54: =IF(B54<>0,B54,"") | AG54: =IF(C54<>0,C54,"") | AH54: =IF(D54<>0,D54,"") | AI54: =IF(E54<>0,E54,"") | AJ54: =IF(F54<>0,F54,"") | AK54: =IF(G54<>0,G54,"") | AL54: =IF(H54<>0,H54,"") | ... AS54: =IF(O54<>0,O54,"") | AT54: =IF(R54<>0,R54,"") | AU54: =IF(S54<>0,S54,"") | AV54: =IF(T54<>0,T54,"") | AW54: =IF(U54<>0,U54,"") | AX54: =IF(V54<>0,V54,"") | AY54: =IF(W54<>0,W54,"") | AZ54: =IF(X54<>0,X54,"") | BA54: =IF(Y54<>0,Y54,"") | ... BF54: =IF(AD54<>0,AD54,"") | BG54: =MAX(AG54:BF54) -> 0
AE55: =IF(A55<>0,A55,"") | AF55: =IF(B55<>0,B55,"") | AG55: =IF(C55<>0,C55,"") | AH55: =IF(D55<>0,D55,"") | AI55: =IF(E55<>0,E55,"") | AJ55: =IF(F55<>0,F55,"") | AK55: =IF(G55<>0,G55,"") | AL55: =IF(H55<>0,H55,"") | ... AS55: =IF(O55<>0,O55,"") | AT55: =IF(R55<>0,R55,"") | AU55: =IF(S55<>0,S55,"") | AV55: =IF(T55<>0,T55,"") | AW55: =IF(U55<>0,U55,"") | AX55: =IF(V55<>0,V55,"") | AY55: =IF(W55<>0,W55,"") | AZ55: =IF(X55<>0,X55,"") | BA55: =IF(Y55<>0,Y55,"") | ... BF55: =IF(AD55<>0,AD55,"") | BG55: =MAX(AG55:BF55) -> 0
AE56: =IF(A56<>0,A56,"") | AF56: =IF(B56<>0,B56,"") | AG56: =IF(C56<>0,C56,"") | AH56: =IF(D56<>0,D56,"") | AI56: =IF(E56<>0,E56,"") | AJ56: =IF(F56<>0,F56,"") | AK56: =IF(G56<>0,G56,"") | AL56: =IF(H56<>0,H56,"") | ... AS56: =IF(O56<>0,O56,"") | AT56: =IF(R56<>0,R56,"") | AU56: =IF(S56<>0,S56,"") | AV56: =IF(T56<>0,T56,"") | AW56: =IF(U56<>0,U56,"") | AX56: =IF(V56<>0,V56,"") | AY56: =IF(W56<>0,W56,"") | AZ56: =IF(X56<>0,X56,"") | BA56: =IF(Y56<>0,Y56,"") | ... BF56: =IF(AD56<>0,AD56,"") | BG56: =MAX(AG56:BF56) -> 0
AE57: =IF(A57<>0,A57,"") | AF57: =IF(B57<>0,B57,"") | AG57: =IF(C57<>0,C57,"") | AH57: =IF(D57<>0,D57,"") | AI57: =IF(E57<>0,E57,"") | AJ57: =IF(F57<>0,F57,"") | AK57: =IF(G57<>0,G57,"") | AL57: =IF(H57<>0,H57,"") | ... AS57: =IF(O57<>0,O57,"") | AT57: =IF(R57<>0,R57,"") | AU57: =IF(S57<>0,S57,"") | AV57: =IF(T57<>0,T57,"") | AW57: =IF(U57<>0,U57,"") | AX57: =IF(V57<>0,V57,"") | AY57: =IF(W57<>0,W57,"") | AZ57: =IF(X57<>0,X57,"") | BA57: =IF(Y57<>0,Y57,"") | ... BF57: =IF(AD57<>0,AD57,"") | BG57: =MAX(AG57:BF57) -> 0
AE58: =IF(A58<>0,A58,"") | AF58: =IF(B58<>0,B58,"") | AG58: =IF(C58<>0,C58,"") | AH58: =IF(D58<>0,D58,"") | AI58: =IF(E58<>0,E58,"") | AJ58: =IF(F58<>0,F58,"") | AK58: =IF(G58<>0,G58,"") | AL58: =IF(H58<>0,H58,"") | ... AS58: =IF(O58<>0,O58,"") | AT58: =IF(R58<>0,R58,"") | AU58: =IF(S58<>0,S58,"") | AV58: =IF(T58<>0,T58,"") | AW58: =IF(U58<>0,U58,"") | AX58: =IF(V58<>0,V58,"") | AY58: =IF(W58<>0,W58,"") | AZ58: =IF(X58<>0,X58,"") | BA58: =IF(Y58<>0,Y58,"") | ... BF58: =IF(AD58<>0,AD58,"") | BG58: =MAX(AG58:BF58) -> 0
AE59: =IF(A59<>0,A59,"") | AF59: =IF(B59<>0,B59,"") | AG59: =IF(C59<>0,C59,"") | AH59: =IF(D59<>0,D59,"") | AI59: =IF(E59<>0,E59,"") | AJ59: =IF(F59<>0,F59,"") | AK59: =IF(G59<>0,G59,"") | AL59: =IF(H59<>0,H59,"") | ... AS59: =IF(O59<>0,O59,"") | AT59: =IF(R59<>0,R59,"") | AU59: =IF(S59<>0,S59,"") | AV59: =IF(T59<>0,T59,"") | AW59: =IF(U59<>0,U59,"") | AX59: =IF(V59<>0,V59,"") | AY59: =IF(W59<>0,W59,"") | AZ59: =IF(X59<>0,X59,"") | BA59: =IF(Y59<>0,Y59,"") | ... BF59: =IF(AD59<>0,AD59,"") | BG59: =MAX(AG59:BF59) -> 0
AE60: =IF(A60<>0,A60,"") | AF60: =IF(B60<>0,B60,"") | AG60: =IF(C60<>0,C60,"") | AH60: =IF(D60<>0,D60,"") | AI60: =IF(E60<>0,E60,"") | AJ60: =IF(F60<>0,F60,"") | AK60: =IF(G60<>0,G60,"") | AL60: =IF(H60<>0,H60,"") | ... AS60: =IF(O60<>0,O60,"") | AT60: =IF(R60<>0,R60,"") | AU60: =IF(S60<>0,S60,"") | AV60: =IF(T60<>0,T60,"") | AW60: =IF(U60<>0,U60,"") | AX60: =IF(V60<>0,V60,"") | AY60: =IF(W60<>0,W60,"") | AZ60: =IF(X60<>0,X60,"") | BA60: =IF(Y60<>0,Y60,"") | ... BF60: =IF(AD60<>0,AD60,"") | BG60: =MAX(AG60:BF60) -> 0
... AE82: =IF(A82<>0,A82,"") | AF82: =IF(B82<>0,B82,"") | AG82: =IF(C82<>0,C82,"") | AH82: =IF(D82<>0,D82,"") | AI82: =IF(E82<>0,E82,"") | AJ82: =IF(F82<>0,F82,"") | AK82: =IF(G82<>0,G82,"") | AL82: =IF(H82<>0,H82,"") | ... AS82: =IF(O82<>0,O82,"") | AT82: =IF(R82<>0,R82,"") | AU82: =IF(S82<>0,S82,"") | AV82: =IF(T82<>0,T82,"") | AW82: =IF(U82<>0,U82,"") | AX82: =IF(V82<>0,V82,"") | AY82: =IF(W82<>0,W82,"") | AZ82: =IF(X82<>0,X82,"") | BA82: =IF(Y82<>0,Y82,"") | ... BF82: =IF(AD82<>0,AD82,"") | BG82: =MAX(AG82:BF82) -> 0

Sheet PctKillSummary
C3: Data | E3: Observed Cumulative Pine Volume Killed (red- and grey-attack) (m3) (2011cumKillData) | G3: Year | T3: Projected Cumulative Pine Volume Kill (red- and grey-attack) (m3) (sum of 2011cumKillProjection) | V3: Year | AJ3: Proportion of 1999 Pine Volume Killed (red- and grey-attack) | BM3: Proportion of 1999 Pine Volume Killed (red- and grey-attack) | BO3: Year | BY3: Proportion of 1999 Total Volume Killed (red- and grey-attack)
A4: Managment Unit Class | B4: Management Units: Full Name | C4: Sum of THLB Total Volume (m3) in 1999 | D4: Sum of THLB Pine Volume (m3) in 1999 | E4: Management Unit Class | F4: Management Unit Full Name | G4: 1999 | H4: 2000 | I4: 2001 | J4: 2002 | K4: 2003 | L4: 2004 | M4: 2005 | N4: 2006 | O4: 2007 | P4: 2008 | Q4: 2009 | R4: 2010 | S4: 2011 | T4: Management Unit Class | U4: Management Unit Full Name | V4: 2012 | W4: 2013 | X4: 2014 | Y4: 2015 | Z4: 2016 | AA4: 2017 | AB4: 2018 | AC4: 2019 | AD4: 2020 | AE4: 2021 | AF4: 2022 | AG4: 2023 | AH4: 2024 | AJ4: =IF(A4<>0,A4,"") -> Managment Unit Class | AK4: =IF(B4<>0,B4,"") -> Management Units: Full Name | AL4: =G4 -> 1999 | AM4: =H4 -> 2000 | AN4: =I4 -> 2001 | AO4: =J4 -> 2002 | AP4: =K4 -> 2003 | AQ4: =L4 -> 2004 | AR4: =M4 -> 2005 | AS4: =N4 -> 2006 | ... AX4: =S4 -> 2011 | AY4: =V4 -> 2012 | AZ4: =W4 -> 2013 | BA4: =X4 -> 2014 | BB4: =Y4 -> 2015 | BC4: =Z4 -> 2016 | BD4: =AA4 -> 2017 | BE4: =AB4 -> 2018 | BF4: =AC4 -> 2019 | ... BK4: =AH4 -> 2024 | BM4: =IF(AJ4<>0,AJ4,"") -> Managment Unit Class | BN4: =IF(AK4<>0,AK4,"") -> Management Units: Full Name | BO4: =$AX4 -> 2011 | BQ4: =$AY4 -> 2012 | BS4: =$BD4 -> 2017 | BU4: =$BI4 -> 2022 | BY4: =IF(A4<>0,A4,"") -> Managment Unit Class | BZ4: =IF(B4<>0,B4,"") -> Management Units: Full Name | CA4: =G4 -> 1999 | CB4: =H4 -> 2000 | CC4: =I4 -> 2001 | CD4: =J4 -> 2002 | CE4: =K4 -> 2003 | CF4: =L4 -> 2004 | CG4: =M4 -> 2005 | CH4: =N4 -> 2006 | ... CM4: =S4 -> 2011 | CN4: =V4 -> 2012 | CO4: =W4 -> 2013 | CP4: =X4 -> 2014 | CQ4: =Y4 -> 2015 | CR4: =Z4 -> 2016 | CS4: =AA4 -> 2017 | CT4: =AB4 -> 2018 | CU4: =AC4 -> 2019 | ... CZ4: =AH4 -> 2024
A5: Pine Units | B5: 100 Mile House TSA | C5: 110436352 | D5: 57597952 | E5: Pine Units | F5: 100 Mile House TSA | G5: 230192 | H5: 365648 | I5: 583760 | J5: 892704 | K5: 1842912 | L5: 5586768 | M5: 14267840 | N5: 32062608 | O5: 39600176 | P5: 41446464 | Q5: 41519232 | R5: 41529456 | S5: 41529488 | T5: Pine Units | U5: 100 Mile House TSA | V5: 41531584 | W5: 41534112 | X5: 41537648 | Y5: 41542064 | Z5: 41549520 | AA5: 41559584 | AB5: 41570832 | AC5: 41581008 | AD5: 41595216 | AE5: 41610320 | AF5: 41627792 | AG5: 41645280 | AH5: 41663936 | AJ5: =IF(A5<>0,A5,"") -> Pine Units | AK5: =IF(B5<>0,B5,"") -> 100 Mile House TSA | AL5: =IF($D5>0,G5/$D5,"") -> 0.003996531 | AM5: =IF($D5>0,H5/$D5,"") -> 0.0063482813 | AN5: =IF($D5>0,I5/$D5,"") -> 0.010135083 | AO5: =IF($D5>0,J5/$D5,"") -> 0.015498884 | AP5: =IF($D5>0,K5/$D5,"") -> 0.031996138 | AQ5: =IF($D5>0,L5/$D5,"") -> 0.096995949 | AR5: =IF($D5>0,M5/$D5,"") -> 0.24771436 | AS5: =IF($D5>0,N5/$D5,"") -> 0.55666229 | ... AX5: =IF($D5>0,S5/$D5,"") -> 0.72102369 | AY5: =IF($D5>0,V5/$D5,"") -> 0.72106008 | AZ5: =IF($D5>0,W5/$D5,"") -> 0.72110397 | BA5: =IF($D5>0,X5/$D5,"") -> 0.72116536 | BB5: =IF($D5>0,Y5/$D5,"") -> 0.72124203 | BC5: =IF($D5>0,Z5/$D5,"") -> 0.72137148 | BD5: =IF($D5>0,AA5/$D5,"") -> 0.72154621 | BE5: =IF($D5>0,AB5/$D5,"") -> 0.7217415 | BF5: =IF($D5>0,AC5/$D5,"") -> 0.72191817 | ... BK5: =IF($D5>0,AH5/$D5,"") -> 0.72335794 | BM5: =IF(AJ5<>0,AJ5,"") -> Pine Units | BN5: =IF(AK5<>0,AK5,"") -> 100 Mile House TSA | BO5: =IF(S5>0,S5/1000000,"") -> 41.529488 | BP5: =IF(S5>0,$AX5,"") -> 0.72102369 | BQ5: =IF(V5>0,V5/1000000,"") -> 41.531584 | BR5: =IF(R5>0,$AY5,"") -> 0.72106008 | BS5: =IF(AA5>0,AA5/1000000,"") -> 41.559584 | BT5: =IF(R5>0,$BD5,"") -> 0.72154621 | BU5: =IF(AF5>0,AF5/1000000,"") -> 41.627792 | BV5: =IF(R5>0,$BI5,"") -> 0.72273042 | BY5: =IF(A5<>0,A5,"") -> Pine Units | BZ5: =IF(B5<>0,B5,"") -> 100 Mile House TSA | CA5: =IF($C5>0,G5/$C5,"") -> 0.0020843861 | CB5: =IF($C5>0,H5/$C5,"") -> 0.0033109388 | CC5: =IF($C5>0,I5/$C5,"") -> 0.0052859406 | CD5: =IF($C5>0,J5/$C5,"") -> 0.0080834253 | CE5: =IF($C5>0,K5/$C5,"") -> 0.016687549 | CF5: =IF($C5>0,L5/$C5,"") -> 0.050588125 | CG5: =IF($C5>0,M5/$C5,"") -> 0.12919514 | CH5: =IF($C5>0,N5/$C5,"") -> 0.29032658 | ... CM5: =IF($C5>0,S5/$C5,"") -> 0.37604907 | CN5: =IF($C5>0,V5/$C5,"") -> 0.37606805 | CO5: =IF($C5>0,W5/$C5,"") -> 0.37609095 | CP5: =IF($C5>0,X5/$C5,"") -> 0.37612296 | CQ5: =IF($C5>0,Y5/$C5,"") -> 0.37616295 | CR5: =IF($C5>0,Z5/$C5,"") -> 0.37623046 | CS5: =IF($C5>0,AA5/$C5,"") -> 0.37632159 | CT5: =IF($C5>0,AB5/$C5,"") -> 0.37642344 | CU5: =IF($C5>0,AC5/$C5,"") -> 0.37651559 | ... CZ5: =IF($C5>0,AH5/$C5,"") -> 0.3772665
B6: Arrow TSA | C6: 50683296 | D6: 7895984 | F6: Arrow TSA | G6: 57520 | H6: 113136 | I6: 146160 | J6: 208528 | K6: 348304 | L6: 739760 | M6: 1242720 | N6: 1796896 | O6: 1984912 | P6: 2209344 | Q6: 2335680 | R6: 2393840 | S6: 2409760 | U6: Arrow TSA | V6: 2444304 | W6: 2489856 | X6: 2558416 | Y6: 2644144 | Z6: 2756608 | AA6: 2872176 | AB6: 2992608 | AC6: 3098960 | AD6: 3209696 | AE6: 3312464 | AF6: 3408896 | AG6: 3500496 | AH6: 3603984 | AJ6: =IF(A6<>0,A6,"") | AK6: =IF(B6<>0,B6,"") -> Arrow TSA | AL6: =IF($D6>0,G6/$D6,"") -> 0.0072847159 | AM6: =IF($D6>0,H6/$D6,"") -> 0.014328297 | AN6: =IF($D6>0,I6/$D6,"") -> 0.018510676 | AO6: =IF($D6>0,J6/$D6,"") -> 0.026409375 | AP6: =IF($D6>0,K6/$D6,"") -> 0.044111538 | AQ6: =IF($D6>0,L6/$D6,"") -> 0.093688133 | AR6: =IF($D6>0,M6/$D6,"") -> 0.15738634 | AS6: =IF($D6>0,N6/$D6,"") -> 0.22757088 | ... AX6: =IF($D6>0,S6/$D6,"") -> 0.30518806 | AY6: =IF($D6>0,V6/$D6,"") -> 0.30956294 | AZ6: =IF($D6>0,W6/$D6,"") -> 0.31533195 | BA6: =IF($D6>0,X6/$D6,"") -> 0.32401484 | BB6: =IF($D6>0,Y6/$D6,"") -> 0.33487201 | BC6: =IF($D6>0,Z6/$D6,"") -> 0.3491152 | BD6: =IF($D6>0,AA6/$D6,"") -> 0.3637515 | BE6: =IF($D6>0,AB6/$D6,"") -> 0.37900381 | BF6: =IF($D6>0,AC6/$D6,"") -> 0.39247293 | ... BK6: =IF($D6>0,AH6/$D6,"") -> 0.45643254 | BM6: =IF(AJ6<>0,AJ6,"") | BN6: =IF(AK6<>0,AK6,"") -> Arrow TSA | BO6: =IF(S6>0,S6/1000000,"") -> 2.40976 | BP6: =IF(S6>0,$AX6,"") -> 0.30518806 | BQ6: =IF(V6>0,V6/1000000,"") -> 2.444304 | BR6: =IF(R6>0,$AY6,"") -> 0.30956294 | BS6: =IF(AA6>0,AA6/1000000,"") -> 2.872176 | BT6: =IF(R6>0,$BD6,"") -> 0.3637515 | BU6: =IF(AF6>0,AF6/1000000,"") -> 3.408896 | BV6: =IF(R6>0,$BI6,"") -> 0.43172529 | BY6: =IF(A6<>0,A6,"") | BZ6: =IF(B6<>0,B6,"") -> Arrow TSA | CA6: =IF($C6>0,G6/$C6,"") -> 0.0011348907 | CB6: =IF($C6>0,H6/$C6,"") -> 0.0022322147 | CC6: =IF($C6>0,I6/$C6,"") -> 0.0028837904 | CD6: =IF($C6>0,J6/$C6,"") -> 0.0041143338 | CE6: =IF($C6>0,K6/$C6,"") -> 0.0068721655 | CF6: =IF($C6>0,L6/$C6,"") -> 0.014595736 | CG6: =IF($C6>0,M6/$C6,"") -> 0.024519321 | CH6: =IF($C6>0,N6/$C6,"") -> 0.035453416 | ... CM6: =IF($C6>0,S6/$C6,"") -> 0.047545448 | CN6: =IF($C6>0,V6/$C6,"") -> 0.048227013 | CO6: =IF($C6>0,W6/$C6,"") -> 0.049125771 | CP6: =IF($C6>0,X6/$C6,"") -> 0.050478485 | CQ6: =IF($C6>0,Y6/$C6,"") -> 0.05216993 | CR6: =IF($C6>0,Z6/$C6,"") -> 0.054388886 | CS6: =IF($C6>0,AA6/$C6,"") -> 0.056669085 | CT6: =IF($C6>0,AB6/$C6,"") -> 0.059045252 | CU6: =IF($C6>0,AC6/$C6,"") -> 0.061143616 | ... CZ6: =IF($C6>0,AH6/$C6,"") -> 0.071107925
B7: Boundary TSA | C7: 43424592 | D7: 15011120 | F7: Boundary TSA | G7: 8000 | H7: 14256 | I7: 20016 | J7: 24704 | K7: 37072 | L7: 99232 | M7: 211136 | N7: 394208 | O7: 487392 | P7: 584592 | Q7: 684288 | R7: 755040 | S7: 825664 | U7: Boundary TSA | V7: 920688 | W7: 1029136 | X7: 1159664 | Y7: 1326464 | Z7: 1519312 | AA7: 1753776 | AB7: 2021712 | AC7: 2361936 | AD7: 2756064 | AE7: 3195472 | AF7: 3620736 | AG7: 4048592 | AH7: 4438736 | AJ7: =IF(A7<>0,A7,"") | AK7: =IF(B7<>0,B7,"") -> Boundary TSA | AL7: =IF($D7>0,G7/$D7,"") -> 0.00053293825 | AM7: =IF($D7>0,H7/$D7,"") -> 0.00094969596 | AN7: =IF($D7>0,I7/$D7,"") -> 0.0013334115 | AO7: =IF($D7>0,J7/$D7,"") -> 0.0016457133 | AP7: =IF($D7>0,K7/$D7,"") -> 0.0024696358 | AQ7: =IF($D7>0,L7/$D7,"") -> 0.006610566 | AR7: =IF($D7>0,M7/$D7,"") -> 0.014065306 | AS7: =IF($D7>0,N7/$D7,"") -> 0.026261065 | ... AX7: =IF($D7>0,S7/$D7,"") -> 0.055003491 | AY7: =IF($D7>0,V7/$D7,"") -> 0.061333731 | AZ7: =IF($D7>0,W7/$D7,"") -> 0.068558242 | BA7: =IF($D7>0,X7/$D7,"") -> 0.077253663 | BB7: =IF($D7>0,Y7/$D7,"") -> 0.088365425 | BC7: =IF($D7>0,Z7/$D7,"") -> 0.10121243 | BD7: =IF($D7>0,AA7/$D7,"") -> 0.11683179 | BE7: =IF($D7>0,AB7/$D7,"") -> 0.13468096 | BF7: =IF($D7>0,AC7/$D7,"") -> 0.15734575 | ... BK7: =IF($D7>0,AH7/$D7,"") -> 0.29569652 | BM7: =IF(AJ7<>0,AJ7,"") | BN7: =IF(AK7<>0,AK7,"") -> Boundary TSA | BO7: =IF(S7>0,S7/1000000,"") -> 0.825664 | BP7: =IF(S7>0,$AX7,"") -> 0.055003491 | BQ7: =IF(V7>0,V7/1000000,"") -> 0.920688 | BR7: =IF(R7>0,$AY7,"") -> 0.061333731 | BS7: =IF(AA7>0,AA7/1000000,"") -> 1.753776 | BT7: =IF(R7>0,$BD7,"") -> 0.11683179 | BU7: =IF(AF7>0,AF7/1000000,"") -> 3.620736 | BV7: =IF(R7>0,$BI7,"") -> 0.24120359 | BY7: =IF(A7<>0,A7,"") | BZ7: =IF(B7<>0,B7,"") -> Boundary TSA | CA7: =IF($C7>0,G7/$C7,"") -> 0.00018422741 | CB7: =IF($C7>0,H7/$C7,"") -> 0.00032829324 | CC7: =IF($C7>0,I7/$C7,"") -> 0.00046093697 | CD7: =IF($C7>0,J7/$C7,"") -> 0.00056889423 | CE7: =IF($C7>0,K7/$C7,"") -> 0.00085370981 | CF7: =IF($C7>0,L7/$C7,"") -> 0.0022851568 | CG7: =IF($C7>0,M7/$C7,"") -> 0.0048621297 | CH7: =IF($C7>0,N7/$C7,"") -> 0.0090779897 | ... CM7: =IF($C7>0,S7/$C7,"") -> 0.019013742 | CN7: =IF($C7>0,V7/$C7,"") -> 0.021201995 | CO7: =IF($C7>0,W7/$C7,"") -> 0.023699382 | CP7: =IF($C7>0,X7/$C7,"") -> 0.026705237 | CQ7: =IF($C7>0,Y7/$C7,"") -> 0.030546378 | CR7: =IF($C7>0,Z7/$C7,"") -> 0.034987364 | CS7: =IF($C7>0,AA7/$C7,"") -> 0.040386701 | CT7: =IF($C7>0,AB7/$C7,"") -> 0.046556845 | CU7: =IF($C7>0,AC7/$C7,"") -> 0.054391668 | ... CZ7: =IF($C7>0,AH7/$C7,"") -> 0.1022171
B8: Bulkley TSA | C8: 69628000 | D8: 13183136 | F8: Bulkley TSA | G8: 74656 | H8: 133968 | I8: 181136 | J8: 202944 | K8: 239424 | L8: 287392 | M8: 387856 | N8: 451984 | O8: 696176 | P8: 1260144 | Q8: 1810736 | R8: 2770384 | S8: 3925632 | U8: Bulkley TSA | V8: 5340144 | W8: 6474496 | X8: 7256048 | Y8: 7640224 | Z8: 7874864 | AA8: 8043568 | AB8: 8160032 | AC8: 8253520 | AD8: 8313632 | AE8: 8348720 | AF8: 8371984 | AG8: 8388448 | AH8: 8399888 | AJ8: =IF(A8<>0,A8,"") | AK8: =IF(B8<>0,B8,"") -> Bulkley TSA | AL8: =IF($D8>0,G8/$D8,"") -> 0.0056629925 | AM8: =IF($D8>0,H8/$D8,"") -> 0.010162074 | AN8: =IF($D8>0,I8/$D8,"") -> 0.013739978 | AO8: =IF($D8>0,J8/$D8,"") -> 0.015394213 | AP8: =IF($D8>0,K8/$D8,"") -> 0.018161384 | AQ8: =IF($D8>0,L8/$D8,"") -> 0.021799972 | AR8: =IF($D8>0,M8/$D8,"") -> 0.029420617 | AS8: =IF($D8>0,N8/$D8,"") -> 0.034285014 | ... AX8: =IF($D8>0,S8/$D8,"") -> 0.2977768 | AY8: =IF($D8>0,V8/$D8,"") -> 0.40507388 | AZ8: =IF($D8>0,W8/$D8,"") -> 0.49111956 | BA8: =IF($D8>0,X8/$D8,"") -> 0.55040379 | BB8: =IF($D8>0,Y8/$D8,"") -> 0.57954526 | BC8: =IF($D8>0,Z8/$D8,"") -> 0.59734376 | BD8: =IF($D8>0,AA8/$D8,"") -> 0.61014071 | BE8: =IF($D8>0,AB8/$D8,"") -> 0.61897503 | BF8: =IF($D8>0,AC8/$D8,"") -> 0.62606651 | ... BK8: =IF($D8>0,AH8/$D8,"") -> 0.63716918 | BM8: =IF(AJ8<>0,AJ8,"") | BN8: =IF(AK8<>0,AK8,"") -> Bulkley TSA | BO8: =IF(S8>0,S8/1000000,"") -> 3.925632 | BP8: =IF(S8>0,$AX8,"") -> 0.2977768 | BQ8: =IF(V8>0,V8/1000000,"") -> 5.340144 | BR8: =IF(R8>0,$AY8,"") -> 0.40507388 | BS8: =IF(AA8>0,AA8/1000000,"") -> 8.043568 | BT8: =IF(R8>0,$BD8,"") -> 0.61014071 | BU8: =IF(AF8>0,AF8/1000000,"") -> 8.371984 | BV8: =IF(R8>0,$BI8,"") -> 0.63505254 | BY8: =IF(A8<>0,A8,"") | BZ8: =IF(B8<>0,B8,"") -> Bulkley TSA | CA8: =IF($C8>0,G8/$C8,"") -> 0.0010722123 | CB8: =IF($C8>0,H8/$C8,"") -> 0.0019240535 | CC8: =IF($C8>0,I8/$C8,"") -> 0.0026014822 | CD8: =IF($C8>0,J8/$C8,"") -> 0.0029146895 | CE8: =IF($C8>0,K8/$C8,"") -> 0.0034386166 | CF8: =IF($C8>0,L8/$C8,"") -> 0.0041275349 | CG8: =IF($C8>0,M8/$C8,"") -> 0.0055704027 | CH8: =IF($C8>0,N8/$C8,"") -> 0.0064914115 | ... CM8: =IF($C8>0,S8/$C8,"") -> 0.056380077 | CN8: =IF($C8>0,V8/$C8,"") -> 0.076695352 | CO8: =IF($C8>0,W8/$C8,"") -> 0.092986959 | CP8: =IF($C8>0,X8/$C8,"") -> 0.10421164 | CQ8: =IF($C8>0,Y8/$C8,"") -> 0.10972919 | CR8: =IF($C8>0,Z8/$C8,"") -> 0.1130991 | CS8: =IF($C8>0,AA8/$C8,"") -> 0.11552203 | CT8: =IF($C8>0,AB8/$C8,"") -> 0.11719469 | CU8: =IF($C8>0,AC8/$C8,"") -> 0.11853737 | ... CZ8: =IF($C8>0,AH8/$C8,"") -> 0.12063951
B9: Cranbrook TSA | C9: 65829904 | D9: 30875856 | F9: Cranbrook TSA | G9: 123152 | H9: 196944 | I9: 253120 | J9: 367328 | K9: 535600 | L9: 872976 | M9: 1433856 | N9: 1938960 | O9: 2208000 | P9: 2798960 | Q9: 3141184 | R9: 3481376 | S9: 3608080 | U9: Cranbrook TSA | V9: 3750032 | W9: 3939632 | X9: 4176608 | Y9: 4473456 | Z9: 4799920 | AA9: 5150624 | AB9: 5540416 | AC9: 5974672 | AD9: 6425712 | AE9: 6864800 | AF9: 7318640 | AG9: 7769552 | AH9: 8182848 | AJ9: =IF(A9<>0,A9,"") | AK9: =IF(B9<>0,B9,"") -> Cranbrook TSA | AL9: =IF($D9>0,G9/$D9,"") -> 0.0039886182 | AM9: =IF($D9>0,H9/$D9,"") -> 0.0063785762 | AN9: =IF($D9>0,I9/$D9,"") -> 0.0081979913 | AO9: =IF($D9>0,J9/$D9,"") -> 0.011896933 | AP9: =IF($D9>0,K9/$D9,"") -> 0.017346887 | AQ9: =IF($D9>0,L9/$D9,"") -> 0.028273742 | AR9: =IF($D9>0,M9/$D9,"") -> 0.046439393 | AS9: =IF($D9>0,N9/$D9,"") -> 0.062798583 | ... AX9: =IF($D9>0,S9/$D9,"") -> 0.11685765 | AY9: =IF($D9>0,V9/$D9,"") -> 0.12145516 | AZ9: =IF($D9>0,W9/$D9,"") -> 0.12759588 | BA9: =IF($D9>0,X9/$D9,"") -> 0.135271 | BB9: =IF($D9>0,Y9/$D9,"") -> 0.14488525 | BC9: =IF($D9>0,Z9/$D9,"") -> 0.15545869 | BD9: =IF($D9>0,AA9/$D9,"") -> 0.16681721 | BE9: =IF($D9>0,AB9/$D9,"") -> 0.1794417 | BF9: =IF($D9>0,AC9/$D9,"") -> 0.19350628 | ... BK9: =IF($D9>0,AH9/$D9,"") -> 0.26502417 | BM9: =IF(AJ9<>0,AJ9,"") | BN9: =IF(AK9<>0,AK9,"") -> Cranbrook TSA | BO9: =IF(S9>0,S9/1000000,"") -> 3.60808 | BP9: =IF(S9>0,$AX9,"") -> 0.11685765 | BQ9: =IF(V9>0,V9/1000000,"") -> 3.750032 | BR9: =IF(R9>0,$AY9,"") -> 0.12145516 | BS9: =IF(AA9>0,AA9/1000000,"") -> 5.150624 | BT9: =IF(R9>0,$BD9,"") -> 0.16681721 | BU9: =IF(AF9>0,AF9/1000000,"") -> 7.31864 | BV9: =IF(R9>0,$BI9,"") -> 0.2370344 | BY9: =IF(A9<>0,A9,"") | BZ9: =IF(B9<>0,B9,"") -> Cranbrook TSA | CA9: =IF($C9>0,G9/$C9,"") -> 0.0018707607 | CB9: =IF($C9>0,H9/$C9,"") -> 0.0029917103 | CC9: =IF($C9>0,I9/$C9,"") -> 0.0038450611 | CD9: =IF($C9>0,J9/$C9,"") -> 0.0055799565 | CE9: =IF($C9>0,K9/$C9,"") -> 0.00813612 | CF9: =IF($C9>0,L9/$C9,"") -> 0.013261086 | CG9: =IF($C9>0,M9/$C9,"") -> 0.021781226 | CH9: =IF($C9>0,N9/$C9,"") -> 0.029454091 | ... CM9: =IF($C9>0,S9/$C9,"") -> 0.054809134 | CN9: =IF($C9>0,V9/$C9,"") -> 0.056965479 | CO9: =IF($C9>0,W9/$C9,"") -> 0.059845629 | CP9: =IF($C9>0,X9/$C9,"") -> 0.063445452 | CQ9: =IF($C9>0,Y9/$C9,"") -> 0.06795477 | CR9: =IF($C9>0,Z9/$C9,"") -> 0.072913975 | CS9: =IF($C9>0,AA9/$C9,"") -> 0.078241402 | CT9: =IF($C9>0,AB9/$C9,"") -> 0.084162602 | CU9: =IF($C9>0,AC9/$C9,"") -> 0.090759239 | ... CZ9: =IF($C9>0,AH9/$C9,"") -> 0.1243029
B10: Dawson Creek TSA | C10: 107675632 | D10: 30889120 | F10: Dawson Creek TSA | G10: 0 | H10: 1600 | I10: 5264 | J10: 5408 | K10: 5408 | L10: 28112 | M10: 60240 | N10: 174656 | O10: 2865200 | P10: 6147120 | Q10: 8009312 | R10: 11206064 | S10: 12264368 | U10: Dawson Creek TSA | V10: 13472208 | W10: 14477520 | X10: 15274096 | Y10: 15919984 | Z10: 16420144 | AA10: 16781856 | AB10: 17077280 | AC10: 17308048 | AD10: 17488736 | AE10: 17622528 | AF10: 17727648 | AG10: 17806496 | AH10: 17855072 | AJ10: =IF(A10<>0,A10,"") | AK10: =IF(B10<>0,B10,"") -> Dawson Creek TSA | AL10: =IF($D10>0,G10/$D10,"") -> 0 | AM10: =IF($D10>0,H10/$D10,"") -> 5.1798174e-05 | AN10: =IF($D10>0,I10/$D10,"") -> 0.00017041599 | AO10: =IF($D10>0,J10/$D10,"") -> 0.00017507783 | AP10: =IF($D10>0,K10/$D10,"") -> 0.00017507783 | AQ10: =IF($D10>0,L10/$D10,"") -> 0.00091009391 | AR10: =IF($D10>0,M10/$D10,"") -> 0.0019502012 | AS10: =IF($D10>0,N10/$D10,"") -> 0.0056542886 | ... AX10: =IF($D10>0,S10/$D10,"") -> 0.39704491 | AY10: =IF($D10>0,V10/$D10,"") -> 0.43614736 | AZ10: =IF($D10>0,W10/$D10,"") -> 0.46869318 | BA10: =IF($D10>0,X10/$D10,"") -> 0.49448142 | BB10: =IF($D10>0,Y10/$D10,"") -> 0.51539131 | BC10: =IF($D10>0,Z10/$D10,"") -> 0.53158342 | BD10: =IF($D10>0,AA10/$D10,"") -> 0.54329343 | BE10: =IF($D10>0,AB10/$D10,"") -> 0.55285745 | BF10: =IF($D10>0,AC10/$D10,"") -> 0.5603283 | ... BK10: =IF($D10>0,AH10/$D10,"") -> 0.57803757 | BM10: =IF(AJ10<>0,AJ10,"") | BN10: =IF(AK10<>0,AK10,"") -> Dawson Creek TSA | BO10: =IF(S10>0,S10/1000000,"") -> 12.264368 | BP10: =IF(S10>0,$AX10,"") -> 0.39704491 | BQ10: =IF(V10>0,V10/1000000,"") -> 13.472208 | BR10: =IF(R10>0,$AY10,"") -> 0.43614736 | BS10: =IF(AA10>0,AA10/1000000,"") -> 16.781856 | BT10: =IF(R10>0,$BD10,"") -> 0.54329343 | BU10: =IF(AF10>0,AF10/1000000,"") -> 17.727648 | BV10: =IF(R10>0,$BI10,"") -> 0.57391237 | BY10: =IF(A10<>0,A10,"") | BZ10: =IF(B10<>0,B10,"") -> Dawson Creek TSA | CA10: =IF($C10>0,G10/$C10,"") -> 0 | CB10: =IF($C10>0,H10/$C10,"") -> 1.4859444e-05 | CC10: =IF($C10>0,I10/$C10,"") -> 4.888757e-05 | CD10: =IF($C10>0,J10/$C10,"") -> 5.022492e-05 | CE10: =IF($C10>0,K10/$C10,"") -> 5.022492e-05 | CF10: =IF($C10>0,L10/$C10,"") -> 0.00026108043 | CG10: =IF($C10>0,M10/$C10,"") -> 0.00055945806 | CH10: =IF($C10>0,N10/$C10,"") -> 0.0016220569 | ... CM10: =IF($C10>0,S10/$C10,"") -> 0.11390105 | CN10: =IF($C10>0,V10/$C10,"") -> 0.12511845 | CO10: =IF($C10>0,W10/$C10,"") -> 0.13445493 | CP10: =IF($C10>0,X10/$C10,"") -> 0.14185286 | CQ10: =IF($C10>0,Y10/$C10,"") -> 0.14785132 | CR10: =IF($C10>0,Z10/$C10,"") -> 0.15249638 | CS10: =IF($C10>0,AA10/$C10,"") -> 0.15585565 | CT10: =IF($C10>0,AB10/$C10,"") -> 0.1585993 | CU10: =IF($C10>0,AC10/$C10,"") -> 0.16074248 | ... CZ10: =IF($C10>0,AH10/$C10,"") -> 0.16582277
B11: Ft. St. James Forest District | C11: 285258608 | D11: 109503152 | F11: Ft. St. James Forest District | G11: 940704 | H11: 2213200 | I11: 3401392 | J11: 4643424 | K11: 6916432 | L11: 10590400 | M11: 21362624 | N11: 30223008 | O11: 45456992 | P11: 55121888 | Q11: 61303472 | R11: 66400256 | S11: 70536800 | U11: Ft. St. James Forest District | V11: 74137344 | W11: 76318304 | X11: 77456560 | Y11: 78127392 | Z11: 78482400 | AA11: 78714896 | AB11: 78852784 | AC11: 78937088 | AD11: 78990784 | AE11: 79021728 | AF11: 79049520 | AG11: 79064112 | AH11: 79079184 | AJ11: =IF(A11<>0,A11,"") | AK11: =IF(B11<>0,B11,"") -> Ft. St. James Forest District | AL11: =IF($D11>0,G11/$D11,"") -> 0.0085906568 | AM11: =IF($D11>0,H11/$D11,"") -> 0.02021129 | AN11: =IF($D11>0,I11/$D11,"") -> 0.031062047 | AO11: =IF($D11>0,J11/$D11,"") -> 0.042404478 | AP11: =IF($D11>0,K11/$D11,"") -> 0.063161944 | AQ11: =IF($D11>0,L11/$D11,"") -> 0.096713198 | AR11: =IF($D11>0,M11/$D11,"") -> 0.19508684 | AS11: =IF($D11>0,N11/$D11,"") -> 0.27600126 | ... AX11: =IF($D11>0,S11/$D11,"") -> 0.64415315 | AY11: =IF($D11>0,V11/$D11,"") -> 0.67703388 | AZ11: =IF($D11>0,W11/$D11,"") -> 0.69695075 | BA11: =IF($D11>0,X11/$D11,"") -> 0.70734548 | BB11: =IF($D11>0,Y11/$D11,"") -> 0.71347163 | BC11: =IF($D11>0,Z11/$D11,"") -> 0.71671362 | BD11: =IF($D11>0,AA11/$D11,"") -> 0.71883681 | BE11: =IF($D11>0,AB11/$D11,"") -> 0.72009602 | BF11: =IF($D11>0,AC11/$D11,"") -> 0.7208659 | ... BK11: =IF($D11>0,AH11/$D11,"") -> 0.72216354 | BM11: =IF(AJ11<>0,AJ11,"") | BN11: =IF(AK11<>0,AK11,"") -> Ft. St. James Forest District | BO11: =IF(S11>0,S11/1000000,"") -> 70.5368 | BP11: =IF(S11>0,$AX11,"") -> 0.64415315 | BQ11: =IF(V11>0,V11/1000000,"") -> 74.137344 | BR11: =IF(R11>0,$AY11,"") -> 0.67703388 | BS11: =IF(AA11>0,AA11/1000000,"") -> 78.714896 | BT11: =IF(R11>0,$BD11,"") -> 0.71883681 | BU11: =IF(AF11>0,AF11/1000000,"") -> 79.04952 | BV11: =IF(R11>0,$BI11,"") -> 0.72189264 | BY11: =IF(A11<>0,A11,"") | BZ11: =IF(B11<>0,B11,"") -> Ft. St. James Forest District | CA11: =IF($C11>0,G11/$C11,"") -> 0.0032977234 | CB11: =IF($C11>0,H11/$C11,"") -> 0.0077585739 | CC11: =IF($C11>0,I11/$C11,"") -> 0.011923889 | CD11: =IF($C11>0,J11/$C11,"") -> 0.016277945 | CE11: =IF($C11>0,K11/$C11,"") -> 0.024246182 | CF11: =IF($C11>0,L11/$C11,"") -> 0.037125611 | CG11: =IF($C11>0,M11/$C11,"") -> 0.074888622 | CH11: =IF($C11>0,N11/$C11,"") -> 0.1059495 | ... CM11: =IF($C11>0,S11/$C11,"") -> 0.24727317 | CN11: =IF($C11>0,V11/$C11,"") -> 0.2598952 | CO11: =IF($C11>0,W11/$C11,"") -> 0.26754076 | CP11: =IF($C11>0,X11/$C11,"") -> 0.27153102 | CQ11: =IF($C11>0,Y11/$C11,"") -> 0.27388268 | CR11: =IF($C11>0,Z11/$C11,"") -> 0.27512719 | CS11: =IF($C11>0,AA11/$C11,"") -> 0.27594223 | CT11: =IF($C11>0,AB11/$C11,"") -> 0.27642561 | CU11: =IF($C11>0,AC11/$C11,"") -> 0.27672114 | ... CZ11: =IF($C11>0,AH11/$C11,"") -> 0.27721927
B12: Golden TSA | C12: 36496960 | D12: 5027152 | F12: Golden TSA | G12: 87632 | H12: 162624 | I12: 193184 | J12: 228976 | K12: 276208 | L12: 327024 | M12: 472768 | N12: 712432 | O12: 807056 | P12: 947488 | Q12: 988768 | R12: 1027408 | S12: 1044032 | U12: Golden TSA | V12: 1065152 | W12: 1091792 | X12: 1118128 | Y12: 1154864 | Z12: 1197168 | AA12: 1250112 | AB12: 1308432 | AC12: 1379680 | AD12: 1440576 | AE12: 1496240 | AF12: 1557888 | AG12: 1621856 | AH12: 1684992 | AJ12: =IF(A12<>0,A12,"") | AK12: =IF(B12<>0,B12,"") -> Golden TSA | AL12: =IF($D12>0,G12/$D12,"") -> 0.017431739 | AM12: =IF($D12>0,H12/$D12,"") -> 0.032349131 | AN12: =IF($D12>0,I12/$D12,"") -> 0.03842812 | AO12: =IF($D12>0,J12/$D12,"") -> 0.045547857 | AP12: =IF($D12>0,K12/$D12,"") -> 0.054943236 | AQ12: =IF($D12>0,L12/$D12,"") -> 0.065051544 | AR12: =IF($D12>0,M12/$D12,"") -> 0.094042909 | AS12: =IF($D12>0,N12/$D12,"") -> 0.14171682 | ... AX12: =IF($D12>0,S12/$D12,"") -> 0.20767862 | AY12: =IF($D12>0,V12/$D12,"") -> 0.21187981 | AZ12: =IF($D12>0,W12/$D12,"") -> 0.21717903 | BA12: =IF($D12>0,X12/$D12,"") -> 0.22241778 | BB12: =IF($D12>0,Y12/$D12,"") -> 0.2297253 | BC12: =IF($D12>0,Z12/$D12,"") -> 0.2381404 | BD12: =IF($D12>0,AA12/$D12,"") -> 0.24867201 | BE12: =IF($D12>0,AB12/$D12,"") -> 0.26027301 | BF12: =IF($D12>0,AC12/$D12,"") -> 0.27444565 | ... BK12: =IF($D12>0,AH12/$D12,"") -> 0.33517825 | BM12: =IF(AJ12<>0,AJ12,"") | BN12: =IF(AK12<>0,AK12,"") -> Golden TSA | BO12: =IF(S12>0,S12/1000000,"") -> 1.044032 | BP12: =IF(S12>0,$AX12,"") -> 0.20767862 | BQ12: =IF(V12>0,V12/1000000,"") -> 1.065152 | BR12: =IF(R12>0,$AY12,"") -> 0.21187981 | BS12: =IF(AA12>0,AA12/1000000,"") -> 1.250112 | BT12: =IF(R12>0,$BD12,"") -> 0.24867201 | BU12: =IF(AF12>0,AF12/1000000,"") -> 1.557888 | BV12: =IF(R12>0,$BI12,"") -> 0.30989475 | BY12: =IF(A12<>0,A12,"") | BZ12: =IF(B12<>0,B12,"") -> Golden TSA | CA12: =IF($C12>0,G12/$C12,"") -> 0.0024010767 | CB12: =IF($C12>0,H12/$C12,"") -> 0.0044558232 | CC12: =IF($C12>0,I12/$C12,"") -> 0.0052931532 | CD12: =IF($C12>0,J12/$C12,"") -> 0.0062738376 | CE12: =IF($C12>0,K12/$C12,"") -> 0.0075679728 | CF12: =IF($C12>0,L12/$C12,"") -> 0.0089603079 | CG12: =IF($C12>0,M12/$C12,"") -> 0.012953627 | CH12: =IF($C12>0,N12/$C12,"") -> 0.019520311 | ... CM12: =IF($C12>0,S12/$C12,"") -> 0.028605999 | CN12: =IF($C12>0,V12/$C12,"") -> 0.029184677 | CO12: =IF($C12>0,W12/$C12,"") -> 0.029914601 | CP12: =IF($C12>0,X12/$C12,"") -> 0.030636195 | CQ12: =IF($C12>0,Y12/$C12,"") -> 0.031642745 | CR12: =IF($C12>0,Z12/$C12,"") -> 0.032801855 | CS12: =IF($C12>0,AA12/$C12,"") -> 0.034252497 | CT12: =IF($C12>0,AB12/$C12,"") -> 0.035850438 | CU12: =IF($C12>0,AC12/$C12,"") -> 0.037802601 | ... CZ12: =IF($C12>0,AH12/$C12,"") -> 0.04616801
B13: Invermere TSA | C13: 31709760 | D13: 11740752 | F13: Invermere TSA | G13: 38592 | H13: 92768 | I13: 116448 | J13: 160048 | K13: 227744 | L13: 373696 | M13: 589936 | N13: 856880 | O13: 1077264 | P13: 1380720 | Q13: 1600912 | R13: 1821536 | S13: 1897920 | U13: Invermere TSA | V13: 1992976 | W13: 2123904 | X13: 2275744 | Y13: 2431840 | Z13: 2602880 | AA13: 2771424 | AB13: 2947968 | AC13: 3110992 | AD13: 3266048 | AE13: 3423744 | AF13: 3587056 | AG13: 3760400 | AH13: 3917936 | AJ13: =IF(A13<>0,A13,"") | AK13: =IF(B13<>0,B13,"") -> Invermere TSA | AL13: =IF($D13>0,G13/$D13,"") -> 0.0032870126 | AM13: =IF($D13>0,H13/$D13,"") -> 0.0079013678 | AN13: =IF($D13>0,I13/$D13,"") -> 0.0099182744 | AO13: =IF($D13>0,J13/$D13,"") -> 0.013631836 | AP13: =IF($D13>0,K13/$D13,"") -> 0.019397735 | AQ13: =IF($D13>0,L13/$D13,"") -> 0.031828966 | AR13: =IF($D13>0,M13/$D13,"") -> 0.050246867 | AS13: =IF($D13>0,N13/$D13,"") -> 0.0729834 | ... AX13: =IF($D13>0,S13/$D13,"") -> 0.16165234 | AY13: =IF($D13>0,V13/$D13,"") -> 0.16974858 | AZ13: =IF($D13>0,W13/$D13,"") -> 0.18090017 | BA13: =IF($D13>0,X13/$D13,"") -> 0.1938329 | BB13: =IF($D13>0,Y13/$D13,"") -> 0.20712813 | BC13: =IF($D13>0,Z13/$D13,"") -> 0.22169619 | BD13: =IF($D13>0,AA13/$D13,"") -> 0.23605166 | BE13: =IF($D13>0,AB13/$D13,"") -> 0.25108852 | BF13: =IF($D13>0,AC13/$D13,"") -> 0.26497383 | ... BK13: =IF($D13>0,AH13/$D13,"") -> 0.33370401 | BM13: =IF(AJ13<>0,AJ13,"") | BN13: =IF(AK13<>0,AK13,"") -> Invermere TSA | BO13: =IF(S13>0,S13/1000000,"") -> 1.89792 | BP13: =IF(S13>0,$AX13,"") -> 0.16165234 | BQ13: =IF(V13>0,V13/1000000,"") -> 1.992976 | BR13: =IF(R13>0,$AY13,"") -> 0.16974858 | BS13: =IF(AA13>0,AA13/1000000,"") -> 2.771424 | BT13: =IF(R13>0,$BD13,"") -> 0.23605166 | BU13: =IF(AF13>0,AF13/1000000,"") -> 3.587056 | BV13: =IF(R13>0,$BI13,"") -> 0.30552183 | BY13: =IF(A13<>0,A13,"") | BZ13: =IF(B13<>0,B13,"") -> Invermere TSA | CA13: =IF($C13>0,G13/$C13,"") -> 0.0012170385 | CB13: =IF($C13>0,H13/$C13,"") -> 0.0029255346 | CC13: =IF($C13>0,I13/$C13,"") -> 0.0036723078 | CD13: =IF($C13>0,J13/$C13,"") -> 0.0050472788 | CE13: =IF($C13>0,K13/$C13,"") -> 0.007182142 | CF13: =IF($C13>0,L13/$C13,"") -> 0.011784889 | CG13: =IF($C13>0,M13/$C13,"") -> 0.01860424 | CH13: =IF($C13>0,N13/$C13,"") -> 0.027022595 | ... CM13: =IF($C13>0,S13/$C13,"") -> 0.059852865 | CN13: =IF($C13>0,V13/$C13,"") -> 0.062850555 | CO13: =IF($C13>0,W13/$C13,"") -> 0.066979504 | CP13: =IF($C13>0,X13/$C13,"") -> 0.071767935 | CQ13: =IF($C13>0,Y13/$C13,"") -> 0.076690584 | CR13: =IF($C13>0,Z13/$C13,"") -> 0.082084506 | CS13: =IF($C13>0,AA13/$C13,"") -> 0.087399715 | CT13: =IF($C13>0,AB13/$C13,"") -> 0.092967213 | CU13: =IF($C13>0,AC13/$C13,"") -> 0.098108343 | ... CZ13: =IF($C13>0,AH13/$C13,"") -> 0.12355615
B14: Kamloops TSA | C14: 208026928 | D14: 58842848 | F14: Kamloops TSA | G14: 206976 | H14: 323024 | I14: 595072 | J14: 1067008 | K14: 1900688 | L14: 4613888 | M14: 10821392 | N14: 19626416 | O14: 26379808 | P14: 28381616 | Q14: 28774928 | R14: 28842960 | S14: 28848400 | U14: Kamloops TSA | V14: 28866192 | W14: 28890976 | X14: 28935760 | Y14: 28988736 | Z14: 29048096 | AA14: 29124688 | AB14: 29217344 | AC14: 29327072 | AD14: 29457664 | AE14: 29625760 | AF14: 29797040 | AG14: 29973408 | AH14: 30133744 | AJ14: =IF(A14<>0,A14,"") | AK14: =IF(B14<>0,B14,"") -> Kamloops TSA | AL14: =IF($D14>0,G14/$D14,"") -> 0.0035174368 | AM14: =IF($D14>0,H14/$D14,"") -> 0.0054896051 | AN14: =IF($D14>0,I14/$D14,"") -> 0.010112903 | AO14: =IF($D14>0,J14/$D14,"") -> 0.018133181 | AP14: =IF($D14>0,K14/$D14,"") -> 0.032301088 | AQ14: =IF($D14>0,L14/$D14,"") -> 0.078410345 | AR14: =IF($D14>0,M14/$D14,"") -> 0.18390327 | AS14: =IF($D14>0,N14/$D14,"") -> 0.33353953 | ... AX14: =IF($D14>0,S14/$D14,"") -> 0.49026179 | AY14: =IF($D14>0,V14/$D14,"") -> 0.49056415 | AZ14: =IF($D14>0,W14/$D14,"") -> 0.49098534 | BA14: =IF($D14>0,X14/$D14,"") -> 0.49174642 | BB14: =IF($D14>0,Y14/$D14,"") -> 0.49264672 | BC14: =IF($D14>0,Z14/$D14,"") -> 0.49365551 | BD14: =IF($D14>0,AA14/$D14,"") -> 0.49495714 | BE14: =IF($D14>0,AB14/$D14,"") -> 0.49653178 | BF14: =IF($D14>0,AC14/$D14,"") -> 0.49839654 | ... BK14: =IF($D14>0,AH14/$D14,"") -> 0.51210546 | BM14: =IF(AJ14<>0,AJ14,"") | BN14: =IF(AK14<>0,AK14,"") -> Kamloops TSA | BO14: =IF(S14>0,S14/1000000,"") -> 28.8484 | BP14: =IF(S14>0,$AX14,"") -> 0.49026179 | BQ14: =IF(V14>0,V14/1000000,"") -> 28.866192 | BR14: =IF(R14>0,$AY14,"") -> 0.49056415 | BS14: =IF(AA14>0,AA14/1000000,"") -> 29.124688 | BT14: =IF(R14>0,$BD14,"") -> 0.49495714 | BU14: =IF(AF14>0,AF14/1000000,"") -> 29.79704 | BV14: =IF(R14>0,$BI14,"") -> 0.50638338 | BY14: =IF(A14<>0,A14,"") | BZ14: =IF(B14<>0,B14,"") -> Kamloops TSA | CA14: =IF($C14>0,G14/$C14,"") -> 0.00099494812 | CB14: =IF($C14>0,H14/$C14,"") -> 0.001552799 | CC14: =IF($C14>0,I14/$C14,"") -> 0.0028605527 | CD14: =IF($C14>0,J14/$C14,"") -> 0.0051291821 | CE14: =IF($C14>0,K14/$C14,"") -> 0.0091367402 | CF14: =IF($C14>0,L14/$C14,"") -> 0.022179282 | CG14: =IF($C14>0,M14/$C14,"") -> 0.052019189 | CH14: =IF($C14>0,N14/$C14,"") -> 0.094345555 | ... CM14: =IF($C14>0,S14/$C14,"") -> 0.13867628 | CN14: =IF($C14>0,V14/$C14,"") -> 0.1387618 | CO14: =IF($C14>0,W14/$C14,"") -> 0.13888094 | CP14: =IF($C14>0,X14/$C14,"") -> 0.13909622 | CQ14: =IF($C14>0,Y14/$C14,"") -> 0.13935088 | CR14: =IF($C14>0,Z14/$C14,"") -> 0.13963623 | CS14: =IF($C14>0,AA14/$C14,"") -> 0.14000441 | CT14: =IF($C14>0,AB14/$C14,"") -> 0.14044982 | CU14: =IF($C14>0,AC14/$C14,"") -> 0.14097729 | ... CZ14: =IF($C14>0,AH14/$C14,"") -> 0.14485502
B15: Kootenay Lake TSA | C15: 58975120 | D15: 12981616 | F15: Kootenay Lake TSA | G15: 10240 | H15: 24960 | I15: 61136 | J15: 112320 | K15: 189584 | L15: 351888 | M15: 653008 | N15: 1116000 | O15: 1402384 | P15: 1878016 | Q15: 2125216 | R15: 2285216 | S15: 2332176 | U15: Kootenay Lake TSA | V15: 2400048 | W15: 2473440 | X15: 2559120 | Y15: 2653888 | Z15: 2761680 | AA15: 2886240 | AB15: 3019392 | AC15: 3153584 | AD15: 3318272 | AE15: 3462432 | AF15: 3606080 | AG15: 3765920 | AH15: 3915424 | AJ15: =IF(A15<>0,A15,"") | AK15: =IF(B15<>0,B15,"") -> Kootenay Lake TSA | AL15: =IF($D15>0,G15/$D15,"") -> 0.0007888078 | AM15: =IF($D15>0,H15/$D15,"") -> 0.001922719 | AN15: =IF($D15>0,I15/$D15,"") -> 0.0047094291 | AO15: =IF($D15>0,J15/$D15,"") -> 0.0086522356 | AP15: =IF($D15>0,K15/$D15,"") -> 0.014604037 | AQ15: =IF($D15>0,L15/$D15,"") -> 0.027106641 | AR15: =IF($D15>0,M15/$D15,"") -> 0.05030252 | AS15: =IF($D15>0,N15/$D15,"") -> 0.085967725 | ... AX15: =IF($D15>0,S15/$D15,"") -> 0.17965221 | AY15: =IF($D15>0,V15/$D15,"") -> 0.18488053 | AZ15: =IF($D15>0,W15/$D15,"") -> 0.19053406 | BA15: =IF($D15>0,X15/$D15,"") -> 0.19713416 | BB15: =IF($D15>0,Y15/$D15,"") -> 0.20443433 | BC15: =IF($D15>0,Z15/$D15,"") -> 0.21273777 | BD15: =IF($D15>0,AA15/$D15,"") -> 0.22233287 | BE15: =IF($D15>0,AB15/$D15,"") -> 0.23258984 | BF15: =IF($D15>0,AC15/$D15,"") -> 0.24292692 | ... BK15: =IF($D15>0,AH15/$D15,"") -> 0.30161299 | BM15: =IF(AJ15<>0,AJ15,"") | BN15: =IF(AK15<>0,AK15,"") -> Kootenay Lake TSA | BO15: =IF(S15>0,S15/1000000,"") -> 2.332176 | BP15: =IF(S15>0,$AX15,"") -> 0.17965221 | BQ15: =IF(V15>0,V15/1000000,"") -> 2.400048 | BR15: =IF(R15>0,$AY15,"") -> 0.18488053 | BS15: =IF(AA15>0,AA15/1000000,"") -> 2.88624 | BT15: =IF(R15>0,$BD15,"") -> 0.22233287 | BU15: =IF(AF15>0,AF15/1000000,"") -> 3.60608 | BV15: =IF(R15>0,$BI15,"") -> 0.2777836 | BY15: =IF(A15<>0,A15,"") | BZ15: =IF(B15<>0,B15,"") -> Kootenay Lake TSA | CA15: =IF($C15>0,G15/$C15,"") -> 0.00017363254 | CB15: =IF($C15>0,H15/$C15,"") -> 0.00042322932 | CC15: =IF($C15>0,I15/$C15,"") -> 0.0010366405 | CD15: =IF($C15>0,J15/$C15,"") -> 0.0019045319 | CE15: =IF($C15>0,K15/$C15,"") -> 0.0032146437 | CF15: =IF($C15>0,L15/$C15,"") -> 0.0059667195 | CG15: =IF($C15>0,M15/$C15,"") -> 0.011072601 | CH15: =IF($C15>0,N15/$C15,"") -> 0.018923234 | ... CM15: =IF($C15>0,S15/$C15,"") -> 0.039545083 | CN15: =IF($C15>0,V15/$C15,"") -> 0.040695941 | CO15: =IF($C15>0,W15/$C15,"") -> 0.041940398 | CP15: =IF($C15>0,X15/$C15,"") -> 0.043393214 | CQ15: =IF($C15>0,Y15/$C15,"") -> 0.045000129 | CR15: =IF($C15>0,Z15/$C15,"") -> 0.046827883 | CS15: =IF($C15>0,AA15/$C15,"") -> 0.04893996 | CT15: =IF($C15>0,AB15/$C15,"") -> 0.051197725 | CU15: =IF($C15>0,AC15/$C15,"") -> 0.053473126 | ... CZ15: =IF($C15>0,AH15/$C15,"") -> 0.066391115
B16: Lakes TSA | C16: 110554240 | D16: 71046736 | F16: Lakes TSA | G16: 83440 | H16: 475168 | I16: 2967136 | J16: 8834576 | K16: 14947744 | L16: 19274880 | M16: 34266384 | N16: 44022448 | O16: 50450432 | P16: 53178032 | Q16: 53815040 | R16: 53938832 | S16: 53979984 | U16: Lakes TSA | V16: 54005984 | W16: 54029136 | X16: 54054160 | Y16: 54077600 | Z16: 54093984 | AA16: 54110704 | AB16: 54120864 | AC16: 54128976 | AD16: 54135104 | AE16: 54140096 | AF16: 54146464 | AG16: 54151296 | AH16: 54154928 | AJ16: =IF(A16<>0,A16,"") | AK16: =IF(B16<>0,B16,"") -> Lakes TSA | AL16: =IF($D16>0,G16/$D16,"") -> 0.0011744382 | AM16: =IF($D16>0,H16/$D16,"") -> 0.0066881046 | AN16: =IF($D16>0,I16/$D16,"") -> 0.041763157 | AO16: =IF($D16>0,J16/$D16,"") -> 0.12434879 | AP16: =IF($D16>0,K16/$D16,"") -> 0.21039311 | AQ16: =IF($D16>0,L16/$D16,"") -> 0.2712986 | AR16: =IF($D16>0,M16/$D16,"") -> 0.48230765 | AS16: =IF($D16>0,N16/$D16,"") -> 0.61962661 | ... AX16: =IF($D16>0,S16/$D16,"") -> 0.75978134 | AY16: =IF($D16>0,V16/$D16,"") -> 0.76014729 | AZ16: =IF($D16>0,W16/$D16,"") -> 0.76047316 | BA16: =IF($D16>0,X16/$D16,"") -> 0.76082538 | BB16: =IF($D16>0,Y16/$D16,"") -> 0.7611553 | BC16: =IF($D16>0,Z16/$D16,"") -> 0.76138591 | BD16: =IF($D16>0,AA16/$D16,"") -> 0.76162125 | BE16: =IF($D16>0,AB16/$D16,"") -> 0.76176426 | BF16: =IF($D16>0,AC16/$D16,"") -> 0.76187843 | ... BK16: =IF($D16>0,AH16/$D16,"") -> 0.76224372 | BM16: =IF(AJ16<>0,AJ16,"") | BN16: =IF(AK16<>0,AK16,"") -> Lakes TSA | BO16: =IF(S16>0,S16/1000000,"") -> 53.979984 | BP16: =IF(S16>0,$AX16,"") -> 0.75978134 | BQ16: =IF(V16>0,V16/1000000,"") -> 54.005984 | BR16: =IF(R16>0,$AY16,"") -> 0.76014729 | BS16: =IF(AA16>0,AA16/1000000,"") -> 54.110704 | BT16: =IF(R16>0,$BD16,"") -> 0.76162125 | BU16: =IF(AF16>0,AF16/1000000,"") -> 54.146464 | BV16: =IF(R16>0,$BI16,"") -> 0.76212458 | BY16: =IF(A16<>0,A16,"") | BZ16: =IF(B16<>0,B16,"") -> Lakes TSA | CA16: =IF($C16>0,G16/$C16,"") -> 0.00075474265 | CB16: =IF($C16>0,H16/$C16,"") -> 0.0042980532 | CC16: =IF($C16>0,I16/$C16,"") -> 0.026838735 | CD16: =IF($C16>0,J16/$C16,"") -> 0.079911689 | CE16: =IF($C16>0,K16/$C16,"") -> 0.13520733 | CF16: =IF($C16>0,L16/$C16,"") -> 0.17434772 | CG16: =IF($C16>0,M16/$C16,"") -> 0.30995088 | CH16: =IF($C16>0,N16/$C16,"") -> 0.39819774 | ... CM16: =IF($C16>0,S16/$C16,"") -> 0.48826697 | CN16: =IF($C16>0,V16/$C16,"") -> 0.48850215 | CO16: =IF($C16>0,W16/$C16,"") -> 0.48871157 | CP16: =IF($C16>0,X16/$C16,"") -> 0.48893792 | CQ16: =IF($C16>0,Y16/$C16,"") -> 0.48914994 | CR16: =IF($C16>0,Z16/$C16,"") -> 0.48929814 | CS16: =IF($C16>0,AA16/$C16,"") -> 0.48944938 | CT16: =IF($C16>0,AB16/$C16,"") -> 0.48954128 | CU16: =IF($C16>0,AC16/$C16,"") -> 0.48961465 | ... CZ16: =IF($C16>0,AH16/$C16,"") -> 0.4898494
B17: Lillooet TSA | C17: 49789440 | D17: 19483744 | F17: Lillooet TSA | G17: 16496 | H17: 31248 | I17: 61072 | J17: 106656 | K17: 159456 | L17: 264304 | M17: 662784 | N17: 1537424 | O17: 2788704 | P17: 3860672 | Q17: 4624000 | R17: 4922608 | S17: 5027904 | U17: Lillooet TSA | V17: 5116272 | W17: 5201248 | X17: 5290720 | Y17: 5401120 | Z17: 5504688 | AA17: 5620624 | AB17: 5730944 | AC17: 5847040 | AD17: 5976800 | AE17: 6093264 | AF17: 6193584 | AG17: 6280576 | AH17: 6359824 | AJ17: =IF(A17<>0,A17,"") | AK17: =IF(B17<>0,B17,"") -> Lillooet TSA | AL17: =IF($D17>0,G17/$D17,"") -> 0.00084665452 | AM17: =IF($D17>0,H17/$D17,"") -> 0.0016037985 | AN17: =IF($D17>0,I17/$D17,"") -> 0.0031345105 | AO17: =IF($D17>0,J17/$D17,"") -> 0.0054741019 | AP17: =IF($D17>0,K17/$D17,"") -> 0.0081840533 | AQ17: =IF($D17>0,L17/$D17,"") -> 0.01356536 | AR17: =IF($D17>0,M17/$D17,"") -> 0.034017281 | AS17: =IF($D17>0,N17/$D17,"") -> 0.078908037 | ... AX17: =IF($D17>0,S17/$D17,"") -> 0.25805636 | AY17: =IF($D17>0,V17/$D17,"") -> 0.26259183 | AZ17: =IF($D17>0,W17/$D17,"") -> 0.26695321 | BA17: =IF($D17>0,X17/$D17,"") -> 0.27154535 | BB17: =IF($D17>0,Y17/$D17,"") -> 0.27721161 | BC17: =IF($D17>0,Z17/$D17,"") -> 0.28252722 | BD17: =IF($D17>0,AA17/$D17,"") -> 0.28847761 | BE17: =IF($D17>0,AB17/$D17,"") -> 0.29413977 | BF17: =IF($D17>0,AC17/$D17,"") -> 0.30009838 | ... BK17: =IF($D17>0,AH17/$D17,"") -> 0.32641694 | BM17: =IF(AJ17<>0,AJ17,"") | BN17: =IF(AK17<>0,AK17,"") -> Lillooet TSA | BO17: =IF(S17>0,S17/1000000,"") -> 5.027904 | BP17: =IF(S17>0,$AX17,"") -> 0.25805636 | BQ17: =IF(V17>0,V17/1000000,"") -> 5.116272 | BR17: =IF(R17>0,$AY17,"") -> 0.26259183 | BS17: =IF(AA17>0,AA17/1000000,"") -> 5.620624 | BT17: =IF(R17>0,$BD17,"") -> 0.28847761 | BU17: =IF(AF17>0,AF17/1000000,"") -> 6.193584 | BV17: =IF(R17>0,$BI17,"") -> 0.31788469 | BY17: =IF(A17<>0,A17,"") | BZ17: =IF(B17<>0,B17,"") -> Lillooet TSA | CA17: =IF($C17>0,G17/$C17,"") -> 0.00033131523 | CB17: =IF($C17>0,H17/$C17,"") -> 0.00062760296 | CC17: =IF($C17>0,I17/$C17,"") -> 0.0012266055 | CD17: =IF($C17>0,J17/$C17,"") -> 0.002142141 | CE17: =IF($C17>0,K17/$C17,"") -> 0.0032026068 | CF17: =IF($C17>0,L17/$C17,"") -> 0.0053084349 | CG17: =IF($C17>0,M17/$C17,"") -> 0.013311738 | CH17: =IF($C17>0,N17/$C17,"") -> 0.030878516 | ... CM17: =IF($C17>0,S17/$C17,"") -> 0.10098334 | CN17: =IF($C17>0,V17/$C17,"") -> 0.10275818 | CO17: =IF($C17>0,W17/$C17,"") -> 0.10446488 | CP17: =IF($C17>0,X17/$C17,"") -> 0.10626189 | CQ17: =IF($C17>0,Y17/$C17,"") -> 0.10847923 | CR17: =IF($C17>0,Z17/$C17,"") -> 0.11055935 | CS17: =IF($C17>0,AA17/$C17,"") -> 0.11288787 | CT17: =IF($C17>0,AB17/$C17,"") -> 0.1151036 | CU17: =IF($C17>0,AC17/$C17,"") -> 0.11743534 | ... CZ17: =IF($C17>0,AH17/$C17,"") -> 0.1277344
... B26: Williams Lake TSA | C26: 264548400 | D26: 143621136 | F26: Williams Lake TSA | G26: 458512 | H26: 895328 | I26: 1967552 | J26: 4081120 | K26: 9911680 | L26: 22091456 | M26: 41420336 | N26: 61840752 | O26: 79443024 | P26: 84196880 | Q26: 86195216 | R26: 86369632 | S26: 86410304 | U26: Williams Lake TSA | V26: 86434752 | W26: 86460432 | X26: 86489216 | Y26: 86522688 | Z26: 86566608 | AA26: 86629152 | AB26: 86711920 | AC26: 86837152 | AD26: 86992720 | AE26: 87176976 | AF26: 87359280 | AG26: 87533664 | AH26: 87715552 | AJ26: =IF(A26<>0,A26,"") | AK26: =IF(B26<>0,B26,"") -> Williams Lake TSA | AL26: =IF($D26>0,G26/$D26,"") -> 0.0031925106 | AM26: =IF($D26>0,H26/$D26,"") -> 0.0062339571 | AN26: =IF($D26>0,I26/$D26,"") -> 0.013699599 | AO26: =IF($D26>0,J26/$D26,"") -> 0.028415873 | AP26: =IF($D26>0,K26/$D26,"") -> 0.069012683 | AQ26: =IF($D26>0,L26/$D26,"") -> 0.15381758 | AR26: =IF($D26>0,M26/$D26,"") -> 0.2884 | AS26: =IF($D26>0,N26/$D26,"") -> 0.43058253 | ... AX26: =IF($D26>0,S26/$D26,"") -> 0.60165451 | AY26: =IF($D26>0,V26/$D26,"") -> 0.60182473 | AZ26: =IF($D26>0,W26/$D26,"") -> 0.60200354 | BA26: =IF($D26>0,X26/$D26,"") -> 0.60220395 | BB26: =IF($D26>0,Y26/$D26,"") -> 0.60243701 | BC26: =IF($D26>0,Z26/$D26,"") -> 0.60274282 | BD26: =IF($D26>0,AA26/$D26,"") -> 0.6031783 | BE26: =IF($D26>0,AB26/$D26,"") -> 0.60375459 | BF26: =IF($D26>0,AC26/$D26,"") -> 0.60462655 | ... BK26: =IF($D26>0,AH26/$D26,"") -> 0.61074264 | BM26: =IF(AJ26<>0,AJ26,"") | BN26: =IF(AK26<>0,AK26,"") -> Williams Lake TSA | BO26: =IF(S26>0,S26/1000000,"") -> 86.410304 | BP26: =IF(S26>0,$AX26,"") -> 0.60165451 | BQ26: =IF(V26>0,V26/1000000,"") -> 86.434752 | BR26: =IF(R26>0,$AY26,"") -> 0.60182473 | BS26: =IF(AA26>0,AA26/1000000,"") -> 86.629152 | BT26: =IF(R26>0,$BD26,"") -> 0.6031783 | BU26: =IF(AF26>0,AF26/1000000,"") -> 87.35928 | BV26: =IF(R26>0,$BI26,"") -> 0.608262 | BY26: =IF(A26<>0,A26,"") | BZ26: =IF(B26<>0,B26,"") -> Williams Lake TSA | CA26: =IF($C26>0,G26/$C26,"") -> 0.0017331876 | CB26: =IF($C26>0,H26/$C26,"") -> 0.0033843637 | CC26: =IF($C26>0,I26/$C26,"") -> 0.007437399 | CD26: =IF($C26>0,J26/$C26,"") -> 0.015426742 | CE26: =IF($C26>0,K26/$C26,"") -> 0.037466414 | CF26: =IF($C26>0,L26/$C26,"") -> 0.083506292 | CG26: =IF($C26>0,M26/$C26,"") -> 0.15656997 | CH26: =IF($C26>0,N26/$C26,"") -> 0.23375969 | ... CM26: =IF($C26>0,S26/$C26,"") -> 0.32663325 | CN26: =IF($C26>0,V26/$C26,"") -> 0.32672567 | CO26: =IF($C26>0,W26/$C26,"") -> 0.32682274 | CP26: =IF($C26>0,X26/$C26,"") -> 0.32693154 | CQ26: =IF($C26>0,Y26/$C26,"") -> 0.32705807 | CR26: =IF($C26>0,Z26/$C26,"") -> 0.32722408 | CS26: =IF($C26>0,AA26/$C26,"") -> 0.3274605 | CT26: =IF($C26>0,AB26/$C26,"") -> 0.32777337 | CU26: =IF($C26>0,AC26/$C26,"") -> 0.32824675 | ... CZ26: =IF($C26>0,AH26/$C26,"") -> 0.33156712
A27: Pine Units Total | C27: 2851632672 | D27: 1177968368 | E27: Pine Units Total | G27: 5054176 | H27: 11460112 | I27: 23081088 | J27: 49727952 | K27: 100626848 | L27: 172377408 | M27: 302587664 | N27: 410835184 | O27: 506219120 | P27: 560122144 | Q27: 602547184 | R27: 634952320 | S27: 650755216 | T27: Pine Units Total | V27: 665260128 | W27: 675539504 | X27: 682513856 | Y27: 687546688 | Z27: 691410864 | AA27: 694809872 | AB27: 697959808 | AC27: 701044464 | AD27: 704083584 | AE27: 707038192 | AF27: 709881584 | AG27: 712610224 | AH27: 715173408 | AJ27: =IF(A27<>0,A27,"") -> Pine Units Total | AK27: =IF(B27<>0,B27,"") | AL27: =IF($D27>0,G27/$D27,"") -> 0.0042905872 | AM27: =IF($D27>0,H27/$D27,"") -> 0.0097287095 | AN27: =IF($D27>0,I27/$D27,"") -> 0.019593979 | AO27: =IF($D27>0,J27/$D27,"") -> 0.042215015 | AP27: =IF($D27>0,K27/$D27,"") -> 0.085424066 | AQ27: =IF($D27>0,L27/$D27,"") -> 0.1463345 | AR27: =IF($D27>0,M27/$D27,"") -> 0.25687249 | AS27: =IF($D27>0,N27/$D27,"") -> 0.34876589 | ... AX27: =IF($D27>0,S27/$D27,"") -> 0.55243862 | AY27: =IF($D27>0,V27/$D27,"") -> 0.56475212 | AZ27: =IF($D27>0,W27/$D27,"") -> 0.57347848 | BA27: =IF($D27>0,X27/$D27,"") -> 0.57939914 | BB27: =IF($D27>0,Y27/$D27,"") -> 0.58367161 | BC27: =IF($D27>0,Z27/$D27,"") -> 0.58695198 | BD27: =IF($D27>0,AA27/$D27,"") -> 0.58983746 | BE27: =IF($D27>0,AB27/$D27,"") -> 0.5925115 | BF27: =IF($D27>0,AC27/$D27,"") -> 0.59513013 | ... BK27: =IF($D27>0,AH27/$D27,"") -> 0.60712446 | BM27: =IF(AJ27<>0,AJ27,"") -> Pine Units Total | BN27: =IF(AK27<>0,AK27,"") | BO27: =IF(S27>0,S27/1000000,"") -> 650.75522 | BP27: =IF(S27>0,$AX27,"") -> 0.55243862 | BQ27: =IF(V27>0,V27/1000000,"") -> 665.26013 | BR27: =IF(R27>0,$AY27,"") -> 0.56475212 | BS27: =IF(AA27>0,AA27/1000000,"") -> 694.80987 | BT27: =IF(R27>0,$BD27,"") -> 0.58983746 | BU27: =IF(AF27>0,AF27/1000000,"") -> 709.88158 | BV27: =IF(R27>0,$BI27,"") -> 0.60263213 | BY27: =IF(A27<>0,A27,"") -> Pine Units Total | BZ27: =IF(B27<>0,B27,"") | CA27: =IF($C27>0,G27/$C27,"") -> 0.0017723797 | CB27: =IF($C27>0,H27/$C27,"") -> 0.0040187897 | CC27: =IF($C27>0,I27/$C27,"") -> 0.0080939906 | CD27: =IF($C27>0,J27/$C27,"") -> 0.017438414 | CE27: =IF($C27>0,K27/$C27,"") -> 0.035287451 | CF27: =IF($C27>0,L27/$C27,"") -> 0.060448672 | CG27: =IF($C27>0,M27/$C27,"") -> 0.10611032 | CH27: =IF($C27>0,N27/$C27,"") -> 0.14407016 | ... CM27: =IF($C27>0,S27/$C27,"") -> 0.22820443 | CN27: =IF($C27>0,V27/$C27,"") -> 0.23329096 | CO27: =IF($C27>0,W27/$C27,"") -> 0.2368957 | CP27: =IF($C27>0,X27/$C27,"") -> 0.23934144 | CQ27: =IF($C27>0,Y27/$C27,"") -> 0.24110633 | CR27: =IF($C27>0,Z27/$C27,"") -> 0.2424614 | CS27: =IF($C27>0,AA27/$C27,"") -> 0.24365336 | CT27: =IF($C27>0,AB27/$C27,"") -> 0.24475796 | CU27: =IF($C27>0,AC27/$C27,"") -> 0.24583968 | ... CZ27: =IF($C27>0,AH27/$C27,"") -> 0.25079437
A28: Non-pine Units | B28: Arrowsmith TSA | C28: 16180416 | D28: 82112 | E28: Non-pine Units | F28: Arrowsmith TSA | G28: 0 | H28: 0 | I28: 0 | J28: 0 | K28: 0 | L28: 0 | M28: 0 | N28: 0 | O28: 0 | P28: 0 | Q28: 0 | R28: 0 | S28: 0 | T28: Non-pine Units | U28: Arrowsmith TSA | V28: 0 | W28: 0 | X28: 0 | Y28: 0 | Z28: 0 | AA28: 0 | AB28: 0 | AC28: 0 | AD28: 0 | AE28: 0 | AF28: 0 | AG28: 0 | AH28: 0 | AJ28: =IF(A28<>0,A28,"") -> Non-pine Units | AK28: =IF(B28<>0,B28,"") -> Arrowsmith TSA | AL28: =IF($D28>0,G28/$D28,"") -> 0 | AM28: =IF($D28>0,H28/$D28,"") -> 0 | AN28: =IF($D28>0,I28/$D28,"") -> 0 | AO28: =IF($D28>0,J28/$D28,"") -> 0 | AP28: =IF($D28>0,K28/$D28,"") -> 0 | AQ28: =IF($D28>0,L28/$D28,"") -> 0 | AR28: =IF($D28>0,M28/$D28,"") -> 0 | AS28: =IF($D28>0,N28/$D28,"") -> 0 | ... AX28: =IF($D28>0,S28/$D28,"") -> 0 | AY28: =IF($D28>0,V28/$D28,"") -> 0 | AZ28: =IF($D28>0,W28/$D28,"") -> 0 | BA28: =IF($D28>0,X28/$D28,"") -> 0 | BB28: =IF($D28>0,Y28/$D28,"") -> 0 | BC28: =IF($D28>0,Z28/$D28,"") -> 0 | BD28: =IF($D28>0,AA28/$D28,"") -> 0 | BE28: =IF($D28>0,AB28/$D28,"") -> 0 | BF28: =IF($D28>0,AC28/$D28,"") -> 0 | ... BK28: =IF($D28>0,AH28/$D28,"") -> 0 | BM28: =IF(AJ28<>0,AJ28,"") -> Non-pine Units | BN28: =IF(AK28<>0,AK28,"") -> Arrowsmith TSA | BO28: =IF(S28>0,S28/1000000,"") | BP28: =IF(S28>0,$AX28,"") | BQ28: =IF(V28>0,V28/1000000,"") | BR28: =IF(R28>0,$AY28,"") | BS28: =IF(AA28>0,AA28/1000000,"") | BT28: =IF(R28>0,$BD28,"") | BU28: =IF(AF28>0,AF28/1000000,"") | BV28: =IF(R28>0,$BI28,"") | BY28: =IF(A28<>0,A28,"") -> Non-pine Units | BZ28: =IF(B28<>0,B28,"") -> Arrowsmith TSA | CA28: =IF($C28>0,G28/$C28,"") -> 0 | CB28: =IF($C28>0,H28/$C28,"") -> 0 | CC28: =IF($C28>0,I28/$C28,"") -> 0 | CD28: =IF($C28>0,J28/$C28,"") -> 0 | CE28: =IF($C28>0,K28/$C28,"") -> 0 | CF28: =IF($C28>0,L28/$C28,"") -> 0 | CG28: =IF($C28>0,M28/$C28,"") -> 0 | CH28: =IF($C28>0,N28/$C28,"") -> 0 | ... CM28: =IF($C28>0,S28/$C28,"") -> 0 | CN28: =IF($C28>0,V28/$C28,"") -> 0 | CO28: =IF($C28>0,W28/$C28,"") -> 0 | CP28: =IF($C28>0,X28/$C28,"") -> 0 | CQ28: =IF($C28>0,Y28/$C28,"") -> 0 | CR28: =IF($C28>0,Z28/$C28,"") -> 0 | CS28: =IF($C28>0,AA28/$C28,"") -> 0 | CT28: =IF($C28>0,AB28/$C28,"") -> 0 | CU28: =IF($C28>0,AC28/$C28,"") -> 0 | ... CZ28: =IF($C28>0,AH28/$C28,"") -> 0
B29: Cassiar TSA | C29: 35651056 | D29: 15071280 | F29: Cassiar TSA | G29: 0 | H29: 0 | I29: 352 | J29: 352 | K29: 352 | L29: 352 | M29: 352 | N29: 352 | O29: 352 | P29: 352 | Q29: 1728 | R29: 2560 | S29: 2560 | U29: Cassiar TSA | V29: 2592 | W29: 6944 | X29: 15520 | Y29: 31360 | Z29: 74928 | AA29: 162688 | AB29: 298128 | AC29: 472112 | AD29: 648000 | AE29: 797968 | AF29: 917440 | AG29: 1021200 | AH29: 1085808 | AJ29: =IF(A29<>0,A29,"") | AK29: =IF(B29<>0,B29,"") -> Cassiar TSA | AL29: =IF($D29>0,G29/$D29,"") -> 0 | AM29: =IF($D29>0,H29/$D29,"") -> 0 | AN29: =IF($D29>0,I29/$D29,"") -> 2.335568e-05 | AO29: =IF($D29>0,J29/$D29,"") -> 2.335568e-05 | AP29: =IF($D29>0,K29/$D29,"") -> 2.335568e-05 | AQ29: =IF($D29>0,L29/$D29,"") -> 2.335568e-05 | AR29: =IF($D29>0,M29/$D29,"") -> 2.335568e-05 | AS29: =IF($D29>0,N29/$D29,"") -> 2.335568e-05 | ... AX29: =IF($D29>0,S29/$D29,"") -> 0.00016985949 | AY29: =IF($D29>0,V29/$D29,"") -> 0.00017198274 | AZ29: =IF($D29>0,W29/$D29,"") -> 0.00046074388 | BA29: =IF($D29>0,X29/$D29,"") -> 0.0010297732 | BB29: =IF($D29>0,Y29/$D29,"") -> 0.0020807788 | BC29: =IF($D29>0,Z29/$D29,"") -> 0.0049715751 | BD29: =IF($D29>0,AA29/$D29,"") -> 0.010794571 | BE29: =IF($D29>0,AB29/$D29,"") -> 0.0197812 | BF29: =IF($D29>0,AC29/$D29,"") -> 0.031325276 | ... BK29: =IF($D29>0,AH29/$D29,"") -> 0.072044843 | BM29: =IF(AJ29<>0,AJ29,"") | BN29: =IF(AK29<>0,AK29,"") -> Cassiar TSA | BO29: =IF(S29>0,S29/1000000,"") -> 0.00256 | BP29: =IF(S29>0,$AX29,"") -> 0.00016985949 | BQ29: =IF(V29>0,V29/1000000,"") -> 0.002592 | BR29: =IF(R29>0,$AY29,"") -> 0.00017198274 | BS29: =IF(AA29>0,AA29/1000000,"") -> 0.162688 | BT29: =IF(R29>0,$BD29,"") -> 0.010794571 | BU29: =IF(AF29>0,AF29/1000000,"") -> 0.91744 | BV29: =IF(R29>0,$BI29,"") -> 0.060873396 | BY29: =IF(A29<>0,A29,"") | BZ29: =IF(B29<>0,B29,"") -> Cassiar TSA | CA29: =IF($C29>0,G29/$C29,"") -> 0 | CB29: =IF($C29>0,H29/$C29,"") -> 0 | CC29: =IF($C29>0,I29/$C29,"") -> 9.8734803e-06 | CD29: =IF($C29>0,J29/$C29,"") -> 9.8734803e-06 | CE29: =IF($C29>0,K29/$C29,"") -> 9.8734803e-06 | CF29: =IF($C29>0,L29/$C29,"") -> 9.8734803e-06 | CG29: =IF($C29>0,M29/$C29,"") -> 9.8734803e-06 | CH29: =IF($C29>0,N29/$C29,"") -> 9.8734803e-06 | ... CM29: =IF($C29>0,S29/$C29,"") -> 7.180713e-05 | CN29: =IF($C29>0,V29/$C29,"") -> 7.2704719e-05 | CO29: =IF($C29>0,W29/$C29,"") -> 0.00019477684 | CP29: =IF($C29>0,X29/$C29,"") -> 0.00043533072 | CQ29: =IF($C29>0,Y29/$C29,"") -> 0.00087963734 | CR29: =IF($C29>0,Z29/$C29,"") -> 0.0021017049 | CS29: =IF($C29>0,AA29/$C29,"") -> 0.0045633431 | CT29: =IF($C29>0,AB29/$C29,"") -> 0.008362389 | CU29: =IF($C29>0,AC29/$C29,"") -> 0.013242581 | ... CZ29: =IF($C29>0,AH29/$C29,"") -> 0.030456545
B30: Cranberry TSA | C30: 8204240 | D30: 690528 | F30: Cranberry TSA | G30: 0 | H30: 0 | I30: 0 | J30: 0 | K30: 0 | L30: 0 | M30: 0 | N30: 0 | O30: 0 | P30: 1664 | Q30: 1664 | R30: 1664 | S30: 2768 | U30: Cranberry TSA | V30: 8656 | W30: 15808 | X30: 22784 | Y30: 38624 | Z30: 52384 | AA30: 71952 | AB30: 102304 | AC30: 133712 | AD30: 164368 | AE30: 197776 | AF30: 220624 | AG30: 240720 | AH30: 266720 | AJ30: =IF(A30<>0,A30,"") | AK30: =IF(B30<>0,B30,"") -> Cranberry TSA | AL30: =IF($D30>0,G30/$D30,"") -> 0 | AM30: =IF($D30>0,H30/$D30,"") -> 0 | AN30: =IF($D30>0,I30/$D30,"") -> 0 | AO30: =IF($D30>0,J30/$D30,"") -> 0 | AP30: =IF($D30>0,K30/$D30,"") -> 0 | AQ30: =IF($D30>0,L30/$D30,"") -> 0 | AR30: =IF($D30>0,M30/$D30,"") -> 0 | AS30: =IF($D30>0,N30/$D30,"") -> 0 | ... AX30: =IF($D30>0,S30/$D30,"") -> 0.0040085268 | AY30: =IF($D30>0,V30/$D30,"") -> 0.012535335 | AZ30: =IF($D30>0,W30/$D30,"") -> 0.022892627 | BA30: =IF($D30>0,X30/$D30,"") -> 0.032995041 | BB30: =IF($D30>0,Y30/$D30,"") -> 0.05593401 | BC30: =IF($D30>0,Z30/$D30,"") -> 0.075860791 | BD30: =IF($D30>0,AA30/$D30,"") -> 0.10419853 | BE30: =IF($D30>0,AB30/$D30,"") -> 0.1481533 | BF30: =IF($D30>0,AC30/$D30,"") -> 0.19363733 | ... BK30: =IF($D30>0,AH30/$D30,"") -> 0.38625516 | BM30: =IF(AJ30<>0,AJ30,"") | BN30: =IF(AK30<>0,AK30,"") -> Cranberry TSA | BO30: =IF(S30>0,S30/1000000,"") -> 0.002768 | BP30: =IF(S30>0,$AX30,"") -> 0.0040085268 | BQ30: =IF(V30>0,V30/1000000,"") -> 0.008656 | BR30: =IF(R30>0,$AY30,"") -> 0.012535335 | BS30: =IF(AA30>0,AA30/1000000,"") -> 0.071952 | BT30: =IF(R30>0,$BD30,"") -> 0.10419853 | BU30: =IF(AF30>0,AF30/1000000,"") -> 0.220624 | BV30: =IF(R30>0,$BI30,"") -> 0.31950044 | BY30: =IF(A30<>0,A30,"") | BZ30: =IF(B30<>0,B30,"") -> Cranberry TSA | CA30: =IF($C30>0,G30/$C30,"") -> 0 | CB30: =IF($C30>0,H30/$C30,"") -> 0 | CC30: =IF($C30>0,I30/$C30,"") -> 0 | CD30: =IF($C30>0,J30/$C30,"") -> 0 | CE30: =IF($C30>0,K30/$C30,"") -> 0 | CF30: =IF($C30>0,L30/$C30,"") -> 0 | CG30: =IF($C30>0,M30/$C30,"") -> 0 | CH30: =IF($C30>0,N30/$C30,"") -> 0 | ... CM30: =IF($C30>0,S30/$C30,"") -> 0.00033738652 | CN30: =IF($C30>0,V30/$C30,"") -> 0.0010550642 | CO30: =IF($C30>0,W30/$C30,"") -> 0.0019268086 | CP30: =IF($C30>0,X30/$C30,"") -> 0.0027771006 | CQ30: =IF($C30>0,Y30/$C30,"") -> 0.0047078096 | CR30: =IF($C30>0,Z30/$C30,"") -> 0.0063849912 | CS30: =IF($C30>0,AA30/$C30,"") -> 0.0087700994 | CT30: =IF($C30>0,AB30/$C30,"") -> 0.01246965 | CU30: =IF($C30>0,AC30/$C30,"") -> 0.016297914 | ... CZ30: =IF($C30>0,AH30/$C30,"") -> 0.032510019
B31: Fort Nelson TSA | C31: 156594208 | D31: 13492944 | F31: Fort Nelson TSA | G31: 0 | H31: 0 | I31: 0 | J31: 0 | K31: 0 | L31: 0 | M31: 0 | N31: 0 | O31: 0 | P31: 144 | Q31: 5488 | R31: 6304 | S31: 17776 | U31: Fort Nelson TSA | V31: 66400 | W31: 175344 | X31: 312576 | Y31: 481920 | Z31: 646960 | AA31: 793072 | AB31: 927104 | AC31: 1028432 | AD31: 1103168 | AE31: 1156272 | AF31: 1190256 | AG31: 1211072 | AH31: 1222096 | AJ31: =IF(A31<>0,A31,"") | AK31: =IF(B31<>0,B31,"") -> Fort Nelson TSA | AL31: =IF($D31>0,G31/$D31,"") -> 0 | AM31: =IF($D31>0,H31/$D31,"") -> 0 | AN31: =IF($D31>0,I31/$D31,"") -> 0 | AO31: =IF($D31>0,J31/$D31,"") -> 0 | AP31: =IF($D31>0,K31/$D31,"") -> 0 | AQ31: =IF($D31>0,L31/$D31,"") -> 0 | AR31: =IF($D31>0,M31/$D31,"") -> 0 | AS31: =IF($D31>0,N31/$D31,"") -> 0 | ... AX31: =IF($D31>0,S31/$D31,"") -> 0.0013174293 | AY31: =IF($D31>0,V31/$D31,"") -> 0.0049210906 | AZ31: =IF($D31>0,W31/$D31,"") -> 0.012995237 | BA31: =IF($D31>0,X31/$D31,"") -> 0.023165886 | BB31: =IF($D31>0,Y31/$D31,"") -> 0.035716446 | BC31: =IF($D31>0,Z31/$D31,"") -> 0.047948024 | BD31: =IF($D31>0,AA31/$D31,"") -> 0.058776795 | BE31: =IF($D31>0,AB31/$D31,"") -> 0.068710283 | BF31: =IF($D31>0,AC31/$D31,"") -> 0.076219986 | ... BK31: =IF($D31>0,AH31/$D31,"") -> 0.090572969 | BM31: =IF(AJ31<>0,AJ31,"") | BN31: =IF(AK31<>0,AK31,"") -> Fort Nelson TSA | BO31: =IF(S31>0,S31/1000000,"") -> 0.017776 | BP31: =IF(S31>0,$AX31,"") -> 0.0013174293 | BQ31: =IF(V31>0,V31/1000000,"") -> 0.0664 | BR31: =IF(R31>0,$AY31,"") -> 0.0049210906 | BS31: =IF(AA31>0,AA31/1000000,"") -> 0.793072 | BT31: =IF(R31>0,$BD31,"") -> 0.058776795 | BU31: =IF(AF31>0,AF31/1000000,"") -> 1.190256 | BV31: =IF(R31>0,$BI31,"") -> 0.088213217 | BY31: =IF(A31<>0,A31,"") | BZ31: =IF(B31<>0,B31,"") -> Fort Nelson TSA | CA31: =IF($C31>0,G31/$C31,"") -> 0 | CB31: =IF($C31>0,H31/$C31,"") -> 0 | CC31: =IF($C31>0,I31/$C31,"") -> 0 | CD31: =IF($C31>0,J31/$C31,"") -> 0 | CE31: =IF($C31>0,K31/$C31,"") -> 0 | CF31: =IF($C31>0,L31/$C31,"") -> 0 | CG31: =IF($C31>0,M31/$C31,"") -> 0 | CH31: =IF($C31>0,N31/$C31,"") -> 0 | ... CM31: =IF($C31>0,S31/$C31,"") -> 0.00011351633 | CN31: =IF($C31>0,V31/$C31,"") -> 0.0004240259 | CO31: =IF($C31>0,W31/$C31,"") -> 0.0011197349 | CP31: =IF($C31>0,X31/$C31,"") -> 0.0019960892 | CQ31: =IF($C31>0,Y31/$C31,"") -> 0.0030775085 | CR31: =IF($C31>0,Z31/$C31,"") -> 0.0041314427 | CS31: =IF($C31>0,AA31/$C31,"") -> 0.005064504 | CT31: =IF($C31>0,AB31/$C31,"") -> 0.0059204233 | CU31: =IF($C31>0,AC31/$C31,"") -> 0.0065674971 | ... CZ31: =IF($C31>0,AH31/$C31,"") -> 0.0078042222
B32: Fraser TSA | C32: 72435888 | D32: 757968 | F32: Fraser TSA | G32: 352 | H32: 704 | I32: 2144 | J32: 6448 | K32: 8416 | L32: 13536 | M32: 15856 | N32: 37264 | O32: 95696 | P32: 159600 | Q32: 186896 | R32: 205232 | S32: 213840 | U32: Fraser TSA | V32: 222080 | W32: 232512 | X32: 238352 | Y32: 242464 | Z32: 246880 | AA32: 250624 | AB32: 254960 | AC32: 257792 | AD32: 260688 | AE32: 262992 | AF32: 266256 | AG32: 268832 | AH32: 270528 | AJ32: =IF(A32<>0,A32,"") | AK32: =IF(B32<>0,B32,"") -> Fraser TSA | AL32: =IF($D32>0,G32/$D32,"") -> 0.00046439955 | AM32: =IF($D32>0,H32/$D32,"") -> 0.0009287991 | AN32: =IF($D32>0,I32/$D32,"") -> 0.0028286155 | AO32: =IF($D32>0,J32/$D32,"") -> 0.0085069554 | AP32: =IF($D32>0,K32/$D32,"") -> 0.011103371 | AQ32: =IF($D32>0,L32/$D32,"") -> 0.017858274 | AR32: =IF($D32>0,M32/$D32,"") -> 0.020919089 | AS32: =IF($D32>0,N32/$D32,"") -> 0.049163025 | ... AX32: =IF($D32>0,S32/$D32,"") -> 0.28212273 | AY32: =IF($D32>0,V32/$D32,"") -> 0.2929939 | AZ32: =IF($D32>0,W32/$D32,"") -> 0.30675701 | BA32: =IF($D32>0,X32/$D32,"") -> 0.31446182 | BB32: =IF($D32>0,Y32/$D32,"") -> 0.31988686 | BC32: =IF($D32>0,Z32/$D32,"") -> 0.32571296 | BD32: =IF($D32>0,AA32/$D32,"") -> 0.33065248 | BE32: =IF($D32>0,AB32/$D32,"") -> 0.33637304 | BF32: =IF($D32>0,AC32/$D32,"") -> 0.34010934 | ... BK32: =IF($D32>0,AH32/$D32,"") -> 0.35691217 | BM32: =IF(AJ32<>0,AJ32,"") | BN32: =IF(AK32<>0,AK32,"") -> Fraser TSA | BO32: =IF(S32>0,S32/1000000,"") -> 0.21384 | BP32: =IF(S32>0,$AX32,"") -> 0.28212273 | BQ32: =IF(V32>0,V32/1000000,"") -> 0.22208 | BR32: =IF(R32>0,$AY32,"") -> 0.2929939 | BS32: =IF(AA32>0,AA32/1000000,"") -> 0.250624 | BT32: =IF(R32>0,$BD32,"") -> 0.33065248 | BU32: =IF(AF32>0,AF32/1000000,"") -> 0.266256 | BV32: =IF(R32>0,$BI32,"") -> 0.35127604 | BY32: =IF(A32<>0,A32,"") | BZ32: =IF(B32<>0,B32,"") -> Fraser TSA | CA32: =IF($C32>0,G32/$C32,"") -> 4.8594697e-06 | CB32: =IF($C32>0,H32/$C32,"") -> 9.7189393e-06 | CC32: =IF($C32>0,I32/$C32,"") -> 2.9598588e-05 | CD32: =IF($C32>0,J32/$C32,"") -> 8.9016649e-05 | CE32: =IF($C32>0,K32/$C32,"") -> 0.0001161855 | CF32: =IF($C32>0,L32/$C32,"") -> 0.0001868687 | CG32: =IF($C32>0,M32/$C32,"") -> 0.00021889702 | CH32: =IF($C32>0,N32/$C32,"") -> 0.00051444113 | ... CM32: =IF($C32>0,S32/$C32,"") -> 0.0029521278 | CN32: =IF($C32>0,V32/$C32,"") -> 0.0030658836 | CO32: =IF($C32>0,W32/$C32,"") -> 0.0032099006 | CP32: =IF($C32>0,X32/$C32,"") -> 0.0032905236 | CQ32: =IF($C32>0,Y32/$C32,"") -> 0.0033472911 | CR32: =IF($C32>0,Z32/$C32,"") -> 0.0034082553 | CS32: =IF($C32>0,AA32/$C32,"") -> 0.0034599424 | CT32: =IF($C32>0,AB32/$C32,"") -> 0.0035198022 | CU32: =IF($C32>0,AC32/$C32,"") -> 0.0035588989 | ... CZ32: =IF($C32>0,AH32/$C32,"") -> 0.0037347233
B33: Ft. St. John TSA | C33: 141830896 | D33: 39839328 | F33: Ft. St. John TSA | G33: 0 | H33: 0 | I33: 128 | J33: 128 | K33: 208 | L33: 14640 | M33: 14752 | N33: 14752 | O33: 47536 | P33: 468416 | Q33: 1692256 | R33: 5584144 | S33: 9068848 | U33: Ft. St. John TSA | V33: 12047552 | W33: 14214256 | X33: 15653792 | Y33: 16641776 | Z33: 17333312 | AA33: 17855824 | AB33: 18274752 | AC33: 18633472 | AD33: 18932096 | AE33: 19155856 | AF33: 19313280 | AG33: 19461424 | AH33: 19609568 | AJ33: =IF(A33<>0,A33,"") | AK33: =IF(B33<>0,B33,"") -> Ft. St. John TSA | AL33: =IF($D33>0,G33/$D33,"") -> 0 | AM33: =IF($D33>0,H33/$D33,"") -> 0 | AN33: =IF($D33>0,I33/$D33,"") -> 3.2129056e-06 | AO33: =IF($D33>0,J33/$D33,"") -> 3.2129056e-06 | AP33: =IF($D33>0,K33/$D33,"") -> 5.2209716e-06 | AQ33: =IF($D33>0,L33/$D33,"") -> 0.00036747608 | AR33: =IF($D33>0,M33/$D33,"") -> 0.00037028737 | AS33: =IF($D33>0,N33/$D33,"") -> 0.00037028737 | ... AX33: =IF($D33>0,S33/$D33,"") -> 0.22763557 | AY33: =IF($D33>0,V33/$D33,"") -> 0.30240349 | AZ33: =IF($D33>0,W33/$D33,"") -> 0.35678955 | BA33: =IF($D33>0,X33/$D33,"") -> 0.39292309 | BB33: =IF($D33>0,Y33/$D33,"") -> 0.41772231 | BC33: =IF($D33>0,Z33/$D33,"") -> 0.43508043 | BD33: =IF($D33>0,AA33/$D33,"") -> 0.44819591 | BE33: =IF($D33>0,AB33/$D33,"") -> 0.45871135 | BF33: =IF($D33>0,AC33/$D33,"") -> 0.46771552 | ... BK33: =IF($D33>0,AH33/$D33,"") -> 0.49221633 | BM33: =IF(AJ33<>0,AJ33,"") | BN33: =IF(AK33<>0,AK33,"") -> Ft. St. John TSA | BO33: =IF(S33>0,S33/1000000,"") -> 9.068848 | BP33: =IF(S33>0,$AX33,"") -> 0.22763557 | BQ33: =IF(V33>0,V33/1000000,"") -> 12.047552 | BR33: =IF(R33>0,$AY33,"") -> 0.30240349 | BS33: =IF(AA33>0,AA33/1000000,"") -> 17.855824 | BT33: =IF(R33>0,$BD33,"") -> 0.44819591 | BU33: =IF(AF33>0,AF33/1000000,"") -> 19.31328 | BV33: =IF(R33>0,$BI33,"") -> 0.48477926 | BY33: =IF(A33<>0,A33,"") | BZ33: =IF(B33<>0,B33,"") -> Ft. St. John TSA | CA33: =IF($C33>0,G33/$C33,"") -> 0 | CB33: =IF($C33>0,H33/$C33,"") -> 0 | CC33: =IF($C33>0,I33/$C33,"") -> 9.0248319e-07 | CD33: =IF($C33>0,J33/$C33,"") -> 9.0248319e-07 | CE33: =IF($C33>0,K33/$C33,"") -> 1.4665352e-06 | CF33: =IF($C33>0,L33/$C33,"") -> 0.00010322152 | CG33: =IF($C33>0,M33/$C33,"") -> 0.00010401119 | CH33: =IF($C33>0,N33/$C33,"") -> 0.00010401119 | ... CM33: =IF($C33>0,S33/$C33,"") -> 0.063941273 | CN33: =IF($C33>0,V33/$C33,"") -> 0.084943072 | CO33: =IF($C33>0,W33/$C33,"") -> 0.10021974 | CP33: =IF($C33>0,X33/$C33,"") -> 0.11036941 | CQ33: =IF($C33>0,Y33/$C33,"") -> 0.11733534 | CR33: =IF($C33>0,Z33/$C33,"") -> 0.12221112 | CS33: =IF($C33>0,AA33/$C33,"") -> 0.12589516 | CT33: =IF($C33>0,AB33/$C33,"") -> 0.12884888 | CU33: =IF($C33>0,AC33/$C33,"") -> 0.13137809 | ... CZ33: =IF($C33>0,AH33/$C33,"") -> 0.1382602
B34: Kalum TSA | C34: 23274720 | D34: 716256 | F34: Kalum TSA | G34: 1168 | H34: 1520 | I34: 1520 | J34: 1712 | K34: 1712 | L34: 1712 | M34: 1712 | N34: 1712 | O34: 1712 | P34: 17664 | Q34: 23744 | R34: 35088 | S34: 46320 | U34: Kalum TSA | V34: 61424 | W34: 77856 | X34: 94832 | Y34: 109376 | Z34: 123312 | AA34: 137952 | AB34: 149424 | AC34: 158272 | AD34: 167952 | AE34: 177824 | AF34: 191040 | AG34: 198896 | AH34: 204528 | AJ34: =IF(A34<>0,A34,"") | AK34: =IF(B34<>0,B34,"") -> Kalum TSA | AL34: =IF($D34>0,G34/$D34,"") -> 0.0016307019 | AM34: =IF($D34>0,H34/$D34,"") -> 0.0021221463 | AN34: =IF($D34>0,I34/$D34,"") -> 0.0021221463 | AO34: =IF($D34>0,J34/$D34,"") -> 0.0023902069 | AP34: =IF($D34>0,K34/$D34,"") -> 0.0023902069 | AQ34: =IF($D34>0,L34/$D34,"") -> 0.0023902069 | AR34: =IF($D34>0,M34/$D34,"") -> 0.0023902069 | AS34: =IF($D34>0,N34/$D34,"") -> 0.0023902069 | ... AX34: =IF($D34>0,S34/$D34,"") -> 0.064669615 | AY34: =IF($D34>0,V34/$D34,"") -> 0.085757048 | AZ34: =IF($D34>0,W34/$D34,"") -> 0.10869857 | BA34: =IF($D34>0,X34/$D34,"") -> 0.13239959 | BB34: =IF($D34>0,Y34/$D34,"") -> 0.15270518 | BC34: =IF($D34>0,Z34/$D34,"") -> 0.17216191 | BD34: =IF($D34>0,AA34/$D34,"") -> 0.19260153 | BE34: =IF($D34>0,AB34/$D34,"") -> 0.20861815 | BF34: =IF($D34>0,AC34/$D34,"") -> 0.22097127 | ... BK34: =IF($D34>0,AH34/$D34,"") -> 0.28555153 | BM34: =IF(AJ34<>0,AJ34,"") | BN34: =IF(AK34<>0,AK34,"") -> Kalum TSA | BO34: =IF(S34>0,S34/1000000,"") -> 0.04632 | BP34: =IF(S34>0,$AX34,"") -> 0.064669615 | BQ34: =IF(V34>0,V34/1000000,"") -> 0.061424 | BR34: =IF(R34>0,$AY34,"") -> 0.085757048 | BS34: =IF(AA34>0,AA34/1000000,"") -> 0.137952 | BT34: =IF(R34>0,$BD34,"") -> 0.19260153 | BU34: =IF(AF34>0,AF34/1000000,"") -> 0.19104 | BV34: =IF(R34>0,$BI34,"") -> 0.26672028 | BY34: =IF(A34<>0,A34,"") | BZ34: =IF(B34<>0,B34,"") -> Kalum TSA | CA34: =IF($C34>0,G34/$C34,"") -> 5.0183203e-05 | CB34: =IF($C34>0,H34/$C34,"") -> 6.5306908e-05 | CC34: =IF($C34>0,I34/$C34,"") -> 6.5306908e-05 | CD34: =IF($C34>0,J34/$C34,"") -> 7.3556202e-05 | CE34: =IF($C34>0,K34/$C34,"") -> 7.3556202e-05 | CF34: =IF($C34>0,L34/$C34,"") -> 7.3556202e-05 | CG34: =IF($C34>0,M34/$C34,"") -> 7.3556202e-05 | CH34: =IF($C34>0,N34/$C34,"") -> 7.3556202e-05 | ... CM34: =IF($C34>0,S34/$C34,"") -> 0.0019901421 | CN34: =IF($C34>0,V34/$C34,"") -> 0.0026390865 | CO34: =IF($C34>0,W34/$C34,"") -> 0.0033450886 | CP34: =IF($C34>0,X34/$C34,"") -> 0.0040744636 | CQ34: =IF($C34>0,Y34/$C34,"") -> 0.0046993476 | CR34: =IF($C34>0,Z34/$C34,"") -> 0.0052981088 | CS34: =IF($C34>0,AA34/$C34,"") -> 0.0059271175 | CT34: =IF($C34>0,AB34/$C34,"") -> 0.0064200128 | CU34: =IF($C34>0,AC34/$C34,"") -> 0.0068001677 | ... CZ34: =IF($C34>0,AH34/$C34,"") -> 0.0087875601
B35: Kingcome TSA | C35: 53357264 | D35: 332176 | F35: Kingcome TSA | G35: 0 | H35: 0 | I35: 0 | J35: 0 | K35: 0 | L35: 0 | M35: 0 | N35: 0 | O35: 0 | P35: 0 | Q35: 0 | R35: 0 | S35: 0 | U35: Kingcome TSA | V35: 0 | W35: 0 | X35: 0 | Y35: 0 | Z35: 0 | AA35: 0 | AB35: 16 | AC35: 16 | AD35: 16 | AE35: 16 | AF35: 16 | AG35: 16 | AH35: 16 | AJ35: =IF(A35<>0,A35,"") | AK35: =IF(B35<>0,B35,"") -> Kingcome TSA | AL35: =IF($D35>0,G35/$D35,"") -> 0 | AM35: =IF($D35>0,H35/$D35,"") -> 0 | AN35: =IF($D35>0,I35/$D35,"") -> 0 | AO35: =IF($D35>0,J35/$D35,"") -> 0 | AP35: =IF($D35>0,K35/$D35,"") -> 0 | AQ35: =IF($D35>0,L35/$D35,"") -> 0 | AR35: =IF($D35>0,M35/$D35,"") -> 0 | AS35: =IF($D35>0,N35/$D35,"") -> 0 | ... AX35: =IF($D35>0,S35/$D35,"") -> 0 | AY35: =IF($D35>0,V35/$D35,"") -> 0 | AZ35: =IF($D35>0,W35/$D35,"") -> 0 | BA35: =IF($D35>0,X35/$D35,"") -> 0 | BB35: =IF($D35>0,Y35/$D35,"") -> 0 | BC35: =IF($D35>0,Z35/$D35,"") -> 0 | BD35: =IF($D35>0,AA35/$D35,"") -> 0 | BE35: =IF($D35>0,AB35/$D35,"") -> 4.8167237e-05 | BF35: =IF($D35>0,AC35/$D35,"") -> 4.8167237e-05 | ... BK35: =IF($D35>0,AH35/$D35,"") -> 4.8167237e-05 | BM35: =IF(AJ35<>0,AJ35,"") | BN35: =IF(AK35<>0,AK35,"") -> Kingcome TSA | BO35: =IF(S35>0,S35/1000000,"") | BP35: =IF(S35>0,$AX35,"") | BQ35: =IF(V35>0,V35/1000000,"") | BR35: =IF(R35>0,$AY35,"") | BS35: =IF(AA35>0,AA35/1000000,"") | BT35: =IF(R35>0,$BD35,"") | BU35: =IF(AF35>0,AF35/1000000,"") -> 1.6e-05 | BV35: =IF(R35>0,$BI35,"") | BY35: =IF(A35<>0,A35,"") | BZ35: =IF(B35<>0,B35,"") -> Kingcome TSA | CA35: =IF($C35>0,G35/$C35,"") -> 0 | CB35: =IF($C35>0,H35/$C35,"") -> 0 | CC35: =IF($C35>0,I35/$C35,"") -> 0 | CD35: =IF($C35>0,J35/$C35,"") -> 0 | CE35: =IF($C35>0,K35/$C35,"") -> 0 | CF35: =IF($C35>0,L35/$C35,"") -> 0 | CG35: =IF($C35>0,M35/$C35,"") -> 0 | CH35: =IF($C35>0,N35/$C35,"") -> 0 | ... CM35: =IF($C35>0,S35/$C35,"") -> 0 | CN35: =IF($C35>0,V35/$C35,"") -> 0 | CO35: =IF($C35>0,W35/$C35,"") -> 0 | CP35: =IF($C35>0,X35/$C35,"") -> 0 | CQ35: =IF($C35>0,Y35/$C35,"") -> 0 | CR35: =IF($C35>0,Z35/$C35,"") -> 0 | CS35: =IF($C35>0,AA35/$C35,"") -> 0 | CT35: =IF($C35>0,AB35/$C35,"") -> 2.9986545e-07 | CU35: =IF($C35>0,AC35/$C35,"") -> 2.9986545e-07 | ... CZ35: =IF($C35>0,AH35/$C35,"") -> 2.9986545e-07
B36: Kispiox TSA | C36: 73312352 | D36: 3068752 | F36: Kispiox TSA | G36: 0 | H36: 0 | I36: 912 | J36: 1200 | K36: 1520 | L36: 3344 | M36: 3504 | N36: 3648 | O36: 10896 | P36: 93328 | Q36: 122672 | R36: 170656 | S36: 253648 | U36: Kispiox TSA | V36: 393376 | W36: 572048 | X36: 744448 | Y36: 917376 | Z36: 1076000 | AA36: 1216192 | AB36: 1335504 | AC36: 1427120 | AD36: 1502256 | AE36: 1576784 | AF36: 1633600 | AG36: 1679024 | AH36: 1715520 | AJ36: =IF(A36<>0,A36,"") | AK36: =IF(B36<>0,B36,"") -> Kispiox TSA | AL36: =IF($D36>0,G36/$D36,"") -> 0 | AM36: =IF($D36>0,H36/$D36,"") -> 0 | AN36: =IF($D36>0,I36/$D36,"") -> 0.00029718922 | AO36: =IF($D36>0,J36/$D36,"") -> 0.00039103844 | AP36: =IF($D36>0,K36/$D36,"") -> 0.00049531536 | AQ36: =IF($D36>0,L36/$D36,"") -> 0.0010896938 | AR36: =IF($D36>0,M36/$D36,"") -> 0.0011418322 | AS36: =IF($D36>0,N36/$D36,"") -> 0.0011887569 | ... AX36: =IF($D36>0,S36/$D36,"") -> 0.082655099 | AY36: =IF($D36>0,V36/$D36,"") -> 0.12818762 | AZ36: =IF($D36>0,W36/$D36,"") -> 0.18641063 | BA36: =IF($D36>0,X36/$D36,"") -> 0.24258982 | BB36: =IF($D36>0,Y36/$D36,"") -> 0.29894107 | BC36: =IF($D36>0,Z36/$D36,"") -> 0.35063114 | BD36: =IF($D36>0,AA36/$D36,"") -> 0.39631485 | BE36: =IF($D36>0,AB36/$D36,"") -> 0.4351945 | BF36: =IF($D36>0,AC36/$D36,"") -> 0.46504898 | ... BK36: =IF($D36>0,AH36/$D36,"") -> 0.55902856 | BM36: =IF(AJ36<>0,AJ36,"") | BN36: =IF(AK36<>0,AK36,"") -> Kispiox TSA | BO36: =IF(S36>0,S36/1000000,"") -> 0.253648 | BP36: =IF(S36>0,$AX36,"") -> 0.082655099 | BQ36: =IF(V36>0,V36/1000000,"") -> 0.393376 | BR36: =IF(R36>0,$AY36,"") -> 0.12818762 | BS36: =IF(AA36>0,AA36/1000000,"") -> 1.216192 | BT36: =IF(R36>0,$BD36,"") -> 0.39631485 | BU36: =IF(AF36>0,AF36/1000000,"") -> 1.6336 | BV36: =IF(R36>0,$BI36,"") -> 0.53233367 | BY36: =IF(A36<>0,A36,"") | BZ36: =IF(B36<>0,B36,"") -> Kispiox TSA | CA36: =IF($C36>0,G36/$C36,"") -> 0 | CB36: =IF($C36>0,H36/$C36,"") -> 0 | CC36: =IF($C36>0,I36/$C36,"") -> 1.2439923e-05 | CD36: =IF($C36>0,J36/$C36,"") -> 1.6368319e-05 | CE36: =IF($C36>0,K36/$C36,"") -> 2.0733205e-05 | CF36: =IF($C36>0,L36/$C36,"") -> 4.561305e-05 | CG36: =IF($C36>0,M36/$C36,"") -> 4.7795493e-05 | CH36: =IF($C36>0,N36/$C36,"") -> 4.9759691e-05 | ... CM36: =IF($C36>0,S36/$C36,"") -> 0.0034598263 | CN36: =IF($C36>0,V36/$C36,"") -> 0.0053657534 | CO36: =IF($C36>0,W36/$C36,"") -> 0.007802887 | CP36: =IF($C36>0,X36/$C36,"") -> 0.010154469 | CQ36: =IF($C36>0,Y36/$C36,"") -> 0.012513253 | CR36: =IF($C36>0,Z36/$C36,"") -> 0.014676926 | CS36: =IF($C36>0,AA36/$C36,"") -> 0.016589183 | CT36: =IF($C36>0,AB36/$C36,"") -> 0.01821663 | CU36: =IF($C36>0,AC36/$C36,"") -> 0.019466297 | ... CZ36: =IF($C36>0,AH36/$C36,"") -> 0.02340015
B37: Mid Coast TSA | C37: 74589456 | D37: 383136 | F37: Mid Coast TSA | G37: 688 | H37: 6624 | I37: 8192 | J37: 18992 | K37: 20576 | L37: 24384 | M37: 27056 | N37: 28624 | O37: 29344 | P37: 29344 | Q37: 29344 | R37: 29344 | S37: 29344 | U37: Mid Coast TSA | V37: 29344 | W37: 29568 | X37: 29648 | Y37: 29696 | Z37: 29728 | AA37: 30032 | AB37: 30432 | AC37: 31760 | AD37: 32528 | AE37: 33104 | AF37: 35248 | AG37: 37664 | AH37: 40880 | AJ37: =IF(A37<>0,A37,"") | AK37: =IF(B37<>0,B37,"") -> Mid Coast TSA | AL37: =IF($D37>0,G37/$D37,"") -> 0.001795707 | AM37: =IF($D37>0,H37/$D37,"") -> 0.0172889 | AN37: =IF($D37>0,I37/$D37,"") -> 0.021381442 | AO37: =IF($D37>0,J37/$D37,"") -> 0.049569866 | AP37: =IF($D37>0,K37/$D37,"") -> 0.053704168 | AQ37: =IF($D37>0,L37/$D37,"") -> 0.063643197 | AR37: =IF($D37>0,M37/$D37,"") -> 0.070617222 | AS37: =IF($D37>0,N37/$D37,"") -> 0.074709764 | ... AX37: =IF($D37>0,S37/$D37,"") -> 0.076588992 | AY37: =IF($D37>0,V37/$D37,"") -> 0.076588992 | AZ37: =IF($D37>0,W37/$D37,"") -> 0.077173641 | BA37: =IF($D37>0,X37/$D37,"") -> 0.077382444 | BB37: =IF($D37>0,Y37/$D37,"") -> 0.077507726 | BC37: =IF($D37>0,Z37/$D37,"") -> 0.077591247 | BD37: =IF($D37>0,AA37/$D37,"") -> 0.078384699 | BE37: =IF($D37>0,AB37/$D37,"") -> 0.079428715 | BF37: =IF($D37>0,AC37/$D37,"") -> 0.082894847 | ... BK37: =IF($D37>0,AH37/$D37,"") -> 0.1066984 | BM37: =IF(AJ37<>0,AJ37,"") | BN37: =IF(AK37<>0,AK37,"") -> Mid Coast TSA | BO37: =IF(S37>0,S37/1000000,"") -> 0.029344 | BP37: =IF(S37>0,$AX37,"") -> 0.076588992 | BQ37: =IF(V37>0,V37/1000000,"") -> 0.029344 | BR37: =IF(R37>0,$AY37,"") -> 0.076588992 | BS37: =IF(AA37>0,AA37/1000000,"") -> 0.030032 | BT37: =IF(R37>0,$BD37,"") -> 0.078384699 | BU37: =IF(AF37>0,AF37/1000000,"") -> 0.035248 | BV37: =IF(R37>0,$BI37,"") -> 0.091998664 | BY37: =IF(A37<>0,A37,"") | BZ37: =IF(B37<>0,B37,"") -> Mid Coast TSA | CA37: =IF($C37>0,G37/$C37,"") -> 9.2238238e-06 | CB37: =IF($C37>0,H37/$C37,"") -> 8.8806118e-05 | CC37: =IF($C37>0,I37/$C37,"") -> 0.00010982786 | CD37: =IF($C37>0,J37/$C37,"") -> 0.00025462044 | CE37: =IF($C37>0,K37/$C37,"") -> 0.00027585668 | CF37: =IF($C37>0,L37/$C37,"") -> 0.00032690948 | CG37: =IF($C37>0,M37/$C37,"") -> 0.00036273223 | CH37: =IF($C37>0,N37/$C37,"") -> 0.00038375397 | ... CM37: =IF($C37>0,S37/$C37,"") -> 0.00039340681 | CN37: =IF($C37>0,V37/$C37,"") -> 0.00039340681 | CO37: =IF($C37>0,W37/$C37,"") -> 0.00039640992 | CP37: =IF($C37>0,X37/$C37,"") -> 0.00039748245 | CQ37: =IF($C37>0,Y37/$C37,"") -> 0.00039812598 | CR37: =IF($C37>0,Z37/$C37,"") -> 0.00039855499 | CS37: =IF($C37>0,AA37/$C37,"") -> 0.00040263063 | CT37: =IF($C37>0,AB37/$C37,"") -> 0.00040799332 | CU37: =IF($C37>0,AC37/$C37,"") -> 0.00042579745 | ... CZ37: =IF($C37>0,AH37/$C37,"") -> 0.00054806674
B38: Nass TSA | C38: 48545584 | D38: 1304016 | F38: Nass TSA | G38: 0 | H38: 2208 | I38: 2208 | J38: 2720 | K38: 2720 | L38: 2720 | M38: 3952 | N38: 3952 | O38: 4256 | P38: 5008 | Q38: 5008 | R38: 5008 | S38: 5008 | U38: Nass TSA | V38: 6144 | W38: 10000 | X38: 18000 | Y38: 28144 | Z38: 45136 | AA38: 72352 | AB38: 110416 | AC38: 161152 | AD38: 212032 | AE38: 272256 | AF38: 323040 | AG38: 372144 | AH38: 415264 | AJ38: =IF(A38<>0,A38,"") | AK38: =IF(B38<>0,B38,"") -> Nass TSA | AL38: =IF($D38>0,G38/$D38,"") -> 0 | AM38: =IF($D38>0,H38/$D38,"") -> 0.0016932308 | AN38: =IF($D38>0,I38/$D38,"") -> 0.0016932308 | AO38: =IF($D38>0,J38/$D38,"") -> 0.002085864 | AP38: =IF($D38>0,K38/$D38,"") -> 0.002085864 | AQ38: =IF($D38>0,L38/$D38,"") -> 0.002085864 | AR38: =IF($D38>0,M38/$D38,"") -> 0.0030306377 | AS38: =IF($D38>0,N38/$D38,"") -> 0.0030306377 | ... AX38: =IF($D38>0,S38/$D38,"") -> 0.0038404437 | AY38: =IF($D38>0,V38/$D38,"") -> 0.0047115986 | AZ38: =IF($D38>0,W38/$D38,"") -> 0.0076686176 | BA38: =IF($D38>0,X38/$D38,"") -> 0.013803512 | BB38: =IF($D38>0,Y38/$D38,"") -> 0.021582557 | BC38: =IF($D38>0,Z38/$D38,"") -> 0.034613072 | BD38: =IF($D38>0,AA38/$D38,"") -> 0.055483982 | BE38: =IF($D38>0,AB38/$D38,"") -> 0.084673808 | BF38: =IF($D38>0,AC38/$D38,"") -> 0.12358131 | ... BK38: =IF($D38>0,AH38/$D38,"") -> 0.31845008 | BM38: =IF(AJ38<>0,AJ38,"") | BN38: =IF(AK38<>0,AK38,"") -> Nass TSA | BO38: =IF(S38>0,S38/1000000,"") -> 0.005008 | BP38: =IF(S38>0,$AX38,"") -> 0.0038404437 | BQ38: =IF(V38>0,V38/1000000,"") -> 0.006144 | BR38: =IF(R38>0,$AY38,"") -> 0.0047115986 | BS38: =IF(AA38>0,AA38/1000000,"") -> 0.072352 | BT38: =IF(R38>0,$BD38,"") -> 0.055483982 | BU38: =IF(AF38>0,AF38/1000000,"") -> 0.32304 | BV38: =IF(R38>0,$BI38,"") -> 0.24772702 | BY38: =IF(A38<>0,A38,"") | BZ38: =IF(B38<>0,B38,"") -> Nass TSA | CA38: =IF($C38>0,G38/$C38,"") -> 0 | CB38: =IF($C38>0,H38/$C38,"") -> 4.5483025e-05 | CC38: =IF($C38>0,I38/$C38,"") -> 4.5483025e-05 | CD38: =IF($C38>0,J38/$C38,"") -> 5.6029813e-05 | CE38: =IF($C38>0,K38/$C38,"") -> 5.6029813e-05 | CF38: =IF($C38>0,L38/$C38,"") -> 5.6029813e-05 | CG38: =IF($C38>0,M38/$C38,"") -> 8.1408023e-05 | CH38: =IF($C38>0,N38/$C38,"") -> 8.1408023e-05 | ... CM38: =IF($C38>0,S38/$C38,"") -> 0.00010316077 | CN38: =IF($C38>0,V38/$C38,"") -> 0.00012656146 | CO38: =IF($C38>0,W38/$C38,"") -> 0.00020599196 | CP38: =IF($C38>0,X38/$C38,"") -> 0.00037078553 | CQ38: =IF($C38>0,Y38/$C38,"") -> 0.00057974377 | CR38: =IF($C38>0,Z38/$C38,"") -> 0.00092976531 | CS38: =IF($C38>0,AA38/$C38,"") -> 0.001490393 | CT38: =IF($C38>0,AB38/$C38,"") -> 0.0022744808 | CU38: =IF($C38>0,AC38/$C38,"") -> 0.0033196016 | ... CZ38: =IF($C38>0,AH38/$C38,"") -> 0.0085541045
B39: North Coast TSA | C39: 51647072 | D39: 168208 | F39: North Coast TSA | G39: 0 | H39: 0 | I39: 0 | J39: 0 | K39: 0 | L39: 0 | M39: 0 | N39: 0 | O39: 0 | P39: 0 | Q39: 0 | R39: 0 | S39: 0 | U39: North Coast TSA | V39: 0 | W39: 0 | X39: 0 | Y39: 0 | Z39: 0 | AA39: 0 | AB39: 0 | AC39: 0 | AD39: 0 | AE39: 0 | AF39: 0 | AG39: 0 | AH39: 0 | AJ39: =IF(A39<>0,A39,"") | AK39: =IF(B39<>0,B39,"") -> North Coast TSA | AL39: =IF($D39>0,G39/$D39,"") -> 0 | AM39: =IF($D39>0,H39/$D39,"") -> 0 | AN39: =IF($D39>0,I39/$D39,"") -> 0 | AO39: =IF($D39>0,J39/$D39,"") -> 0 | AP39: =IF($D39>0,K39/$D39,"") -> 0 | AQ39: =IF($D39>0,L39/$D39,"") -> 0 | AR39: =IF($D39>0,M39/$D39,"") -> 0 | AS39: =IF($D39>0,N39/$D39,"") -> 0 | ... AX39: =IF($D39>0,S39/$D39,"") -> 0 | AY39: =IF($D39>0,V39/$D39,"") -> 0 | AZ39: =IF($D39>0,W39/$D39,"") -> 0 | BA39: =IF($D39>0,X39/$D39,"") -> 0 | BB39: =IF($D39>0,Y39/$D39,"") -> 0 | BC39: =IF($D39>0,Z39/$D39,"") -> 0 | BD39: =IF($D39>0,AA39/$D39,"") -> 0 | BE39: =IF($D39>0,AB39/$D39,"") -> 0 | BF39: =IF($D39>0,AC39/$D39,"") -> 0 | ... BK39: =IF($D39>0,AH39/$D39,"") -> 0 | BM39: =IF(AJ39<>0,AJ39,"") | BN39: =IF(AK39<>0,AK39,"") -> North Coast TSA | BO39: =IF(S39>0,S39/1000000,"") | BP39: =IF(S39>0,$AX39,"") | BQ39: =IF(V39>0,V39/1000000,"") | BR39: =IF(R39>0,$AY39,"") | BS39: =IF(AA39>0,AA39/1000000,"") | BT39: =IF(R39>0,$BD39,"") | BU39: =IF(AF39>0,AF39/1000000,"") | BV39: =IF(R39>0,$BI39,"") | BY39: =IF(A39<>0,A39,"") | BZ39: =IF(B39<>0,B39,"") -> North Coast TSA | CA39: =IF($C39>0,G39/$C39,"") -> 0 | CB39: =IF($C39>0,H39/$C39,"") -> 0 | CC39: =IF($C39>0,I39/$C39,"") -> 0 | CD39: =IF($C39>0,J39/$C39,"") -> 0 | CE39: =IF($C39>0,K39/$C39,"") -> 0 | CF39: =IF($C39>0,L39/$C39,"") -> 0 | CG39: =IF($C39>0,M39/$C39,"") -> 0 | CH39: =IF($C39>0,N39/$C39,"") -> 0 | ... CM39: =IF($C39>0,S39/$C39,"") -> 0 | CN39: =IF($C39>0,V39/$C39,"") -> 0 | CO39: =IF($C39>0,W39/$C39,"") -> 0 | CP39: =IF($C39>0,X39/$C39,"") -> 0 | CQ39: =IF($C39>0,Y39/$C39,"") -> 0 | CR39: =IF($C39>0,Z39/$C39,"") -> 0 | CS39: =IF($C39>0,AA39/$C39,"") -> 0 | CT39: =IF($C39>0,AB39/$C39,"") -> 0 | CU39: =IF($C39>0,AC39/$C39,"") -> 0 | ... CZ39: =IF($C39>0,AH39/$C39,"") -> 0
B40: Queen Charlotte TSA | C40: 30795888 | D40: 1385376 | F40: Queen Charlotte TSA | G40: 0 | H40: 0 | I40: 0 | J40: 0 | K40: 0 | L40: 0 | M40: 0 | N40: 0 | O40: 0 | P40: 0 | Q40: 0 | R40: 0 | S40: 0 | U40: Queen Charlotte TSA | V40: 0 | W40: 0 | X40: 0 | Y40: 0 | Z40: 0 | AA40: 0 | AB40: 0 | AC40: 0 | AD40: 0 | AE40: 0 | AF40: 0 | AG40: 0 | AH40: 0 | AJ40: =IF(A40<>0,A40,"") | AK40: =IF(B40<>0,B40,"") -> Queen Charlotte TSA | AL40: =IF($D40>0,G40/$D40,"") -> 0 | AM40: =IF($D40>0,H40/$D40,"") -> 0 | AN40: =IF($D40>0,I40/$D40,"") -> 0 | AO40: =IF($D40>0,J40/$D40,"") -> 0 | AP40: =IF($D40>0,K40/$D40,"") -> 0 | AQ40: =IF($D40>0,L40/$D40,"") -> 0 | AR40: =IF($D40>0,M40/$D40,"") -> 0 | AS40: =IF($D40>0,N40/$D40,"") -> 0 | ... AX40: =IF($D40>0,S40/$D40,"") -> 0 | AY40: =IF($D40>0,V40/$D40,"") -> 0 | AZ40: =IF($D40>0,W40/$D40,"") -> 0 | BA40: =IF($D40>0,X40/$D40,"") -> 0 | BB40: =IF($D40>0,Y40/$D40,"") -> 0 | BC40: =IF($D40>0,Z40/$D40,"") -> 0 | BD40: =IF($D40>0,AA40/$D40,"") -> 0 | BE40: =IF($D40>0,AB40/$D40,"") -> 0 | BF40: =IF($D40>0,AC40/$D40,"") -> 0 | ... BK40: =IF($D40>0,AH40/$D40,"") -> 0 | BM40: =IF(AJ40<>0,AJ40,"") | BN40: =IF(AK40<>0,AK40,"") -> Queen Charlotte TSA | BO40: =IF(S40>0,S40/1000000,"") | BP40: =IF(S40>0,$AX40,"") | BQ40: =IF(V40>0,V40/1000000,"") | BR40: =IF(R40>0,$AY40,"") | BS40: =IF(AA40>0,AA40/1000000,"") | BT40: =IF(R40>0,$BD40,"") | BU40: =IF(AF40>0,AF40/1000000,"") | BV40: =IF(R40>0,$BI40,"") | BY40: =IF(A40<>0,A40,"") | BZ40: =IF(B40<>0,B40,"") -> Queen Charlotte TSA | CA40: =IF($C40>0,G40/$C40,"") -> 0 | CB40: =IF($C40>0,H40/$C40,"") -> 0 | CC40: =IF($C40>0,I40/$C40,"") -> 0 | CD40: =IF($C40>0,J40/$C40,"") -> 0 | CE40: =IF($C40>0,K40/$C40,"") -> 0 | CF40: =IF($C40>0,L40/$C40,"") -> 0 | CG40: =IF($C40>0,M40/$C40,"") -> 0 | CH40: =IF($C40>0,N40/$C40,"") -> 0 | ... CM40: =IF($C40>0,S40/$C40,"") -> 0 | CN40: =IF($C40>0,V40/$C40,"") -> 0 | CO40: =IF($C40>0,W40/$C40,"") -> 0 | CP40: =IF($C40>0,X40/$C40,"") -> 0 | CQ40: =IF($C40>0,Y40/$C40,"") -> 0 | CR40: =IF($C40>0,Z40/$C40,"") -> 0 | CS40: =IF($C40>0,AA40/$C40,"") -> 0 | CT40: =IF($C40>0,AB40/$C40,"") -> 0 | CU40: =IF($C40>0,AC40/$C40,"") -> 0 | ... CZ40: =IF($C40>0,AH40/$C40,"") -> 0
... B44: Sunshine Coast TSA | C44: 63022512 | D44: 797776 | F44: Sunshine Coast TSA | G44: 0 | H44: 0 | I44: 0 | J44: 0 | K44: 0 | L44: 0 | M44: 0 | N44: 0 | O44: 176 | P44: 176 | Q44: 176 | R44: 784 | S44: 816 | U44: Sunshine Coast TSA | V44: 1200 | W44: 2576 | X44: 3920 | Y44: 6048 | Z44: 8352 | AA44: 12000 | AB44: 18752 | AC44: 26320 | AD44: 39376 | AE44: 48960 | AF44: 62768 | AG44: 76960 | AH44: 92096 | AJ44: =IF(A44<>0,A44,"") | AK44: =IF(B44<>0,B44,"") -> Sunshine Coast TSA | AL44: =IF($D44>0,G44/$D44,"") -> 0 | AM44: =IF($D44>0,H44/$D44,"") -> 0 | AN44: =IF($D44>0,I44/$D44,"") -> 0 | AO44: =IF($D44>0,J44/$D44,"") -> 0 | AP44: =IF($D44>0,K44/$D44,"") -> 0 | AQ44: =IF($D44>0,L44/$D44,"") -> 0 | AR44: =IF($D44>0,M44/$D44,"") -> 0 | AS44: =IF($D44>0,N44/$D44,"") -> 0 | ... AX44: =IF($D44>0,S44/$D44,"") -> 0.0010228435 | AY44: =IF($D44>0,V44/$D44,"") -> 0.0015041816 | AZ44: =IF($D44>0,W44/$D44,"") -> 0.0032289766 | BA44: =IF($D44>0,X44/$D44,"") -> 0.00491366 | BB44: =IF($D44>0,Y44/$D44,"") -> 0.0075810754 | BC44: =IF($D44>0,Z44/$D44,"") -> 0.010469104 | BD44: =IF($D44>0,AA44/$D44,"") -> 0.015041816 | BE44: =IF($D44>0,AB44/$D44,"") -> 0.023505345 | BF44: =IF($D44>0,AC44/$D44,"") -> 0.032991717 | ... BK44: =IF($D44>0,AH44/$D44,"") -> 0.11544093 | BM44: =IF(AJ44<>0,AJ44,"") | BN44: =IF(AK44<>0,AK44,"") -> Sunshine Coast TSA | BO44: =IF(S44>0,S44/1000000,"") -> 0.000816 | BP44: =IF(S44>0,$AX44,"") -> 0.0010228435 | BQ44: =IF(V44>0,V44/1000000,"") -> 0.0012 | BR44: =IF(R44>0,$AY44,"") -> 0.0015041816 | BS44: =IF(AA44>0,AA44/1000000,"") -> 0.012 | BT44: =IF(R44>0,$BD44,"") -> 0.015041816 | BU44: =IF(AF44>0,AF44/1000000,"") -> 0.062768 | BV44: =IF(R44>0,$BI44,"") -> 0.078678727 | BY44: =IF(A44<>0,A44,"") | BZ44: =IF(B44<>0,B44,"") -> Sunshine Coast TSA | CA44: =IF($C44>0,G44/$C44,"") -> 0 | CB44: =IF($C44>0,H44/$C44,"") -> 0 | CC44: =IF($C44>0,I44/$C44,"") -> 0 | CD44: =IF($C44>0,J44/$C44,"") -> 0 | CE44: =IF($C44>0,K44/$C44,"") -> 0 | CF44: =IF($C44>0,L44/$C44,"") -> 0 | CG44: =IF($C44>0,M44/$C44,"") -> 0 | CH44: =IF($C44>0,N44/$C44,"") -> 0 | ... CM44: =IF($C44>0,S44/$C44,"") -> 1.2947754e-05 | CN44: =IF($C44>0,V44/$C44,"") -> 1.9040815e-05 | CO44: =IF($C44>0,W44/$C44,"") -> 4.0874283e-05 | CP44: =IF($C44>0,X44/$C44,"") -> 6.2199996e-05 | CQ44: =IF($C44>0,Y44/$C44,"") -> 9.5965708e-05 | CR44: =IF($C44>0,Z44/$C44,"") -> 0.00013252407 | CS44: =IF($C44>0,AA44/$C44,"") -> 0.00019040815 | CT44: =IF($C44>0,AB44/$C44,"") -> 0.00029754447 | CU44: =IF($C44>0,AC44/$C44,"") -> 0.00041762855 | ... CZ44: =IF($C44>0,AH44/$C44,"") -> 0.0014613191
A45: Non-pine Units Total | C45: 953569424 | D45: 79297216 | E45: Non-pine Units Total | G45: 33632 | H45: 59840 | I45: 85920 | J45: 125952 | K45: 149776 | L45: 198928 | M45: 212592 | N45: 292704 | O45: 438816 | P45: 1045440 | Q45: 2347952 | R45: 6326800 | S45: 9934640 | T45: Non-pine Units Total | V45: 13140864 | W45: 15648272 | X45: 17453616 | Y45: 18856000 | Z45: 19976080 | AA45: 20949120 | AB45: 21855824 | AC45: 22689680 | AD45: 23427952 | AE45: 24052384 | AF45: 24532672 | AG45: 24952720 | AH45: 25312624 | AJ45: =IF(A45<>0,A45,"") -> Non-pine Units Total | AK45: =IF(B45<>0,B45,"") | AL45: =IF($D45>0,G45/$D45,"") -> 0.00042412586 | AM45: =IF($D45>0,H45/$D45,"") -> 0.00075462927 | AN45: =IF($D45>0,I45/$D45,"") -> 0.0010835185 | AO45: =IF($D45>0,J45/$D45,"") -> 0.0015883534 | AP45: =IF($D45>0,K45/$D45,"") -> 0.0018887927 | AQ45: =IF($D45>0,L45/$D45,"") -> 0.0025086379 | AR45: =IF($D45>0,M45/$D45,"") -> 0.0026809516 | AS45: =IF($D45>0,N45/$D45,"") -> 0.0036912267 | ... AX45: =IF($D45>0,S45/$D45,"") -> 0.12528359 | AY45: =IF($D45>0,V45/$D45,"") -> 0.16571659 | AZ45: =IF($D45>0,W45/$D45,"") -> 0.19733697 | BA45: =IF($D45>0,X45/$D45,"") -> 0.22010377 | BB45: =IF($D45>0,Y45/$D45,"") -> 0.23778893 | BC45: =IF($D45>0,Z45/$D45,"") -> 0.25191401 | BD45: =IF($D45>0,AA45/$D45,"") -> 0.26418481 | BE45: =IF($D45>0,AB45/$D45,"") -> 0.27561906 | BF45: =IF($D45>0,AC45/$D45,"") -> 0.28613464 | ... BK45: =IF($D45>0,AH45/$D45,"") -> 0.31921201 | BM45: =IF(AJ45<>0,AJ45,"") -> Non-pine Units Total | BN45: =IF(AK45<>0,AK45,"") | BO45: =IF(S45>0,S45/1000000,"") -> 9.93464 | BP45: =IF(S45>0,$AX45,"") -> 0.12528359 | BQ45: =IF(V45>0,V45/1000000,"") -> 13.140864 | BR45: =IF(R45>0,$AY45,"") -> 0.16571659 | BS45: =IF(AA45>0,AA45/1000000,"") -> 20.94912 | BT45: =IF(R45>0,$BD45,"") -> 0.26418481 | BU45: =IF(AF45>0,AF45/1000000,"") -> 24.532672 | BV45: =IF(R45>0,$BI45,"") -> 0.30937621 | BY45: =IF(A45<>0,A45,"") -> Non-pine Units Total | BZ45: =IF(B45<>0,B45,"") | CA45: =IF($C45>0,G45/$C45,"") -> 3.5269587e-05 | CB45: =IF($C45>0,H45/$C45,"") -> 6.275369e-05 | CC45: =IF($C45>0,I45/$C45,"") -> 9.010356e-05 | CD45: =IF($C45>0,J45/$C45,"") -> 0.00013208477 | CE45: =IF($C45>0,K45/$C45,"") -> 0.00015706879 | CF45: =IF($C45>0,L45/$C45,"") -> 0.00020861407 | CG45: =IF($C45>0,M45/$C45,"") -> 0.00022294339 | CH45: =IF($C45>0,N45/$C45,"") -> 0.00030695615 | ... CM45: =IF($C45>0,S45/$C45,"") -> 0.010418371 | CN45: =IF($C45>0,V45/$C45,"") -> 0.01378071 | CO45: =IF($C45>0,W45/$C45,"") -> 0.016410207 | CP45: =IF($C45>0,X45/$C45,"") -> 0.018303456 | CQ45: =IF($C45>0,Y45/$C45,"") -> 0.019774124 | CR45: =IF($C45>0,Z45/$C45,"") -> 0.020948742 | CS45: =IF($C45>0,AA45/$C45,"") -> 0.021969161 | CT45: =IF($C45>0,AB45/$C45,"") -> 0.022920013 | CU45: =IF($C45>0,AC45/$C45,"") -> 0.023794471 | ... CZ45: =IF($C45>0,AH45/$C45,"") -> 0.02654513
A46: Interior TFLs | C46: 370075520 | D46: 91970448 | E46: Interior TFLs | G46: 520144 | H46: 1091168 | I46: 1768560 | J46: 3141216 | K46: 6380112 | L46: 13267184 | M46: 22854800 | N46: 27410304 | O46: 35773568 | P46: 41769920 | Q46: 45354304 | R46: 48769696 | S46: 49273184 | T46: Interior TFLs | V46: 49787264 | W46: 50223568 | X46: 50621152 | Y46: 50969568 | Z46: 51282224 | AA46: 51593776 | AB46: 51909904 | AC46: 52272752 | AD46: 52651808 | AE46: 52992736 | AF46: 53383152 | AG46: 53742352 | AH46: 54104560 | AJ46: =IF(A46<>0,A46,"") -> Interior TFLs | AK46: =IF(B46<>0,B46,"") | AL46: =IF($D46>0,G46/$D46,"") -> 0.0056555558 | AM46: =IF($D46>0,H46/$D46,"") -> 0.011864333 | AN46: =IF($D46>0,I46/$D46,"") -> 0.019229655 | AO46: =IF($D46>0,J46/$D46,"") -> 0.034154623 | AP46: =IF($D46>0,K46/$D46,"") -> 0.069371327 | AQ46: =IF($D46>0,L46/$D46,"") -> 0.14425486 | AR46: =IF($D46>0,M46/$D46,"") -> 0.24850156 | AS46: =IF($D46>0,N46/$D46,"") -> 0.29803382 | ... AX46: =IF($D46>0,S46/$D46,"") -> 0.53575018 | AY46: =IF($D46>0,V46/$D46,"") -> 0.5413398 | AZ46: =IF($D46>0,W46/$D46,"") -> 0.54608376 | BA46: =IF($D46>0,X46/$D46,"") -> 0.55040671 | BB46: =IF($D46>0,Y46/$D46,"") -> 0.55419506 | BC46: =IF($D46>0,Z46/$D46,"") -> 0.55759459 | BD46: =IF($D46>0,AA46/$D46,"") -> 0.56098211 | BE46: =IF($D46>0,AB46/$D46,"") -> 0.56441939 | BF46: =IF($D46>0,AC46/$D46,"") -> 0.56836466 | ... BK46: =IF($D46>0,AH46/$D46,"") -> 0.58828201 | BM46: =IF(AJ46<>0,AJ46,"") -> Interior TFLs | BN46: =IF(AK46<>0,AK46,"") | BO46: =IF(S46>0,S46/1000000,"") -> 49.273184 | BP46: =IF(S46>0,$AX46,"") -> 0.53575018 | BQ46: =IF(V46>0,V46/1000000,"") -> 49.787264 | BR46: =IF(R46>0,$AY46,"") -> 0.5413398 | BS46: =IF(AA46>0,AA46/1000000,"") -> 51.593776 | BT46: =IF(R46>0,$BD46,"") -> 0.56098211 | BU46: =IF(AF46>0,AF46/1000000,"") -> 53.383152 | BV46: =IF(R46>0,$BI46,"") -> 0.5804381 | BY46: =IF(A46<>0,A46,"") -> Interior TFLs | BZ46: =IF(B46<>0,B46,"") | CA46: =IF($C46>0,G46/$C46,"") -> 0.0014055077 | CB46: =IF($C46>0,H46/$C46,"") -> 0.0029485009 | CC46: =IF($C46>0,I46/$C46,"") -> 0.0047789165 | CD46: =IF($C46>0,J46/$C46,"") -> 0.0084880405 | CE46: =IF($C46>0,K46/$C46,"") -> 0.017240027 | CF46: =IF($C46>0,L46/$C46,"") -> 0.035849937 | CG46: =IF($C46>0,M46/$C46,"") -> 0.061757125 | CH46: =IF($C46>0,N46/$C46,"") -> 0.074066785 | ... CM46: =IF($C46>0,S46/$C46,"") -> 0.13314359 | CN46: =IF($C46>0,V46/$C46,"") -> 0.13453271 | CO46: =IF($C46>0,W46/$C46,"") -> 0.13571167 | CP46: =IF($C46>0,X46/$C46,"") -> 0.13678601 | CQ46: =IF($C46>0,Y46/$C46,"") -> 0.13772748 | CR46: =IF($C46>0,Z46/$C46,"") -> 0.13857232 | CS46: =IF($C46>0,AA46/$C46,"") -> 0.13941418 | CT46: =IF($C46>0,AB46/$C46,"") -> 0.14026841 | CU46: =IF($C46>0,AC46/$C46,"") -> 0.14124888 | ... CZ46: =IF($C46>0,AH46/$C46,"") -> 0.1461987
A47: Coast TFLs | C47: 422006432 | D47: 2638912 | E47: Coast TFLs | G47: 0 | H47: 0 | I47: 0 | J47: 0 | K47: 0 | L47: 0 | M47: 0 | N47: 0 | O47: 0 | P47: 0 | Q47: 0 | R47: 0 | S47: 0 | T47: Coast TFLs | V47: 0 | W47: 0 | X47: 0 | Y47: 0 | Z47: 0 | AA47: 192 | AB47: 320 | AC47: 448 | AD47: 448 | AE47: 464 | AF47: 624 | AG47: 624 | AH47: 624 | AJ47: =IF(A47<>0,A47,"") -> Coast TFLs | AK47: =IF(B47<>0,B47,"") | AL47: =IF($D47>0,G47/$D47,"") -> 0 | AM47: =IF($D47>0,H47/$D47,"") -> 0 | AN47: =IF($D47>0,I47/$D47,"") -> 0 | AO47: =IF($D47>0,J47/$D47,"") -> 0 | AP47: =IF($D47>0,K47/$D47,"") -> 0 | AQ47: =IF($D47>0,L47/$D47,"") -> 0 | AR47: =IF($D47>0,M47/$D47,"") -> 0 | AS47: =IF($D47>0,N47/$D47,"") -> 0 | ... AX47: =IF($D47>0,S47/$D47,"") -> 0 | AY47: =IF($D47>0,V47/$D47,"") -> 0 | AZ47: =IF($D47>0,W47/$D47,"") -> 0 | BA47: =IF($D47>0,X47/$D47,"") -> 0 | BB47: =IF($D47>0,Y47/$D47,"") -> 0 | BC47: =IF($D47>0,Z47/$D47,"") -> 0 | BD47: =IF($D47>0,AA47/$D47,"") -> 7.2757258e-05 | BE47: =IF($D47>0,AB47/$D47,"") -> 0.0001212621 | BF47: =IF($D47>0,AC47/$D47,"") -> 0.00016976693 | ... BK47: =IF($D47>0,AH47/$D47,"") -> 0.00023646109 | BM47: =IF(AJ47<>0,AJ47,"") -> Coast TFLs | BN47: =IF(AK47<>0,AK47,"") | BO47: =IF(S47>0,S47/1000000,"") | BP47: =IF(S47>0,$AX47,"") | BQ47: =IF(V47>0,V47/1000000,"") | BR47: =IF(R47>0,$AY47,"") | BS47: =IF(AA47>0,AA47/1000000,"") -> 0.000192 | BT47: =IF(R47>0,$BD47,"") | BU47: =IF(AF47>0,AF47/1000000,"") -> 0.000624 | BV47: =IF(R47>0,$BI47,"") | BY47: =IF(A47<>0,A47,"") -> Coast TFLs | BZ47: =IF(B47<>0,B47,"") | CA47: =IF($C47>0,G47/$C47,"") -> 0 | CB47: =IF($C47>0,H47/$C47,"") -> 0 | CC47: =IF($C47>0,I47/$C47,"") -> 0 | CD47: =IF($C47>0,J47/$C47,"") -> 0 | CE47: =IF($C47>0,K47/$C47,"") -> 0 | CF47: =IF($C47>0,L47/$C47,"") -> 0 | CG47: =IF($C47>0,M47/$C47,"") -> 0 | CH47: =IF($C47>0,N47/$C47,"") -> 0 | ... CM47: =IF($C47>0,S47/$C47,"") -> 0 | CN47: =IF($C47>0,V47/$C47,"") -> 0 | CO47: =IF($C47>0,W47/$C47,"") -> 0 | CP47: =IF($C47>0,X47/$C47,"") -> 0 | CQ47: =IF($C47>0,Y47/$C47,"") -> 0 | CR47: =IF($C47>0,Z47/$C47,"") -> 0 | CS47: =IF($C47>0,AA47/$C47,"") -> 4.5496937e-07 | CT47: =IF($C47>0,AB47/$C47,"") -> 7.5828228e-07 | CU47: =IF($C47>0,AC47/$C47,"") -> 1.0615952e-06 | ... CZ47: =IF($C47>0,AH47/$C47,"") -> 1.4786504e-06
A48: Grand Total | C48: 4597284048 | D48: 1351874944 | E48: Grand Total | G48: 5607952 | H48: 12611120 | I48: 24935568 | J48: 52995120 | K48: 107156736 | L48: 185843520 | M48: 325655056 | N48: 438538192 | O48: 542431504 | P48: 602937504 | Q48: 650249440 | R48: 690048816 | S48: 709963040 | T48: Grand Total | V48: 728188256 | W48: 741411344 | X48: 750588624 | Y48: 757372256 | Z48: 762669168 | AA48: 767352960 | AB48: 771725856 | AC48: 776007344 | AD48: 780163792 | AE48: 784083776 | AF48: 787798032 | AG48: 791305920 | AH48: 794591216 | AJ48: =IF(A48<>0,A48,"") -> Grand Total | AK48: =IF(B48<>0,B48,"") | AL48: =IF($D48>0,G48/$D48,"") -> 0.0041482772 | AM48: =IF($D48>0,H48/$D48,"") -> 0.0093286143 | AN48: =IF($D48>0,I48/$D48,"") -> 0.018445174 | AO48: =IF($D48>0,J48/$D48,"") -> 0.0392012 | AP48: =IF($D48>0,K48/$D48,"") -> 0.079265273 | AQ48: =IF($D48>0,L48/$D48,"") -> 0.13747094 | AR48: =IF($D48>0,M48/$D48,"") -> 0.24089141 | AS48: =IF($D48>0,N48/$D48,"") -> 0.32439257 | ... AX48: =IF($D48>0,S48/$D48,"") -> 0.52516917 | AY48: =IF($D48>0,V48/$D48,"") -> 0.5386506 | AZ48: =IF($D48>0,W48/$D48,"") -> 0.5484319 | BA48: =IF($D48>0,X48/$D48,"") -> 0.55522046 | BB48: =IF($D48>0,Y48/$D48,"") -> 0.5602384 | BC48: =IF($D48>0,Z48/$D48,"") -> 0.5641566 | BD48: =IF($D48>0,AA48/$D48,"") -> 0.56762126 | BE48: =IF($D48>0,AB48/$D48,"") -> 0.57085595 | BF48: =IF($D48>0,AC48/$D48,"") -> 0.57402302 | ... BK48: =IF($D48>0,AH48/$D48,"") -> 0.58776976 | BM48: =IF(AJ48<>0,AJ48,"") -> Grand Total | BN48: =IF(AK48<>0,AK48,"") | BO48: =IF(S48>0,S48/1000000,"") -> 709.96304 | BP48: =IF(S48>0,$AX48,"") -> 0.52516917 | BQ48: =IF(V48>0,V48/1000000,"") -> 728.18826 | BR48: =IF(R48>0,$AY48,"") -> 0.5386506 | BS48: =IF(AA48>0,AA48/1000000,"") -> 767.35296 | BT48: =IF(R48>0,$BD48,"") -> 0.56762126 | BU48: =IF(AF48>0,AF48/1000000,"") -> 787.79803 | BV48: =IF(R48>0,$BI48,"") -> 0.58274475 | BY48: =IF(A48<>0,A48,"") -> Grand Total | BZ48: =IF(B48<>0,B48,"") | CA48: =IF($C48>0,G48/$C48,"") -> 0.0012198402 | CB48: =IF($C48>0,H48/$C48,"") -> 0.0027431675 | CC48: =IF($C48>0,I48/$C48,"") -> 0.0054239781 | CD48: =IF($C48>0,J48/$C48,"") -> 0.011527484 | CE48: =IF($C48>0,K48/$C48,"") -> 0.023308705 | CF48: =IF($C48>0,L48/$C48,"") -> 0.040424633 | CG48: =IF($C48>0,M48/$C48,"") -> 0.070836401 | CH48: =IF($C48>0,N48/$C48,"") -> 0.095390711 | ... CM48: =IF($C48>0,S48/$C48,"") -> 0.15443097 | CN48: =IF($C48>0,V48/$C48,"") -> 0.15839532 | CO48: =IF($C48>0,W48/$C48,"") -> 0.1612716 | CP48: =IF($C48>0,X48/$C48,"") -> 0.16326784 | CQ48: =IF($C48>0,Y48/$C48,"") -> 0.16474341 | CR48: =IF($C48>0,Z48/$C48,"") -> 0.16589559 | CS48: =IF($C48>0,AA48/$C48,"") -> 0.16691441 | CT48: =IF($C48>0,AB48/$C48,"") -> 0.1678656 | CU48: =IF($C48>0,AC48/$C48,"") -> 0.16879691 | ... CZ48: =IF($C48>0,AH48/$C48,"") -> 0.17283927
AJ49: =IF(A49<>0,A49,"") | AK49: =IF(B49<>0,B49,"") | AL49: =IF($D49>0,G49/$D49,"") | AM49: =IF($D49>0,H49/$D49,"") | AN49: =IF($D49>0,I49/$D49,"") | AO49: =IF($D49>0,J49/$D49,"") | AP49: =IF($D49>0,K49/$D49,"") | AQ49: =IF($D49>0,L49/$D49,"") | AR49: =IF($D49>0,M49/$D49,"") | AS49: =IF($D49>0,N49/$D49,"") | ... AX49: =IF($D49>0,S49/$D49,"") | AY49: =IF($D49>0,V49/$D49,"") | AZ49: =IF($D49>0,W49/$D49,"") | BA49: =IF($D49>0,X49/$D49,"") | BB49: =IF($D49>0,Y49/$D49,"") | BC49: =IF($D49>0,Z49/$D49,"") | BD49: =IF($D49>0,AA49/$D49,"") | BE49: =IF($D49>0,AB49/$D49,"") | BF49: =IF($D49>0,AC49/$D49,"") | ... BK49: =IF($D49>0,AH49/$D49,"") | BM49: =IF(AJ49<>0,AJ49,"") | BN49: =IF(AK49<>0,AK49,"") | BO49: =IF(S49>0,S49/1000000,"") | BP49: =IF(S49>0,$AX49,"") | BQ49: =IF(V49>0,V49/1000000,"") | BR49: =IF(R49>0,$AY49,"") | BS49: =IF(AA49>0,AA49/1000000,"") | BT49: =IF(R49>0,$BD49,"") | BU49: =IF(AF49>0,AF49/1000000,"") | BV49: =IF(R49>0,$BI49,"") | BY49: =IF(A49<>0,A49,"") | BZ49: =IF(B49<>0,B49,"") | CA49: =IF($C49>0,G49/$C49,"") | CB49: =IF($C49>0,H49/$C49,"") | CC49: =IF($C49>0,I49/$C49,"") | CD49: =IF($C49>0,J49/$C49,"") | CE49: =IF($C49>0,K49/$C49,"") | CF49: =IF($C49>0,L49/$C49,"") | CG49: =IF($C49>0,M49/$C49,"") | CH49: =IF($C49>0,N49/$C49,"") | ... CM49: =IF($C49>0,S49/$C49,"") | CN49: =IF($C49>0,V49/$C49,"") | CO49: =IF($C49>0,W49/$C49,"") | CP49: =IF($C49>0,X49/$C49,"") | CQ49: =IF($C49>0,Y49/$C49,"") | CR49: =IF($C49>0,Z49/$C49,"") | CS49: =IF($C49>0,AA49/$C49,"") | CT49: =IF($C49>0,AB49/$C49,"") | CU49: =IF($C49>0,AC49/$C49,"") | ... CZ49: =IF($C49>0,AH49/$C49,"")
AJ50: =IF(A50<>0,A50,"") | AK50: =IF(B50<>0,B50,"") | AL50: =IF($D50>0,G50/$D50,"") | AM50: =IF($D50>0,H50/$D50,"") | AN50: =IF($D50>0,I50/$D50,"") | AO50: =IF($D50>0,J50/$D50,"") | AP50: =IF($D50>0,K50/$D50,"") | AQ50: =IF($D50>0,L50/$D50,"") | AR50: =IF($D50>0,M50/$D50,"") | AS50: =IF($D50>0,N50/$D50,"") | ... AX50: =IF($D50>0,S50/$D50,"") | AY50: =IF($D50>0,V50/$D50,"") | AZ50: =IF($D50>0,W50/$D50,"") | BA50: =IF($D50>0,X50/$D50,"") | BB50: =IF($D50>0,Y50/$D50,"") | BC50: =IF($D50>0,Z50/$D50,"") | BD50: =IF($D50>0,AA50/$D50,"") | BE50: =IF($D50>0,AB50/$D50,"") | BF50: =IF($D50>0,AC50/$D50,"") | ... BK50: =IF($D50>0,AH50/$D50,"") | BM50: =IF(AJ50<>0,AJ50,"") | BN50: =IF(AK50<>0,AK50,"") | BO50: =IF(S50>0,S50/1000000,"") | BP50: =IF(S50>0,$AX50,"") | BQ50: =IF(V50>0,V50/1000000,"") | BR50: =IF(R50>0,$AY50,"") | BS50: =IF(AA50>0,AA50/1000000,"") | BT50: =IF(R50>0,$BD50,"") | BU50: =IF(AF50>0,AF50/1000000,"") | BV50: =IF(R50>0,$BI50,"") | BY50: =IF(A50<>0,A50,"") | BZ50: =IF(B50<>0,B50,"") | CA50: =IF($C50>0,G50/$C50,"") | CB50: =IF($C50>0,H50/$C50,"") | CC50: =IF($C50>0,I50/$C50,"") | CD50: =IF($C50>0,J50/$C50,"") | CE50: =IF($C50>0,K50/$C50,"") | CF50: =IF($C50>0,L50/$C50,"") | CG50: =IF($C50>0,M50/$C50,"") | CH50: =IF($C50>0,N50/$C50,"") | ... CM50: =IF($C50>0,S50/$C50,"") | CN50: =IF($C50>0,V50/$C50,"") | CO50: =IF($C50>0,W50/$C50,"") | CP50: =IF($C50>0,X50/$C50,"") | CQ50: =IF($C50>0,Y50/$C50,"") | CR50: =IF($C50>0,Z50/$C50,"") | CS50: =IF($C50>0,AA50/$C50,"") | CT50: =IF($C50>0,AB50/$C50,"") | CU50: =IF($C50>0,AC50/$C50,"") | ... CZ50: =IF($C50>0,AH50/$C50,"")
AJ51: =IF(A51<>0,A51,"") | AK51: =IF(B51<>0,B51,"") | AL51: =IF($D51>0,G51/$D51,"") | AM51: =IF($D51>0,H51/$D51,"") | AN51: =IF($D51>0,I51/$D51,"") | AO51: =IF($D51>0,J51/$D51,"") | AP51: =IF($D51>0,K51/$D51,"") | AQ51: =IF($D51>0,L51/$D51,"") | AR51: =IF($D51>0,M51/$D51,"") | AS51: =IF($D51>0,N51/$D51,"") | ... AX51: =IF($D51>0,S51/$D51,"") | AY51: =IF($D51>0,V51/$D51,"") | AZ51: =IF($D51>0,W51/$D51,"") | BA51: =IF($D51>0,X51/$D51,"") | BB51: =IF($D51>0,Y51/$D51,"") | BC51: =IF($D51>0,Z51/$D51,"") | BD51: =IF($D51>0,AA51/$D51,"") | BE51: =IF($D51>0,AB51/$D51,"") | BF51: =IF($D51>0,AC51/$D51,"") | ... BK51: =IF($D51>0,AH51/$D51,"") | BM51: =IF(AJ51<>0,AJ51,"") | BN51: =IF(AK51<>0,AK51,"") | BO51: =IF(S51>0,S51/1000000,"") | BP51: =IF(S51>0,$AX51,"") | BQ51: =IF(V51>0,V51/1000000,"") | BR51: =IF(R51>0,$AY51,"") | BS51: =IF(AA51>0,AA51/1000000,"") | BT51: =IF(R51>0,$BD51,"") | BU51: =IF(AF51>0,AF51/1000000,"") | BV51: =IF(R51>0,$BI51,"") | BY51: =IF(A51<>0,A51,"") | BZ51: =IF(B51<>0,B51,"") | CA51: =IF($C51>0,G51/$C51,"") | CB51: =IF($C51>0,H51/$C51,"") | CC51: =IF($C51>0,I51/$C51,"") | CD51: =IF($C51>0,J51/$C51,"") | CE51: =IF($C51>0,K51/$C51,"") | CF51: =IF($C51>0,L51/$C51,"") | CG51: =IF($C51>0,M51/$C51,"") | CH51: =IF($C51>0,N51/$C51,"") | ... CM51: =IF($C51>0,S51/$C51,"") | CN51: =IF($C51>0,V51/$C51,"") | CO51: =IF($C51>0,W51/$C51,"") | CP51: =IF($C51>0,X51/$C51,"") | CQ51: =IF($C51>0,Y51/$C51,"") | CR51: =IF($C51>0,Z51/$C51,"") | CS51: =IF($C51>0,AA51/$C51,"") | CT51: =IF($C51>0,AB51/$C51,"") | CU51: =IF($C51>0,AC51/$C51,"") | ... CZ51: =IF($C51>0,AH51/$C51,"")
AJ52: =IF(A52<>0,A52,"") | AK52: =IF(B52<>0,B52,"") | AL52: =IF($D52>0,G52/$D52,"") | AM52: =IF($D52>0,H52/$D52,"") | AN52: =IF($D52>0,I52/$D52,"") | AO52: =IF($D52>0,J52/$D52,"") | AP52: =IF($D52>0,K52/$D52,"") | AQ52: =IF($D52>0,L52/$D52,"") | AR52: =IF($D52>0,M52/$D52,"") | AS52: =IF($D52>0,N52/$D52,"") | ... AX52: =IF($D52>0,S52/$D52,"") | AY52: =IF($D52>0,V52/$D52,"") | AZ52: =IF($D52>0,W52/$D52,"") | BA52: =IF($D52>0,X52/$D52,"") | BB52: =IF($D52>0,Y52/$D52,"") | BC52: =IF($D52>0,Z52/$D52,"") | BD52: =IF($D52>0,AA52/$D52,"") | BE52: =IF($D52>0,AB52/$D52,"") | BF52: =IF($D52>0,AC52/$D52,"") | ... BK52: =IF($D52>0,AH52/$D52,"") | BM52: =IF(AJ52<>0,AJ52,"") | BN52: =IF(AK52<>0,AK52,"") | BO52: =IF(S52>0,S52/1000000,"") | BP52: =IF(S52>0,$AX52,"") | BQ52: =IF(V52>0,V52/1000000,"") | BR52: =IF(R52>0,$AY52,"") | BS52: =IF(AA52>0,AA52/1000000,"") | BT52: =IF(R52>0,$BD52,"") | BU52: =IF(AF52>0,AF52/1000000,"") | BV52: =IF(R52>0,$BI52,"") | BY52: =IF(A52<>0,A52,"") | BZ52: =IF(B52<>0,B52,"") | CA52: =IF($C52>0,G52/$C52,"") | CB52: =IF($C52>0,H52/$C52,"") | CC52: =IF($C52>0,I52/$C52,"") | CD52: =IF($C52>0,J52/$C52,"") | CE52: =IF($C52>0,K52/$C52,"") | CF52: =IF($C52>0,L52/$C52,"") | CG52: =IF($C52>0,M52/$C52,"") | CH52: =IF($C52>0,N52/$C52,"") | ... CM52: =IF($C52>0,S52/$C52,"") | CN52: =IF($C52>0,V52/$C52,"") | CO52: =IF($C52>0,W52/$C52,"") | CP52: =IF($C52>0,X52/$C52,"") | CQ52: =IF($C52>0,Y52/$C52,"") | CR52: =IF($C52>0,Z52/$C52,"") | CS52: =IF($C52>0,AA52/$C52,"") | CT52: =IF($C52>0,AB52/$C52,"") | CU52: =IF($C52>0,AC52/$C52,"") | ... CZ52: =IF($C52>0,AH52/$C52,"")
AJ53: =IF(A53<>0,A53,"") | AK53: =IF(B53<>0,B53,"") | AL53: =IF($D53>0,G53/$D53,"") | AM53: =IF($D53>0,H53/$D53,"") | AN53: =IF($D53>0,I53/$D53,"") | AO53: =IF($D53>0,J53/$D53,"") | AP53: =IF($D53>0,K53/$D53,"") | AQ53: =IF($D53>0,L53/$D53,"") | AR53: =IF($D53>0,M53/$D53,"") | AS53: =IF($D53>0,N53/$D53,"") | ... AX53: =IF($D53>0,S53/$D53,"") | AY53: =IF($D53>0,V53/$D53,"") | AZ53: =IF($D53>0,W53/$D53,"") | BA53: =IF($D53>0,X53/$D53,"") | BB53: =IF($D53>0,Y53/$D53,"") | BC53: =IF($D53>0,Z53/$D53,"") | BD53: =IF($D53>0,AA53/$D53,"") | BE53: =IF($D53>0,AB53/$D53,"") | BF53: =IF($D53>0,AC53/$D53,"") | ... BK53: =IF($D53>0,AH53/$D53,"") | BM53: =IF(AJ53<>0,AJ53,"") | BN53: =IF(AK53<>0,AK53,"") | BO53: =IF(S53>0,S53/1000000,"") | BP53: =IF(S53>0,$AX53,"") | BQ53: =IF(V53>0,V53/1000000,"") | BR53: =IF(R53>0,$AY53,"") | BS53: =IF(AA53>0,AA53/1000000,"") | BT53: =IF(R53>0,$BD53,"") | BU53: =IF(AF53>0,AF53/1000000,"") | BV53: =IF(R53>0,$BI53,"") | BY53: =IF(A53<>0,A53,"") | BZ53: =IF(B53<>0,B53,"") | CA53: =IF($C53>0,G53/$C53,"") | CB53: =IF($C53>0,H53/$C53,"") | CC53: =IF($C53>0,I53/$C53,"") | CD53: =IF($C53>0,J53/$C53,"") | CE53: =IF($C53>0,K53/$C53,"") | CF53: =IF($C53>0,L53/$C53,"") | CG53: =IF($C53>0,M53/$C53,"") | CH53: =IF($C53>0,N53/$C53,"") | ... CM53: =IF($C53>0,S53/$C53,"") | CN53: =IF($C53>0,V53/$C53,"") | CO53: =IF($C53>0,W53/$C53,"") | CP53: =IF($C53>0,X53/$C53,"") | CQ53: =IF($C53>0,Y53/$C53,"") | CR53: =IF($C53>0,Z53/$C53,"") | CS53: =IF($C53>0,AA53/$C53,"") | CT53: =IF($C53>0,AB53/$C53,"") | CU53: =IF($C53>0,AC53/$C53,"") | ... CZ53: =IF($C53>0,AH53/$C53,"")
AJ54: =IF(A54<>0,A54,"") | AK54: =IF(B54<>0,B54,"") | AL54: =IF($D54>0,G54/$D54,"") | AM54: =IF($D54>0,H54/$D54,"") | AN54: =IF($D54>0,I54/$D54,"") | AO54: =IF($D54>0,J54/$D54,"") | AP54: =IF($D54>0,K54/$D54,"") | AQ54: =IF($D54>0,L54/$D54,"") | AR54: =IF($D54>0,M54/$D54,"") | AS54: =IF($D54>0,N54/$D54,"") | ... AX54: =IF($D54>0,S54/$D54,"") | AY54: =IF($D54>0,V54/$D54,"") | AZ54: =IF($D54>0,W54/$D54,"") | BA54: =IF($D54>0,X54/$D54,"") | BB54: =IF($D54>0,Y54/$D54,"") | BC54: =IF($D54>0,Z54/$D54,"") | BD54: =IF($D54>0,AA54/$D54,"") | BE54: =IF($D54>0,AB54/$D54,"") | BF54: =IF($D54>0,AC54/$D54,"") | ... BK54: =IF($D54>0,AH54/$D54,"") | BM54: =IF(AJ54<>0,AJ54,"") | BN54: =IF(AK54<>0,AK54,"") | BO54: =IF(S54>0,S54/1000000,"") | BP54: =IF(S54>0,$AX54,"") | BQ54: =IF(V54>0,V54/1000000,"") | BR54: =IF(R54>0,$AY54,"") | BS54: =IF(AA54>0,AA54/1000000,"") | BT54: =IF(R54>0,$BD54,"") | BU54: =IF(AF54>0,AF54/1000000,"") | BV54: =IF(R54>0,$BI54,"") | BY54: =IF(A54<>0,A54,"") | BZ54: =IF(B54<>0,B54,"") | CA54: =IF($C54>0,G54/$C54,"") | CB54: =IF($C54>0,H54/$C54,"") | CC54: =IF($C54>0,I54/$C54,"") | CD54: =IF($C54>0,J54/$C54,"") | CE54: =IF($C54>0,K54/$C54,"") | CF54: =IF($C54>0,L54/$C54,"") | CG54: =IF($C54>0,M54/$C54,"") | CH54: =IF($C54>0,N54/$C54,"") | ... CM54: =IF($C54>0,S54/$C54,"") | CN54: =IF($C54>0,V54/$C54,"") | CO54: =IF($C54>0,W54/$C54,"") | CP54: =IF($C54>0,X54/$C54,"") | CQ54: =IF($C54>0,Y54/$C54,"") | CR54: =IF($C54>0,Z54/$C54,"") | CS54: =IF($C54>0,AA54/$C54,"") | CT54: =IF($C54>0,AB54/$C54,"") | CU54: =IF($C54>0,AC54/$C54,"") | ... CZ54: =IF($C54>0,AH54/$C54,"")
AJ55: =IF(A55<>0,A55,"") | AK55: =IF(B55<>0,B55,"") | AL55: =IF($D55>0,G55/$D55,"") | AM55: =IF($D55>0,H55/$D55,"") | AN55: =IF($D55>0,I55/$D55,"") | AO55: =IF($D55>0,J55/$D55,"") | AP55: =IF($D55>0,K55/$D55,"") | AQ55: =IF($D55>0,L55/$D55,"") | AR55: =IF($D55>0,M55/$D55,"") | AS55: =IF($D55>0,N55/$D55,"") | ... AX55: =IF($D55>0,S55/$D55,"") | AY55: =IF($D55>0,V55/$D55,"") | AZ55: =IF($D55>0,W55/$D55,"") | BA55: =IF($D55>0,X55/$D55,"") | BB55: =IF($D55>0,Y55/$D55,"") | BC55: =IF($D55>0,Z55/$D55,"") | BD55: =IF($D55>0,AA55/$D55,"") | BE55: =IF($D55>0,AB55/$D55,"") | BF55: =IF($D55>0,AC55/$D55,"") | ... BK55: =IF($D55>0,AH55/$D55,"") | BM55: =IF(AJ55<>0,AJ55,"") | BN55: =IF(AK55<>0,AK55,"") | BO55: =IF(S55>0,S55/1000000,"") | BP55: =IF(S55>0,$AX55,"") | BQ55: =IF(V55>0,V55/1000000,"") | BR55: =IF(R55>0,$AY55,"") | BS55: =IF(AA55>0,AA55/1000000,"") | BT55: =IF(R55>0,$BD55,"") | BU55: =IF(AF55>0,AF55/1000000,"") | BV55: =IF(R55>0,$BI55,"") | BY55: =IF(A55<>0,A55,"") | BZ55: =IF(B55<>0,B55,"") | CA55: =IF($C55>0,G55/$C55,"") | CB55: =IF($C55>0,H55/$C55,"") | CC55: =IF($C55>0,I55/$C55,"") | CD55: =IF($C55>0,J55/$C55,"") | CE55: =IF($C55>0,K55/$C55,"") | CF55: =IF($C55>0,L55/$C55,"") | CG55: =IF($C55>0,M55/$C55,"") | CH55: =IF($C55>0,N55/$C55,"") | ... CM55: =IF($C55>0,S55/$C55,"") | CN55: =IF($C55>0,V55/$C55,"") | CO55: =IF($C55>0,W55/$C55,"") | CP55: =IF($C55>0,X55/$C55,"") | CQ55: =IF($C55>0,Y55/$C55,"") | CR55: =IF($C55>0,Z55/$C55,"") | CS55: =IF($C55>0,AA55/$C55,"") | CT55: =IF($C55>0,AB55/$C55,"") | CU55: =IF($C55>0,AC55/$C55,"") | ... CZ55: =IF($C55>0,AH55/$C55,"")
AJ56: =IF(A56<>0,A56,"") | AK56: =IF(B56<>0,B56,"") | AL56: =IF($D56>0,G56/$D56,"") | AM56: =IF($D56>0,H56/$D56,"") | AN56: =IF($D56>0,I56/$D56,"") | AO56: =IF($D56>0,J56/$D56,"") | AP56: =IF($D56>0,K56/$D56,"") | AQ56: =IF($D56>0,L56/$D56,"") | AR56: =IF($D56>0,M56/$D56,"") | AS56: =IF($D56>0,N56/$D56,"") | ... AX56: =IF($D56>0,S56/$D56,"") | AY56: =IF($D56>0,V56/$D56,"") | AZ56: =IF($D56>0,W56/$D56,"") | BA56: =IF($D56>0,X56/$D56,"") | BB56: =IF($D56>0,Y56/$D56,"") | BC56: =IF($D56>0,Z56/$D56,"") | BD56: =IF($D56>0,AA56/$D56,"") | BE56: =IF($D56>0,AB56/$D56,"") | BF56: =IF($D56>0,AC56/$D56,"") | ... BK56: =IF($D56>0,AH56/$D56,"") | BM56: =IF(AJ56<>0,AJ56,"") | BN56: =IF(AK56<>0,AK56,"") | BO56: =IF(S56>0,S56/1000000,"") | BP56: =IF(S56>0,$AX56,"") | BQ56: =IF(V56>0,V56/1000000,"") | BR56: =IF(R56>0,$AY56,"") | BS56: =IF(AA56>0,AA56/1000000,"") | BT56: =IF(R56>0,$BD56,"") | BU56: =IF(AF56>0,AF56/1000000,"") | BV56: =IF(R56>0,$BI56,"") | BY56: =IF(A56<>0,A56,"") | BZ56: =IF(B56<>0,B56,"") | CA56: =IF($C56>0,G56/$C56,"") | CB56: =IF($C56>0,H56/$C56,"") | CC56: =IF($C56>0,I56/$C56,"") | CD56: =IF($C56>0,J56/$C56,"") | CE56: =IF($C56>0,K56/$C56,"") | CF56: =IF($C56>0,L56/$C56,"") | CG56: =IF($C56>0,M56/$C56,"") | CH56: =IF($C56>0,N56/$C56,"") | ... CM56: =IF($C56>0,S56/$C56,"") | CN56: =IF($C56>0,V56/$C56,"") | CO56: =IF($C56>0,W56/$C56,"") | CP56: =IF($C56>0,X56/$C56,"") | CQ56: =IF($C56>0,Y56/$C56,"") | CR56: =IF($C56>0,Z56/$C56,"") | CS56: =IF($C56>0,AA56/$C56,"") | CT56: =IF($C56>0,AB56/$C56,"") | CU56: =IF($C56>0,AC56/$C56,"") | ... CZ56: =IF($C56>0,AH56/$C56,"")
AJ57: =IF(A57<>0,A57,"") | AK57: =IF(B57<>0,B57,"") | AL57: =IF($D57>0,G57/$D57,"") | AM57: =IF($D57>0,H57/$D57,"") | AN57: =IF($D57>0,I57/$D57,"") | AO57: =IF($D57>0,J57/$D57,"") | AP57: =IF($D57>0,K57/$D57,"") | AQ57: =IF($D57>0,L57/$D57,"") | AR57: =IF($D57>0,M57/$D57,"") | AS57: =IF($D57>0,N57/$D57,"") | ... AX57: =IF($D57>0,S57/$D57,"") | AY57: =IF($D57>0,V57/$D57,"") | AZ57: =IF($D57>0,W57/$D57,"") | BA57: =IF($D57>0,X57/$D57,"") | BB57: =IF($D57>0,Y57/$D57,"") | BC57: =IF($D57>0,Z57/$D57,"") | BD57: =IF($D57>0,AA57/$D57,"") | BE57: =IF($D57>0,AB57/$D57,"") | BF57: =IF($D57>0,AC57/$D57,"") | ... BK57: =IF($D57>0,AH57/$D57,"") | BM57: =IF(AJ57<>0,AJ57,"") | BN57: =IF(AK57<>0,AK57,"") | BO57: =IF(S57>0,S57/1000000,"") | BP57: =IF(S57>0,$AX57,"") | BQ57: =IF(V57>0,V57/1000000,"") | BR57: =IF(R57>0,$AY57,"") | BS57: =IF(AA57>0,AA57/1000000,"") | BT57: =IF(R57>0,$BD57,"") | BU57: =IF(AF57>0,AF57/1000000,"") | BV57: =IF(R57>0,$BI57,"") | BY57: =IF(A57<>0,A57,"") | BZ57: =IF(B57<>0,B57,"") | CA57: =IF($C57>0,G57/$C57,"") | CB57: =IF($C57>0,H57/$C57,"") | CC57: =IF($C57>0,I57/$C57,"") | CD57: =IF($C57>0,J57/$C57,"") | CE57: =IF($C57>0,K57/$C57,"") | CF57: =IF($C57>0,L57/$C57,"") | CG57: =IF($C57>0,M57/$C57,"") | CH57: =IF($C57>0,N57/$C57,"") | ... CM57: =IF($C57>0,S57/$C57,"") | CN57: =IF($C57>0,V57/$C57,"") | CO57: =IF($C57>0,W57/$C57,"") | CP57: =IF($C57>0,X57/$C57,"") | CQ57: =IF($C57>0,Y57/$C57,"") | CR57: =IF($C57>0,Z57/$C57,"") | CS57: =IF($C57>0,AA57/$C57,"") | CT57: =IF($C57>0,AB57/$C57,"") | CU57: =IF($C57>0,AC57/$C57,"") | ... CZ57: =IF($C57>0,AH57/$C57,"")
AJ58: =IF(A58<>0,A58,"") | AK58: =IF(B58<>0,B58,"") | AL58: =IF($D58>0,G58/$D58,"") | AM58: =IF($D58>0,H58/$D58,"") | AN58: =IF($D58>0,I58/$D58,"") | AO58: =IF($D58>0,J58/$D58,"") | AP58: =IF($D58>0,K58/$D58,"") | AQ58: =IF($D58>0,L58/$D58,"") | AR58: =IF($D58>0,M58/$D58,"") | AS58: =IF($D58>0,N58/$D58,"") | ... AX58: =IF($D58>0,S58/$D58,"") | AY58: =IF($D58>0,V58/$D58,"") | AZ58: =IF($D58>0,W58/$D58,"") | BA58: =IF($D58>0,X58/$D58,"") | BB58: =IF($D58>0,Y58/$D58,"") | BC58: =IF($D58>0,Z58/$D58,"") | BD58: =IF($D58>0,AA58/$D58,"") | BE58: =IF($D58>0,AB58/$D58,"") | BF58: =IF($D58>0,AC58/$D58,"") | ... BK58: =IF($D58>0,AH58/$D58,"") | BM58: =IF(AJ58<>0,AJ58,"") | BN58: =IF(AK58<>0,AK58,"") | BO58: =IF(S58>0,S58/1000000,"") | BP58: =IF(S58>0,$AX58,"") | BQ58: =IF(V58>0,V58/1000000,"") | BR58: =IF(R58>0,$AY58,"") | BS58: =IF(AA58>0,AA58/1000000,"") | BT58: =IF(R58>0,$BD58,"") | BU58: =IF(AF58>0,AF58/1000000,"") | BV58: =IF(R58>0,$BI58,"") | BY58: =IF(A58<>0,A58,"") | BZ58: =IF(B58<>0,B58,"") | CA58: =IF($C58>0,G58/$C58,"") | CB58: =IF($C58>0,H58/$C58,"") | CC58: =IF($C58>0,I58/$C58,"") | CD58: =IF($C58>0,J58/$C58,"") | CE58: =IF($C58>0,K58/$C58,"") | CF58: =IF($C58>0,L58/$C58,"") | CG58: =IF($C58>0,M58/$C58,"") | CH58: =IF($C58>0,N58/$C58,"") | ... CM58: =IF($C58>0,S58/$C58,"") | CN58: =IF($C58>0,V58/$C58,"") | CO58: =IF($C58>0,W58/$C58,"") | CP58: =IF($C58>0,X58/$C58,"") | CQ58: =IF($C58>0,Y58/$C58,"") | CR58: =IF($C58>0,Z58/$C58,"") | CS58: =IF($C58>0,AA58/$C58,"") | CT58: =IF($C58>0,AB58/$C58,"") | CU58: =IF($C58>0,AC58/$C58,"") | ... CZ58: =IF($C58>0,AH58/$C58,"")
AJ59: =IF(A59<>0,A59,"") | AK59: =IF(B59<>0,B59,"") | AL59: =IF($D59>0,G59/$D59,"") | AM59: =IF($D59>0,H59/$D59,"") | AN59: =IF($D59>0,I59/$D59,"") | AO59: =IF($D59>0,J59/$D59,"") | AP59: =IF($D59>0,K59/$D59,"") | AQ59: =IF($D59>0,L59/$D59,"") | AR59: =IF($D59>0,M59/$D59,"") | AS59: =IF($D59>0,N59/$D59,"") | ... AX59: =IF($D59>0,S59/$D59,"") | AY59: =IF($D59>0,V59/$D59,"") | AZ59: =IF($D59>0,W59/$D59,"") | BA59: =IF($D59>0,X59/$D59,"") | BB59: =IF($D59>0,Y59/$D59,"") | BC59: =IF($D59>0,Z59/$D59,"") | BD59: =IF($D59>0,AA59/$D59,"") | BE59: =IF($D59>0,AB59/$D59,"") | BF59: =IF($D59>0,AC59/$D59,"") | ... BK59: =IF($D59>0,AH59/$D59,"") | BM59: =IF(AJ59<>0,AJ59,"") | BN59: =IF(AK59<>0,AK59,"") | BO59: =IF(S59>0,S59/1000000,"") | BP59: =IF(S59>0,$AX59,"") | BQ59: =IF(V59>0,V59/1000000,"") | BR59: =IF(R59>0,$AY59,"") | BS59: =IF(AA59>0,AA59/1000000,"") | BT59: =IF(R59>0,$BD59,"") | BU59: =IF(AF59>0,AF59/1000000,"") | BV59: =IF(R59>0,$BI59,"") | BY59: =IF(A59<>0,A59,"") | BZ59: =IF(B59<>0,B59,"") | CA59: =IF($C59>0,G59/$C59,"") | CB59: =IF($C59>0,H59/$C59,"") | CC59: =IF($C59>0,I59/$C59,"") | CD59: =IF($C59>0,J59/$C59,"") | CE59: =IF($C59>0,K59/$C59,"") | CF59: =IF($C59>0,L59/$C59,"") | CG59: =IF($C59>0,M59/$C59,"") | CH59: =IF($C59>0,N59/$C59,"") | ... CM59: =IF($C59>0,S59/$C59,"") | CN59: =IF($C59>0,V59/$C59,"") | CO59: =IF($C59>0,W59/$C59,"") | CP59: =IF($C59>0,X59/$C59,"") | CQ59: =IF($C59>0,Y59/$C59,"") | CR59: =IF($C59>0,Z59/$C59,"") | CS59: =IF($C59>0,AA59/$C59,"") | CT59: =IF($C59>0,AB59/$C59,"") | CU59: =IF($C59>0,AC59/$C59,"") | ... CZ59: =IF($C59>0,AH59/$C59,"")
AJ60: =IF(A60<>0,A60,"") | AK60: =IF(B60<>0,B60,"") | AL60: =IF($D60>0,G60/$D60,"") | AM60: =IF($D60>0,H60/$D60,"") | AN60: =IF($D60>0,I60/$D60,"") | AO60: =IF($D60>0,J60/$D60,"") | AP60: =IF($D60>0,K60/$D60,"") | AQ60: =IF($D60>0,L60/$D60,"") | AR60: =IF($D60>0,M60/$D60,"") | AS60: =IF($D60>0,N60/$D60,"") | ... AX60: =IF($D60>0,S60/$D60,"") | AY60: =IF($D60>0,V60/$D60,"") | AZ60: =IF($D60>0,W60/$D60,"") | BA60: =IF($D60>0,X60/$D60,"") | BB60: =IF($D60>0,Y60/$D60,"") | BC60: =IF($D60>0,Z60/$D60,"") | BD60: =IF($D60>0,AA60/$D60,"") | BE60: =IF($D60>0,AB60/$D60,"") | BF60: =IF($D60>0,AC60/$D60,"") | ... BK60: =IF($D60>0,AH60/$D60,"") | BM60: =IF(AJ60<>0,AJ60,"") | BN60: =IF(AK60<>0,AK60,"") | BO60: =IF(S60>0,S60/1000000,"") | BP60: =IF(S60>0,$AX60,"") | BQ60: =IF(V60>0,V60/1000000,"") | BR60: =IF(R60>0,$AY60,"") | BS60: =IF(AA60>0,AA60/1000000,"") | BT60: =IF(R60>0,$BD60,"") | BU60: =IF(AF60>0,AF60/1000000,"") | BV60: =IF(R60>0,$BI60,"") | BY60: =IF(A60<>0,A60,"") | BZ60: =IF(B60<>0,B60,"") | CA60: =IF($C60>0,G60/$C60,"") | CB60: =IF($C60>0,H60/$C60,"") | CC60: =IF($C60>0,I60/$C60,"") | CD60: =IF($C60>0,J60/$C60,"") | CE60: =IF($C60>0,K60/$C60,"") | CF60: =IF($C60>0,L60/$C60,"") | CG60: =IF($C60>0,M60/$C60,"") | CH60: =IF($C60>0,N60/$C60,"") | ... CM60: =IF($C60>0,S60/$C60,"") | CN60: =IF($C60>0,V60/$C60,"") | CO60: =IF($C60>0,W60/$C60,"") | CP60: =IF($C60>0,X60/$C60,"") | CQ60: =IF($C60>0,Y60/$C60,"") | CR60: =IF($C60>0,Z60/$C60,"") | CS60: =IF($C60>0,AA60/$C60,"") | CT60: =IF($C60>0,AB60/$C60,"") | CU60: =IF($C60>0,AC60/$C60,"") | ... CZ60: =IF($C60>0,AH60/$C60,"")
... AJ82: =IF(A82<>0,A82,"") | AK82: =IF(B82<>0,B82,"") | AL82: =IF($D82>0,G82/$D82,"") | AM82: =IF($D82>0,H82/$D82,"") | AN82: =IF($D82>0,I82/$D82,"") | AO82: =IF($D82>0,J82/$D82,"") | AP82: =IF($D82>0,K82/$D82,"") | AQ82: =IF($D82>0,L82/$D82,"") | AR82: =IF($D82>0,M82/$D82,"") | AS82: =IF($D82>0,N82/$D82,"") | ... AX82: =IF($D82>0,S82/$D82,"") | AY82: =IF($D82>0,V82/$D82,"") | AZ82: =IF($D82>0,W82/$D82,"") | BA82: =IF($D82>0,X82/$D82,"") | BB82: =IF($D82>0,Y82/$D82,"") | BC82: =IF($D82>0,Z82/$D82,"") | BD82: =IF($D82>0,AA82/$D82,"") | BE82: =IF($D82>0,AB82/$D82,"") | BF82: =IF($D82>0,AC82/$D82,"") | ... BK82: =IF($D82>0,AH82/$D82,"") | BM82: =IF(AJ82<>0,AJ82,"") | BN82: =IF(AK82<>0,AK82,"") | BO82: =IF(S82>0,S82/1000000,"") | BP82: =IF(S82>0,$AX82,"") | BQ82: =IF(V82>0,V82/1000000,"") | BR82: =IF(R82>0,$AY82,"") | BS82: =IF(AA82>0,AA82/1000000,"") | BT82: =IF(R82>0,$BD82,"") | BU82: =IF(AF82>0,AF82/1000000,"") | BV82: =IF(R82>0,$BI82,"") | BY82: =IF(A82<>0,A82,"") | BZ82: =IF(B82<>0,B82,"") | CA82: =IF($C82>0,G82/$C82,"") | CB82: =IF($C82>0,H82/$C82,"") | CC82: =IF($C82>0,I82/$C82,"") | CD82: =IF($C82>0,J82/$C82,"") | CE82: =IF($C82>0,K82/$C82,"") | CF82: =IF($C82>0,L82/$C82,"") | CG82: =IF($C82>0,M82/$C82,"") | CH82: =IF($C82>0,N82/$C82,"") | ... CM82: =IF($C82>0,S82/$C82,"") | CN82: =IF($C82>0,V82/$C82,"") | CO82: =IF($C82>0,W82/$C82,"") | CP82: =IF($C82>0,X82/$C82,"") | CQ82: =IF($C82>0,Y82/$C82,"") | CR82: =IF($C82>0,Z82/$C82,"") | CS82: =IF($C82>0,AA82/$C82,"") | CT82: =IF($C82>0,AB82/$C82,"") | CU82: =IF($C82>0,AC82/$C82,"") | ... CZ82: =IF($C82>0,AH82/$C82,"")
BN85: Percent of Pine Volume Killed (red- and grey-attack)
BO86: Year | BP86: Year
BN87: Pine Unit | BO87: 2011 | BQ87: 2012 | BS87: 2017 | BU87: 2022
BN88: Quesnel TSA | BO88: 89.677152 | BP88: 0.80812301 | BQ88: 89.677536 | BR88: 0.80812647 | BS88: 89.681728 | BT88: 0.80816425 | BU88: 89.690192 | BV88: 0.80824052
BN89: Lakes TSA | BO89: 53.979984 | BP89: 0.75978134 | BQ89: 54.005984 | BR89: 0.76014729 | BS89: 54.110704 | BT89: 0.76162125 | BU89: 54.146464 | BV89: 0.76212458
BN90: Vanderhoof Forest District | BO90: 71.33248 | BP90: 0.73058304 | BQ90: 71.333968 | BR90: 0.73059828 | BS90: 71.34384 | BT90: 0.73069939 | BU90: 71.353504 | BV90: 0.73079837
BN91: 100 Mile House TSA | BO91: 41.529488 | BP91: 0.72102369 | BQ91: 41.531584 | BR91: 0.72106008 | BS91: 41.559584 | BT91: 0.72154621 | BU91: 41.627792 | BV91: 0.72273042
BN92: Ft. St. James Forest District | BO92: 70.5368 | BP92: 0.64415315 | BQ92: 74.137344 | BR92: 0.67703388 | BS92: 78.714896 | BT92: 0.71883681 | BU92: 79.04952 | BV92: 0.72189264
BN93: Prince George Forest District | BO93: 49.066736 | BP93: 0.6287838 | BQ93: 49.083888 | BR93: 0.6290036 | BS93: 49.158752 | BT93: 0.62996297 | BU93: 49.242112 | BV93: 0.63103122
BN94: Williams Lake TSA | BO94: 86.410304 | BP94: 0.60165451 | BQ94: 86.434752 | BR94: 0.60182473 | BS94: 86.629152 | BT94: 0.6031783 | BU94: 87.35928 | BV94: 0.608262
BN95: Mackenzie TSA | BO95: 64.885776 | BP95: 0.55539835 | BQ95: 70.368976 | BR95: 0.60233252 | BS95: 78.129024 | BT95: 0.66875567 | BU95: 78.860608 | BV95: 0.67501776
BN96: Morice TSA | BO96: 31.507152 | BP96: 0.55199302 | BQ96: 32.784112 | BR96: 0.57436486 | BS96: 35.26696 | BT96: 0.61786339 | BU96: 35.611104 | BV96: 0.62389266
BN97: Kamloops TSA | BO97: 28.8484 | BP97: 0.49026179 | BQ97: 28.866192 | BR97: 0.49056415 | BS97: 29.124688 | BT97: 0.49495714 | BU97: 29.79704 | BV97: 0.50638338
BN98: Robson Valley TSA | BO98: 2.520656 | BP98: 0.40537112 | BQ98: 2.814688 | BR98: 0.45265726 | BS98: 3.195296 | BT98: 0.51386652 | BU98: 3.237008 | BV98: 0.52057463
BN99: Dawson Creek TSA | BO99: 12.264368 | BP99: 0.39704491 | BQ99: 13.472208 | BR99: 0.43614736 | BS99: 16.781856 | BT99: 0.54329343 | BU99: 17.727648 | BV99: 0.57391237
... BN112: Provincial Total | BO112: 709.96304 | BP112: 0.52516917 | BQ112: 728.18826 | BR112: 0.5386506 | BS112: 767.35296 | BT112: 0.56762126 | BU112: 787.79803 | BV112: 0.58274475
BN113: * Ft. St. John TSA is not one of the historic Pine Units so it has been ommitted from the Pine Units Total

Sheet Data
A1: currYr | B1: mu | C1: 2004anKillData | D1: 2004cumKillData | E1: 2004anKillProjection | F1: 2004cumKillProjection | G1: 2005anKillData | H1: 2005cumKillData | I1: 2005anKillProjection | J1: 2005cumKillProjection | K1: 2006anKillData | L1: 2006cumKillData | M1: 2006anKillProjection | N1: 2006cumKillProjection | O1: 2007anKillData | P1: 2007cumKillData | Q1: 2007anKillProjection | R1: 2007cumKillProjection | S1: 2008anKillData | T1: 2008cumKillData | U1: 2008anKillProjection | V1: 2008cumKillProjection | W1: 2009anKillData | X1: 2009cumKillData | Y1: 2009anKillProjection | Z1: 2009cumKillProjection | AA1: 2010anKillData | AB1: 2010cumKillData | AC1: 2010anKillProjection | AD1: 2010cumKillProjection | AE1: 2011anKillData | AF1: 2011cumKillData | AG1: 2011anKillProjection | AH1: 2011cumKillProjection | AI1: Year | AJ1: Management Unit Class | AK1: Management Unit | AL1: Management Unit Full Name | AO1: Managment Unit ID (muID) | AP1: Manamgent Units: Look-up Name | AQ1: Management Units: Full Name | AR1: Managment Unit Class | AS1: Pine Units: Look-up Name | AT1: Pine Units: Full Name | AU1: THLB Total Volume (m3) in 1999 | AV1: THLB Pine Volume (m3) in 1999 | AW1: Include | AX1: Coast/Interior | AZ1: Pine Units: Look-up Name | BA1: Pine Units: Full Name
A2: 0 | B2: 1 | C2: 150240 | D2: 111600 | G2: 212304 | H2: 212304 | K2: 220944 | L2: 220944 | O2: 228512 | P2: 228512 | S2: 227200 | T2: 227200 | W2: 224288 | X2: 224288 | AA2: 228304 | AB2: 228304 | AE2: 230192 | AF2: 230192 | AI2: =A2+1999 -> 1999 | AJ2: =VLOOKUP(B2,$AO$2:$AS$42,4) -> Pine Units | AK2: =VLOOKUP(B2,$AO$2:$AT$42,2) -> 100MileHouse | AL2: =VLOOKUP(B2,$AO$2:$AT$42,3) -> 100 Mile House TSA | AO2: 1 | AP2: 100MileHouse | AQ2: 100 Mile House TSA | AR2: Pine Units | AS2: 100MileHouse | AT2: 100 Mile House | AU2: 110436352 | AV2: 57597952 | AW2: 1 | AX2: I | AZ2: 100MileHouse | BA2: 100 Mile House TSA
A3: 0 | B3: 2 | C3: 40048 | D3: 35264 | G3: 55744 | H3: 55744 | K3: 62288 | L3: 62288 | O3: 56752 | P3: 56752 | S3: 53568 | T3: 53568 | W3: 54720 | X3: 54720 | AA3: 67824 | AB3: 67824 | AE3: 57520 | AF3: 57520 | AI3: =A3+1999 -> 1999 | AJ3: =VLOOKUP(B3,$AO$2:$AS$42,4) -> Pine Units | AK3: =VLOOKUP(B3,$AO$2:$AT$42,2) -> Arrow | AL3: =VLOOKUP(B3,$AO$2:$AT$42,3) -> Arrow TSA | AO3: 2 | AP3: Arrow | AQ3: Arrow TSA | AR3: Pine Units | AS3: Arrow | AT3: Arrow | AU3: 50683296 | AV3: 7895984 | AW3: 1 | AX3: I | AZ3: Arrow | BA3: Arrow TSA
A4: 0 | B4: 3 | C4: 0 | D4: 0 | G4: 0 | H4: 0 | K4: 0 | L4: 0 | O4: 0 | P4: 0 | S4: 0 | T4: 0 | W4: 0 | X4: 0 | AA4: 0 | AB4: 0 | AE4: 0 | AF4: 0 | AI4: =A4+1999 -> 1999 | AJ4: =VLOOKUP(B4,$AO$2:$AS$42,4) -> Non-pine Units | AK4: =VLOOKUP(B4,$AO$2:$AT$42,2) -> Arrowsmith | AL4: =VLOOKUP(B4,$AO$2:$AT$42,3) -> Arrowsmith TSA | AO4: 3 | AP4: Arrowsmith | AQ4: Arrowsmith TSA | AR4: Non-pine Units | AS4: out | AT4: Outside "Pine Units" | AU4: 16180416 | AV4: 82112 | AW4: 2 | AX4: C | AZ4: Boundary | BA4: Boundary TSA
A5: 0 | B5: 4 | C5: 5360 | D5: 4176 | G5: 8960 | H5: 8960 | K5: 8800 | L5: 8800 | O5: 8864 | P5: 8864 | S5: 8288 | T5: 8288 | W5: 8544 | X5: 8544 | AA5: 7984 | AB5: 7984 | AE5: 8000 | AF5: 8000 | AI5: =A5+1999 -> 1999 | AJ5: =VLOOKUP(B5,$AO$2:$AS$42,4) -> Pine Units | AK5: =VLOOKUP(B5,$AO$2:$AT$42,2) -> Boundary | AL5: =VLOOKUP(B5,$AO$2:$AT$42,3) -> Boundary TSA | AO5: 4 | AP5: Boundary | AQ5: Boundary TSA | AR5: Pine Units | AS5: Boundary | AT5: Boundary | AU5: 43424592 | AV5: 15011120 | AW5: 1 | AX5: I | AZ5: Bulkley | BA5: Bulkley TSA
A6: 0 | B6: 5 | C6: 42992 | D6: 33952 | G6: 69264 | H6: 69264 | K6: 74224 | L6: 74224 | O6: 74768 | P6: 74768 | S6: 74672 | T6: 74672 | W6: 74768 | X6: 74768 | AA6: 74768 | AB6: 74768 | AE6: 74656 | AF6: 74656 | AI6: =A6+1999 -> 1999 | AJ6: =VLOOKUP(B6,$AO$2:$AS$42,4) -> Pine Units | AK6: =VLOOKUP(B6,$AO$2:$AT$42,2) -> Bulkley | AL6: =VLOOKUP(B6,$AO$2:$AT$42,3) -> Bulkley TSA | AO6: 5 | AP6: Bulkley | AQ6: Bulkley TSA | AR6: Pine Units | AS6: Bulkley | AT6: Bulkley | AU6: 69628000 | AV6: 13183136 | AW6: 1 | AX6: I | AZ6: Cranbrook | BA6: Cranbrook TSA
A7: 0 | B7: 6 | C7: 0 | D7: 0 | G7: 0 | H7: 0 | K7: 0 | L7: 0 | O7: 0 | P7: 0 | S7: 0 | T7: 0 | W7: 0 | X7: 0 | AA7: 0 | AB7: 0 | AE7: 0 | AF7: 0 | AI7: =A7+1999 -> 1999 | AJ7: =VLOOKUP(B7,$AO$2:$AS$42,4) -> Non-pine Units | AK7: =VLOOKUP(B7,$AO$2:$AT$42,2) -> Cassiar | AL7: =VLOOKUP(B7,$AO$2:$AT$42,3) -> Cassiar TSA | AO7: 6 | AP7: Cassiar | AQ7: Cassiar TSA | AR7: Non-pine Units | AS7: out | AT7: Outside "Pine Units" | AU7: 35651056 | AV7: 15071280 | AW7: 2 | AX7: I | AZ7: DawsonCreek | BA7: Dawson Creek TSA
A8: 0 | B8: 7 | C8: 0 | D8: 0 | G8: 0 | H8: 0 | K8: 0 | L8: 0 | O8: 0 | P8: 0 | S8: 0 | T8: 0 | W8: 0 | X8: 0 | AA8: 0 | AB8: 0 | AE8: 0 | AF8: 0 | AI8: =A8+1999 -> 1999 | AJ8: =VLOOKUP(B8,$AO$2:$AS$42,4) -> Non-pine Units | AK8: =VLOOKUP(B8,$AO$2:$AT$42,2) -> Cranberry | AL8: =VLOOKUP(B8,$AO$2:$AT$42,3) -> Cranberry TSA | AO8: 7 | AP8: Cranberry | AQ8: Cranberry TSA | AR8: Non-pine Units | AS8: out | AT8: Outside "Pine Units" | AU8: 8204240 | AV8: 690528 | AW8: 2 | AX8: I | AZ8: FtStJames | BA8: Fort St. James Forest District
A9: 0 | B9: 8 | C9: 53680 | D9: 41504 | G9: 108432 | H9: 108432 | K9: 116240 | L9: 116240 | O9: 108480 | P9: 108480 | S9: 111024 | T9: 111024 | W9: 118384 | X9: 118384 | AA9: 107376 | AB9: 107376 | AE9: 123152 | AF9: 123152 | AI9: =A9+1999 -> 1999 | AJ9: =VLOOKUP(B9,$AO$2:$AS$42,4) -> Pine Units | AK9: =VLOOKUP(B9,$AO$2:$AT$42,2) -> Cranbrook | AL9: =VLOOKUP(B9,$AO$2:$AT$42,3) -> Cranbrook TSA | AO9: 8 | AP9: Cranbrook | AQ9: Cranbrook TSA | AR9: Pine Units | AS9: Cranbrook | AT9: Cranbrook | AU9: 65829904 | AV9: 30875856 | AW9: 1 | AX9: I | AZ9: Golden | BA9: Golden TSA
A10: 0 | B10: 9 | C10: 0 | D10: 0 | G10: 0 | H10: 0 | K10: 0 | L10: 0 | O10: 0 | P10: 0 | S10: 0 | T10: 0 | W10: 0 | X10: 0 | AA10: 0 | AB10: 0 | AE10: 0 | AF10: 0 | AI10: =A10+1999 -> 1999 | AJ10: =VLOOKUP(B10,$AO$2:$AS$42,4) -> Pine Units | AK10: =VLOOKUP(B10,$AO$2:$AT$42,2) -> DawsonCreek | AL10: =VLOOKUP(B10,$AO$2:$AT$42,3) -> Dawson Creek TSA | AO10: 9 | AP10: DawsonCreek | AQ10: Dawson Creek TSA | AR10: Pine Units | AS10: DawsonCreek | AT10: Dawson Creek | AU10: 107675632 | AV10: 30889120 | AW10: 1 | AX10: I | AZ10: Invermere | BA10: Invermere TSA
A11: 0 | B11: 10 | C11: 0 | D11: 0 | G11: 0 | H11: 0 | K11: 0 | L11: 0 | O11: 0 | P11: 0 | S11: 0 | T11: 0 | W11: 0 | X11: 0 | AA11: 0 | AB11: 0 | AE11: 0 | AF11: 0 | AI11: =A11+1999 -> 1999 | AJ11: =VLOOKUP(B11,$AO$2:$AS$42,4) -> Non-pine Units | AK11: =VLOOKUP(B11,$AO$2:$AT$42,2) -> FortNelson | AL11: =VLOOKUP(B11,$AO$2:$AT$42,3) -> Fort Nelson TSA | AO11: 10 | AP11: FortNelson | AQ11: Fort Nelson TSA | AR11: Non-pine Units | AS11: out | AT11: Outside "Pine Units" | AU11: 156594208 | AV11: 13492944 | AW11: 2 | AX11: I | AZ11: Kamloops | BA11: Kamloops TSA
A12: 0 | B12: 11 | C12: 64 | D12: 32 | G12: 288 | H12: 288 | K12: 352 | L12: 352 | O12: 352 | P12: 352 | S12: 352 | T12: 352 | W12: 352 | X12: 352 | AA12: 352 | AB12: 352 | AE12: 352 | AF12: 352 | AI12: =A12+1999 -> 1999 | AJ12: =VLOOKUP(B12,$AO$2:$AS$42,4) -> Non-pine Units | AK12: =VLOOKUP(B12,$AO$2:$AT$42,2) -> Fraser | AL12: =VLOOKUP(B12,$AO$2:$AT$42,3) -> Fraser TSA | AO12: 11 | AP12: Fraser | AQ12: Fraser TSA | AR12: Non-pine Units | AS12: out | AT12: Outside "Pine Units" | AU12: 72435888 | AV12: 757968 | AW12: 2 | AX12: C | AZ12: KootenayLake | BA12: Kootenay Lake TSA
A13: 0 | B13: 12 | C13: 558928 | D13: 457184 | G13: 963168 | H13: 963168 | K13: 929168 | L13: 929168 | O13: 936256 | P13: 936256 | S13: 933728 | T13: 933728 | W13: 935632 | X13: 935632 | AA13: 938416 | AB13: 938416 | AE13: 940704 | AF13: 940704 | AI13: =A13+1999 -> 1999 | AJ13: =VLOOKUP(B13,$AO$2:$AS$42,4) -> Pine Units | AK13: =VLOOKUP(B13,$AO$2:$AT$42,2) -> FtStJames | AL13: =VLOOKUP(B13,$AO$2:$AT$42,3) -> Ft. St. James Forest District | AO13: 12 | AP13: FtStJames | AQ13: Ft. St. James Forest District | AR13: Pine Units | AS13: FtStJames | AT13: Fort St. James | AU13: 285258608 | AV13: 109503152 | AW13: 1 | AX13: I | AZ13: Lakes | BA13: Lakes TSA
... A24: 0 | B24: 23 | C24: 60160 | D24: 55088 | G24: 67344 | H24: 67344 | K24: 77040 | L24: 77040 | O24: 75936 | P24: 75936 | S24: 78080 | T24: 78080 | W24: 75264 | X24: 75264 | AA24: 81424 | AB24: 81424 | AE24: 75632 | AF24: 75632 | AI24: =A24+1999 -> 1999 | AJ24: =VLOOKUP(B24,$AO$2:$AS$42,4) -> Pine Units | AK24: =VLOOKUP(B24,$AO$2:$AT$42,2) -> Mackenzie | AL24: =VLOOKUP(B24,$AO$2:$AT$42,3) -> Mackenzie TSA | AO24: 23 | AP24: Mackenzie | AQ24: Mackenzie TSA | AR24: Pine Units | AS24: Mackenzie | AT24: Mackenzie | AU24: 287531712 | AV24: 116827456 | AW24: 1 | AX24: I | AZ24: WilliamsLake | BA24: Williams Lake TSA
A25: 0 | B25: 24 | C25: 215072 | D25: 195072 | G25: 244752 | H25: 244752 | K25: 268896 | L25: 268896 | O25: 260896 | P25: 260896 | S25: 254944 | T25: 254944 | W25: 263472 | X25: 263472 | AA25: 270416 | AB25: 270416 | AE25: 264512 | AF25: 264512 | AI25: =A25+1999 -> 1999 | AJ25: =VLOOKUP(B25,$AO$2:$AS$42,4) -> Pine Units | AK25: =VLOOKUP(B25,$AO$2:$AT$42,2) -> Merritt | AL25: =VLOOKUP(B25,$AO$2:$AT$42,3) -> Merritt TSA | AO25: 24 | AP25: Merritt | AQ25: Merritt TSA | AR25: Pine Units | AS25: Merritt | AT25: Merritt | AU25: 130833856 | AV25: 66165184 | AW25: 1 | AX25: I
A26: 0 | B26: 25 | C26: 48 | D26: 0 | G26: 80 | H26: 80 | K26: 432 | L26: 432 | O26: 432 | P26: 432 | S26: 80 | T26: 80 | W26: 80 | X26: 80 | AA26: 80 | AB26: 80 | AE26: 688 | AF26: 688 | AI26: =A26+1999 -> 1999 | AJ26: =VLOOKUP(B26,$AO$2:$AS$42,4) -> Non-pine Units | AK26: =VLOOKUP(B26,$AO$2:$AT$42,2) -> MidCoast | AL26: =VLOOKUP(B26,$AO$2:$AT$42,3) -> Mid Coast TSA | AO26: 25 | AP26: MidCoast | AQ26: Mid Coast TSA | AR26: Non-pine Units | AS26: out | AT26: Outside "Pine Units" | AU26: 74589456 | AV26: 383136 | AW26: 2 | AX26: C
A27: 0 | B27: 26 | C27: 276176 | D27: 231712 | G27: 390864 | H27: 390864 | K27: 406416 | L27: 406416 | O27: 407344 | P27: 407344 | S27: 407168 | T27: 407168 | W27: 407040 | X27: 407040 | AA27: 407040 | AB27: 407040 | AE27: 406448 | AF27: 406448 | AI27: =A27+1999 -> 1999 | AJ27: =VLOOKUP(B27,$AO$2:$AS$42,4) -> Pine Units | AK27: =VLOOKUP(B27,$AO$2:$AT$42,2) -> Morice | AL27: =VLOOKUP(B27,$AO$2:$AT$42,3) -> Morice TSA | AO27: 26 | AP27: Morice | AQ27: Morice TSA | AR27: Pine Units | AS27: Morice | AT27: Morice | AU27: 132865936 | AV27: 57078896 | AW27: 1 | AX27: I
A28: 0 | B28: 27 | C28: 0 | D28: 0 | G28: 0 | H28: 0 | K28: 0 | L28: 0 | O28: 0 | P28: 0 | S28: 0 | T28: 0 | W28: 0 | X28: 0 | AA28: 0 | AB28: 0 | AE28: 0 | AF28: 0 | AI28: =A28+1999 -> 1999 | AJ28: =VLOOKUP(B28,$AO$2:$AS$42,4) -> Non-pine Units | AK28: =VLOOKUP(B28,$AO$2:$AT$42,2) -> Nass | AL28: =VLOOKUP(B28,$AO$2:$AT$42,3) -> Nass TSA | AO28: 27 | AP28: Nass | AQ28: Nass TSA | AR28: Non-pine Units | AS28: out | AT28: Outside "Pine Units" | AU28: 48545584 | AV28: 1304016 | AW28: 2 | AX28: C
A29: 0 | B29: 28 | C29: 0 | D29: 0 | G29: 0 | H29: 0 | K29: 0 | L29: 0 | O29: 0 | P29: 0 | S29: 0 | T29: 0 | W29: 0 | X29: 0 | AA29: 0 | AB29: 0 | AE29: 0 | AF29: 0 | AI29: =A29+1999 -> 1999 | AJ29: =VLOOKUP(B29,$AO$2:$AS$42,4) -> Non-pine Units | AK29: =VLOOKUP(B29,$AO$2:$AT$42,2) -> NorthCoast | AL29: =VLOOKUP(B29,$AO$2:$AT$42,3) -> North Coast TSA | AO29: 28 | AP29: NorthCoast | AQ29: North Coast TSA | AR29: Non-pine Units | AS29: out | AT29: Outside "Pine Units" | AU29: 51647072 | AV29: 168208 | AW29: 2 | AX29: C
A30: 0 | B30: 29 | C30: 72752 | D30: 64400 | G30: 70240 | H30: 70240 | K30: 72336 | L30: 72336 | O30: 75760 | P30: 75760 | S30: 77136 | T30: 77136 | W30: 75344 | X30: 75344 | AA30: 72752 | AB30: 72752 | AE30: 74144 | AF30: 74144 | AI30: =A30+1999 -> 1999 | AJ30: =VLOOKUP(B30,$AO$2:$AS$42,4) -> Pine Units | AK30: =VLOOKUP(B30,$AO$2:$AT$42,2) -> Okanagan | AL30: =VLOOKUP(B30,$AO$2:$AT$42,3) -> Okanagan TSA | AO30: 29 | AP30: Okanagan | AQ30: Okanagan TSA | AR30: Pine Units | AS30: Okanagan | AT30: Okanagan | AU30: 211370096 | AV30: 57336608 | AW30: 1 | AX30: I
A31: 0 | B31: 30 | C31: 516544 | D31: 475824 | G31: 468480 | H31: 468480 | K31: 428064 | L31: 428064 | O31: 414896 | P31: 414896 | S31: 406960 | T31: 406960 | W31: 415536 | X31: 415536 | AA31: 427632 | AB31: 427632 | AE31: 409072 | AF31: 409072 | AI31: =A31+1999 -> 1999 | AJ31: =VLOOKUP(B31,$AO$2:$AS$42,4) -> Pine Units | AK31: =VLOOKUP(B31,$AO$2:$AT$42,2) -> PrinceGeorge | AL31: =VLOOKUP(B31,$AO$2:$AT$42,3) -> Prince George Forest District | AO31: 30 | AP31: PrinceGeorge | AQ31: Prince George Forest District | AR31: Pine Units | AS31: PrinceGeorge | AT31: Prince George | AU31: 248976896 | AV31: 78034352 | AW31: 1 | AX31: I
A32: 0 | B32: 31 | C32: 0 | D32: 0 | G32: 0 | H32: 0 | K32: 0 | L32: 0 | O32: 0 | P32: 0 | S32: 0 | T32: 0 | W32: 0 | X32: 0 | AA32: 0 | AB32: 0 | AE32: 0 | AF32: 0 | AI32: =A32+1999 -> 1999 | AJ32: =VLOOKUP(B32,$AO$2:$AS$42,4) -> Non-pine Units | AK32: =VLOOKUP(B32,$AO$2:$AT$42,2) -> QueenCharlotte | AL32: =VLOOKUP(B32,$AO$2:$AT$42,3) -> Queen Charlotte TSA | AO32: 31 | AP32: QueenCharlotte | AQ32: Queen Charlotte TSA | AR32: Non-pine Units | AS32: out | AT32: Outside "Pine Units" | AU32: 30795888 | AV32: 1385376 | AW32: 2 | AX32: C
A33: 0 | B33: 32 | C33: 1149824 | D33: 951936 | G33: 1042048 | H33: 1042048 | K33: 1038208 | L33: 1038208 | O33: 1066000 | P33: 1066000 | S33: 1056800 | T33: 1056800 | W33: 1066096 | X33: 1066096 | AA33: 1049744 | AB33: 1049744 | AE33: 1058080 | AF33: 1058080 | AI33: =A33+1999 -> 1999 | AJ33: =VLOOKUP(B33,$AO$2:$AS$42,4) -> Pine Units | AK33: =VLOOKUP(B33,$AO$2:$AT$42,2) -> Quesnel | AL33: =VLOOKUP(B33,$AO$2:$AT$42,3) -> Quesnel TSA | AO33: 32 | AP33: Quesnel | AQ33: Quesnel TSA | AR33: Pine Units | AS33: Quesnel | AT33: Quesnel | AU33: 164736944 | AV33: 110969680 | AW33: 1 | AX33: I
A34: 0 | B34: 33 | C34: 0 | D34: 0 | G34: 0 | H34: 0 | K34: 0 | L34: 0 | O34: 0 | P34: 0 | S34: 0 | T34: 0 | W34: 0 | X34: 0 | AA34: 0 | AB34: 0 | AE34: 0 | AF34: 0 | AI34: =A34+1999 -> 1999 | AJ34: =VLOOKUP(B34,$AO$2:$AS$42,4) -> Non-pine Units | AK34: =VLOOKUP(B34,$AO$2:$AT$42,2) -> Revelstoke | AL34: =VLOOKUP(B34,$AO$2:$AT$42,3) -> Revelstoke TSA | AO34: 33 | AP34: Revelstoke | AQ34: Revelstoke TSA | AR34: Non-pine Units | AS34: out | AT34: Outside "Pine Units" | AU34: 18084368 | AV34: 198432 | AW34: 2 | AX34: I
A35: 0 | B35: 34 | C35: 23040 | D35: 21344 | G35: 26768 | H35: 26768 | K35: 30256 | L35: 30256 | O35: 28736 | P35: 28736 | S35: 23776 | T35: 23776 | W35: 29120 | X35: 29120 | AA35: 30112 | AB35: 30112 | AE35: 26080 | AF35: 26080 | AI35: =A35+1999 -> 1999 | AJ35: =VLOOKUP(B35,$AO$2:$AS$42,4) -> Pine Units | AK35: =VLOOKUP(B35,$AO$2:$AT$42,2) -> RobsonValley | AL35: =VLOOKUP(B35,$AO$2:$AT$42,3) -> Robson Valley TSA | AO35: 34 | AP35: RobsonValley | AQ35: Robson Valley TSA | AR35: Pine Units | AS35: RobsonValley | AT35: Robson Valley | AU35: 49000096 | AV35: 6218144 | AW35: 1 | AX35: I
