Workbook
Name bottomRep: [1]NotesAndParameters!$C$7
Name maxMuRank: [1]NotesAndParameters!$D$6
Name minMuRank: [1]NotesAndParameters!$C$6
Name percentType: [1]NotesAndParameters!$B$18
Name Scale: SummaryByUnit!$B$1
Name topRep: [1]NotesAndParameters!$D$7
Name varSelect: [1]NotesAndParameters!$C$5

Sheet MUNames&Summary
A1: Metadata
A2: Description | B2: Comparison of the Provincial Projection of the Current Mountain Pine Beetle Infestation Model (BCMPB), which is derived in part from the Provincial Aerial Overview Surveys of Forest Health.
A3: Model Version | B3: BCMPB.v9 (and years 1999 through 2011 of the Aerial Overview Surveys of Forest Health)
A4: Scenario | B4: No Management, i.e. no future forest harvesting or beetle suppression activities occur. This is the projection of the infestation alone
A5: Data Values | B5: Cubic meters (m3) of pine observed to have been killed (red- and grey-attack only) on the timber harvesting land base (THLB).
A6: Caution | B6: The Prince George Timber Supply Area (TSA) is modelled as 3 separate management units (each forest district).
A7: Reference | B7: www.for.gov.bc.ca/hre/bcmpb
A8: Contact | B8: adrian.walton@gov.bc.ca
A10: Run date | B10: 40947
A12: Instructions
A13: Select one or more management units (or "All") from the dropdown box in cell B3 on the "SummaryByUnit" worksheet. Values and charts on the various worksheets will automatically update to reflect estimates of annual and/or cumulative pine volume killed by the mountain pine beetle within the selected management unit(s).
A15: MuName | B15: Management Unit ID | C15: THLB Total Volume (m3) in 1999 | D15: THLB Pine Volume (m3) in 1999 | E15: Percent Pine | F15: Coast - Interior | G15: Coast THLB Total Volume (m3) in 1999 | H15: Coast THLB Pine Volume (m3) in 1999 | I15: Interior THLB Total Volume (m3) in 1999 | J15: Interior THLB Pine Volume (m3) in 1999
A16: =VLOOKUP(B16,Data!$AO$2:$AV$42,3) -> Vanderhoof Forest District | B16: 38 | C16: =VLOOKUP(B16,Data!$AO$2:$AV$42,7) -> 133279904 | D16: =VLOOKUP(B16,Data!$AO$2:$AV$42,8) -> 97637744 | E16: =IF(C16>0,D16/C16,0) -> 0.73257664 | F16: =VLOOKUP(B16,Data!$AO$2:$AX$42,10) -> I | G16: =IF($F16="C",C16,"") | H16: =IF($F16="C",D16,"") | I16: =IF($F16="I",C16,"") -> 133279904 | J16: =IF($F16="I",D16,"") -> 97637744
A17: =VLOOKUP(B17,Data!$AO$2:$AV$42,3) -> Quesnel TSA | B17: 32 | C17: =VLOOKUP(B17,Data!$AO$2:$AV$42,7) -> 164736944 | D17: =VLOOKUP(B17,Data!$AO$2:$AV$42,8) -> 110969680 | E17: =IF(C17>0,D17/C17,0) -> 0.67361745 | F17: =VLOOKUP(B17,Data!$AO$2:$AX$42,10) -> I | G17: =IF($F17="C",C17,"") | H17: =IF($F17="C",D17,"") | I17: =IF($F17="I",C17,"") -> 164736944 | J17: =IF($F17="I",D17,"") -> 110969680
A18: =VLOOKUP(B18,Data!$AO$2:$AV$42,3) -> Lakes TSA | B18: 21 | C18: =VLOOKUP(B18,Data!$AO$2:$AV$42,7) -> 110554240 | D18: =VLOOKUP(B18,Data!$AO$2:$AV$42,8) -> 71046736 | E18: =IF(C18>0,D18/C18,0) -> 0.64264144 | F18: =VLOOKUP(B18,Data!$AO$2:$AX$42,10) -> I | G18: =IF($F18="C",C18,"") | H18: =IF($F18="C",D18,"") | I18: =IF($F18="I",C18,"") -> 110554240 | J18: =IF($F18="I",D18,"") -> 71046736
A19: =VLOOKUP(B19,Data!$AO$2:$AV$42,3) -> Williams Lake TSA | B19: 39 | C19: =VLOOKUP(B19,Data!$AO$2:$AV$42,7) -> 264548400 | D19: =VLOOKUP(B19,Data!$AO$2:$AV$42,8) -> 143621136 | E19: =IF(C19>0,D19/C19,0) -> 0.54289172 | F19: =VLOOKUP(B19,Data!$AO$2:$AX$42,10) -> I | G19: =IF($F19="C",C19,"") | H19: =IF($F19="C",D19,"") | I19: =IF($F19="I",C19,"") -> 264548400 | J19: =IF($F19="I",D19,"") -> 143621136
A20: =VLOOKUP(B20,Data!$AO$2:$AV$42,3) -> 100 Mile House TSA | B20: 1 | C20: =VLOOKUP(B20,Data!$AO$2:$AV$42,7) -> 110436352 | D20: =VLOOKUP(B20,Data!$AO$2:$AV$42,8) -> 57597952 | E20: =IF(C20>0,D20/C20,0) -> 0.52154885 | F20: =VLOOKUP(B20,Data!$AO$2:$AX$42,10) -> I | G20: =IF($F20="C",C20,"") | H20: =IF($F20="C",D20,"") | I20: =IF($F20="I",C20,"") -> 110436352 | J20: =IF($F20="I",D20,"") -> 57597952
A21: =VLOOKUP(B21,Data!$AO$2:$AV$42,3) -> Merritt TSA | B21: 24 | C21: =VLOOKUP(B21,Data!$AO$2:$AV$42,7) -> 130833856 | D21: =VLOOKUP(B21,Data!$AO$2:$AV$42,8) -> 66165184 | E21: =IF(C21>0,D21/C21,0) -> 0.50571913 | F21: =VLOOKUP(B21,Data!$AO$2:$AX$42,10) -> I | G21: =IF($F21="C",C21,"") | H21: =IF($F21="C",D21,"") | I21: =IF($F21="I",C21,"") -> 130833856 | J21: =IF($F21="I",D21,"") -> 66165184
A22: =VLOOKUP(B22,Data!$AO$2:$AV$42,3) -> Cranbrook TSA | B22: 8 | C22: =VLOOKUP(B22,Data!$AO$2:$AV$42,7) -> 65829904 | D22: =VLOOKUP(B22,Data!$AO$2:$AV$42,8) -> 30875856 | E22: =IF(C22>0,D22/C22,0) -> 0.46902478 | F22: =VLOOKUP(B22,Data!$AO$2:$AX$42,10) -> I | G22: =IF($F22="C",C22,"") | H22: =IF($F22="C",D22,"") | I22: =IF($F22="I",C22,"") -> 65829904 | J22: =IF($F22="I",D22,"") -> 30875856
A23: =VLOOKUP(B23,Data!$AO$2:$AV$42,3) -> Morice TSA | B23: 26 | C23: =VLOOKUP(B23,Data!$AO$2:$AV$42,7) -> 132865936 | D23: =VLOOKUP(B23,Data!$AO$2:$AV$42,8) -> 57078896 | E23: =IF(C23>0,D23/C23,0) -> 0.42959767 | F23: =VLOOKUP(B23,Data!$AO$2:$AX$42,10) -> I | G23: =IF($F23="C",C23,"") | H23: =IF($F23="C",D23,"") | I23: =IF($F23="I",C23,"") -> 132865936 | J23: =IF($F23="I",D23,"") -> 57078896
A24: =VLOOKUP(B24,Data!$AO$2:$AV$42,3) -> Mackenzie TSA | B24: 23 | C24: =VLOOKUP(B24,Data!$AO$2:$AV$42,7) -> 287531712 | D24: =VLOOKUP(B24,Data!$AO$2:$AV$42,8) -> 116827456 | E24: =IF(C24>0,D24/C24,0) -> 0.40631155 | F24: =VLOOKUP(B24,Data!$AO$2:$AX$42,10) -> I | G24: =IF($F24="C",C24,"") | H24: =IF($F24="C",D24,"") | I24: =IF($F24="I",C24,"") -> 287531712 | J24: =IF($F24="I",D24,"") -> 116827456
A25: =VLOOKUP(B25,Data!$AO$2:$AV$42,3) -> Lillooet TSA | B25: 22 | C25: =VLOOKUP(B25,Data!$AO$2:$AV$42,7) -> 49789440 | D25: =VLOOKUP(B25,Data!$AO$2:$AV$42,8) -> 19483744 | E25: =IF(C25>0,D25/C25,0) -> 0.39132282 | F25: =VLOOKUP(B25,Data!$AO$2:$AX$42,10) -> I | G25: =IF($F25="C",C25,"") | H25: =IF($F25="C",D25,"") | I25: =IF($F25="I",C25,"") -> 49789440 | J25: =IF($F25="I",D25,"") -> 19483744
A26: =VLOOKUP(B26,Data!$AO$2:$AV$42,3) -> Ft. St. James Forest District | B26: 12 | C26: =VLOOKUP(B26,Data!$AO$2:$AV$42,7) -> 285258608 | D26: =VLOOKUP(B26,Data!$AO$2:$AV$42,8) -> 109503152 | E26: =IF(C26>0,D26/C26,0) -> 0.38387326 | F26: =VLOOKUP(B26,Data!$AO$2:$AX$42,10) -> I | G26: =IF($F26="C",C26,"") | H26: =IF($F26="C",D26,"") | I26: =IF($F26="I",C26,"") -> 285258608 | J26: =IF($F26="I",D26,"") -> 109503152
A27: =VLOOKUP(B27,Data!$AO$2:$AV$42,3) -> Invermere TSA | B27: 15 | C27: =VLOOKUP(B27,Data!$AO$2:$AV$42,7) -> 31709760 | D27: =VLOOKUP(B27,Data!$AO$2:$AV$42,8) -> 11740752 | E27: =IF(C27>0,D27/C27,0) -> 0.37025673 | F27: =VLOOKUP(B27,Data!$AO$2:$AX$42,10) -> I | G27: =IF($F27="C",C27,"") | H27: =IF($F27="C",D27,"") | I27: =IF($F27="I",C27,"") -> 31709760 | J27: =IF($F27="I",D27,"") -> 11740752
... A54: =VLOOKUP(B54,Data!$AO$2:$AV$42,3) -> North Coast TSA | B54: 28 | C54: =VLOOKUP(B54,Data!$AO$2:$AV$42,7) -> 51647072 | D54: =VLOOKUP(B54,Data!$AO$2:$AV$42,8) -> 168208 | E54: =IF(C54>0,D54/C54,0) -> 0.0032568739 | F54: =VLOOKUP(B54,Data!$AO$2:$AX$42,10) -> C | G54: =IF($F54="C",C54,"") -> 51647072 | H54: =IF($F54="C",D54,"") -> 168208 | I54: =IF($F54="I",C54,"") | J54: =IF($F54="I",D54,"")
A55: =VLOOKUP(B55,[2]Data!$AL$2:$AS$42,3) -> Coast TFLs | B55: 41 | C55: =VLOOKUP(B55,[2]Data!$AL$2:$AS$42,7) -> 422006432 | D55: =VLOOKUP(B55,[2]Data!$AL$2:$AS$42,8) -> 2638912 | E55: =IF(C55>0,D55/C55,0) -> 0.0062532507 | F55: =VLOOKUP(B55,[2]Data!$AL$2:$AU$42,10) -> C | G55: =IF($F55="C",C55,"") -> 422006432 | H55: =IF($F55="C",D55,"") -> 2638912 | I55: =IF($F55="I",C55,"") | J55: =IF($F55="I",D55,"")
A56: =VLOOKUP(B56,[2]Data!$AL$2:$AS$42,3) -> Interior TFLs | B56: 40 | C56: =VLOOKUP(B56,[2]Data!$AL$2:$AS$42,7) -> 370075520 | D56: =VLOOKUP(B56,[2]Data!$AL$2:$AS$42,8) -> 91970448 | E56: =IF(C56>0,D56/C56,0) -> 0.24851805 | F56: =VLOOKUP(B56,[2]Data!$AL$2:$AU$42,10) -> I | G56: =IF($F56="C",C56,"") | H56: =IF($F56="C",D56,"") | I56: =IF($F56="I",C56,"") -> 370075520 | J56: =IF($F56="I",D56,"") -> 91970448
A57: 22 Pine Units | C57: =SUM(C16:C37) -> 2851632672 | D57: =SUM(D16:D37) -> 1177968368 | F57: Coast/Interior Total | G57: =SUM(G16:G56) -> 918624016 | H57: =SUM(H16:H56) -> 8858608 | I57: =SUM(I16:I56) -> 3678660032 | J57: =SUM(J16:J56) -> 1343016336
A58: Outside the 22 Pine Units | C58: =SUM(C55:C56,C38:C54) -> 1745651376 | D58: =SUM(D55:D56,D38:D54) -> 173906576
A59: Provincial Total | C59: =SUM(C16:C56) -> 4597284048 | D59: =SUM(D16:D56) -> 1351874944
B62: THLB Total Volume (billions m3) in 1999 | C62: THLB Pine Volume (billions m3) in 1999 | D62: % Pine | G62: THLB Total Volume (millions m3) in 1999 | H62: THLB Pine Volume (millions m3) in 1999 | I62: % Pine
A63: Interior | B63: =I57/1000000000 -> 3.67866 | C63: =J57/1000000000 -> 1.3430163 | D63: =C63/B63 -> 0.36508303 | F63: Coast TSA | G63: =SUM(G16:G54)/1000000 -> 496.61758 | H63: =SUM(H16:H54)/1000000 -> 6.219696 | I63: =H63/G63 -> 0.012524116
A64: Coast | B64: =G57/1000000000 -> 0.91862402 | C64: =H57/1000000000 -> 0.008858608 | D64: =C64/B64 -> 0.0096433447 | F64: Coast TFL | G64: =SUM(G55:G56)/1000000 -> 422.00643 | H64: =SUM(H55:H56)/1000000 -> 2.638912 | I64: =H64/G64 -> 0.0062532507
A65: Province | B65: =C59/1000000000 -> 4.597284 | C65: =D59/1000000000 -> 1.3518749 | D65: =C65/B65 -> 0.29405948 | F65: Interior TSA | G65: =SUM(I16:I54)/1000000 -> 3308.5845 | H65: =SUM(J16:J54)/1000000 -> 1251.0459 | I65: =H65/G65 -> 0.37812118
F66: Interior TFL | G66: =SUM(I55:I56)/1000000 -> 370.07552 | H66: =SUM(J55:J56)/1000000 -> 91.970448 | I66: =H66/G66 -> 0.24851805

Sheet SummaryByUnit
A1: Scale | B1: =IF(B89<80000,1000,IF(B89<8000000,100000,1000000)) -> 1000000 | C1: =IF(B89<80000,"Pine Volume Killed (1000's of cubic metres)",IF(B89<8000000,"Pine Volume Killed (100,000's of cubic metres)","Pine Volume Killed (millions of cubic metres)")) -> Pine Volume Killed (millions of cubic metres)
A3: Management Unit Full Name | B3: (All)
B5: Year
A6: Data | B6: 1999 | C6: 2000 | D6: 2001 | E6: 2002 | F6: 2003 | G6: 2004 | H6: 2005 | I6: 2006 | J6: 2007 | K6: 2008 | L6: 2009 | M6: 2010 | N6: 2011 | O6: 2012 | P6: 2013 | Q6: 2014 | R6: 2015 | S6: 2016 | T6: 2017 | U6: 2018 | V6: 2019 | W6: 2020 | X6: 2021 | Y6: 2022 | Z6: 2023 | AA6: 2024 | AB6: Grand Total
A7: Sum of 2004anKillData | B7: 4895168 | C7: 6055072 | D7: 11647792 | E7: 28180112 | F7: 52341296 | G7: 70063280 | AB7: 173182720
A8: Sum of 2004anKillProjection | H8: 82611296 | I8: 94221344 | J8: 98974816 | K8: 98801856 | L8: 94942384 | M8: 87882752 | N8: 77116032 | O8: 65588368 | P8: 53882576 | Q8: 43579984 | R8: 35075952 | S8: 28015808 | T8: 22222160 | U8: 17705200 | V8: 14486400 | W8: 11780544 | X8: 9758800 | Y8: 8080624 | Z8: 6795312 | AA8: 5735680 | AB8: 957257888
A9: Sum of 2005anKillData | B9: 5472800 | C9: 6846448 | D9: 12533664 | E9: 29067008 | F9: 56010256 | G9: 80421824 | H9: 139064688 | AB9: 329416688
A10: Sum of 2005anKillProjection | I10: 123087968 | J10: 122838176 | K10: 116663968 | L10: 105527056 | M10: 87654624 | N10: 66353952 | O10: 44054848 | P10: 26222336 | Q10: 14484480 | R10: 7781280 | S10: 4380816 | T10: 2601424 | U10: 1814496 | V10: 1399408 | W10: 1124352 | X10: 902464 | Y10: 772848 | Z10: 682672 | AA10: 634592 | AB10: 728981760
A11: Sum of 2006anKillData | B11: 5530272 | C11: 6893712 | D11: 12483712 | E11: 28472304 | F11: 54414320 | G11: 78753712 | H11: 139986016 | I11: 107718672 | AB11: 434252720
A12: Sum of 2006anKillProjection | J12: 95062400 | K12: 91529744 | L12: 88397088 | M12: 83386304 | N12: 71497680 | O12: 54667280 | P12: 37266784 | Q12: 23400960 | R12: 14004224 | S12: 8398416 | T12: 5234832 | U12: 3390768 | V12: 2503840 | W12: 1849600 | X12: 1522224 | Y12: 1274288 | Z12: 1092064 | AA12: 989168 | AB12: 585467664
A13: Sum of 2007anKillData | B13: 5645984 | C13: 7016016 | D13: 12453120 | E13: 28527552 | F13: 54672800 | G13: 79277664 | H13: 140616336 | I13: 114557520 | J13: 99028544 | AB13: 541795536
A14: Sum of 2007anKillProjection | K14: 77969632 | L14: 73611312 | M14: 72700320 | N14: 67896320 | O14: 55976576 | P14: 40089776 | Q14: 25914544 | R14: 16052928 | S14: 9756480 | T14: 6224928 | U14: 4347728 | V14: 3252816 | W14: 2506288 | X14: 2161264 | Y14: 1838208 | Z14: 1635328 | AA14: 1421184 | AB14: 463355632
A15: Sum of 2008anKillData | B15: 5580688 | C15: 6971456 | D15: 12424304 | E15: 28283296 | F15: 54419888 | G15: 78754544 | H15: 139734432 | I15: 113662304 | J15: 102905664 | K15: 35533296 | AB15: 578269872
A16: Sum of 2008anKillProjection | L16: 38202672 | M16: 48078560 | N16: 55983808 | O16: 56186656 | P16: 47550672 | Q16: 35085008 | R16: 24485296 | S16: 15929312 | T16: 10858432 | U16: 7597280 | V16: 5480096 | W16: 4138560 | X16: 3369536 | Y16: 2818112 | Z16: 2425984 | AA16: 2146896 | AB16: 360336880
A17: Sum of 2009anKillData | B17: 5602592 | C17: 7003888 | D17: 12385600 | E17: 28385648 | F17: 54533328 | G17: 78848064 | H17: 140176448 | I17: 113634192 | J17: 102600576 | K17: 41436976 | L17: 45401040 | AB17: 630008352
A18: Sum of 2009anKillProjection | M18: 44571184 | N18: 48702992 | O18: 46254400 | P18: 39332560 | Q18: 30754864 | R18: 22323520 | S18: 15484976 | T18: 10476224 | U18: 7346032 | V18: 5311088 | W18: 4215760 | X18: 3453632 | Y18: 2955088 | Z18: 2596544 | AA18: 2345696 | AB18: 286124560
A19: Sum of 2010anKillData | B19: 5617184 | C19: 6970880 | D19: 12431888 | E19: 28276496 | F19: 54464736 | G19: 78962832 | H19: 139994256 | I19: 113640544 | J19: 104620240 | K19: 60680656 | L19: 47678848 | M19: 38587248 | AB19: 691925808
A20: Sum of 2010anKillProjection | N20: 33747408 | O20: 25083168 | P20: 17586512 | Q20: 12911248 | R20: 9983776 | S20: 8570976 | T20: 7481216 | U20: 6864432 | V20: 6245056 | W20: 5690272 | X20: 5145888 | Y20: 4586032 | Z20: 4018928 | AA20: 3714896 | AB20: 151629808
A21: Sum of 2011anKillData | B21: 5607952 | C21: 7003168 | D21: 12324448 | E21: 28059552 | F21: 54161616 | G21: 78686784 | H21: 139811536 | I21: 112883136 | J21: 103893312 | K21: 60506000 | L21: 47311936 | M21: 39799376 | N21: 19914224 | AB21: 709963040
A22: Sum of 2011anKillProjection | O22: 18225216 | P22: 13223088 | Q22: 9177280 | R22: 6783632 | S22: 5296912 | T22: 4683792 | U22: 4372896 | V22: 4281488 | W22: 4156448 | X22: 3919984 | Y22: 3714256 | Z22: 3507888 | AA22: 3285296 | AB22: 84628176
A23: Sum of 2004cumKillData | B23: 4177040 | C23: 10232112 | D23: 21879904 | E23: 50060016 | F23: 102401312 | G23: 172464592 | AB23: 361214976
A24: Sum of 2004cumKillProjection | H24: 254872880 | I24: 349094224 | J24: 448069040 | K24: 546870896 | L24: 641813280 | M24: 729696032 | N24: 806812064 | O24: 872400432 | P24: 926283008 | Q24: 969862992 | R24: 1004938944 | S24: 1032954752 | T24: 1055176912 | U24: 1072882112 | V24: 1087368512 | W24: 1099149056 | X24: 1108907856 | Y24: 1116988480 | Z24: 1123783792 | AA24: 1129519472 | AB24: 17377444736
A25: Sum of 2005cumKillData | B25: 5472800 | C25: 12319248 | D25: 24852912 | E25: 53919920 | F25: 109930176 | G25: 190352000 | H25: 329416688 | AB25: 726263744
A26: Sum of 2005cumKillProjection | I26: 452504656 | J26: 575342832 | K26: 692006800 | L26: 797533856 | M26: 885188480 | N26: 951542432 | O26: 995597280 | P26: 1021819616 | Q26: 1036304096 | R26: 1044085376 | S26: 1048466192 | T26: 1051067616 | U26: 1052882112 | V26: 1054281520 | W26: 1055405872 | X26: 1056308336 | Y26: 1057081184 | Z26: 1057763856 | AA26: 1058398448 | AB26: 17943580560
A27: Sum of 2006cumKillData | B27: 5530272 | C27: 12423984 | D27: 24907696 | E27: 53380000 | F27: 107794320 | G27: 186548032 | H27: 326534048 | I27: 434252720 | AB27: 1151371072
A28: Sum of 2006cumKillProjection | J28: 529315120 | K28: 620844864 | L28: 709241952 | M28: 792628256 | N28: 864125936 | O28: 918793216 | P28: 956060000 | Q28: 979460960 | R28: 993465184 | S28: 1001863600 | T28: 1007098432 | U28: 1010489200 | V28: 1012993040 | W28: 1014842640 | X28: 1016364864 | Y28: 1017639152 | Z28: 1018731216 | AA28: 1019720384 | AB28: 16483678016
A29: Sum of 2007cumKillData | B29: 5645984 | C29: 12662000 | D29: 25115120 | E29: 53642672 | F29: 108315472 | G29: 187593136 | H29: 328209472 | I29: 442766992 | J29: 541795536 | AB29: 1705746384
A30: Sum of 2007cumKillProjection | K30: 619765168 | L30: 693376480 | M30: 766076800 | N30: 833973120 | O30: 889949696 | P30: 930039472 | Q30: 955954016 | R30: 972006944 | S30: 981763424 | T30: 987988352 | U30: 992336080 | V30: 995588896 | W30: 998095184 | X30: 1000256448 | Y30: 1002094656 | Z30: 1003729984 | AA30: 1005151168 | AB30: 15628145888
A31: Sum of 2008cumKillData | B31: 5580688 | C31: 12552144 | D31: 24976448 | E31: 53259744 | F31: 107679632 | G31: 186434176 | H31: 326168608 | I31: 439830912 | J31: 542736576 | K31: 578269872 | AB31: 2277488800
A32: Sum of 2008cumKillProjection | L32: 616472544 | M32: 664551104 | N32: 720534912 | O32: 776721568 | P32: 824272240 | Q32: 859357248 | R32: 883842544 | S32: 899771856 | T32: 910630288 | U32: 918227568 | V32: 923707664 | W32: 927846224 | X32: 931215760 | Y32: 934033872 | Z32: 936459856 | AA32: 938606752 | AB32: 13666252000
A33: Sum of 2009cumKillData | B33: 5602592 | C33: 12606480 | D33: 24992080 | E33: 53377728 | F33: 107911056 | G33: 186759120 | H33: 326935568 | I33: 440569760 | J33: 543170336 | K33: 584607312 | L33: 630008352 | AB33: 2916540384
A34: Sum of 2009cumKillProjection | M34: 674579536 | N34: 723282528 | O34: 769536928 | P34: 808869488 | Q34: 839624352 | R34: 861947872 | S34: 877432848 | T34: 887909072 | U34: 895255104 | V34: 900566192 | W34: 904781952 | X34: 908235584 | Y34: 911190672 | Z34: 913787216 | AA34: 916132912 | AB34: 12793132256
A35: Sum of 2010cumKillData | B35: 5617184 | C35: 12588064 | D35: 25019952 | E35: 53296448 | F35: 107761184 | G35: 186724016 | H35: 326718272 | I35: 440358816 | J35: 544979056 | K35: 605659712 | L35: 653338560 | M35: 691925808 | AB35: 3653987072
A36: Sum of 2010cumKillProjection | N36: 725673216 | O36: 750756384 | P36: 768342896 | Q36: 781254144 | R36: 791237920 | S36: 799808896 | T36: 807290112 | U36: 814154544 | V36: 820399600 | W36: 826089872 | X36: 831235760 | Y36: 835821792 | Z36: 839840720 | AA36: 843555616 | AB36: 11235461472
A37: Sum of 2011cumKillData | B37: 5607952 | C37: 12611120 | D37: 24935568 | E37: 52995120 | F37: 107156736 | G37: 185843520 | H37: 325655056 | I37: 438538192 | J37: 542431504 | K37: 602937504 | L37: 650249440 | M37: 690048816 | N37: 709963040 | AB37: 4348973568
A38: Sum of 2011cumKillProjection | O38: 728188256 | P38: 741411344 | Q38: 750588624 | R38: 757372256 | S38: 762669168 | T38: 767352960 | U38: 771725856 | V38: 776007344 | W38: 780163792 | X38: 784083776 | Y38: 787798032 | Z38: 791305920 | AA38: 794591216 | AB38: 9993258544
A40: =C1 -> Pine Volume Killed (millions of cubic metres) | B40: Cumulative Attack = red- and grey-attack
A42: =IF($B$3="(All)","Entire Province"&CHAR(10)&"Timber Harvesting Land Base",$B$3&CHAR(10)&"Timber Harvesting Land Base") -> Entire Province Timber Harvesting Land Base | B42: =B6 -> 1999 | C42: =C6 -> 2000 | D42: =D6 -> 2001 | E42: =E6 -> 2002 | F42: =F6 -> 2003 | G42: =G6 -> 2004 | H42: =H6 -> 2005 | I42: =I6 -> 2006 | ... AA42: =AA6 -> 2024
A43: Old Estimate of Observed Annual Red-Attack (published in 2005) | B43: =B7/Scale -> 4.895168 | C43: =C7/Scale -> 6.055072 | D43: =D7/Scale -> 11.647792 | E43: =E7/Scale -> 28.180112 | F43: =F7/Scale -> 52.341296 | G43: =G7/Scale -> 70.06328
A44: Old Estimate of Projected Annual Red-Attack (published in 2005) | G44: =G43 -> 70.06328 | H44: =H8/Scale -> 82.611296 | I44: =I8/Scale -> 94.221344 | J44: =J8/Scale -> 98.974816 | K44: =K8/Scale -> 98.801856 | L44: =L8/Scale -> 94.942384 | M44: =M8/Scale -> 87.882752 | N44: =N8/Scale -> 77.116032 | O44: =O8/Scale -> 65.588368 | ... AA44: =AA8/Scale -> 5.73568
...

Sheet AnnKillSummary
A3: Observed Annual Kill (red-attack) (m3) (sum of 2011anKillData) | C3: Year | P3: Projected Annual Kill (red-attack) (m3) (sum of 2011anKillProjection) | R3: Year
A4: Management Unit Class | B4: Management Unit Full Name | C4: 1999 | D4: 2000 | E4: 2001 | F4: 2002 | G4: 2003 | H4: 2004 | I4: 2005 | J4: 2006 | K4: 2007 | L4: 2008 | M4: 2009 | N4: 2010 | O4: 2011 | P4: Management Unit Class | Q4: Management Unit Full Name | R4: 2012 | S4: 2013 | T4: 2014 | U4: 2015 | V4: 2016 | W4: 2017 | X4: 2018 | Y4: 2019 | Z4: 2020 | AA4: 2021 | AB4: 2022 | AC4: 2023 | AD4: 2024 | AE4: =IF(A4<>0,A4,"") -> Management Unit Class | AF4: =B4 -> Management Unit Full Name | AG4: =IF(C4<>0,C4,"") -> 1999 | AH4: =D4 -> 2000 | AI4: =IF(E4<>0,E4,"") -> 2001 | AJ4: =F4 -> 2002 | AK4: =IF(G4<>0,G4,"") -> 2003 | AL4: =H4 -> 2004 | AM4: =IF(I4<>0,I4,"") -> 2005 | AN4: =J4 -> 2006 | AO4: =IF(K4<>0,K4,"") -> 2007 | AP4: =L4 -> 2008 | AQ4: =IF(M4<>0,M4,"") -> 2009 | AR4: =N4 -> 2010 | AS4: 2011 | AT4: 2012 | AU4: 2013 | AV4: 2014 | AW4: 2015 | AX4: 2016 | AY4: 2017 | AZ4: 2018 | BA4: 2019 | BB4: 2020 | BC4: 2021 | BD4: 2022 | BE4: 2023 | BF4: 2024 | BG4: MAX
A5: Pine Units | B5: 100 Mile House TSA | C5: 230192 | D5: 135456 | E5: 218112 | F5: 308944 | G5: 950208 | H5: 3743856 | I5: 8681072 | J5: 17794768 | K5: 7537568 | L5: 1846288 | M5: 72768 | N5: 10224 | O5: 32 | P5: Pine Units | Q5: 100 Mile House TSA | R5: 2096 | S5: 2528 | T5: 3536 | U5: 4416 | V5: 7456 | W5: 10064 | X5: 11248 | Y5: 10176 | Z5: 14208 | AA5: 15104 | AB5: 17472 | AC5: 17488 | AD5: 18656 | AE5: =IF(A5<>0,A5,"") -> Pine Units | AF5: =IF(B5<>0,B5,"") -> 100 Mile House TSA | AG5: =IF(C5<>0,C5,"") -> 230192 | AH5: =IF(D5<>0,D5,"") -> 135456 | AI5: =IF(E5<>0,E5,"") -> 218112 | AJ5: =IF(F5<>0,F5,"") -> 308944 | AK5: =IF(G5<>0,G5,"") -> 950208 | AL5: =IF(H5<>0,H5,"") -> 3743856 | ... AS5: =IF(O5<>0,O5,"") -> 32 | AT5: =IF(R5<>0,R5,"") -> 2096 | AU5: =IF(S5<>0,S5,"") -> 2528 | AV5: =IF(T5<>0,T5,"") -> 3536 | AW5: =IF(U5<>0,U5,"") -> 4416 | AX5: =IF(V5<>0,V5,"") -> 7456 | AY5: =IF(W5<>0,W5,"") -> 10064 | AZ5: =IF(X5<>0,X5,"") -> 11248 | BA5: =IF(Y5<>0,Y5,"") -> 10176 | ... BF5: =IF(AD5<>0,AD5,"") -> 18656 | BG5: =MAX(AG5:BF5) -> 17794768
B6: Arrow TSA | C6: 57520 | D6: 55616 | E6: 33024 | F6: 62368 | G6: 139776 | H6: 391456 | I6: 502960 | J6: 554176 | K6: 188016 | L6: 224432 | M6: 126336 | N6: 58160 | O6: 15920 | Q6: Arrow TSA | R6: 34544 | S6: 45552 | T6: 68560 | U6: 85728 | V6: 112464 | W6: 115568 | X6: 120432 | Y6: 106352 | Z6: 110736 | AA6: 102768 | AB6: 96432 | AC6: 91600 | AD6: 103488 | AE6: =IF(A6<>0,A6,"") | AF6: =IF(B6<>0,B6,"") -> Arrow TSA | AG6: =IF(C6<>0,C6,"") -> 57520 | AH6: =IF(D6<>0,D6,"") -> 55616 | AI6: =IF(E6<>0,E6,"") -> 33024 | AJ6: =IF(F6<>0,F6,"") -> 62368 | AK6: =IF(G6<>0,G6,"") -> 139776 | AL6: =IF(H6<>0,H6,"") -> 391456 | ... AS6: =IF(O6<>0,O6,"") -> 15920 | AT6: =IF(R6<>0,R6,"") -> 34544 | AU6: =IF(S6<>0,S6,"") -> 45552 | AV6: =IF(T6<>0,T6,"") -> 68560 | AW6: =IF(U6<>0,U6,"") -> 85728 | AX6: =IF(V6<>0,V6,"") -> 112464 | AY6: =IF(W6<>0,W6,"") -> 115568 | AZ6: =IF(X6<>0,X6,"") -> 120432 | BA6: =IF(Y6<>0,Y6,"") -> 106352 | ... BF6: =IF(AD6<>0,AD6,"") -> 103488 | BG6: =MAX(AG6:BF6) -> 554176
B7: Boundary TSA | C7: 8000 | D7: 6256 | E7: 5760 | F7: 4688 | G7: 12368 | H7: 62160 | I7: 111904 | J7: 183072 | K7: 93184 | L7: 97200 | M7: 99696 | N7: 70752 | O7: 70624 | Q7: Boundary TSA | R7: 95024 | S7: 108448 | T7: 130528 | U7: 166800 | V7: 192848 | W7: 234464 | X7: 267936 | Y7: 340224 | Z7: 394128 | AA7: 439408 | AB7: 425264 | AC7: 427856 | AD7: 390144 | AE7: =IF(A7<>0,A7,"") | AF7: =IF(B7<>0,B7,"") -> Boundary TSA | AG7: =IF(C7<>0,C7,"") -> 8000 | AH7: =IF(D7<>0,D7,"") -> 6256 | AI7: =IF(E7<>0,E7,"") -> 5760 | AJ7: =IF(F7<>0,F7,"") -> 4688 | AK7: =IF(G7<>0,G7,"") -> 12368 | AL7: =IF(H7<>0,H7,"") -> 62160 | ... AS7: =IF(O7<>0,O7,"") -> 70624 | AT7: =IF(R7<>0,R7,"") -> 95024 | AU7: =IF(S7<>0,S7,"") -> 108448 | AV7: =IF(T7<>0,T7,"") -> 130528 | AW7: =IF(U7<>0,U7,"") -> 166800 | AX7: =IF(V7<>0,V7,"") -> 192848 | AY7: =IF(W7<>0,W7,"") -> 234464 | AZ7: =IF(X7<>0,X7,"") -> 267936 | BA7: =IF(Y7<>0,Y7,"") -> 340224 | ... BF7: =IF(AD7<>0,AD7,"") -> 390144 | BG7: =MAX(AG7:BF7) -> 439408
B8: Bulkley TSA | C8: 74656 | D8: 59312 | E8: 47168 | F8: 21808 | G8: 36480 | H8: 47968 | I8: 100464 | J8: 64128 | K8: 244192 | L8: 563968 | M8: 550592 | N8: 959648 | O8: 1155248 | Q8: Bulkley TSA | R8: 1414512 | S8: 1134352 | T8: 781552 | U8: 384176 | V8: 234640 | W8: 168704 | X8: 116464 | Y8: 93488 | Z8: 60112 | AA8: 35088 | AB8: 23264 | AC8: 16464 | AD8: 11440 | AE8: =IF(A8<>0,A8,"") | AF8: =IF(B8<>0,B8,"") -> Bulkley TSA | AG8: =IF(C8<>0,C8,"") -> 74656 | AH8: =IF(D8<>0,D8,"") -> 59312 | AI8: =IF(E8<>0,E8,"") -> 47168 | AJ8: =IF(F8<>0,F8,"") -> 21808 | AK8: =IF(G8<>0,G8,"") -> 36480 | AL8: =IF(H8<>0,H8,"") -> 47968 | ... AS8: =IF(O8<>0,O8,"") -> 1155248 | AT8: =IF(R8<>0,R8,"") -> 1414512 | AU8: =IF(S8<>0,S8,"") -> 1134352 | AV8: =IF(T8<>0,T8,"") -> 781552 | AW8: =IF(U8<>0,U8,"") -> 384176 | AX8: =IF(V8<>0,V8,"") -> 234640 | AY8: =IF(W8<>0,W8,"") -> 168704 | AZ8: =IF(X8<>0,X8,"") -> 116464 | BA8: =IF(Y8<>0,Y8,"") -> 93488 | ... BF8: =IF(AD8<>0,AD8,"") -> 11440 | BG8: =MAX(AG8:BF8) -> 1414512
B9: Cranbrook TSA | C9: 123152 | D9: 73792 | E9: 56176 | F9: 114208 | G9: 168272 | H9: 337376 | I9: 560880 | J9: 505104 | K9: 269040 | L9: 590960 | M9: 342224 | N9: 340192 | O9: 126704 | Q9: Cranbrook TSA | R9: 141952 | S9: 189600 | T9: 236976 | U9: 296848 | V9: 326464 | W9: 350704 | X9: 389792 | Y9: 434256 | Z9: 451040 | AA9: 439088 | AB9: 453840 | AC9: 450912 | AD9: 413296 | AE9: =IF(A9<>0,A9,"") | AF9: =IF(B9<>0,B9,"") -> Cranbrook TSA | AG9: =IF(C9<>0,C9,"") -> 123152 | AH9: =IF(D9<>0,D9,"") -> 73792 | AI9: =IF(E9<>0,E9,"") -> 56176 | AJ9: =IF(F9<>0,F9,"") -> 114208 | AK9: =IF(G9<>0,G9,"") -> 168272 | AL9: =IF(H9<>0,H9,"") -> 337376 | ... AS9: =IF(O9<>0,O9,"") -> 126704 | AT9: =IF(R9<>0,R9,"") -> 141952 | AU9: =IF(S9<>0,S9,"") -> 189600 | AV9: =IF(T9<>0,T9,"") -> 236976 | AW9: =IF(U9<>0,U9,"") -> 296848 | AX9: =IF(V9<>0,V9,"") -> 326464 | AY9: =IF(W9<>0,W9,"") -> 350704 | AZ9: =IF(X9<>0,X9,"") -> 389792 | BA9: =IF(Y9<>0,Y9,"") -> 434256 | ... BF9: =IF(AD9<>0,AD9,"") -> 413296 | BG9: =MAX(AG9:BF9) -> 590960
B10: Dawson Creek TSA | C10: 0 | D10: 1600 | E10: 3664 | F10: 144 | G10: 0 | H10: 22704 | I10: 32128 | J10: 114416 | K10: 2690544 | L10: 3281920 | M10: 1862192 | N10: 3196752 | O10: 1058304 | Q10: Dawson Creek TSA | R10: 1207840 | S10: 1005312 | T10: 796576 | U10: 645888 | V10: 500160 | W10: 361712 | X10: 295424 | Y10: 230768 | Z10: 180688 | AA10: 133792 | AB10: 105120 | AC10: 78848 | AD10: 48576 | AE10: =IF(A10<>0,A10,"") | AF10: =IF(B10<>0,B10,"") -> Dawson Creek TSA | AG10: =IF(C10<>0,C10,"") | AH10: =IF(D10<>0,D10,"") -> 1600 | AI10: =IF(E10<>0,E10,"") -> 3664 | AJ10: =IF(F10<>0,F10,"") -> 144 | AK10: =IF(G10<>0,G10,"") | AL10: =IF(H10<>0,H10,"") -> 22704 | ... AS10: =IF(O10<>0,O10,"") -> 1058304 | AT10: =IF(R10<>0,R10,"") -> 1207840 | AU10: =IF(S10<>0,S10,"") -> 1005312 | AV10: =IF(T10<>0,T10,"") -> 796576 | AW10: =IF(U10<>0,U10,"") -> 645888 | AX10: =IF(V10<>0,V10,"") -> 500160 | AY10: =IF(W10<>0,W10,"") -> 361712 | AZ10: =IF(X10<>0,X10,"") -> 295424 | BA10: =IF(Y10<>0,Y10,"") -> 230768 | ... BF10: =IF(AD10<>0,AD10,"") -> 48576 | BG10: =MAX(AG10:BF10) -> 3281920
B11: Ft. St. James Forest District | C11: 940704 | D11: 1272496 | E11: 1188192 | F11: 1242032 | G11: 2273008 | H11: 3673968 | I11: 10772224 | J11: 8860384 | K11: 15233984 | L11: 9664896 | M11: 6181584 | N11: 5096784 | O11: 4136544 | Q11: Ft. St. James Forest District | R11: 3600544 | S11: 2180960 | T11: 1138256 | U11: 670832 | V11: 355008 | W11: 232496 | X11: 137888 | Y11: 84304 | Z11: 53696 | AA11: 30944 | AB11: 27792 | AC11: 14592 | AD11: 15072 | AE11: =IF(A11<>0,A11,"") | AF11: =IF(B11<>0,B11,"") -> Ft. St. James Forest District | AG11: =IF(C11<>0,C11,"") -> 940704 | AH11: =IF(D11<>0,D11,"") -> 1272496 | AI11: =IF(E11<>0,E11,"") -> 1188192 | AJ11: =IF(F11<>0,F11,"") -> 1242032 | AK11: =IF(G11<>0,G11,"") -> 2273008 | AL11: =IF(H11<>0,H11,"") -> 3673968 | ... AS11: =IF(O11<>0,O11,"") -> 4136544 | AT11: =IF(R11<>0,R11,"") -> 3600544 | AU11: =IF(S11<>0,S11,"") -> 2180960 | AV11: =IF(T11<>0,T11,"") -> 1138256 | AW11: =IF(U11<>0,U11,"") -> 670832 | AX11: =IF(V11<>0,V11,"") -> 355008 | AY11: =IF(W11<>0,W11,"") -> 232496 | AZ11: =IF(X11<>0,X11,"") -> 137888 | BA11: =IF(Y11<>0,Y11,"") -> 84304 | ... BF11: =IF(AD11<>0,AD11,"") -> 15072 | BG11: =MAX(AG11:BF11) -> 15233984
B12: Golden TSA | C12: 87632 | D12: 74992 | E12: 30560 | F12: 35792 | G12: 47232 | H12: 50816 | I12: 145744 | J12: 239664 | K12: 94624 | L12: 140432 | M12: 41280 | N12: 38640 | O12: 16624 | Q12: Golden TSA | R12: 21120 | S12: 26640 | T12: 26336 | U12: 36736 | V12: 42304 | W12: 52944 | X12: 58320 | Y12: 71248 | Z12: 60896 | AA12: 55664 | AB12: 61648 | AC12: 63968 | AD12: 63136 | AE12: =IF(A12<>0,A12,"") | AF12: =IF(B12<>0,B12,"") -> Golden TSA | AG12: =IF(C12<>0,C12,"") -> 87632 | AH12: =IF(D12<>0,D12,"") -> 74992 | AI12: =IF(E12<>0,E12,"") -> 30560 | AJ12: =IF(F12<>0,F12,"") -> 35792 | AK12: =IF(G12<>0,G12,"") -> 47232 | AL12: =IF(H12<>0,H12,"") -> 50816 | ... AS12: =IF(O12<>0,O12,"") -> 16624 | AT12: =IF(R12<>0,R12,"") -> 21120 | AU12: =IF(S12<>0,S12,"") -> 26640 | AV12: =IF(T12<>0,T12,"") -> 26336 | AW12: =IF(U12<>0,U12,"") -> 36736 | AX12: =IF(V12<>0,V12,"") -> 42304 | AY12: =IF(W12<>0,W12,"") -> 52944 | AZ12: =IF(X12<>0,X12,"") -> 58320 | BA12: =IF(Y12<>0,Y12,"") -> 71248 | ... BF12: =IF(AD12<>0,AD12,"") -> 63136 | BG12: =MAX(AG12:BF12) -> 239664
B13: Invermere TSA | C13: 38592 | D13: 54176 | E13: 23680 | F13: 43600 | G13: 67696 | H13: 145952 | I13: 216240 | J13: 266944 | K13: 220384 | L13: 303456 | M13: 220192 | N13: 220624 | O13: 76384 | Q13: Invermere TSA | R13: 95056 | S13: 130928 | T13: 151840 | U13: 156096 | V13: 171040 | W13: 168544 | X13: 176544 | Y13: 163024 | Z13: 155056 | AA13: 157696 | AB13: 163312 | AC13: 173344 | AD13: 157536 | AE13: =IF(A13<>0,A13,"") | AF13: =IF(B13<>0,B13,"") -> Invermere TSA | AG13: =IF(C13<>0,C13,"") -> 38592 | AH13: =IF(D13<>0,D13,"") -> 54176 | AI13: =IF(E13<>0,E13,"") -> 23680 | AJ13: =IF(F13<>0,F13,"") -> 43600 | AK13: =IF(G13<>0,G13,"") -> 67696 | AL13: =IF(H13<>0,H13,"") -> 145952 | ... AS13: =IF(O13<>0,O13,"") -> 76384 | AT13: =IF(R13<>0,R13,"") -> 95056 | AU13: =IF(S13<>0,S13,"") -> 130928 | AV13: =IF(T13<>0,T13,"") -> 151840 | AW13: =IF(U13<>0,U13,"") -> 156096 | AX13: =IF(V13<>0,V13,"") -> 171040 | AY13: =IF(W13<>0,W13,"") -> 168544 | AZ13: =IF(X13<>0,X13,"") -> 176544 | BA13: =IF(Y13<>0,Y13,"") -> 163024 | ... BF13: =IF(AD13<>0,AD13,"") -> 157536 | BG13: =MAX(AG13:BF13) -> 303456
B14: Kamloops TSA | C14: 206976 | D14: 116048 | E14: 272048 | F14: 471936 | G14: 833680 | H14: 2713200 | I14: 6207504 | J14: 8805024 | K14: 6753392 | L14: 2001808 | M14: 393312 | N14: 68032 | O14: 5440 | Q14: Kamloops TSA | R14: 17792 | S14: 24784 | T14: 44784 | U14: 52976 | V14: 59360 | W14: 76592 | X14: 92656 | Y14: 109728 | Z14: 130592 | AA14: 168096 | AB14: 171280 | AC14: 176368 | AD14: 160336 | AE14: =IF(A14<>0,A14,"") | AF14: =IF(B14<>0,B14,"") -> Kamloops TSA | AG14: =IF(C14<>0,C14,"") -> 206976 | AH14: =IF(D14<>0,D14,"") -> 116048 | AI14: =IF(E14<>0,E14,"") -> 272048 | AJ14: =IF(F14<>0,F14,"") -> 471936 | AK14: =IF(G14<>0,G14,"") -> 833680 | AL14: =IF(H14<>0,H14,"") -> 2713200 | ... AS14: =IF(O14<>0,O14,"") -> 5440 | AT14: =IF(R14<>0,R14,"") -> 17792 | AU14: =IF(S14<>0,S14,"") -> 24784 | AV14: =IF(T14<>0,T14,"") -> 44784 | AW14: =IF(U14<>0,U14,"") -> 52976 | AX14: =IF(V14<>0,V14,"") -> 59360 | AY14: =IF(W14<>0,W14,"") -> 76592 | AZ14: =IF(X14<>0,X14,"") -> 92656 | BA14: =IF(Y14<>0,Y14,"") -> 109728 | ... BF14: =IF(AD14<>0,AD14,"") -> 160336 | BG14: =MAX(AG14:BF14) -> 8805024
B15: Kootenay Lake TSA | C15: 10240 | D15: 14720 | E15: 36176 | F15: 51184 | G15: 77264 | H15: 162304 | I15: 301120 | J15: 462992 | K15: 286384 | L15: 475632 | M15: 247200 | N15: 160000 | O15: 46960 | Q15: Kootenay Lake TSA | R15: 67872 | S15: 73392 | T15: 85680 | U15: 94768 | V15: 107792 | W15: 124560 | X15: 133152 | Y15: 134192 | Z15: 164688 | AA15: 144160 | AB15: 143648 | AC15: 159840 | AD15: 149504 | AE15: =IF(A15<>0,A15,"") | AF15: =IF(B15<>0,B15,"") -> Kootenay Lake TSA | AG15: =IF(C15<>0,C15,"") -> 10240 | AH15: =IF(D15<>0,D15,"") -> 14720 | AI15: =IF(E15<>0,E15,"") -> 36176 | AJ15: =IF(F15<>0,F15,"") -> 51184 | AK15: =IF(G15<>0,G15,"") -> 77264 | AL15: =IF(H15<>0,H15,"") -> 162304 | ... AS15: =IF(O15<>0,O15,"") -> 46960 | AT15: =IF(R15<>0,R15,"") -> 67872 | AU15: =IF(S15<>0,S15,"") -> 73392 | AV15: =IF(T15<>0,T15,"") -> 85680 | AW15: =IF(U15<>0,U15,"") -> 94768 | AX15: =IF(V15<>0,V15,"") -> 107792 | AY15: =IF(W15<>0,W15,"") -> 124560 | AZ15: =IF(X15<>0,X15,"") -> 133152 | BA15: =IF(Y15<>0,Y15,"") -> 134192 | ... BF15: =IF(AD15<>0,AD15,"") -> 149504 | BG15: =MAX(AG15:BF15) -> 475632
B16: Lakes TSA | C16: 83440 | D16: 391728 | E16: 2491968 | F16: 5867440 | G16: 6113168 | H16: 4327136 | I16: 14991504 | J16: 9756064 | K16: 6427984 | L16: 2727600 | M16: 637008 | N16: 123792 | O16: 41152 | Q16: Lakes TSA | R16: 26000 | S16: 23152 | T16: 25024 | U16: 23440 | V16: 16384 | W16: 16720 | X16: 10160 | Y16: 8112 | Z16: 6128 | AA16: 4992 | AB16: 6368 | AC16: 4832 | AD16: 3632 | AE16: =IF(A16<>0,A16,"") | AF16: =IF(B16<>0,B16,"") -> Lakes TSA | AG16: =IF(C16<>0,C16,"") -> 83440 | AH16: =IF(D16<>0,D16,"") -> 391728 | AI16: =IF(E16<>0,E16,"") -> 2491968 | AJ16: =IF(F16<>0,F16,"") -> 5867440 | AK16: =IF(G16<>0,G16,"") -> 6113168 | AL16: =IF(H16<>0,H16,"") -> 4327136 | ... AS16: =IF(O16<>0,O16,"") -> 41152 | AT16: =IF(R16<>0,R16,"") -> 26000 | AU16: =IF(S16<>0,S16,"") -> 23152 | AV16: =IF(T16<>0,T16,"") -> 25024 | AW16: =IF(U16<>0,U16,"") -> 23440 | AX16: =IF(V16<>0,V16,"") -> 16384 | AY16: =IF(W16<>0,W16,"") -> 16720 | AZ16: =IF(X16<>0,X16,"") -> 10160 | BA16: =IF(Y16<>0,Y16,"") -> 8112 | ... BF16: =IF(AD16<>0,AD16,"") -> 3632 | BG16: =MAX(AG16:BF16) -> 14991504
B17: Lillooet TSA | C17: 16496 | D17: 14752 | E17: 29824 | F17: 45584 | G17: 52800 | H17: 104848 | I17: 398480 | J17: 874640 | K17: 1251280 | L17: 1071968 | M17: 763328 | N17: 298608 | O17: 105296 | Q17: Lillooet TSA | R17: 88368 | S17: 84976 | T17: 89472 | U17: 110400 | V17: 103568 | W17: 115936 | X17: 110320 | Y17: 116096 | Z17: 129760 | AA17: 116464 | AB17: 100320 | AC17: 86992 | AD17: 79248 | AE17: =IF(A17<>0,A17,"") | AF17: =IF(B17<>0,B17,"") -> Lillooet TSA | AG17: =IF(C17<>0,C17,"") -> 16496 | AH17: =IF(D17<>0,D17,"") -> 14752 | AI17: =IF(E17<>0,E17,"") -> 29824 | AJ17: =IF(F17<>0,F17,"") -> 45584 | AK17: =IF(G17<>0,G17,"") -> 52800 | AL17: =IF(H17<>0,H17,"") -> 104848 | ... AS17: =IF(O17<>0,O17,"") -> 105296 | AT17: =IF(R17<>0,R17,"") -> 88368 | AU17: =IF(S17<>0,S17,"") -> 84976 | AV17: =IF(T17<>0,T17,"") -> 89472 | AW17: =IF(U17<>0,U17,"") -> 110400 | AX17: =IF(V17<>0,V17,"") -> 103568 | AY17: =IF(W17<>0,W17,"") -> 115936 | AZ17: =IF(X17<>0,X17,"") -> 110320 | BA17: =IF(Y17<>0,Y17,"") -> 116096 | ... BF17: =IF(AD17<>0,AD17,"") -> 79248 | BG17: =MAX(AG17:BF17) -> 1251280
... B26: Williams Lake TSA | C26: 458512 | D26: 436816 | E26: 1072224 | F26: 2113568 | G26: 5830560 | H26: 12179776 | I26: 19328880 | J26: 20420416 | K26: 17602272 | L26: 4753856 | M26: 1998336 | N26: 174416 | O26: 40672 | Q26: Williams Lake TSA | R26: 24448 | S26: 25680 | T26: 28784 | U26: 33472 | V26: 43920 | W26: 62544 | X26: 82768 | Y26: 125232 | Z26: 155568 | AA26: 184256 | AB26: 182304 | AC26: 174384 | AD26: 181888 | AE26: =IF(A26<>0,A26,"") | AF26: =IF(B26<>0,B26,"") -> Williams Lake TSA | AG26: =IF(C26<>0,C26,"") -> 458512 | AH26: =IF(D26<>0,D26,"") -> 436816 | AI26: =IF(E26<>0,E26,"") -> 1072224 | AJ26: =IF(F26<>0,F26,"") -> 2113568 | AK26: =IF(G26<>0,G26,"") -> 5830560 | AL26: =IF(H26<>0,H26,"") -> 12179776 | ... AS26: =IF(O26<>0,O26,"") -> 40672 | AT26: =IF(R26<>0,R26,"") -> 24448 | AU26: =IF(S26<>0,S26,"") -> 25680 | AV26: =IF(T26<>0,T26,"") -> 28784 | AW26: =IF(U26<>0,U26,"") -> 33472 | AX26: =IF(V26<>0,V26,"") -> 43920 | AY26: =IF(W26<>0,W26,"") -> 62544 | AZ26: =IF(X26<>0,X26,"") -> 82768 | BA26: =IF(Y26<>0,Y26,"") -> 125232 | ... BF26: =IF(AD26<>0,AD26,"") -> 181888 | BG26: =MAX(AG26:BF26) -> 20420416
A27: Pine Units Total | C27: 5054176 | D27: 6405936 | E27: 11620976 | F27: 26646864 | G27: 50898896 | H27: 71750560 | I27: 130210256 | J27: 108247520 | K27: 95383936 | L27: 53903024 | M27: 42425040 | N27: 32405136 | O27: 15802896 | P27: Pine Units Total | R27: 14504912 | S27: 10279376 | T27: 6974352 | U27: 5032832 | V27: 3864176 | W27: 3399008 | X27: 3149936 | Y27: 3084656 | Z27: 3039120 | AA27: 2954608 | AB27: 2843392 | AC27: 2728640 | AD27: 2563184 | AE27: =IF(A27<>0,A27,"") -> Pine Units Total | AF27: =IF(B27<>0,B27,"") | AG27: =IF(C27<>0,C27,"") -> 5054176 | AH27: =IF(D27<>0,D27,"") -> 6405936 | AI27: =IF(E27<>0,E27,"") -> 11620976 | AJ27: =IF(F27<>0,F27,"") -> 26646864 | AK27: =IF(G27<>0,G27,"") -> 50898896 | AL27: =IF(H27<>0,H27,"") -> 71750560 | ... AS27: =IF(O27<>0,O27,"") -> 15802896 | AT27: =IF(R27<>0,R27,"") -> 14504912 | AU27: =IF(S27<>0,S27,"") -> 10279376 | AV27: =IF(T27<>0,T27,"") -> 6974352 | AW27: =IF(U27<>0,U27,"") -> 5032832 | AX27: =IF(V27<>0,V27,"") -> 3864176 | AY27: =IF(W27<>0,W27,"") -> 3399008 | AZ27: =IF(X27<>0,X27,"") -> 3149936 | BA27: =IF(Y27<>0,Y27,"") -> 3084656 | ... BF27: =IF(AD27<>0,AD27,"") -> 2563184 | BG27: =MAX(AG27:BF27) -> 130210256
A28: Non-pine Units | B28: Arrowsmith TSA | C28: 0 | D28: 0 | E28: 0 | F28: 0 | G28: 0 | H28: 0 | I28: 0 | J28: 0 | K28: 0 | L28: 0 | M28: 0 | N28: 0 | O28: 0 | P28: Non-pine Units | Q28: Arrowsmith TSA | R28: 0 | S28: 0 | T28: 0 | U28: 0 | V28: 0 | W28: 0 | X28: 0 | Y28: 0 | Z28: 0 | AA28: 0 | AB28: 0 | AC28: 0 | AD28: 0 | AE28: =IF(A28<>0,A28,"") -> Non-pine Units | AF28: =IF(B28<>0,B28,"") -> Arrowsmith TSA | AG28: =IF(C28<>0,C28,"") | AH28: =IF(D28<>0,D28,"") | AI28: =IF(E28<>0,E28,"") | AJ28: =IF(F28<>0,F28,"") | AK28: =IF(G28<>0,G28,"") | AL28: =IF(H28<>0,H28,"") | ... AS28: =IF(O28<>0,O28,"") | AT28: =IF(R28<>0,R28,"") | AU28: =IF(S28<>0,S28,"") | AV28: =IF(T28<>0,T28,"") | AW28: =IF(U28<>0,U28,"") | AX28: =IF(V28<>0,V28,"") | AY28: =IF(W28<>0,W28,"") | AZ28: =IF(X28<>0,X28,"") | BA28: =IF(Y28<>0,Y28,"") | ... BF28: =IF(AD28<>0,AD28,"") | BG28: =MAX(AG28:BF28) -> 0
B29: Cassiar TSA | C29: 0 | D29: 0 | E29: 352 | F29: 0 | G29: 0 | H29: 0 | I29: 0 | J29: 0 | K29: 0 | L29: 0 | M29: 1376 | N29: 832 | O29: 0 | Q29: Cassiar TSA | R29: 32 | S29: 4352 | T29: 8576 | U29: 15840 | V29: 43568 | W29: 87760 | X29: 135440 | Y29: 173984 | Z29: 175888 | AA29: 149968 | AB29: 119472 | AC29: 103760 | AD29: 64608 | AE29: =IF(A29<>0,A29,"") | AF29: =IF(B29<>0,B29,"") -> Cassiar TSA | AG29: =IF(C29<>0,C29,"") | AH29: =IF(D29<>0,D29,"") | AI29: =IF(E29<>0,E29,"") -> 352 | AJ29: =IF(F29<>0,F29,"") | AK29: =IF(G29<>0,G29,"") | AL29: =IF(H29<>0,H29,"") | ... AS29: =IF(O29<>0,O29,"") | AT29: =IF(R29<>0,R29,"") -> 32 | AU29: =IF(S29<>0,S29,"") -> 4352 | AV29: =IF(T29<>0,T29,"") -> 8576 | AW29: =IF(U29<>0,U29,"") -> 15840 | AX29: =IF(V29<>0,V29,"") -> 43568 | AY29: =IF(W29<>0,W29,"") -> 87760 | AZ29: =IF(X29<>0,X29,"") -> 135440 | BA29: =IF(Y29<>0,Y29,"") -> 173984 | ... BF29: =IF(AD29<>0,AD29,"") -> 64608 | BG29: =MAX(AG29:BF29) -> 175888
B30: Cranberry TSA | C30: 0 | D30: 0 | E30: 0 | F30: 0 | G30: 0 | H30: 0 | I30: 0 | J30: 0 | K30: 0 | L30: 1664 | M30: 0 | N30: 0 | O30: 1104 | Q30: Cranberry TSA | R30: 5888 | S30: 7152 | T30: 6976 | U30: 15840 | V30: 13760 | W30: 19568 | X30: 30352 | Y30: 31408 | Z30: 30656 | AA30: 33408 | AB30: 22848 | AC30: 20096 | AD30: 26000 | AE30: =IF(A30<>0,A30,"") | AF30: =IF(B30<>0,B30,"") -> Cranberry TSA | AG30: =IF(C30<>0,C30,"") | AH30: =IF(D30<>0,D30,"") | AI30: =IF(E30<>0,E30,"") | AJ30: =IF(F30<>0,F30,"") | AK30: =IF(G30<>0,G30,"") | AL30: =IF(H30<>0,H30,"") | ... AS30: =IF(O30<>0,O30,"") -> 1104 | AT30: =IF(R30<>0,R30,"") -> 5888 | AU30: =IF(S30<>0,S30,"") -> 7152 | AV30: =IF(T30<>0,T30,"") -> 6976 | AW30: =IF(U30<>0,U30,"") -> 15840 | AX30: =IF(V30<>0,V30,"") -> 13760 | AY30: =IF(W30<>0,W30,"") -> 19568 | AZ30: =IF(X30<>0,X30,"") -> 30352 | BA30: =IF(Y30<>0,Y30,"") -> 31408 | ... BF30: =IF(AD30<>0,AD30,"") -> 26000 | BG30: =MAX(AG30:BF30) -> 33408
B31: Fort Nelson TSA | C31: 0 | D31: 0 | E31: 0 | F31: 0 | G31: 0 | H31: 0 | I31: 0 | J31: 0 | K31: 0 | L31: 144 | M31: 5344 | N31: 816 | O31: 11472 | Q31: Fort Nelson TSA | R31: 48624 | S31: 108944 | T31: 137232 | U31: 169344 | V31: 165040 | W31: 146112 | X31: 134032 | Y31: 101328 | Z31: 74736 | AA31: 53104 | AB31: 33984 | AC31: 20816 | AD31: 11024 | AE31: =IF(A31<>0,A31,"") | AF31: =IF(B31<>0,B31,"") -> Fort Nelson TSA | AG31: =IF(C31<>0,C31,"") | AH31: =IF(D31<>0,D31,"") | AI31: =IF(E31<>0,E31,"") | AJ31: =IF(F31<>0,F31,"") | AK31: =IF(G31<>0,G31,"") | AL31: =IF(H31<>0,H31,"") | ... AS31: =IF(O31<>0,O31,"") -> 11472 | AT31: =IF(R31<>0,R31,"") -> 48624 | AU31: =IF(S31<>0,S31,"") -> 108944 | AV31: =IF(T31<>0,T31,"") -> 137232 | AW31: =IF(U31<>0,U31,"") -> 169344 | AX31: =IF(V31<>0,V31,"") -> 165040 | AY31: =IF(W31<>0,W31,"") -> 146112 | AZ31: =IF(X31<>0,X31,"") -> 134032 | BA31: =IF(Y31<>0,Y31,"") -> 101328 | ... BF31: =IF(AD31<>0,AD31,"") -> 11024 | BG31: =MAX(AG31:BF31) -> 169344
B32: Fraser TSA | C32: 352 | D32: 352 | E32: 1440 | F32: 4304 | G32: 1968 | H32: 5120 | I32: 2320 | J32: 21408 | K32: 58432 | L32: 63904 | M32: 27296 | N32: 18336 | O32: 8608 | Q32: Fraser TSA | R32: 8240 | S32: 10432 | T32: 5840 | U32: 4112 | V32: 4416 | W32: 3744 | X32: 4336 | Y32: 2832 | Z32: 2896 | AA32: 2304 | AB32: 3264 | AC32: 2576 | AD32: 1696 | AE32: =IF(A32<>0,A32,"") | AF32: =IF(B32<>0,B32,"") -> Fraser TSA | AG32: =IF(C32<>0,C32,"") -> 352 | AH32: =IF(D32<>0,D32,"") -> 352 | AI32: =IF(E32<>0,E32,"") -> 1440 | AJ32: =IF(F32<>0,F32,"") -> 4304 | AK32: =IF(G32<>0,G32,"") -> 1968 | AL32: =IF(H32<>0,H32,"") -> 5120 | ... AS32: =IF(O32<>0,O32,"") -> 8608 | AT32: =IF(R32<>0,R32,"") -> 8240 | AU32: =IF(S32<>0,S32,"") -> 10432 | AV32: =IF(T32<>0,T32,"") -> 5840 | AW32: =IF(U32<>0,U32,"") -> 4112 | AX32: =IF(V32<>0,V32,"") -> 4416 | AY32: =IF(W32<>0,W32,"") -> 3744 | AZ32: =IF(X32<>0,X32,"") -> 4336 | BA32: =IF(Y32<>0,Y32,"") -> 2832 | ... BF32: =IF(AD32<>0,AD32,"") -> 1696 | BG32: =MAX(AG32:BF32) -> 63904
B33: Ft. St. John TSA | C33: 0 | D33: 0 | E33: 128 | F33: 0 | G33: 80 | H33: 14432 | I33: 112 | J33: 0 | K33: 32784 | L33: 420880 | M33: 1223840 | N33: 3891888 | O33: 3484704 | Q33: Ft. St. John TSA | R33: 2978704 | S33: 2166704 | T33: 1439536 | U33: 987984 | V33: 691536 | W33: 522512 | X33: 418928 | Y33: 358720 | Z33: 298624 | AA33: 223760 | AB33: 157424 | AC33: 148144 | AD33: 148144 | AE33: =IF(A33<>0,A33,"") | AF33: =IF(B33<>0,B33,"") -> Ft. St. John TSA | AG33: =IF(C33<>0,C33,"") | AH33: =IF(D33<>0,D33,"") | AI33: =IF(E33<>0,E33,"") -> 128 | AJ33: =IF(F33<>0,F33,"") | AK33: =IF(G33<>0,G33,"") -> 80 | AL33: =IF(H33<>0,H33,"") -> 14432 | ... AS33: =IF(O33<>0,O33,"") -> 3484704 | AT33: =IF(R33<>0,R33,"") -> 2978704 | AU33: =IF(S33<>0,S33,"") -> 2166704 | AV33: =IF(T33<>0,T33,"") -> 1439536 | AW33: =IF(U33<>0,U33,"") -> 987984 | AX33: =IF(V33<>0,V33,"") -> 691536 | AY33: =IF(W33<>0,W33,"") -> 522512 | AZ33: =IF(X33<>0,X33,"") -> 418928 | BA33: =IF(Y33<>0,Y33,"") -> 358720 | ... BF33: =IF(AD33<>0,AD33,"") -> 148144 | BG33: =MAX(AG33:BF33) -> 3891888
B34: Kalum TSA | C34: 1168 | D34: 352 | E34: 0 | F34: 192 | G34: 0 | H34: 0 | I34: 0 | J34: 0 | K34: 0 | L34: 15952 | M34: 6080 | N34: 11344 | O34: 11232 | Q34: Kalum TSA | R34: 15104 | S34: 16432 | T34: 16976 | U34: 14544 | V34: 13936 | W34: 14640 | X34: 11472 | Y34: 8848 | Z34: 9680 | AA34: 9872 | AB34: 13216 | AC34: 7856 | AD34: 5632 | AE34: =IF(A34<>0,A34,"") | AF34: =IF(B34<>0,B34,"") -> Kalum TSA | AG34: =IF(C34<>0,C34,"") -> 1168 | AH34: =IF(D34<>0,D34,"") -> 352 | AI34: =IF(E34<>0,E34,"") | AJ34: =IF(F34<>0,F34,"") -> 192 | AK34: =IF(G34<>0,G34,"") | AL34: =IF(H34<>0,H34,"") | ... AS34: =IF(O34<>0,O34,"") -> 11232 | AT34: =IF(R34<>0,R34,"") -> 15104 | AU34: =IF(S34<>0,S34,"") -> 16432 | AV34: =IF(T34<>0,T34,"") -> 16976 | AW34: =IF(U34<>0,U34,"") -> 14544 | AX34: =IF(V34<>0,V34,"") -> 13936 | AY34: =IF(W34<>0,W34,"") -> 14640 | AZ34: =IF(X34<>0,X34,"") -> 11472 | BA34: =IF(Y34<>0,Y34,"") -> 8848 | ... BF34: =IF(AD34<>0,AD34,"") -> 5632 | BG34: =MAX(AG34:BF34) -> 16976
B35: Kingcome TSA | C35: 0 | D35: 0 | E35: 0 | F35: 0 | G35: 0 | H35: 0 | I35: 0 | J35: 0 | K35: 0 | L35: 0 | M35: 0 | N35: 0 | O35: 0 | Q35: Kingcome TSA | R35: 0 | S35: 0 | T35: 0 | U35: 0 | V35: 0 | W35: 0 | X35: 16 | Y35: 0 | Z35: 0 | AA35: 0 | AB35: 0 | AC35: 0 | AD35: 0 | AE35: =IF(A35<>0,A35,"") | AF35: =IF(B35<>0,B35,"") -> Kingcome TSA | AG35: =IF(C35<>0,C35,"") | AH35: =IF(D35<>0,D35,"") | AI35: =IF(E35<>0,E35,"") | AJ35: =IF(F35<>0,F35,"") | AK35: =IF(G35<>0,G35,"") | AL35: =IF(H35<>0,H35,"") | ... AS35: =IF(O35<>0,O35,"") | AT35: =IF(R35<>0,R35,"") | AU35: =IF(S35<>0,S35,"") | AV35: =IF(T35<>0,T35,"") | AW35: =IF(U35<>0,U35,"") | AX35: =IF(V35<>0,V35,"") | AY35: =IF(W35<>0,W35,"") | AZ35: =IF(X35<>0,X35,"") -> 16 | BA35: =IF(Y35<>0,Y35,"") | ... BF35: =IF(AD35<>0,AD35,"") | BG35: =MAX(AG35:BF35) -> 16
B36: Kispiox TSA | C36: 0 | D36: 0 | E36: 912 | F36: 288 | G36: 320 | H36: 1824 | I36: 160 | J36: 144 | K36: 7248 | L36: 82432 | M36: 29344 | N36: 47984 | O36: 82992 | Q36: Kispiox TSA | R36: 139728 | S36: 178672 | T36: 172400 | U36: 172928 | V36: 158624 | W36: 140192 | X36: 119312 | Y36: 91616 | Z36: 75136 | AA36: 74528 | AB36: 56816 | AC36: 45424 | AD36: 36496 | AE36: =IF(A36<>0,A36,"") | AF36: =IF(B36<>0,B36,"") -> Kispiox TSA | AG36: =IF(C36<>0,C36,"") | AH36: =IF(D36<>0,D36,"") | AI36: =IF(E36<>0,E36,"") -> 912 | AJ36: =IF(F36<>0,F36,"") -> 288 | AK36: =IF(G36<>0,G36,"") -> 320 | AL36: =IF(H36<>0,H36,"") -> 1824 | ... AS36: =IF(O36<>0,O36,"") -> 82992 | AT36: =IF(R36<>0,R36,"") -> 139728 | AU36: =IF(S36<>0,S36,"") -> 178672 | AV36: =IF(T36<>0,T36,"") -> 172400 | AW36: =IF(U36<>0,U36,"") -> 172928 | AX36: =IF(V36<>0,V36,"") -> 158624 | AY36: =IF(W36<>0,W36,"") -> 140192 | AZ36: =IF(X36<>0,X36,"") -> 119312 | BA36: =IF(Y36<>0,Y36,"") -> 91616 | ... BF36: =IF(AD36<>0,AD36,"") -> 36496 | BG36: =MAX(AG36:BF36) -> 178672
B37: Mid Coast TSA | C37: 688 | D37: 5936 | E37: 1568 | F37: 10800 | G37: 1584 | H37: 3808 | I37: 2672 | J37: 1568 | K37: 720 | L37: 0 | M37: 0 | N37: 0 | O37: 0 | Q37: Mid Coast TSA | R37: 0 | S37: 224 | T37: 80 | U37: 48 | V37: 32 | W37: 304 | X37: 400 | Y37: 1328 | Z37: 768 | AA37: 576 | AB37: 2144 | AC37: 2416 | AD37: 3216 | AE37: =IF(A37<>0,A37,"") | AF37: =IF(B37<>0,B37,"") -> Mid Coast TSA | AG37: =IF(C37<>0,C37,"") -> 688 | AH37: =IF(D37<>0,D37,"") -> 5936 | AI37: =IF(E37<>0,E37,"") -> 1568 | AJ37: =IF(F37<>0,F37,"") -> 10800 | AK37: =IF(G37<>0,G37,"") -> 1584 | AL37: =IF(H37<>0,H37,"") -> 3808 | ... AS37: =IF(O37<>0,O37,"") | AT37: =IF(R37<>0,R37,"") | AU37: =IF(S37<>0,S37,"") -> 224 | AV37: =IF(T37<>0,T37,"") -> 80 | AW37: =IF(U37<>0,U37,"") -> 48 | AX37: =IF(V37<>0,V37,"") -> 32 | AY37: =IF(W37<>0,W37,"") -> 304 | AZ37: =IF(X37<>0,X37,"") -> 400 | BA37: =IF(Y37<>0,Y37,"") -> 1328 | ... BF37: =IF(AD37<>0,AD37,"") -> 3216 | BG37: =MAX(AG37:BF37) -> 10800
B38: Nass TSA | C38: 0 | D38: 2208 | E38: 0 | F38: 512 | G38: 0 | H38: 0 | I38: 1232 | J38: 0 | K38: 304 | L38: 752 | M38: 0 | N38: 0 | O38: 0 | Q38: Nass TSA | R38: 1136 | S38: 3856 | T38: 8000 | U38: 10144 | V38: 16992 | W38: 27216 | X38: 38064 | Y38: 50736 | Z38: 50880 | AA38: 60224 | AB38: 50784 | AC38: 49104 | AD38: 43120 | AE38: =IF(A38<>0,A38,"") | AF38: =IF(B38<>0,B38,"") -> Nass TSA | AG38: =IF(C38<>0,C38,"") | AH38: =IF(D38<>0,D38,"") -> 2208 | AI38: =IF(E38<>0,E38,"") | AJ38: =IF(F38<>0,F38,"") -> 512 | AK38: =IF(G38<>0,G38,"") | AL38: =IF(H38<>0,H38,"") | ... AS38: =IF(O38<>0,O38,"") | AT38: =IF(R38<>0,R38,"") -> 1136 | AU38: =IF(S38<>0,S38,"") -> 3856 | AV38: =IF(T38<>0,T38,"") -> 8000 | AW38: =IF(U38<>0,U38,"") -> 10144 | AX38: =IF(V38<>0,V38,"") -> 16992 | AY38: =IF(W38<>0,W38,"") -> 27216 | AZ38: =IF(X38<>0,X38,"") -> 38064 | BA38: =IF(Y38<>0,Y38,"") -> 50736 | ... BF38: =IF(AD38<>0,AD38,"") -> 43120 | BG38: =MAX(AG38:BF38) -> 60224
B39: North Coast TSA | C39: 0 | D39: 0 | E39: 0 | F39: 0 | G39: 0 | H39: 0 | I39: 0 | J39: 0 | K39: 0 | L39: 0 | M39: 0 | N39: 0 | O39: 0 | Q39: North Coast TSA | R39: 0 | S39: 0 | T39: 0 | U39: 0 | V39: 0 | W39: 0 | X39: 0 | Y39: 0 | Z39: 0 | AA39: 0 | AB39: 0 | AC39: 0 | AD39: 0 | AE39: =IF(A39<>0,A39,"") | AF39: =IF(B39<>0,B39,"") -> North Coast TSA | AG39: =IF(C39<>0,C39,"") | AH39: =IF(D39<>0,D39,"") | AI39: =IF(E39<>0,E39,"") | AJ39: =IF(F39<>0,F39,"") | AK39: =IF(G39<>0,G39,"") | AL39: =IF(H39<>0,H39,"") | ... AS39: =IF(O39<>0,O39,"") | AT39: =IF(R39<>0,R39,"") | AU39: =IF(S39<>0,S39,"") | AV39: =IF(T39<>0,T39,"") | AW39: =IF(U39<>0,U39,"") | AX39: =IF(V39<>0,V39,"") | AY39: =IF(W39<>0,W39,"") | AZ39: =IF(X39<>0,X39,"") | BA39: =IF(Y39<>0,Y39,"") | ... BF39: =IF(AD39<>0,AD39,"") | BG39: =MAX(AG39:BF39) -> 0
B40: Queen Charlotte TSA | C40: 0 | D40: 0 | E40: 0 | F40: 0 | G40: 0 | H40: 0 | I40: 0 | J40: 0 | K40: 0 | L40: 0 | M40: 0 | N40: 0 | O40: 0 | Q40: Queen Charlotte TSA | R40: 0 | S40: 0 | T40: 0 | U40: 0 | V40: 0 | W40: 0 | X40: 0 | Y40: 0 | Z40: 0 | AA40: 0 | AB40: 0 | AC40: 0 | AD40: 0 | AE40: =IF(A40<>0,A40,"") | AF40: =IF(B40<>0,B40,"") -> Queen Charlotte TSA | AG40: =IF(C40<>0,C40,"") | AH40: =IF(D40<>0,D40,"") | AI40: =IF(E40<>0,E40,"") | AJ40: =IF(F40<>0,F40,"") | AK40: =IF(G40<>0,G40,"") | AL40: =IF(H40<>0,H40,"") | ... AS40: =IF(O40<>0,O40,"") | AT40: =IF(R40<>0,R40,"") | AU40: =IF(S40<>0,S40,"") | AV40: =IF(T40<>0,T40,"") | AW40: =IF(U40<>0,U40,"") | AX40: =IF(V40<>0,V40,"") | AY40: =IF(W40<>0,W40,"") | AZ40: =IF(X40<>0,X40,"") | BA40: =IF(Y40<>0,Y40,"") | ... BF40: =IF(AD40<>0,AD40,"") | BG40: =MAX(AG40:BF40) -> 0
... B44: Sunshine Coast TSA | C44: 0 | D44: 0 | E44: 0 | F44: 0 | G44: 0 | H44: 0 | I44: 0 | J44: 0 | K44: 176 | L44: 0 | M44: 0 | N44: 608 | O44: 32 | Q44: Sunshine Coast TSA | R44: 384 | S44: 1376 | T44: 1344 | U44: 2128 | V44: 2304 | W44: 3648 | X44: 6752 | Y44: 7568 | Z44: 13056 | AA44: 9584 | AB44: 13808 | AC44: 14192 | AD44: 15136 | AE44: =IF(A44<>0,A44,"") | AF44: =IF(B44<>0,B44,"") -> Sunshine Coast TSA | AG44: =IF(C44<>0,C44,"") | AH44: =IF(D44<>0,D44,"") | AI44: =IF(E44<>0,E44,"") | AJ44: =IF(F44<>0,F44,"") | AK44: =IF(G44<>0,G44,"") | AL44: =IF(H44<>0,H44,"") | ... AS44: =IF(O44<>0,O44,"") -> 32 | AT44: =IF(R44<>0,R44,"") -> 384 | AU44: =IF(S44<>0,S44,"") -> 1376 | AV44: =IF(T44<>0,T44,"") -> 1344 | AW44: =IF(U44<>0,U44,"") -> 2128 | AX44: =IF(V44<>0,V44,"") -> 2304 | AY44: =IF(W44<>0,W44,"") -> 3648 | AZ44: =IF(X44<>0,X44,"") -> 6752 | BA44: =IF(Y44<>0,Y44,"") -> 7568 | ... BF44: =IF(AD44<>0,AD44,"") -> 15136 | BG44: =MAX(AG44:BF44) -> 15136
A45: Non-pine Units Total | C45: 33632 | D45: 26208 | E45: 26080 | F45: 40032 | G45: 23824 | H45: 49152 | I45: 13664 | J45: 80112 | K45: 146112 | L45: 606624 | M45: 1302512 | N45: 3978848 | O45: 3607840 | P45: Non-pine Units Total | R45: 3206224 | S45: 2507408 | T45: 1805344 | U45: 1402384 | V45: 1120080 | W45: 973040 | X45: 906704 | Y45: 833856 | Z45: 738272 | AA45: 624432 | AB45: 480288 | AC45: 420048 | AD45: 359904 | AE45: =IF(A45<>0,A45,"") -> Non-pine Units Total | AF45: =IF(B45<>0,B45,"") | AG45: =IF(C45<>0,C45,"") -> 33632 | AH45: =IF(D45<>0,D45,"") -> 26208 | AI45: =IF(E45<>0,E45,"") -> 26080 | AJ45: =IF(F45<>0,F45,"") -> 40032 | AK45: =IF(G45<>0,G45,"") -> 23824 | AL45: =IF(H45<>0,H45,"") -> 49152 | ... AS45: =IF(O45<>0,O45,"") -> 3607840 | AT45: =IF(R45<>0,R45,"") -> 3206224 | AU45: =IF(S45<>0,S45,"") -> 2507408 | AV45: =IF(T45<>0,T45,"") -> 1805344 | AW45: =IF(U45<>0,U45,"") -> 1402384 | AX45: =IF(V45<>0,V45,"") -> 1120080 | AY45: =IF(W45<>0,W45,"") -> 973040 | AZ45: =IF(X45<>0,X45,"") -> 906704 | BA45: =IF(Y45<>0,Y45,"") -> 833856 | ... BF45: =IF(AD45<>0,AD45,"") -> 359904 | BG45: =MAX(AG45:BF45) -> 3978848
A46: Interior TFLs | C46: 520144 | D46: 571024 | E46: 677392 | F46: 1372656 | G46: 3238896 | H46: 6887072 | I46: 9587616 | J46: 4555504 | K46: 8363264 | L46: 5996352 | M46: 3584384 | N46: 3415392 | O46: 503488 | P46: Interior TFLs | R46: 514080 | S46: 436304 | T46: 397584 | U46: 348416 | V46: 312656 | W46: 311552 | X46: 316128 | Y46: 362848 | Z46: 379056 | AA46: 340928 | AB46: 390416 | AC46: 359200 | AD46: 362208 | AE46: =IF(A46<>0,A46,"") -> Interior TFLs | AF46: =IF(B46<>0,B46,"") | AG46: =IF(C46<>0,C46,"") -> 520144 | AH46: =IF(D46<>0,D46,"") -> 571024 | AI46: =IF(E46<>0,E46,"") -> 677392 | AJ46: =IF(F46<>0,F46,"") -> 1372656 | AK46: =IF(G46<>0,G46,"") -> 3238896 | AL46: =IF(H46<>0,H46,"") -> 6887072 | ... AS46: =IF(O46<>0,O46,"") -> 503488 | AT46: =IF(R46<>0,R46,"") -> 514080 | AU46: =IF(S46<>0,S46,"") -> 436304 | AV46: =IF(T46<>0,T46,"") -> 397584 | AW46: =IF(U46<>0,U46,"") -> 348416 | AX46: =IF(V46<>0,V46,"") -> 312656 | AY46: =IF(W46<>0,W46,"") -> 311552 | AZ46: =IF(X46<>0,X46,"") -> 316128 | BA46: =IF(Y46<>0,Y46,"") -> 362848 | ... BF46: =IF(AD46<>0,AD46,"") -> 362208 | BG46: =MAX(AG46:BF46) -> 9587616
A47: Coast TFLs | C47: 0 | D47: 0 | E47: 0 | F47: 0 | G47: 0 | H47: 0 | I47: 0 | J47: 0 | K47: 0 | L47: 0 | M47: 0 | N47: 0 | O47: 0 | P47: Coast TFLs | R47: 0 | S47: 0 | T47: 0 | U47: 0 | V47: 0 | W47: 192 | X47: 128 | Y47: 128 | Z47: 0 | AA47: 16 | AB47: 160 | AC47: 0 | AD47: 0 | AE47: =IF(A47<>0,A47,"") -> Coast TFLs | AF47: =IF(B47<>0,B47,"") | AG47: =IF(C47<>0,C47,"") | AH47: =IF(D47<>0,D47,"") | AI47: =IF(E47<>0,E47,"") | AJ47: =IF(F47<>0,F47,"") | AK47: =IF(G47<>0,G47,"") | AL47: =IF(H47<>0,H47,"") | ... AS47: =IF(O47<>0,O47,"") | AT47: =IF(R47<>0,R47,"") | AU47: =IF(S47<>0,S47,"") | AV47: =IF(T47<>0,T47,"") | AW47: =IF(U47<>0,U47,"") | AX47: =IF(V47<>0,V47,"") | AY47: =IF(W47<>0,W47,"") -> 192 | AZ47: =IF(X47<>0,X47,"") -> 128 | BA47: =IF(Y47<>0,Y47,"") -> 128 | ... BF47: =IF(AD47<>0,AD47,"") | BG47: =MAX(AG47:BF47) -> 192
A48: Grand Total | C48: 5607952 | D48: 7003168 | E48: 12324448 | F48: 28059552 | G48: 54161616 | H48: 78686784 | I48: 139811536 | J48: 112883136 | K48: 103893312 | L48: 60506000 | M48: 47311936 | N48: 39799376 | O48: 19914224 | P48: Grand Total | R48: 18225216 | S48: 13223088 | T48: 9177280 | U48: 6783632 | V48: 5296912 | W48: 4683792 | X48: 4372896 | Y48: 4281488 | Z48: 4156448 | AA48: 3919984 | AB48: 3714256 | AC48: 3507888 | AD48: 3285296 | AE48: =IF(A48<>0,A48,"") -> Grand Total | AF48: =IF(B48<>0,B48,"") | AG48: =IF(C48<>0,C48,"") -> 5607952 | AH48: =IF(D48<>0,D48,"") -> 7003168 | AI48: =IF(E48<>0,E48,"") -> 12324448 | AJ48: =IF(F48<>0,F48,"") -> 28059552 | AK48: =IF(G48<>0,G48,"") -> 54161616 | AL48: =IF(H48<>0,H48,"") -> 78686784 | ... AS48: =IF(O48<>0,O48,"") -> 19914224 | AT48: =IF(R48<>0,R48,"") -> 18225216 | AU48: =IF(S48<>0,S48,"") -> 13223088 | AV48: =IF(T48<>0,T48,"") -> 9177280 | AW48: =IF(U48<>0,U48,"") -> 6783632 | AX48: =IF(V48<>0,V48,"") -> 5296912 | AY48: =IF(W48<>0,W48,"") -> 4683792 | AZ48: =IF(X48<>0,X48,"") -> 4372896 | BA48: =IF(Y48<>0,Y48,"") -> 4281488 | ... BF48: =IF(AD48<>0,AD48,"") -> 3285296 | BG48: =MAX(AG48:BF48) -> 139811536
AE49: =IF(A49<>0,A49,"") | AF49: =IF(B49<>0,B49,"") | AG49: =IF(C49<>0,C49,"") | AH49: =IF(D49<>0,D49,"") | AI49: =IF(E49<>0,E49,"") | AJ49: =IF(F49<>0,F49,"") | AK49: =IF(G49<>0,G49,"") | AL49: =IF(H49<>0,H49,"") | ... AS49: =IF(O49<>0,O49,"") | AT49: =IF(R49<>0,R49,"") | AU49: =IF(S49<>0,S49,"") | AV49: =IF(T49<>0,T49,"") | AW49: =IF(U49<>0,U49,"") | AX49: =IF(V49<>0,V49,"") | AY49: =IF(W49<>0,W49,"") | AZ49: =IF(X49<>0,X49,"") | BA49: =IF(Y49<>0,Y49,"") | ... BF49: =IF(AD49<>0,AD49,"") | BG49: =MAX(AG49:BF49) -> 0
AE50: =IF(A50<>0,A50,"") | AF50: =IF(B50<>0,B50,"") | AG50: =IF(C50<>0,C50,"") | AH50: =IF(D50<>0,D50,"") | AI50: =IF(E50<>0,E50,"") | AJ50: =IF(F50<>0,F50,"") | AK50: =IF(G50<>0,G50,"") | AL50: =IF(H50<>0,H50,"") | ... AS50: =IF(O50<>0,O50,"") | AT50: =IF(R50<>0,R50,"") | AU50: =IF(S50<>0,S50,"") | AV50: =IF(T50<>0,T50,"") | AW50: =IF(U50<>0,U50,"") | AX50: =IF(V50<>0,V50,"") | AY50: =IF(W50<>0,W50,"") | AZ50: =IF(X50<>0,X50,"") | BA50: =IF(Y50<>0,Y50,"") | ... BF50: =IF(AD50<>0,AD50,"") | BG50: =MAX(AG50:BF50) -> 0
AE51: =IF(A51<>0,A51,"") | AF51: =IF(B51<>0,B51,"") | AG51: =IF(C51<>0,C51,"") | AH51: =IF(D51<>0,D51,"") | AI51: =IF(E51<>0,E51,"") | AJ51: =IF(F51<>0,F51,"") | AK51: =IF(G51<>0,G51,"") | AL51: =IF(H51<>0,H51,"") | ... AS51: =IF(O51<>0,O51,"") | AT51: =IF(R51<>0,R51,"") | AU51: =IF(S51<>0,S51,"") | AV51: =IF(T51<>0,T51,"") | AW51: =IF(U51<>0,U51,"") | AX51: =IF(V51<>0,V51,"") | AY51: =IF(W51<>0,W51,"") | AZ51: =IF(X51<>0,X51,"") | BA51: =IF(Y51<>0,Y51,"") | ... BF51: =IF(AD51<>0,AD51,"") | BG51: =MAX(AG51:BF51) -> 0
AE52: =IF(A52<>0,A52,"") | AF52: =IF(B52<>0,B52,"") | AG52: =IF(C52<>0,C52,"") | AH52: =IF(D52<>0,D52,"") | AI52: =IF(E52<>0,E52,"") | AJ52: =IF(F52<>0,F52,"") | AK52: =IF(G52<>0,G52,"") | AL52: =IF(H52<>0,H52,"") | ... AS52: =IF(O52<>0,O52,"") | AT52: =IF(R52<>0,R52,"") | AU52: =IF(S52<>0,S52,"") | AV52: =IF(T52<>0,T52,"") | AW52: =IF(U52<>0,U52,"") | AX52: =IF(V52<>0,V52,"") | AY52: =IF(W52<>0,W52,"") | AZ52: =IF(X52<>0,X52,"") | BA52: =IF(Y52<>0,Y52,"") | ... BF52: =IF(AD52<>0,AD52,"") | BG52: =MAX(AG52:BF52) -> 0
AE53: =IF(A53<>0,A53,"") | AF53: =IF(B53<>0,B53,"") | AG53: =IF(C53<>0,C53,"") | AH53: =IF(D53<>0,D53,"") | AI53: =IF(E53<>0,E53,"") | AJ53: =IF(F53<>0,F53,"") | AK53: =IF(G53<>0,G53,"") | AL53: =IF(H53<>0,H53,"") | ... AS53: =IF(O53<>0,O53,"") | AT53: =IF(R53<>0,R53,"") | AU53: =IF(S53<>0,S53,"") | AV53: =IF(T53<>0,T53,"") | AW53: =IF(U53<>0,U53,"") | AX53: =IF(V53<>0,V53,"") | AY53: =IF(W53<>0,W53,"") | AZ53: =IF(X53<>0,X53,"") | BA53: =IF(Y53<>0,Y53,"") | ... BF53: =IF(AD53<>0,AD53,"") | BG53: =MAX(AG53:BF53) -> 0
...

Sheet PctKillSummary
C3: Data | E3: Observed Cumulative Pine Volume Killed (red- and grey-attack) (m3) (2011cumKillData) | G3: Year | T3: Projected Cumulative Pine Volume Kill (red- and grey-attack) (m3) (sum of 2011cumKillProjection) | V3: Year | AJ3: Proportion of 1999 Pine Volume Killed (red- and grey-attack) | BM3: Proportion of 1999 Pine Volume Killed (red- and grey-attack) | BO3: Year | BY3: Proportion of 1999 Total Volume Killed (red- and grey-attack)
A4: Managment Unit Class | B4: Management Units: Full Name | C4: Sum of THLB Total Volume (m3) in 1999 | D4: Sum of THLB Pine Volume (m3) in 1999 | E4: Management Unit Class | F4: Management Unit Full Name | G4: 1999 | H4: 2000 | I4: 2001 | J4: 2002 | K4: 2003 | L4: 2004 | M4: 2005 | N4: 2006 | O4: 2007 | P4: 2008 | Q4: 2009 | R4: 2010 | S4: 2011 | T4: Management Unit Class | U4: Management Unit Full Name | V4: 2012 | W4: 2013 | X4: 2014 | Y4: 2015 | Z4: 2016 | AA4: 2017 | AB4: 2018 | AC4: 2019 | AD4: 2020 | AE4: 2021 | AF4: 2022 | AG4: 2023 | AH4: 2024 | AJ4: =IF(A4<>0,A4,"") -> Managment Unit Class | AK4: =IF(B4<>0,B4,"") -> Management Units: Full Name | AL4: =G4 -> 1999 | AM4: =H4 -> 2000 | AN4: =I4 -> 2001 | AO4: =J4 -> 2002 | AP4: =K4 -> 2003 | AQ4: =L4 -> 2004 | AR4: =M4 -> 2005 | AS4: =N4 -> 2006 | ... AX4: =S4 -> 2011 | AY4: =V4 -> 2012 | AZ4: =W4 -> 2013 | BA4: =X4 -> 2014 | BB4: =Y4 -> 2015 | BC4: =Z4 -> 2016 | BD4: =AA4 -> 2017 | BE4: =AB4 -> 2018 | BF4: =AC4 -> 2019 | ... BK4: =AH4 -> 2024 | BM4: =IF(AJ4<>0,AJ4,"") -> Managment Unit Class | BN4: =IF(AK4<>0,AK4,"") -> Management Units: Full Name | BO4: =$AX4 -> 2011 | BQ4: =$AY4 -> 2012 | BS4: =$BD4 -> 2017 | BU4: =$BI4 -> 2022 | BY4: =IF(A4<>0,A4,"") -> Managment Unit Class | BZ4: =IF(B4<>0,B4,"") -> Management Units: Full Name | CA4: =G4 -> 1999 | CB4: =H4 -> 2000 | CC4: =I4 -> 2001 | CD4: =J4 -> 2002 | CE4: =K4 -> 2003 | CF4: =L4 -> 2004 | CG4: =M4 -> 2005 | CH4: =N4 -> 2006 | ... CM4: =S4 -> 2011 | CN4: =V4 -> 2012 | CO4: =W4 -> 2013 | CP4: =X4 -> 2014 | CQ4: =Y4 -> 2015 | CR4: =Z4 -> 2016 | CS4: =AA4 -> 2017 | CT4: =AB4 -> 2018 | CU4: =AC4 -> 2019 | ... CZ4: =AH4 -> 2024
