<PAMDataset>
  <SRS>PROJCS[&quot;NAD_1983_BC_Environment_Albers&quot;,GEOGCS[&quot;GCS_North_American_1983&quot;,DATUM[&quot;North_American_Datum_1983&quot;,SPHEROID[&quot;GRS_1980&quot;,6378137.0,298.257222101]],PRIMEM[&quot;Greenwich&quot;,0.0],UNIT[&quot;Degree&quot;,0.0174532925199433]],PROJECTION[&quot;Albers_Conic_Equal_Area&quot;],PARAMETER[&quot;False_Easting&quot;,1000000.0],PARAMETER[&quot;False_Northing&quot;,0.0],PARAMETER[&quot;longitude_of_center&quot;,-126.0],PARAMETER[&quot;Standard_Parallel_1&quot;,50.0],PARAMETER[&quot;Standard_Parallel_2&quot;,58.5],PARAMETER[&quot;latitude_of_center&quot;,45.0],UNIT[&quot;Meter&quot;,1.0]]</SRS>
  <GeoTransform> 1.4134547406629706e+006, 1.2649230850763237e+001, 1.1649378621826949e+000, 6.8585219799488678e+005, 1.1536252196194299e+000,-1.2665360464028295e+001</GeoTransform>
  <Metadata domain="IMAGE_STRUCTURE">
    <MDI key="SOURCE_COLOR_SPACE">YCbCr</MDI>
    <MDI key="INTERLEAVE">PIXEL</MDI>
    <MDI key="COMPRESSION">JPEG</MDI>
  </Metadata>
  <Metadata domain="Esri">
    <MDI key="PyramidResamplingType">NEAREST</MDI>
  </Metadata>
</PAMDataset>
